IO-Socket-Timeout v0.32 Perl 5 v5.26.3 OpenBSD.amd64-openbsd-ld

Status
Pass
From
Nigel Horne
Dist
IO-Socket-Timeout v0.32
Platform
Perl 5 v5.26.3 OpenBSD.amd64-openbsd-ld
Date
2019-07-21 21:02:11
ID
cf11e08e-abfa-11e9-8fa9-99a29f1e7dde
This distribution has been tested as part of the CPAN Testers
project, supporting the Perl programming language.  See
http://wiki.cpantesters.org/ for more information or email
questions to cpan-testers-discuss@perl.org


--
Dear Damien Krotkine,

This is a computer-generated report for IO-Socket-Timeout-0.32
on perl 5.26.3, created by CPAN-Reporter-1.2018.

Thank you for uploading your work to CPAN.  Congratulations!
All tests were successful.

Sections of this report:

    * Tester comments
    * Program output
    * Prerequisites
    * Environment and other context

------------------------------
TESTER COMMENTS
------------------------------

Additional comments from tester:

this report is from an automated smoke testing program
and was not reviewed by a human for accuracy

------------------------------
PROGRAM OUTPUT
------------------------------

Output from './Build test':

t/00-compile.t ............ ok
t/io_unix.t ............... ok
t/preload.t ............... ok
t/release-distmeta.t ...... skipped: these tests are for release candidate testing
t/release-pod-coverage.t .. skipped: these tests are for release candidate testing
t/release-synopsis.t ...... skipped: these tests are for release candidate testing
t/timeout.t ............... ok
t/timeout_setsockopt.t .... skipped: Can't test setsockopt on this OS
All tests successful.
Files=8, Tests=18,  7 wallclock secs ( 0.19 usr  0.26 sys +  2.84 cusr  1.31 csys =  4.60 CPU)
Result: PASS

------------------------------
PREREQUISITES
------------------------------

Prerequisite modules loaded:

requires:

    Module               Need  Have    
    -------------------- ----- --------
    PerlIO::via::Timeout 0.32  0.32    

build_requires:

    Module               Need  Have    
    -------------------- ----- --------
    File::Spec           0     3.75    
    IO::Handle           0     1.36    
    IPC::Open3           0     1.20    
    Test::More           0     1.302073
    Test::TCP            0     2.19    

configure_requires:

    Module               Need  Have    
    -------------------- ----- --------
    ExtUtils::MakeMaker  0     7.34    
    Module::Build::Tiny  0.039 0.039   


------------------------------
ENVIRONMENT AND OTHER CONTEXT
------------------------------

Environment variables:

    AUTOMATED_TESTING = 1
    PATH = /home/njh/perl5/perlbrew/bin:/home/njh/perl5/perlbrew/perls/perl-5.26.3-ld/bin:src/njh/smoker/bin:/usr/bin:/bin:/usr/sbin:/sbin:/usr/X11R6/bin:/usr/local/bin:/usr/local/sbin
    PERL5LIB = /tmp/build/PerlIO-via-Timeout-0.32-10/blib/arch:/tmp/build/PerlIO-via-Timeout-0.32-10/blib/lib:/tmp/build/Test-TCP-2.19-10/blib/arch:/tmp/build/Test-TCP-2.19-10/blib/lib:/tmp/build/Test-SharedFork-0.35-10/blib/arch:/tmp/build/Test-SharedFork-0.35-10/blib/lib:/tmp/build/Module-Build-Tiny-0.039-8/blib/arch:/tmp/build/Module-Build-Tiny-0.039-8/blib/lib:/tmp/build/ExtUtils-InstallPaths-0.012-8/blib/arch:/tmp/build/ExtUtils-InstallPaths-0.012-8/blib/lib:/tmp/build/ExtUtils-Helpers-0.026-8/blib/arch:/tmp/build/ExtUtils-Helpers-0.026-8/blib/lib:/tmp/build/ExtUtils-Config-0.008-8/blib/arch:/tmp/build/ExtUtils-Config-0.008-8/blib/lib
    PERL5OPT = 
    PERL5_CPANPLUS_IS_RUNNING = 41155
    PERL5_CPAN_IS_RUNNING = 41155
    PERL5_CPAN_IS_RUNNING_IN_RECURSION = 26500,41155
    PERLBREW_HOME = /home/njh/.perlbrew
    PERLBREW_MANPATH = /home/njh/perl5/perlbrew/perls/perl-5.26.3-ld/man
    PERLBREW_PATH = /home/njh/perl5/perlbrew/bin:/home/njh/perl5/perlbrew/perls/perl-5.26.3-ld/bin
    PERLBREW_PERL = perl-5.26.3-ld
    PERLBREW_ROOT = /home/njh/perl5/perlbrew
    PERLBREW_SHELLRC_VERSION = 0.84
    PERLBREW_VERSION = 0.84
    PERL_USE_UNSAFE_INC = 1
    SHELL = /bin/sh
    TMPDIR = /tmp/testwrapper.48010

Perl special variables (and OS-specific diagnostics, for MSWin32):

    $^X = /home/njh/perl5/perlbrew/perls/perl-5.26.3-ld/bin/perl5.26.3
    $UID/$EUID = 1000 / 1000
    $GID = 1000 1000 0
    $EGID = 1000 1000 0

Perl module toolchain versions installed:

    Module              Have      
    ------------------- ----------
    CPAN                2.18      
    CPAN::Meta          2.150010  
    Cwd                 3.75      
    ExtUtils::CBuilder  0.280225  
    ExtUtils::Command   7.34      
    ExtUtils::Install   2.06      
    ExtUtils::MakeMaker 7.34      
    ExtUtils::Manifest  1.70      
    ExtUtils::ParseXS   3.34      
    File::Spec          3.75      
    JSON                4.02      
    JSON::PP            2.27400_02
    Module::Build       0.4229    
    Module::Signature   n/a       
    Parse::CPAN::Meta   2.150010  
    Test::Harness       3.38      
    Test::More          1.302073  
    YAML                1.28      
    YAML::Syck          n/a       
    version             0.9917    


--

Summary of my perl5 (revision 5 version 26 subversion 3) configuration:
   
  Platform:
    osname=openbsd
    osvers=6.2
    archname=OpenBSD.amd64-openbsd-ld
    uname='openbsd netgate1.bandsman.co.uk 6.2 generic.mp#9 amd64 '
    config_args='-de -Dprefix=/home/njh/perl5/perlbrew/perls/perl-5.26.3-ld -Dusedevel -Duselongdouble -Accflags=-O2 -W -Wformat=2 -Wswitch -Wshadow -Wwrite-strings -Wuninitialized -Wall -pipe -mtune=native -march=native -fomit-frame-pointer -ftree-vectorize -fdiagnostics-color=auto -Aeval:scriptdir=/home/njh/perl5/perlbrew/perls/perl-5.26.3-ld/bin'
    hint=recommended
    useposix=true
    d_sigaction=define
    useithreads=undef
    usemultiplicity=undef
    use64bitint=define
    use64bitall=define
    uselongdouble=define
    usemymalloc=n
    default_inc_excludes_dot=define
    bincompat5005=undef
  Compiler:
    cc='cc'
    ccflags ='-O2 -W -Wformat=2 -Wswitch -Wshadow -Wwrite-strings -Wuninitialized -Wall -pipe -mtune=native -march=native -fomit-frame-pointer -ftree-vectorize -fdiagnostics-color=auto -fno-strict-aliasing -fstack-protector-strong -I/usr/local/include -D_FORTIFY_SOURCE=2'
    optimize='-O2'
    cppflags='-O2 -W -Wformat=2 -Wswitch -Wshadow -Wwrite-strings -Wuninitialized -Wall -pipe -mtune=native -march=native -fomit-frame-pointer -ftree-vectorize -fdiagnostics-color=auto -fno-strict-aliasing -fstack-protector-strong -I/usr/local/include'
    ccversion=''
    gccversion='4.2.1 Compatible OpenBSD Clang 4.0.0 (tags/RELEASE_400/final)'
    gccosandvers=''
    intsize=4
    longsize=8
    ptrsize=8
    doublesize=8
    byteorder=12345678
    doublekind=3
    d_longlong=define
    longlongsize=8
    d_longdbl=define
    longdblsize=16
    longdblkind=3
    ivtype='long'
    ivsize=8
    nvtype='long double'
    nvsize=16
    Off_t='off_t'
    lseeksize=8
    alignbytes=16
    prototype=define
  Linker and Libraries:
    ld='cc'
    ldflags ='-Wl,-E  -fstack-protector-strong -L/usr/local/lib'
    libpth=/usr/lib /usr/local/lib
    libs=-lpthread -lm -lutil -lc
    perllibs=-lpthread -lm -lutil -lc
    libc=/usr/lib/libc.so.90.0
    so=so
    useshrplib=false
    libperl=libperl.a
    gnulibc_version=''
  Dynamic Linking:
    dlsrc=dl_dlopen.xs
    dlext=so
    d_dlsymun=undef
    ccdlflags=' '
    cccdlflags='-DPIC -fPIC '
    lddlflags='-shared -fPIC  -L/usr/local/lib -fstack-protector-strong'


Characteristics of this binary (from libperl): 
  Compile-time options:
    HAS_TIMES
    PERLIO_LAYERS
    PERL_COPY_ON_WRITE
    PERL_DONT_CREATE_GVSV
    PERL_MALLOC_WRAP
    PERL_OP_PARENT
    PERL_PRESERVE_IVUV
    PERL_USE_DEVEL
    USE_64_BIT_ALL
    USE_64_BIT_INT
    USE_LARGE_FILES
    USE_LOCALE
    USE_LOCALE_COLLATE
    USE_LOCALE_CTYPE
    USE_LOCALE_NUMERIC
    USE_LOCALE_TIME
    USE_LONG_DOUBLE
    USE_PERLIO
    USE_PERL_ATOF
  Locally applied patches:
    Devel::PatchPerl 1.48
  Built under openbsd
  Compiled at Dec 11 2018 11:40:02
  %ENV:
    PERL5LIB="/tmp/build/PerlIO-via-Timeout-0.32-10/blib/arch:/tmp/build/PerlIO-via-Timeout-0.32-10/blib/lib:/tmp/build/Test-TCP-2.19-10/blib/arch:/tmp/build/Test-TCP-2.19-10/blib/lib:/tmp/build/Test-SharedFork-0.35-10/blib/arch:/tmp/build/Test-SharedFork-0.35-10/blib/lib:/tmp/build/Module-Build-Tiny-0.039-8/blib/arch:/tmp/build/Module-Build-Tiny-0.039-8/blib/lib:/tmp/build/ExtUtils-InstallPaths-0.012-8/blib/arch:/tmp/build/ExtUtils-InstallPaths-0.012-8/blib/lib:/tmp/build/ExtUtils-Helpers-0.026-8/blib/arch:/tmp/build/ExtUtils-Helpers-0.026-8/blib/lib:/tmp/build/ExtUtils-Config-0.008-8/blib/arch:/tmp/build/ExtUtils-Config-0.008-8/blib/lib"
    PERL5OPT=""
    PERL5_CPANPLUS_IS_RUNNING="41155"
    PERL5_CPAN_IS_RUNNING="41155"
    PERL5_CPAN_IS_RUNNING_IN_RECURSION="26500,41155"
    PERLBREW_HOME="/home/njh/.perlbrew"
    PERLBREW_MANPATH="/home/njh/perl5/perlbrew/perls/perl-5.26.3-ld/man"
    PERLBREW_PATH="/home/njh/perl5/perlbrew/bin:/home/njh/perl5/perlbrew/perls/perl-5.26.3-ld/bin"
    PERLBREW_PERL="perl-5.26.3-ld"
    PERLBREW_ROOT="/home/njh/perl5/perlbrew"
    PERLBREW_SHELLRC_VERSION="0.84"
    PERLBREW_VERSION="0.84"
    PERL_USE_UNSAFE_INC="1"
  @INC:
    /tmp/build/PerlIO-via-Timeout-0.32-10/blib/arch
    /tmp/build/PerlIO-via-Timeout-0.32-10/blib/lib
    /tmp/build/Test-TCP-2.19-10/blib/arch
    /tmp/build/Test-TCP-2.19-10/blib/lib
    /tmp/build/Test-SharedFork-0.35-10/blib/arch
    /tmp/build/Test-SharedFork-0.35-10/blib/lib
    /tmp/build/Module-Build-Tiny-0.039-8/blib/arch
    /tmp/build/Module-Build-Tiny-0.039-8/blib/lib
    /tmp/build/ExtUtils-InstallPaths-0.012-8/blib/arch
    /tmp/build/ExtUtils-InstallPaths-0.012-8/blib/lib
    /tmp/build/ExtUtils-Helpers-0.026-8/blib/arch
    /tmp/build/ExtUtils-Helpers-0.026-8/blib/lib
    /tmp/build/ExtUtils-Config-0.008-8/blib/arch
    /tmp/build/ExtUtils-Config-0.008-8/blib/lib
    /home/njh/perl5/perlbrew/perls/perl-5.26.3-ld/lib/site_perl/5.26.3/OpenBSD.amd64-openbsd-ld
    /home/njh/perl5/perlbrew/perls/perl-5.26.3-ld/lib/site_perl/5.26.3
    /home/njh/perl5/perlbrew/perls/perl-5.26.3-ld/lib/5.26.3/OpenBSD.amd64-openbsd-ld
    /home/njh/perl5/perlbrew/perls/perl-5.26.3-ld/lib/5.26.3
    .