Patterns-ChainOfResponsibility v0.02 Perl 5 v5.41.11 amd64-netbsd-thread-multi
- Status
- Pass
- From
- Carlos Guevara
- Dist
-
Patterns-ChainOfResponsibility v0.02
- Platform
- Perl 5 v5.41.11 amd64-netbsd-thread-multi
- Date
- 2025-04-11 00:49:22
- ID
- cef4fcbe-166e-11f0-a1eb-c65e752b5285
This distribution has been tested as part of the CPAN Testers
project, supporting the Perl programming language. See
http://wiki.cpantesters.org/ for more information or email
questions to cpan-testers-discuss@perl.org
--
Dear John Napiorkowski,
This is a computer-generated report for Patterns-ChainOfResponsibility-0.02
on perl 5.41.11, created by CPAN-Reporter-1.2020.
Thank you for uploading your work to CPAN. Congratulations!
All tests were successful.
Sections of this report:
* Tester comments
* Program output
* Prerequisites
* Environment and other context
------------------------------
TESTER COMMENTS
------------------------------
Additional comments from tester:
this report is from an automated smoke testing program
and was not reviewed by a human for accuracy
------------------------------
PROGRAM OUTPUT
------------------------------
Output from '/usr/bin/make test':
PERL_DL_NONLAZY=1 "/home/cpan/bin/perl/bin/perl5.41.11" "-MExtUtils::Command::MM" "-MTest::Harness" "-e" "undef *Test::Harness::Switches; test_harness(0, 'inc', 'blib/lib', 'blib/arch')" t/*.t
Class::MOP::load_class is deprecated at /home/cpan/bin/perl/lib/site_perl/5.41.11/amd64-netbsd-thread-multi/Class/MOP.pm line 69.
Class::MOP::load_class("Patterns::ChainOfResponsibility::Provider") called at /home/cpan/.cpan/build/Patterns-ChainOfResponsibility-0.02-0/blib/lib/Patterns/ChainOfResponsibility/Role/Handler.pm line 22
Patterns::ChainOfResponsibility::Role::Handler::__ANON__(Moose::Meta::Class::__ANON__::SERIAL::2=HASH(0x7167ae8801f8), "operating_on", MooseX::Role::Parameterized::Meta::Role::Parameterized=HASH(0x7167aade1f60), "consumer", Moose::Meta::Class=HASH(0x7167ab1ca738)) called at /home/cpan/bin/perl/lib/site_perl/5.41.11/MooseX/Role/Parameterized/Meta/Trait/Parameterizable.pm line 88
MooseX::Role::Parameterized::Meta::Trait::Parameterizable::generate_role(Moose::Meta::Class::__ANON__::SERIAL::1=HASH(0x7167aade3540), "consumer", Moose::Meta::Class=HASH(0x7167ab1ca738), "parameters", HASH(0x7167ab0405e8), "orig_apply", CODE(0x7167ab5e6f78)) called at /home/cpan/bin/perl/lib/site_perl/5.41.11/MooseX/Role/Parameterized/Meta/Trait/Parameterizable.pm line 110
Class::MOP::Class:::around(CODE(0x7167ab5e6f78), Moose::Meta::Class::__ANON__::SERIAL::1=HASH(0x7167aade3540), Moose::Meta::Class=HASH(0x7167ab1ca738)) called at /home/cpan/bin/perl/lib/site_perl/5.41.11/amd64-netbsd-thread-multi/Class/MOP/Method/Wrapped.pm line 166
Moose::Meta::Class::__ANON__::SERIAL::1::_wrapped_apply(Moose::Meta::Class::__ANON__::SERIAL::1=HASH(0x7167aade3540), Moose::Meta::Class=HASH(0x7167ab1ca738)) called at /home/cpan/bin/perl/lib/site_perl/5.41.11/amd64-netbsd-thread-multi/Class/MOP/Method/Wrapped.pm line 97
Moose::Meta::Class::__ANON__::SERIAL::1::apply(Moose::Meta::Class::__ANON__::SERIAL::1=HASH(0x7167aade3540), Moose::Meta::Class=HASH(0x7167ab1ca738)) called at /home/cpan/bin/perl/lib/site_perl/5.41.11/amd64-netbsd-thread-multi/Moose/Util.pm line 171
Moose::Util::_apply_all_roles(Moose::Meta::Class=HASH(0x7167ab1ca738), undef, "Patterns::ChainOfResponsibility::Role::Handler") called at /home/cpan/bin/perl/lib/site_perl/5.41.11/amd64-netbsd-thread-multi/Moose/Util.pm line 113
Moose::Util::apply_all_roles(Moose::Meta::Class=HASH(0x7167ab1ca738), "Patterns::ChainOfResponsibility::Role::Handler") called at /home/cpan/bin/perl/lib/site_perl/5.41.11/amd64-netbsd-thread-multi/Moose.pm line 57
Moose::with(Moose::Meta::Class=HASH(0x7167ab1ca738), "Patterns::ChainOfResponsibility::Role::Handler") called at /home/cpan/bin/perl/lib/site_perl/5.41.11/amd64-netbsd-thread-multi/Moose/Exporter.pm line 418
Moose::with("Patterns::ChainOfResponsibility::Role::Handler") called at t/application.t line 9
t/application.t .. ok
t/basic.t ........ ok
Class::MOP::load_class is deprecated at /home/cpan/bin/perl/lib/site_perl/5.41.11/amd64-netbsd-thread-multi/Class/MOP.pm line 69.
Class::MOP::load_class("Patterns::ChainOfResponsibility::Broadcast") called at /home/cpan/.cpan/build/Patterns-ChainOfResponsibility-0.02-0/blib/lib/Patterns/ChainOfResponsibility/Role/Handler.pm line 22
Patterns::ChainOfResponsibility::Role::Handler::__ANON__(Moose::Meta::Class::__ANON__::SERIAL::4=HASH(0x708e789822a0), "operating_on", MooseX::Role::Parameterized::Meta::Role::Parameterized=HASH(0x708e7859eac8), "consumer", Moose::Meta::Class=HASH(0x708e789694e0)) called at /home/cpan/bin/perl/lib/site_perl/5.41.11/MooseX/Role/Parameterized/Meta/Trait/Parameterizable.pm line 88
MooseX::Role::Parameterized::Meta::Trait::Parameterizable::generate_role(Moose::Meta::Class::__ANON__::SERIAL::3=HASH(0x708e785396c0), "consumer", Moose::Meta::Class=HASH(0x708e789694e0), "parameters", HASH(0x708e785b5780), "orig_apply", CODE(0x708e79103f78)) called at /home/cpan/bin/perl/lib/site_perl/5.41.11/MooseX/Role/Parameterized/Meta/Trait/Parameterizable.pm line 110
Class::MOP::Class:::around(CODE(0x708e79103f78), Moose::Meta::Class::__ANON__::SERIAL::3=HASH(0x708e785396c0), Moose::Meta::Class=HASH(0x708e789694e0), "dispatcher", "::Broadcast") called at /home/cpan/bin/perl/lib/site_perl/5.41.11/amd64-netbsd-thread-multi/Class/MOP/Method/Wrapped.pm line 166
Moose::Meta::Class::__ANON__::SERIAL::3::_wrapped_apply(Moose::Meta::Class::__ANON__::SERIAL::3=HASH(0x708e785396c0), Moose::Meta::Class=HASH(0x708e789694e0), "dispatcher", "::Broadcast") called at /home/cpan/bin/perl/lib/site_perl/5.41.11/amd64-netbsd-thread-multi/Class/MOP/Method/Wrapped.pm line 97
Moose::Meta::Class::__ANON__::SERIAL::3::apply(Moose::Meta::Class::__ANON__::SERIAL::3=HASH(0x708e785396c0), Moose::Meta::Class=HASH(0x708e789694e0), "dispatcher", "::Broadcast") called at /home/cpan/bin/perl/lib/site_perl/5.41.11/amd64-netbsd-thread-multi/Moose/Util.pm line 171
Moose::Util::_apply_all_roles(Moose::Meta::Class=HASH(0x708e789694e0), undef, "Patterns::ChainOfResponsibility::Role::Handler", HASH(0x708e7c0acb88)) called at /home/cpan/bin/perl/lib/site_perl/5.41.11/amd64-netbsd-thread-multi/Moose/Util.pm line 113
Moose::Util::apply_all_roles(Moose::Meta::Class=HASH(0x708e789694e0), "Patterns::ChainOfResponsibility::Role::Handler", HASH(0x708e7c0acb88)) called at /home/cpan/bin/perl/lib/site_perl/5.41.11/amd64-netbsd-thread-multi/Moose.pm line 57
Moose::with(Moose::Meta::Class=HASH(0x708e789694e0), "Patterns::ChainOfResponsibility::Role::Handler", HASH(0x708e7c0acb88)) called at /home/cpan/bin/perl/lib/site_perl/5.41.11/amd64-netbsd-thread-multi/Moose/Exporter.pm line 418
Moose::with("Patterns::ChainOfResponsibility::Role::Handler", HASH(0x708e7c0acb88)) called at t/broadcast.t line 13
t/broadcast.t .... ok
Class::MOP::load_class is deprecated at /home/cpan/bin/perl/lib/site_perl/5.41.11/amd64-netbsd-thread-multi/Class/MOP.pm line 69.
Class::MOP::load_class("Patterns::ChainOfResponsibility::Filter") called at /home/cpan/.cpan/build/Patterns-ChainOfResponsibility-0.02-0/blib/lib/Patterns/ChainOfResponsibility/Role/Handler.pm line 22
Patterns::ChainOfResponsibility::Role::Handler::__ANON__(Moose::Meta::Class::__ANON__::SERIAL::2=HASH(0x7201c2b5e648), "operating_on", MooseX::Role::Parameterized::Meta::Role::Parameterized=HASH(0x7201bf32ff00), "consumer", Moose::Meta::Class=HASH(0x7201bf6b49d8)) called at /home/cpan/bin/perl/lib/site_perl/5.41.11/MooseX/Role/Parameterized/Meta/Trait/Parameterizable.pm line 88
MooseX::Role::Parameterized::Meta::Trait::Parameterizable::generate_role(Moose::Meta::Class::__ANON__::SERIAL::1=HASH(0x7201bf2fba98), "consumer", Moose::Meta::Class=HASH(0x7201bf6b49d8), "parameters", HASH(0x7201bf33e870), "orig_apply", CODE(0x7201c0229f78)) called at /home/cpan/bin/perl/lib/site_perl/5.41.11/MooseX/Role/Parameterized/Meta/Trait/Parameterizable.pm line 110
Class::MOP::Class:::around(CODE(0x7201c0229f78), Moose::Meta::Class::__ANON__::SERIAL::1=HASH(0x7201bf2fba98), Moose::Meta::Class=HASH(0x7201bf6b49d8), "dispatcher", "::Filter") called at /home/cpan/bin/perl/lib/site_perl/5.41.11/amd64-netbsd-thread-multi/Class/MOP/Method/Wrapped.pm line 166
Moose::Meta::Class::__ANON__::SERIAL::1::_wrapped_apply(Moose::Meta::Class::__ANON__::SERIAL::1=HASH(0x7201bf2fba98), Moose::Meta::Class=HASH(0x7201bf6b49d8), "dispatcher", "::Filter") called at /home/cpan/bin/perl/lib/site_perl/5.41.11/amd64-netbsd-thread-multi/Class/MOP/Method/Wrapped.pm line 97
Moose::Meta::Class::__ANON__::SERIAL::1::apply(Moose::Meta::Class::__ANON__::SERIAL::1=HASH(0x7201bf2fba98), Moose::Meta::Class=HASH(0x7201bf6b49d8), "dispatcher", "::Filter") called at /home/cpan/bin/perl/lib/site_perl/5.41.11/amd64-netbsd-thread-multi/Moose/Util.pm line 171
Moose::Util::_apply_all_roles(Moose::Meta::Class=HASH(0x7201bf6b49d8), undef, "Patterns::ChainOfResponsibility::Role::Handler", HASH(0x7201c2b62b88)) called at /home/cpan/bin/perl/lib/site_perl/5.41.11/amd64-netbsd-thread-multi/Moose/Util.pm line 113
Moose::Util::apply_all_roles(Moose::Meta::Class=HASH(0x7201bf6b49d8), "Patterns::ChainOfResponsibility::Role::Handler", HASH(0x7201c2b62b88)) called at /home/cpan/bin/perl/lib/site_perl/5.41.11/amd64-netbsd-thread-multi/Moose.pm line 57
Moose::with(Moose::Meta::Class=HASH(0x7201bf6b49d8), "Patterns::ChainOfResponsibility::Role::Handler", HASH(0x7201c2b62b88)) called at /home/cpan/bin/perl/lib/site_perl/5.41.11/amd64-netbsd-thread-multi/Moose/Exporter.pm line 418
Moose::with("Patterns::ChainOfResponsibility::Role::Handler", HASH(0x7201c2b62b88)) called at t/filter.t line 9
t/filter.t ....... ok
Class::MOP::load_class is deprecated at /home/cpan/bin/perl/lib/site_perl/5.41.11/amd64-netbsd-thread-multi/Class/MOP.pm line 69.
Class::MOP::load_class("Patterns::ChainOfResponsibility::Provider") called at /home/cpan/.cpan/build/Patterns-ChainOfResponsibility-0.02-0/blib/lib/Patterns/ChainOfResponsibility/Role/Handler.pm line 22
Patterns::ChainOfResponsibility::Role::Handler::__ANON__(Moose::Meta::Class::__ANON__::SERIAL::2=HASH(0x7af4512df1f8), "operating_on", MooseX::Role::Parameterized::Meta::Role::Parameterized=HASH(0x7af44da2a258), "consumer", Moose::Meta::Class=HASH(0x7af44de309d8)) called at /home/cpan/bin/perl/lib/site_perl/5.41.11/MooseX/Role/Parameterized/Meta/Trait/Parameterizable.pm line 88
MooseX::Role::Parameterized::Meta::Trait::Parameterizable::generate_role(Moose::Meta::Class::__ANON__::SERIAL::1=HASH(0x7af44da6e9c0), "consumer", Moose::Meta::Class=HASH(0x7af44de309d8), "parameters", HASH(0x7af44dab9798), "orig_apply", CODE(0x7af44e38cf78)) called at /home/cpan/bin/perl/lib/site_perl/5.41.11/MooseX/Role/Parameterized/Meta/Trait/Parameterizable.pm line 110
Class::MOP::Class:::around(CODE(0x7af44e38cf78), Moose::Meta::Class::__ANON__::SERIAL::1=HASH(0x7af44da6e9c0), Moose::Meta::Class=HASH(0x7af44de309d8)) called at /home/cpan/bin/perl/lib/site_perl/5.41.11/amd64-netbsd-thread-multi/Class/MOP/Method/Wrapped.pm line 166
Moose::Meta::Class::__ANON__::SERIAL::1::_wrapped_apply(Moose::Meta::Class::__ANON__::SERIAL::1=HASH(0x7af44da6e9c0), Moose::Meta::Class=HASH(0x7af44de309d8)) called at /home/cpan/bin/perl/lib/site_perl/5.41.11/amd64-netbsd-thread-multi/Class/MOP/Method/Wrapped.pm line 97
Moose::Meta::Class::__ANON__::SERIAL::1::apply(Moose::Meta::Class::__ANON__::SERIAL::1=HASH(0x7af44da6e9c0), Moose::Meta::Class=HASH(0x7af44de309d8)) called at /home/cpan/bin/perl/lib/site_perl/5.41.11/amd64-netbsd-thread-multi/Moose/Util.pm line 171
Moose::Util::_apply_all_roles(Moose::Meta::Class=HASH(0x7af44de309d8), undef, "Patterns::ChainOfResponsibility::Role::Handler") called at /home/cpan/bin/perl/lib/site_perl/5.41.11/amd64-netbsd-thread-multi/Moose/Util.pm line 113
Moose::Util::apply_all_roles(Moose::Meta::Class=HASH(0x7af44de309d8), "Patterns::ChainOfResponsibility::Role::Handler") called at /home/cpan/bin/perl/lib/site_perl/5.41.11/amd64-netbsd-thread-multi/Moose.pm line 57
Moose::with(Moose::Meta::Class=HASH(0x7af44de309d8), "Patterns::ChainOfResponsibility::Role::Handler") called at /home/cpan/bin/perl/lib/site_perl/5.41.11/amd64-netbsd-thread-multi/Moose/Exporter.pm line 418
Moose::with("Patterns::ChainOfResponsibility::Role::Handler") called at t/provider.t line 9
t/provider.t ..... ok
All tests successful.
Files=5, Tests=20, 1 wallclock secs ( 0.03 usr 0.00 sys + 0.81 cusr 0.22 csys = 1.06 CPU)
Result: PASS
------------------------------
PREREQUISITES
------------------------------
Prerequisite modules loaded:
requires:
Module Need Have
--------------------------- -------- --------
Moose 1.21 2.2207
MooseX::Role::Parameterized 0.23 1.11
perl 5.008005 5.041011
Test::More 0.96 1.302210
build_requires:
Module Need Have
--------------------------- -------- --------
ExtUtils::MakeMaker 6.42 7.74
Test::More 0.96 1.302210
configure_requires:
Module Need Have
--------------------------- -------- --------
ExtUtils::MakeMaker 6.42 7.74
------------------------------
ENVIRONMENT AND OTHER CONTEXT
------------------------------
Environment variables:
AUTOMATED_TESTING = 1
DATE_MANIP_TEST_DM5 = 1
LC_ALL = C
NONINTERACTIVE_TESTING = 1
NO_NETWORK_TESTING = 1
PATH = /home/cpan/bin/perl/bin:/home/cpan/bin:/home/cpan/bin:/bin:/sbin:/usr/bin:/usr/sbin:/usr/X11R7/bin:/usr/pkg/bin:/usr/pkg/sbin:/usr/games:/usr/local/bin:/usr/local/sbin
PERL5LIB =
PERL5OPT =
PERL5_CPANPLUS_IS_RUNNING = 9099
PERL5_CPAN_IS_RUNNING = 9099
PERL_MM_USE_DEFAULT = 1
PERL_USE_UNSAFE_INC = 1
SHELL = /usr/pkg/bin/bash
TERM = screen
TMPDIR = /home/cpan/tmp
Perl special variables (and OS-specific diagnostics, for MSWin32):
$^X = /home/cpan/bin/perl/bin/perl5.41.11
$UID/$EUID = 1001 / 1001
$GID = 100 100
$EGID = 100 100
Perl module toolchain versions installed:
Module Have
------------------- --------
CPAN 2.38
CPAN::Meta 2.150010
Cwd 3.94
ExtUtils::CBuilder 0.280240
ExtUtils::Command 7.74
ExtUtils::Install 2.22
ExtUtils::MakeMaker 7.74
ExtUtils::Manifest 1.75
ExtUtils::ParseXS 3.57
File::Spec 3.94
JSON 4.10
JSON::PP 4.16
Module::Build 0.4234
Module::Signature 0.89
Parse::CPAN::Meta 2.150010
Test2 1.302210
Test::Harness 3.50
Test::More 1.302210
YAML 1.31
YAML::Syck 1.34
version 0.9933
--
Summary of my perl5 (revision 5 version 41 subversion 11) configuration:
Commit id: 1b6aef6d141ef8e718ff72add8ed8653f2c7847f
Platform:
osname=netbsd
osvers=10.0
archname=amd64-netbsd-thread-multi
uname='netbsd cjg-netbsd10 10.0 netbsd 10.0 (generic) #0: thu mar 28 08:33:33 utc 2024 mkrepro@mkrepro.netbsd.org:usrsrcsysarchamd64compilegeneric amd64 '
config_args='-des -Dprefix=/home/cpan/bin/perl -Dscriptdir=/home/cpan/bin/perl/bin -Dusedevel -Duse64bitall -Duseithreads'
hint=recommended
useposix=true
d_sigaction=define
useithreads=define
usemultiplicity=define
use64bitint=define
use64bitall=define
uselongdouble=undef
usemymalloc=n
default_inc_excludes_dot=define
Compiler:
cc='cc'
ccflags ='-fwrapv -fno-strict-aliasing -pipe -fstack-protector-strong -I/usr/pkg/include -D_FORTIFY_SOURCE=2'
optimize='-O'
cppflags='-fwrapv -fno-strict-aliasing -pipe -fstack-protector-strong -I/usr/pkg/include'
ccversion=''
gccversion='10.5.0'
gccosandvers=''
intsize=4
longsize=8
ptrsize=8
doublesize=8
byteorder=12345678
doublekind=3
d_longlong=define
longlongsize=8
d_longdbl=define
longdblsize=16
longdblkind=3
ivtype='long'
ivsize=8
nvtype='double'
nvsize=8
Off_t='off_t'
lseeksize=8
alignbytes=8
prototype=define
Linker and Libraries:
ld='cc'
ldflags =' -Wl,-rpath,/usr/pkg/lib -Wl,-rpath,/usr/local/lib -fstack-protector-strong -L/usr/pkg/lib'
libpth=/usr/lib /usr/pkg/lib /lib
libs=-lpthread -lm -lcrypt -lutil -lc -lposix
perllibs=-lpthread -lm -lcrypt -lutil -lc -lposix
libc=/lib/libc.so
so=so
useshrplib=false
libperl=libperl.a
gnulibc_version=''
Dynamic Linking:
dlsrc=dl_dlopen.xs
dlext=so
d_dlsymun=undef
ccdlflags='-Wl,-E '
cccdlflags='-DPIC -fPIC '
lddlflags='-shared -L/usr/pkg/lib -fstack-protector-strong'
Characteristics of this binary (from libperl):
Compile-time options:
HAS_LONG_DOUBLE
HAS_STRTOLD
HAS_TIMES
MULTIPLICITY
PERLIO_LAYERS
PERL_COPY_ON_WRITE
PERL_DONT_CREATE_GVSV
PERL_HASH_FUNC_SIPHASH13
PERL_HASH_USE_SBOX32
PERL_MALLOC_WRAP
PERL_OP_PARENT
PERL_PRESERVE_IVUV
PERL_USE_DEVEL
PERL_USE_SAFE_PUTENV
USE_64_BIT_ALL
USE_64_BIT_INT
USE_ITHREADS
USE_LARGE_FILES
USE_LOCALE
USE_LOCALE_COLLATE
USE_LOCALE_CTYPE
USE_LOCALE_NUMERIC
USE_LOCALE_TIME
USE_PERLIO
USE_PERL_ATOF
USE_REENTRANT_API
Built under netbsd
Compiled at Apr 10 2025 10:04:57
%ENV:
PERL5LIB=""
PERL5OPT=""
PERL5_CPANPLUS_IS_RUNNING="9099"
PERL5_CPAN_IS_RUNNING="9099"
PERL_MM_USE_DEFAULT="1"
PERL_USE_UNSAFE_INC="1"
@INC:
/home/cpan/bin/perl/lib/site_perl/5.41.11/amd64-netbsd-thread-multi
/home/cpan/bin/perl/lib/site_perl/5.41.11
/home/cpan/bin/perl/lib/5.41.11/amd64-netbsd-thread-multi
/home/cpan/bin/perl/lib/5.41.11
.