Back
From: metabase:user:30f4dfbe-2aae-11df-837a-5e0a49663a4f
Subject: PASS Set-Associate-0.004001 v5.10.1 Mac OS X
Date: 2017-03-10T20:19:05Z
This distribution has been tested as part of the CPAN Testers
project, supporting the Perl programming language. See
http://wiki.cpantesters.org/ for more information or email
questions to cpan-testers-discuss@perl.org
--
Dear Kent Fredric,
This is a computer-generated report for Set-Associate-0.004001
on perl 5.10.1, created by CPAN-Reporter-1.2018.
Thank you for uploading your work to CPAN. Congratulations!
All tests were successful.
Sections of this report:
* Tester comments
* Program output
* Prerequisites
* Environment and other context
------------------------------
TESTER COMMENTS
------------------------------
Additional comments from tester:
this report is from an automated smoke testing program
and was not reviewed by a human for accuracy
------------------------------
PROGRAM OUTPUT
------------------------------
Output from '/sw/bin/make test':
PERL_DL_NONLAZY=1 "/Users/hornenj/perl5/perlbrew/perls/perl-5.10.1/bin/perl" "-MExtUtils::Command::MM" "-MTest::Harness" "-e" "undef *Test::Harness::Switches; test_harness(0, 'blib/lib', 'blib/arch')" t/*.t t/00-compile/*.t t/01_assoc/*.t t/02_assoc_new/*.t t/03_assoc_direct/*.t
t/00-compile/lib_Set_Associate_NewKey_HashMD5_pm.t ....... ok
t/00-compile/lib_Set_Associate_NewKey_HashSHA1_pm.t ...... ok
t/00-compile/lib_Set_Associate_NewKey_LinearWrap_pm.t .... ok
t/00-compile/lib_Set_Associate_NewKey_PickOffset_pm.t .... ok
t/00-compile/lib_Set_Associate_NewKey_pm.t ............... ok
t/00-compile/lib_Set_Associate_NewKey_RandomPick_pm.t .... ok
t/00-compile/lib_Set_Associate_pm.t ...................... ok
t/00-compile/lib_Set_Associate_RefillItems_Linear_pm.t ... ok
t/00-compile/lib_Set_Associate_RefillItems_pm.t .......... ok
t/00-compile/lib_Set_Associate_RefillItems_Shuffle_pm.t .. ok
t/00-compile/lib_Set_Associate_Role_NewKey_pm.t .......... ok
t/00-compile/lib_Set_Associate_Role_RefillItems_pm.t ..... ok
t/00-compile/lib_Set_Associate_Utils_pm.t ................ ok
#
# Versions for all modules listed in MYMETA.json (including optional ones):
#
# === Configure Requires ===
#
# Module Want Have
# ------------------- ---- ----
# ExtUtils::MakeMaker any 7.22
#
# === Configure Recommends ===
#
# Module Want Have
# ------------------- ---- ----
# ExtUtils::MakeMaker 7.00 7.22
#
# === Build Requires ===
#
# Module Want Have
# ------------------- ---- ----
# ExtUtils::MakeMaker any 7.22
#
# === Test Requires ===
#
# Module Want Have
# ------------------- ---- --------
# ExtUtils::MakeMaker any 7.22
# File::Spec any 3.47
# Test::Fatal any 0.014
# Test::More any 1.302059
#
# === Test Recommends ===
#
# Module Want Have
# ------------------- -------- --------
# CPAN::Meta 2.120900 2.150005
# ExtUtils::MakeMaker 7.00 7.22
# Test::More 0.99 1.302059
#
# === Runtime Requires ===
#
# Module Want Have
# --------------------------- ---- ------
# Carp any 1.36
# Digest::MD5 any 2.54
# Digest::SHA1 any 2.13
# Exporter any 5.72
# List::Util any 1.47
# Moose any 2.1603
# MooseX::AttributeShortcuts any 0.028
# MooseX::Role::Parameterized any 1.08
# Scalar::Util any 1.47
# bigint 0.22 0.41
# strict any 1.04
# warnings any 1.06
#
# === Runtime Recommends ===
#
# Module Want Have
# ------ ----- ------
# Moose 2.000 2.1603
#
t/00-report-prereqs.t .................................... ok
Set::Associate::NewKey->linear_wrap should be called as a method at /Users/hornenj/.cpan/build/Set-Associate-0.004001-7/blib/lib/Set/Associate/NewKey.pm line 74.
t/01_assoc/01_linear.t ................................... ok
Set::Associate::RefillItems->shuffle should be called as a method at /Users/hornenj/.cpan/build/Set-Associate-0.004001-7/blib/lib/Set/Associate/RefillItems.pm line 128.
t/01_assoc/02_random_shuffle.t ........................... ok
Set::Associate::NewKey->random_pick should be called as a method at /Users/hornenj/.cpan/build/Set-Associate-0.004001-7/blib/lib/Set/Associate/NewKey.pm line 96.
t/01_assoc/03_random_pick.t .............................. ok
Set::Associate::NewKey->hash_sha1 should be called as a method at /Users/hornenj/.cpan/build/Set-Associate-0.004001-7/blib/lib/Set/Associate/NewKey.pm line 148.
t/01_assoc/04_hash_sha1.t ................................ ok
Set::Associate::NewKey->hash_md5 should be called as a method at /Users/hornenj/.cpan/build/Set-Associate-0.004001-7/blib/lib/Set/Associate/NewKey.pm line 172.
t/01_assoc/05_hash_md5.t ................................. ok
t/02_assoc_new/01_linear.t ............................... ok
t/02_assoc_new/02_random_shuffle.t ....................... ok
t/02_assoc_new/03_random_pick.t .......................... ok
t/02_assoc_new/04_hash_sha1.t ............................ ok
t/02_assoc_new/05_hash_md5.t ............................. ok
t/03_assoc_direct/01_linear.t ............................ ok
t/03_assoc_direct/02_random_shuffle.t .................... ok
t/03_assoc_direct/03_random_pick.t ....................... ok
t/03_assoc_direct/04_hash_sha1.t ......................... ok
t/03_assoc_direct/05_hash_md5.t .......................... ok
All tests successful.
Files=29, Tests=187, 6 wallclock secs ( 0.07 usr 0.05 sys + 5.56 cusr 0.68 csys = 6.36 CPU)
Result: PASS
------------------------------
PREREQUISITES
------------------------------
Prerequisite modules loaded:
requires:
Module Need Have
--------------------------- ----- --------
bigint 0.22 0.41
Carp 0 1.36
Digest::MD5 0 2.54
Digest::SHA1 0 2.13
Exporter 0 5.72
List::Util 0 1.47
Moose 0 2.1603
MooseX::AttributeShortcuts 0 0.028
MooseX::Role::Parameterized 0 1.08
perl 5.006 5.010001
Scalar::Util 0 1.47
strict 0 1.04
warnings 0 1.06
build_requires:
Module Need Have
--------------------------- ----- --------
ExtUtils::MakeMaker 0 7.22
File::Spec 0 3.47
Test::Fatal 0 0.014
Test::More 0 1.302059
configure_requires:
Module Need Have
--------------------------- ----- --------
ExtUtils::MakeMaker 0 7.22
perl 5.006 5.010001
------------------------------
ENVIRONMENT AND OTHER CONTEXT
------------------------------
Environment variables:
AUTOMATED_TESTING = 1
LANG = en_US.UTF-8
LC_ALL = POSIX
LDFLAGS =
PATH = /Users/hornenj/perl5/perlbrew/bin:/Users/hornenj/perl5/perlbrew/perls/perl-5.10.1/bin:/Users/hornenj/perl5/perlbrew/bin:/Users/hornenj/bin:/sw/lib/perl5/ExtUtils:/sw/bin:/am/ncbiapdata/bin:/usr/bin:/bin:/usr/X11R6/bin:/netopt/ncbi_tools/bin:/usr/local/ncbi/blast/bin:/net/traces01.be-md.ncbi.nlm.nih.gov/trace_software/vdb/mac/release/x86_64/bin
PERL5LIB = /Users/hornenj/.cpan/build/MooseX-AttributeShortcuts-0.028-7/blib/arch:/Users/hornenj/.cpan/build/MooseX-AttributeShortcuts-0.028-7/blib/lib:/Users/hornenj/.cpan/build/MooseX-Types-Common-0.001014-8/blib/arch:/Users/hornenj/.cpan/build/MooseX-Types-Common-0.001014-8/blib/lib:/Users/hornenj/.cpan/build/MooseX-Meta-TypeConstraint-Mooish-0.001-7/blib/arch:/Users/hornenj/.cpan/build/MooseX-Meta-TypeConstraint-Mooish-0.001-7/blib/lib:/Users/hornenj/.cpan/build/Test-Moose-More-0.043-7/blib/arch:/Users/hornenj/.cpan/build/Test-Moose-More-0.043-7/blib/lib:/Users/hornenj/.cpan/build/TAP-SimpleOutput-0.009-7/blib/arch:/Users/hornenj/.cpan/build/TAP-SimpleOutput-0.009-7/blib/lib:/Users/hornenj/.cpan/build/Perl-Version-1.013-7/blib/arch:/Users/hornenj/.cpan/build/Perl-Version-1.013-7/blib/lib:/Users/hornenj/.cpan/build/File-Slurp-Tiny-0.004-43/blib/arch:/Users/hornenj/.cpan/build/File-Slurp-Tiny-0.004-43/blib/lib:/Users/hornenj/.cpan/build/Syntax-Keyword-Junction-0.003008-8/blib/arch:/Users/hornenj/.cpan/build/Syntax-Keyword-Junction-0.003008-8/blib/lib:/Users/hornenj/.cpan/build/syntax-0.004-8/blib/arch:/Users/hornenj/.cpan/build/syntax-0.004-8/blib/lib:/Users/hornenj/.cpan/build/Scalar-List-Utils-1.47-57/blib/arch:/Users/hornenj/.cpan/build/Scalar-List-Utils-1.47-57/blib/lib
PERL5OPT =
PERL5_CPANPLUS_IS_RUNNING = 27905
PERL5_CPAN_IS_RUNNING = 27905
PERL5_MINISMOKEBOX = 0.58
PERLBREW_BASHRC_VERSION = 0.77
PERLBREW_HOME = /Users/hornenj/.perlbrew
PERLBREW_LIB =
PERLBREW_MANPATH = /Users/hornenj/perl5/perlbrew/perls/perl-5.10.1/man
PERLBREW_PATH = /Users/hornenj/perl5/perlbrew/bin:/Users/hornenj/perl5/perlbrew/perls/perl-5.10.1/bin
PERLBREW_PERL = perl-5.10.1
PERLBREW_ROOT = /Users/hornenj/perl5/perlbrew
PERLBREW_VERSION = 0.77
PERL_EXTUTILS_AUTOINSTALL = --defaultdeps
PERL_LOCAL_LIB_ROOT =
PERL_MM_USE_DEFAULT = 1
SHELL = /bin/bash
TERM = xterm-256color
TMPDIR = /var/folders/pz/pd7y1qjs6s3cbk170cw50fjc000c61/T/
ac_cv_path_INTLTOOL_PERL = /usr/bin/perl
Perl special variables (and OS-specific diagnostics, for MSWin32):
$^X = /Users/hornenj/perl5/perlbrew/perls/perl-5.10.1/bin/perl
$UID/$EUID = 12481 / 12481
$GID = 14 14 5344 37191 527 37223 241
$EGID = 14 14 5344 37191 527 37223 241
Perl module toolchain versions installed:
Module Have
------------------- --------
CPAN 2.14
CPAN::Meta 2.150005
Cwd 3.47
ExtUtils::CBuilder 0.280224
ExtUtils::Command 7.22
ExtUtils::Install 2.04
ExtUtils::MakeMaker 7.22
ExtUtils::Manifest 1.70
ExtUtils::ParseXS 3.30
File::Spec 3.47
JSON 2.90
JSON::PP 2.27400
Module::Build 0.4214
Module::Signature n/a
Parse::CPAN::Meta 1.4422
Test::Harness 3.36
Test::More 1.302059
YAML 1.21
YAML::Syck 1.29
version 0.9912
--
Summary of my perl5 (revision 5 version 10 subversion 1) configuration:
Platform:
osname=darwin, osvers=12.5.0, archname=darwin-thread-multi-2level
uname='darwin ncbimac2008.ncbi.nlm.nih.gov 12.5.0 darwin kernel version 12.5.0: sun sep 29 13:33:47 pdt 2013; root:xnu-2050.48.12~1release_x86_64 x86_64 '
config_args='-Duseithreads -Dusemultiplicity -Dinstallprefix=/Users/hornenj/perl5/perlbrew/perls/perl-5.10.1 -Dprefix=/Users/hornenj/perl5/perlbrew/perls/perl-5.10.1 -de -Accflags=-O2 -W -Wformat=2 -Wswitch -Wshadow -Wwrite-strings -Wuninitialized -Wall -pipe -mtune=native -march=native -fomit-frame-pointer -msse2 -msse -mmmx -pedantic -D_FORTIFY_SOURCE=2 -Wpointer-arith -Wstrict-prototypes -fstack-protector -Wstack-protector -Wextra -Wbad-function-cast -Wcast-align -Wcast-qual -Wdisabled-optimization -Wendif-labels -Wfloat-equal -Wformat-nonliteral -Winline -Wmissing-declarations -Wmissing-prototypes -Wnested-externs -Wpointer-arith -Wundef -Wformat-security -fassociative-math -Acc=clang'
hint=recommended, useposix=true, d_sigaction=define
useithreads=define, usemultiplicity=define
useperlio=define, d_sfio=undef, uselargefiles=define, usesocks=undef
use64bitint=define, use64bitall=define, uselongdouble=undef
usemymalloc=n, bincompat5005=undef
Compiler:
cc=' clang', ccflags ='-fno-common -DPERL_DARWIN -no-cpp-precomp -O2 -W -Wformat=2 -Wswitch -Wshadow -Wwrite-strings -Wuninitialized -Wall -pipe -mtune=native -march=native -fomit-frame-pointer -msse2 -msse -mmmx -pedantic -D_FORTIFY_SOURCE=2 -Wpointer-arith -Wstrict-prototypes -fstack-protector -Wstack-protector -Wextra -Wbad-function-cast -Wcast-align -Wcast-qual -Wdisabled-optimization -Wendif-labels -Wfloat-equal -Wformat-nonliteral -Winline -Wmissing-declarations -Wmissing-prototypes -Wnested-externs -Wpointer-arith -Wundef -Wformat-security -fassociative-math -fno-strict-aliasing -I/usr/local/include',
optimize='-O3',
cppflags='-no-cpp-precomp -fno-common -DPERL_DARWIN -no-cpp-precomp -O2 -W -Wformat=2 -Wswitch -Wshadow -Wwrite-strings -Wuninitialized -Wall -pipe -mtune=native -march=native -fomit-frame-pointer -msse2 -msse -mmmx -pedantic -D_FORTIFY_SOURCE=2 -Wpointer-arith -Wstrict-prototypes -fstack-protector -Wstack-protector -Wextra -Wbad-function-cast -Wcast-align -Wcast-qual -Wdisabled-optimization -Wendif-labels -Wfloat-equal -Wformat-nonliteral -Winline -Wmissing-declarations -Wmissing-prototypes -Wnested-externs -Wpointer-arith -Wundef -Wformat-security -fassociative-math -fno-strict-aliasing -I/usr/local/include'
ccversion='', gccversion='4.2.1 Compatible Apple LLVM 4.2 (clang-425.0.24)', gccosandvers=''
intsize=4, longsize=8, ptrsize=8, doublesize=8, byteorder=12345678
d_longlong=define, longlongsize=8, d_longdbl=define, longdblsize=16
ivtype='long', ivsize=8, nvtype='double', nvsize=8, Off_t='off_t', lseeksize=8
alignbytes=8, prototype=define
Linker and Libraries:
ld='env MACOSX_DEPLOYMENT_TARGET=10.3 cc', ldflags =' -fstack-protector -L/usr/local/lib'
libpth=/usr/local/lib /usr/lib
libs=-ldbm -ldl -lm -lutil -lc
perllibs=-ldl -lm -lutil -lc
libc=, so=dylib, useshrplib=false, libperl=libperl.a
gnulibc_version=''
Dynamic Linking:
dlsrc=dl_dlopen.xs, dlext=bundle, d_dlsymun=undef, ccdlflags=' '
cccdlflags=' ', lddlflags=' -bundle -undefined dynamic_lookup -L/usr/local/lib -fstack-protector'
Characteristics of this binary (from libperl):
Compile-time options: MULTIPLICITY PERL_DONT_CREATE_GVSV
PERL_IMPLICIT_CONTEXT PERL_MALLOC_WRAP USE_64_BIT_ALL
USE_64_BIT_INT USE_ITHREADS USE_LARGE_FILES
USE_PERLIO USE_REENTRANT_API
Built under darwin
Compiled at Apr 1 2014 09:55:44
%ENV:
PERL5LIB="/Users/hornenj/.cpan/build/MooseX-AttributeShortcuts-0.028-7/blib/arch:/Users/hornenj/.cpan/build/MooseX-AttributeShortcuts-0.028-7/blib/lib:/Users/hornenj/.cpan/build/MooseX-Types-Common-0.001014-8/blib/arch:/Users/hornenj/.cpan/build/MooseX-Types-Common-0.001014-8/blib/lib:/Users/hornenj/.cpan/build/MooseX-Meta-TypeConstraint-Mooish-0.001-7/blib/arch:/Users/hornenj/.cpan/build/MooseX-Meta-TypeConstraint-Mooish-0.001-7/blib/lib:/Users/hornenj/.cpan/build/Test-Moose-More-0.043-7/blib/arch:/Users/hornenj/.cpan/build/Test-Moose-More-0.043-7/blib/lib:/Users/hornenj/.cpan/build/TAP-SimpleOutput-0.009-7/blib/arch:/Users/hornenj/.cpan/build/TAP-SimpleOutput-0.009-7/blib/lib:/Users/hornenj/.cpan/build/Perl-Version-1.013-7/blib/arch:/Users/hornenj/.cpan/build/Perl-Version-1.013-7/blib/lib:/Users/hornenj/.cpan/build/File-Slurp-Tiny-0.004-43/blib/arch:/Users/hornenj/.cpan/build/File-Slurp-Tiny-0.004-43/blib/lib:/Users/hornenj/.cpan/build/Syntax-Keyword-Junction-0.003008-8/blib/arch:/Users/hornenj/.cpan/build/Syntax-Keyword-Junction-0.003008-8/blib/lib:/Users/hornenj/.cpan/build/syntax-0.004-8/blib/arch:/Users/hornenj/.cpan/build/syntax-0.004-8/blib/lib:/Users/hornenj/.cpan/build/Scalar-List-Utils-1.47-57/blib/arch:/Users/hornenj/.cpan/build/Scalar-List-Utils-1.47-57/blib/lib"
PERL5OPT=""
PERL5_CPANPLUS_IS_RUNNING="27905"
PERL5_CPAN_IS_RUNNING="27905"
PERL5_MINISMOKEBOX="0.58"
PERLBREW_BASHRC_VERSION="0.77"
PERLBREW_HOME="/Users/hornenj/.perlbrew"
PERLBREW_LIB=""
PERLBREW_MANPATH="/Users/hornenj/perl5/perlbrew/perls/perl-5.10.1/man"
PERLBREW_PATH="/Users/hornenj/perl5/perlbrew/bin:/Users/hornenj/perl5/perlbrew/perls/perl-5.10.1/bin"
PERLBREW_PERL="perl-5.10.1"
PERLBREW_ROOT="/Users/hornenj/perl5/perlbrew"
PERLBREW_VERSION="0.77"
PERL_EXTUTILS_AUTOINSTALL="--defaultdeps"
PERL_LOCAL_LIB_ROOT=""
PERL_MM_USE_DEFAULT="1"
@INC:
/Users/hornenj/.cpan/build/MooseX-AttributeShortcuts-0.028-7/blib/arch
/Users/hornenj/.cpan/build/MooseX-AttributeShortcuts-0.028-7/blib/lib
/Users/hornenj/.cpan/build/MooseX-Types-Common-0.001014-8/blib/arch
/Users/hornenj/.cpan/build/MooseX-Types-Common-0.001014-8/blib/lib
/Users/hornenj/.cpan/build/MooseX-Meta-TypeConstraint-Mooish-0.001-7/blib/arch
/Users/hornenj/.cpan/build/MooseX-Meta-TypeConstraint-Mooish-0.001-7/blib/lib
/Users/hornenj/.cpan/build/Test-Moose-More-0.043-7/blib/arch
/Users/hornenj/.cpan/build/Test-Moose-More-0.043-7/blib/lib
/Users/hornenj/.cpan/build/TAP-SimpleOutput-0.009-7/blib/arch
/Users/hornenj/.cpan/build/TAP-SimpleOutput-0.009-7/blib/lib
/Users/hornenj/.cpan/build/Perl-Version-1.013-7/blib/arch
/Users/hornenj/.cpan/build/Perl-Version-1.013-7/blib/lib
/Users/hornenj/.cpan/build/File-Slurp-Tiny-0.004-43/blib/arch
/Users/hornenj/.cpan/build/File-Slurp-Tiny-0.004-43/blib/lib
/Users/hornenj/.cpan/build/Syntax-Keyword-Junction-0.003008-8/blib/arch
/Users/hornenj/.cpan/build/Syntax-Keyword-Junction-0.003008-8/blib/lib
/Users/hornenj/.cpan/build/syntax-0.004-8/blib/arch
/Users/hornenj/.cpan/build/syntax-0.004-8/blib/lib
/Users/hornenj/.cpan/build/Scalar-List-Utils-1.47-57/blib/arch
/Users/hornenj/.cpan/build/Scalar-List-Utils-1.47-57/blib/lib
/Users/hornenj/perl5/perlbrew/perls/perl-5.10.1/lib/5.10.1/darwin-thread-multi-2level
/Users/hornenj/perl5/perlbrew/perls/perl-5.10.1/lib/5.10.1
/Users/hornenj/perl5/perlbrew/perls/perl-5.10.1/lib/site_perl/5.10.1/darwin-thread-multi-2level
/Users/hornenj/perl5/perlbrew/perls/perl-5.10.1/lib/site_perl/5.10.1
.