Report for File-PathInfo-1.27

Back
From: metabase:user:322078bc-2aae-11df-837a-5e0a49663a4f
Subject: PASS File-PathInfo-1.27 v5.12.4 Mac OS X
Date: 2011-09-25T00:25:01Z

This distribution has been tested as part of the CPAN Testers
project, supporting the Perl programming language.  See
http://wiki.cpantesters.org/ for more information or email
questions to cpan-testers-discuss@perl.org


--

Dear Leo Charre,

This is a computer-generated error report created automatically by
CPANPLUS, version 0.9111. Testers personal comments may appear
at the end of this report.

MAKE TEST passed: PERL_DL_NONLAZY=1 /Volumes/Media/smoke/bare/perl-5.12.4/bin/perl "-MExtUtils::Command::MM" "-e" "test_harness(0, 'blib/lib', 'blib/arch')" t/*.t
'/i do not exist/at all/1316910659' is not on disk
set() '/i do not exist/at all/1316910659' is not on disk. at lib/File/PathInfo.pm line 55
	File::PathInfo::set('File::PathInfo=HASH(0x180ea30)', '/i do not exist/at all/1316910659') called at t/0_fpi.t line 23


--------------------------------------------------------------------------------
arg is not a ref, treating as arg


--------------------------------------------------------------------------------
arg is not a ref, treating as arg


--------------------------------------------------------------------------------
arg is not a ref, treating as arg


--------------------------------------------------------------------------------
arg is not a ref, treating as arg


--------------------------------------------------------------------------------
arg is not a ref, treating as arg


--------------------------------------------------------------------------------
arg is not a ref, treating as arg
2) things we know are not in doc root


--------------------------------------------------------------------------------


--------------------------------------------------------------------------------
'/Volumes/Media/smoke/bare/conf/perl-5.12.4/.cpanplus/5.12.4/build/File-PathInfo-1.27/t/public_html/demo/cvil.txt' is not on disk
set() './t/public_html/demo/../demo/cvil.txt' is not on disk. at lib/File/PathInfo.pm line 55
	File::PathInfo::set('File::PathInfo=HASH(0x185f0f0)', './t/public_html/demo/../demo/cvil.txt') called at t/0_fpi.t line 128
'/Volumes/Media/smoke/bare/conf/perl-5.12.4/.cpanplus/5.12.4/build/File-PathInfo-1.27/t/public_html/de41zmo' is not on disk
set() './t/public_html/de41zmo' is not on disk. at lib/File/PathInfo.pm line 55
	File::PathInfo::set('File::PathInfo=HASH(0x18961f0)', './t/public_html/de41zmo') called at t/0_fpi.t line 145
'/Volumes/Media/smoke/bare/conf/perl-5.12.4/.cpanplus/5.12.4/build/File-PathInfo-1.27/t/public_html/demvo2' is not on disk
set() 'demvo2' is not on disk. at lib/File/PathInfo.pm line 55
	File::PathInfo::set('File::PathInfo=HASH(0x18961f0)', 'demvo2') called at t/0_fpi.t line 145
argument: './t/public_html/demo/../demo/civil.rtxt/', cant resolve as path rel to current working dir with Cwd abs_path
set() './t/public_html/demo/../demo/civil.rtxt/' is not on disk. at lib/File/PathInfo.pm line 55
	File::PathInfo::set('File::PathInfo=HASH(0x18961f0)', './t/public_html/demo/../demo/civil.rtxt/') called at t/0_fpi.t line 145
t/0_fpi.t ....... ok
2) things that do not exist.
set() './t/public_html/hhahahahahahahouse.txt' is not on disk. at lib/File/PathInfo.pm line 55
	File::PathInfo::set('File::PathInfo=HASH(0x188d210)', './t/public_html/hhahahahahahahouse.txt') called at lib/File/PathInfo.pm line 42
	File::PathInfo::new('File::PathInfo', './t/public_html/hhahahahahahahouse.txt') called at t/1_fpi_hash.t line 35
failed set() ./t/public_html/hhahahahahahahouse.txt at lib/File/PathInfo.pm line 42
	File::PathInfo::new('File::PathInfo', './t/public_html/hhahahahahahahouse.txt') called at t/1_fpi_hash.t line 35
File::PathInfo : no file is set(). Use set(). at lib/File/PathInfo.pm line 303
	File::PathInfo::_stat('File::PathInfo=HASH(0x188d210)') called at lib/File/PathInfo.pm line 372
	File::PathInfo::get_datahash('File::PathInfo=HASH(0x188d210)') called at t/1_fpi_hash.t line 49
set() '/nons/ense' is not on disk. at lib/File/PathInfo.pm line 55
	File::PathInfo::set('File::PathInfo=HASH(0x188d210)', '/nons/ense') called at lib/File/PathInfo.pm line 42
	File::PathInfo::new('File::PathInfo', '/nons/ense') called at t/1_fpi_hash.t line 35
failed set() /nons/ense at lib/File/PathInfo.pm line 42
	File::PathInfo::new('File::PathInfo', '/nons/ense') called at t/1_fpi_hash.t line 35
File::PathInfo : no file is set(). Use set(). at lib/File/PathInfo.pm line 303
	File::PathInfo::_stat('File::PathInfo=HASH(0x188d210)') called at lib/File/PathInfo.pm line 372
	File::PathInfo::get_datahash('File::PathInfo=HASH(0x188d210)') called at t/1_fpi_hash.t line 49
set() '/moreneo/nensense' is not on disk. at lib/File/PathInfo.pm line 55
	File::PathInfo::set('File::PathInfo=HASH(0x188d210)', '/moreneo/nensense') called at lib/File/PathInfo.pm line 42
	File::PathInfo::new('File::PathInfo', '/moreneo/nensense') called at t/1_fpi_hash.t line 35
failed set() /moreneo/nensense at lib/File/PathInfo.pm line 42
	File::PathInfo::new('File::PathInfo', '/moreneo/nensense') called at t/1_fpi_hash.t line 35
File::PathInfo : no file is set(). Use set(). at lib/File/PathInfo.pm line 303
	File::PathInfo::_stat('File::PathInfo=HASH(0x188d210)') called at lib/File/PathInfo.pm line 372
	File::PathInfo::get_datahash('File::PathInfo=HASH(0x188d210)') called at t/1_fpi_hash.t line 49
t/1_fpi_hash.t .. ok
t/2_errstr.t .... ok
All tests successful.
Files=3, Tests=78,  2 wallclock secs ( 0.31 usr  0.12 sys +  1.21 cusr  0.68 csys =  2.32 CPU)
Result: PASS

[MSG] [Sun Sep 25 01:31:02 2011] Sending test report for 'File-PathInfo-1.27'

This report was machine-generated by CPANPLUS::Dist::YACSmoke 0.64.
Powered by minismokebox version 0.54

------------------------------
ENVIRONMENT AND OTHER CONTEXT
------------------------------

Environment variables:

    AUTOMATED_TESTING = 1
    PATH = /bin:/sbin:/usr/bin:/usr/sbin:/usr/local/bin:/usr/local/sbin
    PERL5LIB = :/Volumes/Media/smoke/bare/conf/perl-5.12.4/.cpanplus/5.12.4/build/Crypt-RC4-2.02/blib/lib:/Volumes/Media/smoke/bare/conf/perl-5.12.4/.cpanplus/5.12.4/build/Crypt-RC4-2.02/blib/arch:/Volumes/Media/smoke/bare/conf/perl-5.12.4/.cpanplus/5.12.4/build/Text-PDF-0.29/blib/lib:/Volumes/Media/smoke/bare/conf/perl-5.12.4/.cpanplus/5.12.4/build/Text-PDF-0.29/blib/arch:/Volumes/Media/smoke/bare/conf/perl-5.12.4/.cpanplus/5.12.4/build/CAM-PDF-1.55/blib/lib:/Volumes/Media/smoke/bare/conf/perl-5.12.4/.cpanplus/5.12.4/build/CAM-PDF-1.55/blib/arch:/Volumes/Media/smoke/bare/conf/perl-5.12.4/.cpanplus/5.12.4/build/Smart-Comments-1.0.4/blib/lib:/Volumes/Media/smoke/bare/conf/perl-5.12.4/.cpanplus/5.12.4/build/Smart-Comments-1.0.4/blib/arch:/Volumes/Media/smoke/bare/conf/perl-5.12.4/.cpanplus/5.12.4/build/Time-Format-1.11/blib/lib:/Volumes/Media/smoke/bare/conf/perl-5.12.4/.cpanplus/5.12.4/build/Time-Format-1.11/blib/arch:/Volumes/Media/smoke/bare/conf/perl-5.12.4/.cpanplus/5.12.4/build/File-PathInfo-1.27/blib/lib:/Volumes/Media/smoke/bare/conf/perl-5.12.4/.cpanplus/5.12.4/build/File-PathInfo-1.27/blib/arch
    PERL5_CPANPLUS_IS_RUNNING = 4079
    PERL5_CPANPLUS_IS_VERSION = 0.9111
    PERL5_MINISMOKEBOX = 0.54
    PERL5_YACSMOKE_BASE = /Volumes/Media/smoke/bare/conf/perl-5.12.4
    PERL_EXTUTILS_AUTOINSTALL = --defaultdeps
    PERL_MM_USE_DEFAULT = 1
    SHELL = /bin/bash
    TERM = screen

Perl special variables (and OS-specific diagnostics, for MSWin32):

    Perl: $^X = /Volumes/Media/smoke/bare/perl-5.12.4/bin/perl
    UID:  $<  = 502
    EUID: $>  = 502
    GID:  $(  = 502 502
    EGID: $)  = 502 502


-------------------------------


--

Summary of my perl5 (revision 5 version 12 subversion 4) configuration:
   
  Platform:
    osname=darwin, osvers=8.11.0, archname=darwin-2level
    uname='darwin afalglas.bingosnet.co.uk 8.11.0 darwin kernel version 8.11.0: wed oct 10 18:26:00 pdt 2007; root:xnu-792.24.17~1release_ppc power macintosh powerpc '
    config_args='-des -Dprefix=/Volumes/Media/smoke/bare/perl-5.12.4'
    hint=recommended, useposix=true, d_sigaction=define
    useithreads=undef, usemultiplicity=undef
    useperlio=define, d_sfio=undef, uselargefiles=define, usesocks=undef
    use64bitint=undef, use64bitall=undef, uselongdouble=undef
    usemymalloc=n, bincompat5005=undef
  Compiler:
    cc='cc', ccflags ='-fno-common -DPERL_DARWIN -no-cpp-precomp -fno-strict-aliasing -pipe -I/usr/local/include',
    optimize='-O3',
    cppflags='-no-cpp-precomp -fno-common -DPERL_DARWIN -no-cpp-precomp -fno-strict-aliasing -pipe -I/usr/local/include'
    ccversion='', gccversion='4.0.1 (Apple Computer, Inc. build 5367)', gccosandvers=''
    intsize=4, longsize=4, ptrsize=4, doublesize=8, byteorder=4321
    d_longlong=define, longlongsize=8, d_longdbl=define, longdblsize=16
    ivtype='long', ivsize=4, nvtype='double', nvsize=8, Off_t='off_t', lseeksize=8
    alignbytes=8, prototype=define
  Linker and Libraries:
    ld='env MACOSX_DEPLOYMENT_TARGET=10.3 cc', ldflags =' -L/usr/local/lib'
    libpth=/usr/local/lib /usr/lib
    libs=-ldbm -ldl -lm -lc
    perllibs=-ldl -lm -lc
    libc=/usr/lib/libc.dylib, so=dylib, useshrplib=false, libperl=libperl.a
    gnulibc_version=''
  Dynamic Linking:
    dlsrc=dl_dlopen.xs, dlext=bundle, d_dlsymun=undef, ccdlflags=' '
    cccdlflags=' ', lddlflags=' -bundle -undefined dynamic_lookup -L/usr/local/lib'


Characteristics of this binary (from libperl): 
  Compile-time options: PERL_DONT_CREATE_GVSV PERL_MALLOC_WRAP
                        USE_LARGE_FILES USE_PERLIO USE_PERL_ATOF
  Built under darwin
  Compiled at Jun 23 2011 00:21:50
  %ENV:
    PERL5LIB=":/Volumes/Media/smoke/bare/conf/perl-5.12.4/.cpanplus/5.12.4/build/Crypt-RC4-2.02/blib/lib:/Volumes/Media/smoke/bare/conf/perl-5.12.4/.cpanplus/5.12.4/build/Crypt-RC4-2.02/blib/arch:/Volumes/Media/smoke/bare/conf/perl-5.12.4/.cpanplus/5.12.4/build/Text-PDF-0.29/blib/lib:/Volumes/Media/smoke/bare/conf/perl-5.12.4/.cpanplus/5.12.4/build/Text-PDF-0.29/blib/arch:/Volumes/Media/smoke/bare/conf/perl-5.12.4/.cpanplus/5.12.4/build/CAM-PDF-1.55/blib/lib:/Volumes/Media/smoke/bare/conf/perl-5.12.4/.cpanplus/5.12.4/build/CAM-PDF-1.55/blib/arch:/Volumes/Media/smoke/bare/conf/perl-5.12.4/.cpanplus/5.12.4/build/Smart-Comments-1.0.4/blib/lib:/Volumes/Media/smoke/bare/conf/perl-5.12.4/.cpanplus/5.12.4/build/Smart-Comments-1.0.4/blib/arch:/Volumes/Media/smoke/bare/conf/perl-5.12.4/.cpanplus/5.12.4/build/Time-Format-1.11/blib/lib:/Volumes/Media/smoke/bare/conf/perl-5.12.4/.cpanplus/5.12.4/build/Time-Format-1.11/blib/arch:/Volumes/Media/smoke/bare/conf/perl-5.12.4/.cpanplus/5.12.4/build/File-PathInfo-1.27/blib/lib:/Volumes/Media/smoke/bare/conf/perl-5.12.4/.cpanplus/5.12.4/build/File-PathInfo-1.27/blib/arch"
    PERL5_CPANPLUS_IS_RUNNING="4079"
    PERL5_CPANPLUS_IS_VERSION="0.9111"
    PERL5_MINISMOKEBOX="0.54"
    PERL5_YACSMOKE_BASE="/Volumes/Media/smoke/bare/conf/perl-5.12.4"
    PERL_EXTUTILS_AUTOINSTALL="--defaultdeps"
    PERL_MM_USE_DEFAULT="1"
  @INC:
    /Volumes/Media/smoke/bare/conf/perl-5.12.4/.cpanplus/5.12.4/build/Crypt-RC4-2.02/blib/lib
    /Volumes/Media/smoke/bare/conf/perl-5.12.4/.cpanplus/5.12.4/build/Crypt-RC4-2.02/blib/arch
    /Volumes/Media/smoke/bare/conf/perl-5.12.4/.cpanplus/5.12.4/build/Text-PDF-0.29/blib/lib
    /Volumes/Media/smoke/bare/conf/perl-5.12.4/.cpanplus/5.12.4/build/Text-PDF-0.29/blib/arch
    /Volumes/Media/smoke/bare/conf/perl-5.12.4/.cpanplus/5.12.4/build/CAM-PDF-1.55/blib/lib
    /Volumes/Media/smoke/bare/conf/perl-5.12.4/.cpanplus/5.12.4/build/CAM-PDF-1.55/blib/arch
    /Volumes/Media/smoke/bare/conf/perl-5.12.4/.cpanplus/5.12.4/build/Smart-Comments-1.0.4/blib/lib
    /Volumes/Media/smoke/bare/conf/perl-5.12.4/.cpanplus/5.12.4/build/Smart-Comments-1.0.4/blib/arch
    /Volumes/Media/smoke/bare/conf/perl-5.12.4/.cpanplus/5.12.4/build/Time-Format-1.11/blib/lib
    /Volumes/Media/smoke/bare/conf/perl-5.12.4/.cpanplus/5.12.4/build/Time-Format-1.11/blib/arch
    /Volumes/Media/smoke/bare/conf/perl-5.12.4/.cpanplus/5.12.4/build/File-PathInfo-1.27/blib/lib
    /Volumes/Media/smoke/bare/conf/perl-5.12.4/.cpanplus/5.12.4/build/File-PathInfo-1.27/blib/arch
    /Volumes/Media/smoke/bare/perl-5.12.4/lib/site_perl/5.12.4/darwin-2level
    /Volumes/Media/smoke/bare/perl-5.12.4/lib/site_perl/5.12.4
    /Volumes/Media/smoke/bare/perl-5.12.4/lib/5.12.4/darwin-2level
    /Volumes/Media/smoke/bare/perl-5.12.4/lib/5.12.4
    .