JSON v4.05 Perl 5 v5.35.9 i86pc-solaris-multi

Status
Pass
From
Nigel Horne
Dist
JSON v4.05
Platform
Perl 5 v5.35.9 i86pc-solaris-multi
Date
2022-03-08 18:51:47
ID
ceb5205e-9f10-11ec-9e42-f99b923f10a0
This distribution has been tested as part of the CPAN Testers
project, supporting the Perl programming language.  See
http://wiki.cpantesters.org/ for more information or email
questions to cpan-testers-discuss@perl.org


--
Dear Kenichi Ishigaki,

This is a computer-generated report for JSON-4.05
on perl 5.35.9, created by CPAN-Reporter-1.2018.

Thank you for uploading your work to CPAN.  Congratulations!
All tests were successful.

Sections of this report:

    * Tester comments
    * Program output
    * Prerequisites
    * Environment and other context

------------------------------
TESTER COMMENTS
------------------------------

Additional comments from tester:

none provided

------------------------------
PROGRAM OUTPUT
------------------------------

Output from '/usr/bin/make test':

PERL_DL_NONLAZY=1 "/export/home/njh/perl5/perlbrew/perls/perl-5.35.9-multi/bin/perl5.35.9" "-MExtUtils::Command::MM" "-MTest::Harness" "-e" "undef *Test::Harness::Switches; test_harness(0, 'blib/lib', 'blib/arch')" t/*.t
# JSON::backportPP 4.07
t/00_backend_version.t ......................... ok
t/00_load.t .................................... ok
t/00_load_backport_pp.t ........................ ok
t/00_pod.t ..................................... skipped: Test::Pod 1.00 required for testing POD
t/01_utf8.t .................................... ok
t/02_error.t ................................... ok
t/03_types.t ................................... ok
t/04_dwiw_encode.t ............................. ok
t/05_dwiw_decode.t ............................. ok
t/06_pc_pretty.t ............................... ok
t/07_pc_esc.t .................................. ok
t/08_pc_base.t ................................. ok
t/09_pc_extra_number.t ......................... ok
t/104_sortby.t ................................. ok
t/105_esc_slash.t .............................. ok
t/106_allow_barekey.t .......................... ok
t/107_allow_singlequote.t ...................... ok
t/108_decode.t ................................. ok
t/109_encode.t ................................. ok
t/10_pc_keysort.t .............................. ok
t/110_bignum.t ................................. ok
t/112_upgrade.t ................................ ok
t/113_overloaded_eq.t .......................... ok
t/114_decode_prefix.t .......................... ok
t/115_tie_ixhash.t ............................. ok
t/116_incr_parse_fixed.t ....................... ok
t/117_numbers.t ................................ ok
t/118_boolean_values.t ......................... ok
t/119_incr_parse_utf8.t ........................ ok
t/11_pc_expo.t ................................. ok
t/12_blessed.t ................................. ok
t/13_limit.t ................................... ok
t/14_latin1.t .................................. ok
t/15_prefix.t .................................. ok
t/16_tied.t .................................... ok
t/17_relaxed.t ................................. ok
t/18_json_checker.t ............................ ok
t/19_incr.t .................................... ok
t/20_faihu.t ................................... ok
t/20_unknown.t ................................. ok
t/21_evans.t ................................... ok
t/22_comment_at_eof.t .......................... ok
t/52_object.t .................................. ok
t/99_binary.t .................................. ok
t/e00_func.t ................................... ok
t/e01_property.t ............................... ok
# 1
t/e02_bool.t ................................... ok
t/e03_bool2.t .................................. ok
t/e11_conv_blessed_univ.t ...................... ok
t/e90_misc.t ................................... ok
t/gh_28_json_test_suite.t ...................... ok
t/gh_29_trailing_false_value.t ................. ok
t/rt_116998_wrong_character_offset.t ........... ok
t/rt_122270_is_bool_for_obsolete_xs_boolean.t .. ok
t/rt_90071_incr_parse.t ........................ ok
t/x00_load.t ................................... ok
t/x02_error.t .................................. ok
t/x12_blessed.t ................................ ok
t/x16_tied.t ................................... ok
t/x17_strange_overload.t ....................... ok
t/xe04_escape_slash.t .......................... ok
t/xe05_indent_length.t ......................... ok
t/xe12_boolean.t ............................... ok
t/xe19_xs_and_suportbypp.t ..................... ok
t/xe20_croak_message.t ......................... ok
t/xe21_is_pp.t ................................. ok
t/zero-mojibake.t .............................. ok
All tests successful.
Files=67, Tests=26035, 164 wallclock secs ( 3.07 usr  0.45 sys + 71.11 cusr  2.03 csys = 76.65 CPU)
Result: PASS

------------------------------
PREREQUISITES
------------------------------

Prerequisite modules loaded:

requires:

    Module              Need Have    
    ------------------- ---- --------
    Test::More          0    1.302188

build_requires:

    Module              Need Have    
    ------------------- ---- --------
    ExtUtils::MakeMaker 0    7.64    

configure_requires:

    Module              Need Have    
    ------------------- ---- --------
    ExtUtils::MakeMaker 0    7.64    

opt_requires:

    Module              Need Have    
    ------------------- ---- --------
  ! JSON::XS            2.34 n/a     


------------------------------
ENVIRONMENT AND OTHER CONTEXT
------------------------------

Environment variables:

    NONINTERACTIVE_TESTING = 1
    PATH = /export/home/njh/perl5/perlbrew/bin:/export/home/njh/perl5/perlbrew/perls/perl-5.35.9-multi/bin:/export/home/njh/perl5/perlbrew/bin:/export/home/njh/src/njh/smoker/bin:/usr/bin
    PERL5LIB = 
    PERL5OPT = 
    PERL5_CPANPLUS_IS_RUNNING = 9437
    PERL5_CPAN_IS_RUNNING = 9437
    PERL5_CPAN_IS_RUNNING_IN_RECURSION = 9435,9437
    PERLBREW_LIB = 
    PERLBREW_MANPATH = /export/home/njh/perl5/perlbrew/perls/perl-5.35.9-multi/man
    PERLBREW_PATH = /export/home/njh/perl5/perlbrew/bin:/export/home/njh/perl5/perlbrew/perls/perl-5.35.9-multi/bin
    PERLBREW_PERL = perl-5.35.9-multi
    PERLBREW_ROOT = /export/home/njh/perl5/perlbrew
    PERLBREW_SHELLRC_VERSION = 0.92
    PERLBREW_VERSION = 0.92
    PERL_LOCAL_LIB_ROOT = 
    PERL_MM_USE_DEFAULT = 1
    PERL_USE_UNSAFE_INC = 1
    SHELL = /usr/bin/bash

Perl special variables (and OS-specific diagnostics, for MSWin32):

    $^X = /export/home/njh/perl5/perlbrew/perls/perl-5.35.9-multi/bin/perl5.35.9
    $UID/$EUID = 101 / 101
    $GID = 10 10
    $EGID = 10 10

Perl module toolchain versions installed:

    Module              Have    
    ------------------- --------
    CPAN                2.33    
    CPAN::Meta          2.150010
    Cwd                 3.83    
    ExtUtils::CBuilder  0.280236
    ExtUtils::Command   7.64    
    ExtUtils::Install   2.20    
    ExtUtils::MakeMaker 7.64    
    ExtUtils::Manifest  1.73    
    ExtUtils::ParseXS   3.44    
    File::Spec          3.83    
    JSON                n/a     
    JSON::PP            4.07    
    Module::Build       0.4231  
    Module::Signature   n/a     
    Parse::CPAN::Meta   2.150010
    Test::Harness       3.43    
    Test::More          1.302188
    YAML                n/a     
    YAML::Syck          n/a     
    version             0.9929  


--

Summary of my perl5 (revision 5 version 35 subversion 9) configuration:
   
  Platform:
    osname=solaris
    osvers=2.11
    archname=i86pc-solaris-multi
    uname='sunos njh1 5.11 illumos-06524cf4e4 i86pc i386 i86pc '
    config_args='-de -Dprefix=/export/home/njh/perl5/perlbrew/perls/perl-5.35.9-multi -Dusedevel -Dusemultiplicity -Dusedevel -Accflags=-O2 -W -Wformat=2 -Wswitch -Wshadow -Wwrite-strings -Wuninitialized -Wall -pipe -fomit-frame-pointer -pedantic -D_FORTIFY_SOURCE=2 -Wpointer-arith -Wstrict-prototypes -fstack-protector -Wstack-protector -Wextra -Wbad-function-cast -Wcast-align -Wcast-qual -Wdisabled-optimization -Wendif-labels -Wfloat-equal -Wformat-nonliteral -Winline -Wmissing-declarations -Wmissing-prototypes -Wnested-externs -Wpointer-arith -Wundef -Wformat-security -ftree-vectorize -mmmx -msse -mfpmath=sse -msse2 -msse3 -msse4.1 -msse4.2 -mtune=native -Aeval:scriptdir=/export/home/njh/perl5/perlbrew/perls/perl-5.35.9-multi/bin'
    hint=recommended
    useposix=true
    d_sigaction=define
    useithreads=undef
    usemultiplicity=define
    use64bitint=undef
    use64bitall=undef
    uselongdouble=undef
    usemymalloc=n
    default_inc_excludes_dot=define
  Compiler:
    cc='/usr/bin/gcc'
    ccflags ='-O2 -W -Wformat=2 -Wswitch -Wshadow -Wwrite-strings -Wuninitialized -Wall -pipe -fomit-frame-pointer -pedantic -D_FORTIFY_SOURCE=2 -Wpointer-arith -Wstrict-prototypes -fstack-protector -Wstack-protector -Wextra -Wbad-function-cast -Wcast-align -Wcast-qual -Wdisabled-optimization -Wendif-labels -Wfloat-equal -Wformat-nonliteral -Winline -Wmissing-declarations -Wmissing-prototypes -Wnested-externs -Wpointer-arith -Wundef -Wformat-security -ftree-vectorize -mmmx -msse -mfpmath=sse -msse2 -msse3 -msse4.1 -msse4.2 -mtune=native -fwrapv -fno-strict-aliasing -fstack-protector-strong -I/usr/gnu/include -D_LARGEFILE_SOURCE -D_FILE_OFFSET_BITS=64 -DPERL_USE_SAFE_PUTENV'
    optimize='-O'
    cppflags='-O2 -W -Wformat=2 -Wswitch -Wshadow -Wwrite-strings -Wuninitialized -Wall -pipe -fomit-frame-pointer -pedantic -D_FORTIFY_SOURCE=2 -Wpointer-arith -Wstrict-prototypes -fstack-protector -Wstack-protector -Wextra -Wbad-function-cast -Wcast-align -Wcast-qual -Wdisabled-optimization -Wendif-labels -Wfloat-equal -Wformat-nonliteral -Winline -Wmissing-declarations -Wmissing-prototypes -Wnested-externs -Wpointer-arith -Wundef -Wformat-security -ftree-vectorize -mmmx -msse -mfpmath=sse -msse2 -msse3 -msse4.1 -msse4.2 -mtune=native -fwrapv -fno-strict-aliasing -fstack-protector-strong -I/usr/gnu/include'
    ccversion=''
    gccversion='7.5.0'
    gccosandvers=''
    intsize=4
    longsize=4
    ptrsize=4
    doublesize=8
    byteorder=1234
    doublekind=3
    d_longlong=define
    longlongsize=8
    d_longdbl=define
    longdblsize=12
    longdblkind=3
    ivtype='long'
    ivsize=4
    nvtype='double'
    nvsize=8
    Off_t='off_t'
    lseeksize=8
    alignbytes=4
    prototype=define
  Linker and Libraries:
    ld='/usr/bin/gcc'
    ldflags =' -fstack-protector-strong -L/usr/gnu/lib '
    libpth=/usr/gcc/7/lib /usr/lib /usr/gnu/lib /usr/ccs/lib
    libs=-lpthread -lsocket -lnsl -lgdbm -ldb -ldl -lm -lc
    perllibs=-lpthread -lsocket -lnsl -ldl -lm -lc
    libc=/lib/libc.so
    so=so
    useshrplib=true
    libperl=libperl.so
    gnulibc_version=''
  Dynamic Linking:
    dlsrc=dl_dlopen.xs
    dlext=so
    d_dlsymun=undef
    ccdlflags='  -R /export/home/njh/perl5/perlbrew/perls/perl-5.35.9-multi/lib/5.35.9/i86pc-solaris-multi/CORE'
    cccdlflags='-fPIC'
    lddlflags='-shared -L/usr/gnu/lib -fstack-protector-strong'


Characteristics of this binary (from libperl): 
  Compile-time options:
    HAS_TIMES
    MULTIPLICITY
    PERLIO_LAYERS
    PERL_COPY_ON_WRITE
    PERL_DONT_CREATE_GVSV
    PERL_MALLOC_WRAP
    PERL_OP_PARENT
    PERL_PRESERVE_IVUV
    PERL_USE_DEVEL
    PERL_USE_SAFE_PUTENV
    USE_LARGE_FILES
    USE_LOCALE
    USE_LOCALE_COLLATE
    USE_LOCALE_CTYPE
    USE_LOCALE_NUMERIC
    USE_LOCALE_TIME
    USE_PERLIO
    USE_PERL_ATOF
  Built under solaris
  Compiled at Mar  8 2022 09:59:38
  %ENV:
    PERL5LIB=""
    PERL5OPT=""
    PERL5_CPANPLUS_IS_RUNNING="9437"
    PERL5_CPAN_IS_RUNNING="9437"
    PERL5_CPAN_IS_RUNNING_IN_RECURSION="9435,9437"
    PERLBREW_LIB=""
    PERLBREW_MANPATH="/export/home/njh/perl5/perlbrew/perls/perl-5.35.9-multi/man"
    PERLBREW_PATH="/export/home/njh/perl5/perlbrew/bin:/export/home/njh/perl5/perlbrew/perls/perl-5.35.9-multi/bin"
    PERLBREW_PERL="perl-5.35.9-multi"
    PERLBREW_ROOT="/export/home/njh/perl5/perlbrew"
    PERLBREW_SHELLRC_VERSION="0.92"
    PERLBREW_VERSION="0.92"
    PERL_LOCAL_LIB_ROOT=""
    PERL_MM_USE_DEFAULT="1"
    PERL_USE_UNSAFE_INC="1"
  @INC:
    /export/home/njh/perl5/perlbrew/perls/perl-5.35.9-multi/lib/site_perl/5.35.9/i86pc-solaris-multi
    /export/home/njh/perl5/perlbrew/perls/perl-5.35.9-multi/lib/site_perl/5.35.9
    /export/home/njh/perl5/perlbrew/perls/perl-5.35.9-multi/lib/5.35.9/i86pc-solaris-multi
    /export/home/njh/perl5/perlbrew/perls/perl-5.35.9-multi/lib/5.35.9
    .