Report for Hash-AutoHash-1.17

Back
From: metabase:user:0d96120c-29e2-11e5-b049-ede3035d37de
Subject: PASS Hash-AutoHash-1.17 v5.20.2 GNU/Linux
Date: 2015-07-17T18:51:17Z

This distribution has been tested as part of the CPAN Testers
project, supporting the Perl programming language.  See
http://wiki.cpantesters.org/ for more information or email
questions to cpan-testers-discuss@perl.org


--
Dear Nathan Goodman,

This is a computer-generated report for Hash-AutoHash-1.17
on perl 5.20.2, created by CPAN-Reporter-1.2014.

Thank you for uploading your work to CPAN.  Congratulations!
All tests were successful.

Sections of this report:

    * Tester comments
    * Program output
    * Prerequisites
    * Environment and other context

------------------------------
TESTER COMMENTS
------------------------------

Additional comments from tester:

this report is from an automated smoke testing program
and was not reviewed by a human for accuracy

------------------------------
PROGRAM OUTPUT
------------------------------

Output from './Build test':

# Testing Hash::AutoHash 1.17, Perl 5.020002, /data/perl5/perlbrew/perls/perl-5.20.2/bin/perl
t/autohash.000.code_exists.t .... ok
t/autohash.001.boilerplate.t .... ok
t/autohash.002.pod.t ............ ok
t/autohash.010.cons_funcs.t ..... ok
t/autohash.011.new_func.t ....... ok
t/autohash.012.new_method.t ..... ok
t/autohash.013.ashash.t ......... ok
t/autohash.013.exthash.t ........ ok
t/autohash.013.extobj.t ......... ok
t/autohash.019.export_ok.t ...... ok
t/autohash.020.class_methods.t .. ok
t/autohash.020.special_keys.t ... ok
t/autohash.020.universal.t ...... ok
t/autohash.030.alias.t .......... ok
t/autohash.030.clear.t .......... ok
t/autohash.030.count_etc.t ...... ok
t/autohash.030.delete.t ......... ok
t/autohash.030.each.t ........... ok
t/autohash.030.exists.t ......... ok
t/autohash.030.get.t ............ ok
t/autohash.030.keys.t ........... ok
t/autohash.030.set.t ............ ok
t/autohash.030.tied.t ........... ok
t/autohash.030.values.t ......... ok
t/autohash.031.delete_exists.t .. ok
t/autohash.031.delete_keys.t .... ok
t/autohash.031.delete_values.t .. ok
t/autohash.040.destroy.t ........ ok
t/autohash.050.child.t .......... ok
t/autohash.050.grandchild.t ..... ok
t/autohash.055.typicalchild.t ... ok
t/autohash.099.docs.t ........... ok
All tests successful.
Files=32, Tests=2813,  3 wallclock secs ( 0.29 usr  0.05 sys +  2.10 cusr  0.10 csys =  2.54 CPU)
Result: PASS

------------------------------
PREREQUISITES
------------------------------

Prerequisite modules loaded:

requires:

    Module                Need   Have    
    --------------------- ------ --------
    Carp                  1.2    1.3301  
    Cwd                   3.4    3.48_01 
    Exporter              5.68   5.71    
    List::MoreUtils       0.33   0.413   
    List::Util            1.32   1.42    
    perl                  v5.8.3 5.020002
    Tie::Hash             1.04   1.05    
    Tie::ToObject         0.03   0.03    
    XSLoader              0.15   0.17    

build_requires:

    Module                Need   Have    
    --------------------- ------ --------
    Carp                  1.2    1.3301  
    Exporter              5.68   5.71    
    File::Spec            3.4    3.48_01 
    List::MoreUtils       0.33   0.413   
    Module::Build         0.4007 0.4214  
    Scalar::Util          1.23   1.42    
    Storable              2.3    2.49_01 
    Test::Deep            0.11   0.117   
    Test::More            0.98   1.001014
    Test::Pod             1.48   1.51    
    Test::Pod::Content    v0.0.6 0.0.6   
    Tie::Hash             1.04   1.05    
    Tie::Hash::MultiValue 1.02   1.02    

configure_requires:

    Module                Need   Have    
    --------------------- ------ --------
    Module::Build         0.4007 0.4214  


------------------------------
ENVIRONMENT AND OTHER CONTEXT
------------------------------

Environment variables:

    AUTOMATED_TESTING = 1
    LANG = en_US.UTF-8
    NONINTERACTIVE_TESTING = 1
    PATH = /home/perltest/perl5/perlbrew/bin:/home/perltest/perl5/perlbrew/perls/perl-5.20.2/bin:/usr/local/sbin:/usr/local/bin:/usr/sbin:/usr/bin:/sbin:/bin:/usr/games:/usr/local/games
    PERL5LIB = /home/perltest/.cpan/build/Tie-Hash-MultiValue-1.02-2otteZ/blib/arch:/home/perltest/.cpan/build/Tie-Hash-MultiValue-1.02-2otteZ/blib/lib:/home/perltest/.cpan/build/Test-Pod-Content-v0.0.6-JBuZEm/blib/arch:/home/perltest/.cpan/build/Test-Pod-Content-v0.0.6-JBuZEm/blib/lib:/home/perltest/.cpan/build/FreezeThaw-0.5001-HzhbxP/blib/arch:/home/perltest/.cpan/build/FreezeThaw-0.5001-HzhbxP/blib/lib
    PERL5OPT = 
    PERL5_CPANPLUS_IS_RUNNING = 19703
    PERL5_CPAN_IS_RUNNING = 19703
    PERL5_CPAN_IS_RUNNING_IN_RECURSION = 26454,19703
    PERLBREW_BASHRC_VERSION = 0.73
    PERLBREW_HOME = /home/perltest/.perlbrew
    PERLBREW_MANPATH = /home/perltest/perl5/perlbrew/perls/perl-5.20.2/man
    PERLBREW_PATH = /home/perltest/perl5/perlbrew/bin:/home/perltest/perl5/perlbrew/perls/perl-5.20.2/bin
    PERLBREW_PERL = perl-5.20.2
    PERLBREW_ROOT = /home/perltest/perl5/perlbrew
    PERLBREW_VERSION = 0.73
    PERL_CR_SMOKER_CURRENT = Class-AutoDB-1.28
    PERL_EXTUTILS_AUTOINSTALL = --defaultdeps
    PERL_MM_USE_DEFAULT = 1
    SHELL = /bin/bash
    TERM = screen

Perl special variables (and OS-specific diagnostics, for MSWin32):

    $^X = /data/perl5/perlbrew/perls/perl-5.20.2/bin/perl
    $UID/$EUID = 2000 / 2000
    $GID = 2000 2000
    $EGID = 2000 2000

Perl module toolchain versions installed:

    Module              Have    
    ------------------- --------
    CPAN                2.05    
    CPAN::Meta          2.150005
    Cwd                 3.48_01 
    ExtUtils::CBuilder  0.280217
    ExtUtils::Command   1.18    
    ExtUtils::Install   1.67    
    ExtUtils::MakeMaker 7.04    
    ExtUtils::Manifest  1.70    
    ExtUtils::ParseXS   3.24    
    File::Spec          3.48_01 
    JSON                2.90    
    JSON::PP            2.27203 
    Module::Build       0.4214  
    Module::Signature   0.79    
    Parse::CPAN::Meta   1.4417  
    Test::Harness       3.30    
    Test::More          1.001014
    YAML                1.15    
    YAML::Syck          1.29    
    version             0.9909  


--

Summary of my perl5 (revision 5 version 20 subversion 2) configuration:
   
  Platform:
    osname=linux, osvers=3.19.0-18-generic, archname=x86_64-linux
    uname='linux perltest 3.19.0-18-generic #18-ubuntu smp tue may 19 18:31:35 utc 2015 x86_64 x86_64 x86_64 gnulinux '
    config_args='-de -Dprefix=/home/perltest/perl5/perlbrew/perls/perl-5.20.2 -Aeval:scriptdir=/home/perltest/perl5/perlbrew/perls/perl-5.20.2/bin'
    hint=recommended, useposix=true, d_sigaction=define
    useithreads=undef, usemultiplicity=undef
    use64bitint=define, use64bitall=define, uselongdouble=undef
    usemymalloc=n, bincompat5005=undef
  Compiler:
    cc='cc', ccflags ='-fwrapv -fno-strict-aliasing -pipe -fstack-protector -I/usr/local/include -D_LARGEFILE_SOURCE -D_FILE_OFFSET_BITS=64',
    optimize='-O2',
    cppflags='-fwrapv -fno-strict-aliasing -pipe -fstack-protector -I/usr/local/include'
    ccversion='', gccversion='4.9.2', gccosandvers=''
    intsize=4, longsize=8, ptrsize=8, doublesize=8, byteorder=12345678
    d_longlong=define, longlongsize=8, d_longdbl=define, longdblsize=16
    ivtype='long', ivsize=8, nvtype='double', nvsize=8, Off_t='off_t', lseeksize=8
    alignbytes=8, prototype=define
  Linker and Libraries:
    ld='cc', ldflags =' -fstack-protector -L/usr/local/lib'
    libpth=/usr/local/lib /usr/lib/gcc/x86_64-linux-gnu/4.9/include-fixed /usr/include/x86_64-linux-gnu /usr/lib /lib/x86_64-linux-gnu /lib/../lib /usr/lib/x86_64-linux-gnu /usr/lib/../lib /lib
    libs=-lnsl -ldl -lm -lcrypt -lutil -lc
    perllibs=-lnsl -ldl -lm -lcrypt -lutil -lc
    libc=libc-2.21.so, so=so, useshrplib=false, libperl=libperl.a
    gnulibc_version='2.21'
  Dynamic Linking:
    dlsrc=dl_dlopen.xs, dlext=so, d_dlsymun=undef, ccdlflags='-Wl,-E'
    cccdlflags='-fPIC', lddlflags='-shared -O2 -L/usr/local/lib -fstack-protector'


Characteristics of this binary (from libperl): 
  Compile-time options: HAS_TIMES PERLIO_LAYERS PERL_DONT_CREATE_GVSV
                        PERL_HASH_FUNC_ONE_AT_A_TIME_HARD PERL_MALLOC_WRAP
                        PERL_NEW_COPY_ON_WRITE PERL_PRESERVE_IVUV
                        USE_64_BIT_ALL USE_64_BIT_INT USE_LARGE_FILES
                        USE_LOCALE USE_LOCALE_COLLATE USE_LOCALE_CTYPE
                        USE_LOCALE_NUMERIC USE_PERLIO USE_PERL_ATOF
  Locally applied patches:
	Devel::PatchPerl 1.38
  Built under linux
  Compiled at Jul 14 2015 18:27:24
  %ENV:
    PERL5LIB="/home/perltest/.cpan/build/Tie-Hash-MultiValue-1.02-2otteZ/blib/arch:/home/perltest/.cpan/build/Tie-Hash-MultiValue-1.02-2otteZ/blib/lib:/home/perltest/.cpan/build/Test-Pod-Content-v0.0.6-JBuZEm/blib/arch:/home/perltest/.cpan/build/Test-Pod-Content-v0.0.6-JBuZEm/blib/lib:/home/perltest/.cpan/build/FreezeThaw-0.5001-HzhbxP/blib/arch:/home/perltest/.cpan/build/FreezeThaw-0.5001-HzhbxP/blib/lib"
    PERL5OPT=""
    PERL5_CPANPLUS_IS_RUNNING="19703"
    PERL5_CPAN_IS_RUNNING="19703"
    PERL5_CPAN_IS_RUNNING_IN_RECURSION="26454,19703"
    PERLBREW_BASHRC_VERSION="0.73"
    PERLBREW_HOME="/home/perltest/.perlbrew"
    PERLBREW_MANPATH="/home/perltest/perl5/perlbrew/perls/perl-5.20.2/man"
    PERLBREW_PATH="/home/perltest/perl5/perlbrew/bin:/home/perltest/perl5/perlbrew/perls/perl-5.20.2/bin"
    PERLBREW_PERL="perl-5.20.2"
    PERLBREW_ROOT="/home/perltest/perl5/perlbrew"
    PERLBREW_VERSION="0.73"
    PERL_CR_SMOKER_CURRENT="Class-AutoDB-1.28"
    PERL_EXTUTILS_AUTOINSTALL="--defaultdeps"
    PERL_MM_USE_DEFAULT="1"
  @INC:
    /home/perltest/.cpan/build/Tie-Hash-MultiValue-1.02-2otteZ/blib/arch
    /home/perltest/.cpan/build/Tie-Hash-MultiValue-1.02-2otteZ/blib/lib
    /home/perltest/.cpan/build/Test-Pod-Content-v0.0.6-JBuZEm/blib/arch
    /home/perltest/.cpan/build/Test-Pod-Content-v0.0.6-JBuZEm/blib/lib
    /home/perltest/.cpan/build/FreezeThaw-0.5001-HzhbxP/blib/arch
    /home/perltest/.cpan/build/FreezeThaw-0.5001-HzhbxP/blib/lib
    /home/perltest/perl5/perlbrew/perls/perl-5.20.2/lib/site_perl/5.20.2/x86_64-linux
    /home/perltest/perl5/perlbrew/perls/perl-5.20.2/lib/site_perl/5.20.2
    /home/perltest/perl5/perlbrew/perls/perl-5.20.2/lib/5.20.2/x86_64-linux
    /home/perltest/perl5/perlbrew/perls/perl-5.20.2/lib/5.20.2
    .