XML-SemanticDiff v1.0007 Perl 5 v5.33.3 i86pc-solaris-ld

Status
Pass
From
Nigel Horne
Dist
XML-SemanticDiff v1.0007
Platform
Perl 5 v5.33.3 i86pc-solaris-ld
Date
2020-12-02 13:53:50
ID
cea441fc-34a5-11eb-aacc-0c1b212c5bcc
This distribution has been tested as part of the CPAN Testers
project, supporting the Perl programming language.  See
http://wiki.cpantesters.org/ for more information or email
questions to cpan-testers-discuss@perl.org


--
Dear Chris Prather,

This is a computer-generated report for XML-SemanticDiff-1.0007
on perl 5.33.3, created by CPAN-Reporter-1.2018.

Thank you for uploading your work to CPAN.  Congratulations!
All tests were successful.

Sections of this report:

    * Tester comments
    * Program output
    * Prerequisites
    * Environment and other context

------------------------------
TESTER COMMENTS
------------------------------

Additional comments from tester:

none provided

------------------------------
PROGRAM OUTPUT
------------------------------

Output from './Build test':

t/00-compile.t ........................ ok
t/01basic.t ........................... ok
t/02load_xml.t ........................ ok
t/03simple_compare.t .................. ok
t/04namespaces.t ...................... ok
t/05simple_handler.t .................. ok
t/06pass_to_handler.t ................. ok
t/07pitest.t .......................... ok
t/08nonexist_ns.t ..................... ok
t/09two-tags.t ........................ ok
t/10wide-chars.t ...................... ok
t/11tag-in-different-locations.t ...... ok
t/12missing-element-has-o-as-cdata.t .. ok
t/13to-doc-read.t ..................... ok
t/14ignore_xpath.t .................... ok
t/15ignore_multi.t .................... ok
t/16zero_to_empty_str_cmp.t ........... ok
t/style-trailing-space.t .............. skipped: Test::TrailingSpace required for trailing space test.
All tests successful.
Files=18, Tests=47,  2 wallclock secs ( 0.07 usr  0.05 sys +  1.50 cusr  0.31 csys =  1.93 CPU)
Result: PASS

------------------------------
PREREQUISITES
------------------------------

Prerequisite modules loaded:

requires:

    Module        Need  Have    
    ------------- ----- --------
    Digest::MD5   0     2.58    
    Encode        0     3.07    
    perl          5.008 5.033003
    strict        0     1.12    
    warnings      0     1.48    
    XML::Parser   0     2.46    

build_requires:

    Module        Need  Have    
    ------------- ----- --------
    File::Spec    0     3.78    
    IO::Handle    0     1.42    
    IPC::Open3    0     1.21    
    Module::Build 0.28  0.4231  
    Test          0     1.31    
    Test::More    0.88  1.302182

configure_requires:

    Module        Need  Have    
    ------------- ----- --------
    Module::Build 0.28  0.4231  


------------------------------
ENVIRONMENT AND OTHER CONTEXT
------------------------------

Environment variables:

    LANG = C
    NONINTERACTIVE_TESTING = 1
    PATH = /export/home/njh/perl5/perlbrew/bin:/export/home/njh/perl5/perlbrew/perls/perl-5.33.3-ld/bin:/export/home/njh/perl5/perlbrew/bin:/usr/bin:/usr/sbin:/sbin:/usr/gnu/bin
    PERL5LIB = 
    PERL5OPT = 
    PERL5_CPANPLUS_IS_RUNNING = 10529
    PERL5_CPAN_IS_RUNNING = 10529
    PERLBREW_HOME = /export/home/njh/.perlbrew
    PERLBREW_LIB = 
    PERLBREW_MANPATH = /export/home/njh/perl5/perlbrew/perls/perl-5.33.3-ld/man
    PERLBREW_PATH = /export/home/njh/perl5/perlbrew/bin:/export/home/njh/perl5/perlbrew/perls/perl-5.33.3-ld/bin
    PERLBREW_PERL = perl-5.33.3-ld
    PERLBREW_ROOT = /export/home/njh/perl5/perlbrew
    PERLBREW_SHELLRC_VERSION = 0.88
    PERLBREW_VERSION = 0.88
    PERL_LOCAL_LIB_ROOT = 
    PERL_MM_USE_DEFAULT = 1
    PERL_USE_UNSAFE_INC = 1
    SHELL = /bin/bash
    TERM = dumb
    TMPDIR = /var/tmp

Perl special variables (and OS-specific diagnostics, for MSWin32):

    $^X = /export/home/njh/perl5/perlbrew/perls/perl-5.33.3-ld/bin/perl5.33.3
    $UID/$EUID = 101 / 101
    $GID = 10 10
    $EGID = 10 10

Perl module toolchain versions installed:

    Module              Have    
    ------------------- --------
    CPAN                2.28    
    CPAN::Meta          2.150010
    Cwd                 3.78    
    ExtUtils::CBuilder  0.280234
    ExtUtils::Command   7.48    
    ExtUtils::Install   2.18    
    ExtUtils::MakeMaker 7.48    
    ExtUtils::Manifest  1.72    
    ExtUtils::ParseXS   3.41    
    File::Spec          3.78    
    JSON                4.02    
    JSON::PP            4.05    
    Module::Build       0.4231  
    Module::Signature   n/a     
    Parse::CPAN::Meta   2.150010
    Test::Harness       3.42    
    Test::More          1.302182
    YAML                1.30    
    YAML::Syck          n/a     
    version             0.9928  


--

Summary of my perl5 (revision 5 version 33 subversion 3) configuration:
   
  Platform:
    osname=solaris
    osvers=2.11
    archname=i86pc-solaris-ld
    uname='sunos vultr1.bandsman.co.uk 5.11 illumos-7d1eae8c55 i86pc i386 i86pc '
    config_args='-de -Dprefix=/export/home/njh/perl5/perlbrew/perls/perl-5.33.3-ld -Dusedevel -Duselongdouble -Dusedevel -Accflags= -Aeval:scriptdir=/export/home/njh/perl5/perlbrew/perls/perl-5.33.3-ld/bin'
    hint=recommended
    useposix=true
    d_sigaction=define
    useithreads=undef
    usemultiplicity=undef
    use64bitint=undef
    use64bitall=undef
    uselongdouble=define
    usemymalloc=n
    default_inc_excludes_dot=define
  Compiler:
    cc='/opt/SUNWspro/bin/cc'
    ccflags ='-I/usr/gnu/include -D_LARGEFILE_SOURCE -D_FILE_OFFSET_BITS=64 -DPERL_USE_SAFE_PUTENV'
    optimize='-O'
    cppflags='-I/usr/gnu/include'
    ccversion='Sun C 5.10 SunOS_i386 2009/06/03'
    gccversion=''
    gccosandvers=''
    intsize=4
    longsize=4
    ptrsize=4
    doublesize=8
    byteorder=1234
    doublekind=3
    d_longlong=define
    longlongsize=8
    d_longdbl=define
    longdblsize=12
    longdblkind=3
    ivtype='long'
    ivsize=4
    nvtype='long double'
    nvsize=12
    Off_t='off_t'
    lseeksize=8
    alignbytes=4
    prototype=define
  Linker and Libraries:
    ld='/opt/SUNWspro/bin/cc'
    ldflags =' -L/usr/lib -L/usr/ccs/lib -L/opt/sunstudio12.1/prod/lib -L/lib -L/usr/gnu/lib '
    libpth=/usr/lib /usr/ccs/lib /opt/sunstudio12.1/prod/lib /lib /usr/gnu/lib
    libs=-lpthread -lsocket -lnsl -lgdbm -ldb -ldl -lm -lc -lsunmath
    perllibs=-lpthread -lsocket -lnsl -ldl -lm -lc -lsunmath
    libc=/lib/libc.so
    so=so
    useshrplib=true
    libperl=libperl.so
    gnulibc_version=''
  Dynamic Linking:
    dlsrc=dl_dlopen.xs
    dlext=so
    d_dlsymun=undef
    ccdlflags='  -R /export/home/njh/perl5/perlbrew/perls/perl-5.33.3-ld/lib/5.33.3/i86pc-solaris-ld/CORE'
    cccdlflags='-KPIC'
    lddlflags='-G -L/usr/lib -L/usr/ccs/lib -L/opt/sunstudio12.1/prod/lib -L/lib -L/usr/gnu/lib'


Characteristics of this binary (from libperl): 
  Compile-time options:
    HAS_TIMES
    PERLIO_LAYERS
    PERL_COPY_ON_WRITE
    PERL_DONT_CREATE_GVSV
    PERL_MALLOC_WRAP
    PERL_OP_PARENT
    PERL_PRESERVE_IVUV
    PERL_USE_DEVEL
    PERL_USE_SAFE_PUTENV
    USE_LARGE_FILES
    USE_LOCALE
    USE_LOCALE_COLLATE
    USE_LOCALE_CTYPE
    USE_LOCALE_NUMERIC
    USE_LOCALE_TIME
    USE_LONG_DOUBLE
    USE_PERLIO
    USE_PERL_ATOF
  Locally applied patches:
    Devel::PatchPerl 1.52
  Built under solaris
  Compiled at Dec  1 2020 01:02:17
  %ENV:
    PERL5LIB=""
    PERL5OPT=""
    PERL5_CPANPLUS_IS_RUNNING="10529"
    PERL5_CPAN_IS_RUNNING="10529"
    PERLBREW_HOME="/export/home/njh/.perlbrew"
    PERLBREW_LIB=""
    PERLBREW_MANPATH="/export/home/njh/perl5/perlbrew/perls/perl-5.33.3-ld/man"
    PERLBREW_PATH="/export/home/njh/perl5/perlbrew/bin:/export/home/njh/perl5/perlbrew/perls/perl-5.33.3-ld/bin"
    PERLBREW_PERL="perl-5.33.3-ld"
    PERLBREW_ROOT="/export/home/njh/perl5/perlbrew"
    PERLBREW_SHELLRC_VERSION="0.88"
    PERLBREW_VERSION="0.88"
    PERL_LOCAL_LIB_ROOT=""
    PERL_MM_USE_DEFAULT="1"
    PERL_USE_UNSAFE_INC="1"
  @INC:
    /export/home/njh/perl5/perlbrew/perls/perl-5.33.3-ld/lib/site_perl/5.33.3/i86pc-solaris-ld
    /export/home/njh/perl5/perlbrew/perls/perl-5.33.3-ld/lib/site_perl/5.33.3
    /export/home/njh/perl5/perlbrew/perls/perl-5.33.3-ld/lib/5.33.3/i86pc-solaris-ld
    /export/home/njh/perl5/perlbrew/perls/perl-5.33.3-ld/lib/5.33.3
    .