File-Copy-Recursive-Reduced v0.008 Perl 5 v5.40.2 x86_64-linux
- Status
- Pass
- From
- Dist
-
File-Copy-Recursive-Reduced v0.008
- Platform
- Perl 5 v5.40.2 x86_64-linux
- Date
- 2025-04-22 14:26:40
- ID
- ce9abc98-1f85-11f0-8537-d0ce4fa311c4
This distribution has been tested as part of the CPAN Testers
project, supporting the Perl programming language. See
http://wiki.cpantesters.org/ for more information or email
questions to cpan-testers-discuss@perl.org
--
Dear James E Keenan,
This is a computer-generated report for File-Copy-Recursive-Reduced-0.008
on perl 5.40.2, created by CPAN-Reporter-1.2020.
Thank you for uploading your work to CPAN. Congratulations!
All tests were successful.
Sections of this report:
* Tester comments
* Program output
* Prerequisites
* Environment and other context
------------------------------
TESTER COMMENTS
------------------------------
Additional comments from tester:
none provided
------------------------------
PROGRAM OUTPUT
------------------------------
Output from '/usr/bin/make test':
PERL_DL_NONLAZY=1 "/usr/local/perlbrew/perls/perl-5.40.2/bin/perl" "-MExtUtils::Command::MM" "-MTest::Harness" "-e" "undef *Test::Harness::Switches; test_harness(0, 'blib/lib', 'blib/arch')" t/*.t
t/001-fcopy.t .... ok
t/002-dircopy.t .. ok
t/003-rcopy.t .... ok
All tests successful.
Files=3, Tests=388, 1 wallclock secs ( 0.03 usr 0.00 sys + 0.15 cusr 0.03 csys = 0.21 CPU)
Result: PASS
------------------------------
PREREQUISITES
------------------------------
Prerequisite modules loaded:
requires:
Module Need Have
------------------- -------- --------
File::Copy 0 2.41
File::Find 0 1.44
File::Path 0 2.18
File::Spec 0 3.91
perl 5.008000 5.040002
build_requires:
Module Need Have
------------------- -------- --------
Capture::Tiny 0 0.50
ExtUtils::MakeMaker 0 7.70
File::Path 0 2.18
File::Spec 0 3.91
File::Temp 0 0.2311
Path::Tiny 0 0.148
Test::Simple 0.44 1.302199
configure_requires:
Module Need Have
------------------- -------- --------
ExtUtils::MakeMaker 0 7.70
------------------------------
ENVIRONMENT AND OTHER CONTEXT
------------------------------
Environment variables:
LANG = it_IT.UTF-8
LANGUAGE = it:en
LC_ADDRESS = it_IT.UTF-8
LC_IDENTIFICATION = it_IT.UTF-8
LC_MEASUREMENT = it_IT.UTF-8
LC_MONETARY = it_IT.UTF-8
LC_NAME = it_IT.UTF-8
LC_NUMERIC = it_IT.UTF-8
LC_PAPER = it_IT.UTF-8
LC_TELEPHONE = it_IT.UTF-8
LC_TIME = it_IT.UTF-8
NONINTERACTIVE_TESTING = 1
PATH = /home/mc7244/.local/bin:/home/mc7244/.config/composer/vendor/bin/:/home/mc7244/.local/share/gem/ruby/3.0.0/bin:/home/mc7244/bin:/home/mc7244/.pyenv/shims:/home/mc7244/.pyenv/bin:/usr/local/perlbrew/bin:/usr/local/perlbrew/perls/perl-5.40.2/bin:/home/mc7244/.local/bin:/home/mc7244/.config/composer/vendor/bin/:/home/mc7244/.local/share/gem/ruby/3.0.0/bin:/home/mc7244/bin:/home/mc7244/.pyenv/bin:/home/mc7244/.local/bin:/home/mc7244/bin:/home/mc7244/.local/bin:/home/mc7244/.config/composer/vendor/bin/:/home/mc7244/.local/share/gem/ruby/3.0.0/bin:/home/mc7244/bin:/home/mc7244/.pyenv/bin:/usr/local/sbin:/usr/local/bin:/usr/sbin:/usr/bin:/sbin:/bin:/usr/games:/usr/local/games:/snap/bin:/snap/bin
PERL5LIB =
PERL5OPT =
PERL5_CPANPLUS_IS_RUNNING = 13772
PERL5_CPAN_IS_RUNNING = 13772
PERLBREW_HOME = /home/mc7244/.perlbrew
PERLBREW_MANPATH = /usr/local/perlbrew/perls/perl-5.40.2/man
PERLBREW_PATH = /usr/local/perlbrew/bin:/usr/local/perlbrew/perls/perl-5.40.2/bin
PERLBREW_PERL = perl-5.40.2
PERLBREW_ROOT = /usr/local/perlbrew
PERLBREW_SHELLRC_VERSION = 0.94
PERLBREW_VERSION = 0.94
PERL_MM_USE_DEFAULT = 1
PERL_USE_UNSAFE_INC = 1
SHELL = /bin/bash
TERM = xterm-256color
Perl special variables (and OS-specific diagnostics, for MSWin32):
$^X = /usr/local/perlbrew/perls/perl-5.40.2/bin/perl
$UID/$EUID = 1000 / 1000
$GID = 1000 4 27 109 122 136 1000
$EGID = 1000 4 27 109 122 136 1000
Perl module toolchain versions installed:
Module Have
------------------- --------
CPAN 2.36
CPAN::Meta 2.150010
Cwd 3.91
ExtUtils::CBuilder 0.280240
ExtUtils::Command 7.70
ExtUtils::Install 2.22
ExtUtils::MakeMaker 7.70
ExtUtils::Manifest 1.75
ExtUtils::ParseXS 3.51
File::Spec 3.91
JSON 4.10
JSON::PP 4.16
Module::Build 0.4234
Module::Signature n/a
Parse::CPAN::Meta 2.150010
Test2 1.302199
Test::Harness 3.48
Test::More 1.302199
YAML n/a
YAML::Syck n/a
version 0.9930
--
Summary of my perl5 (revision 5 version 40 subversion 2) configuration:
Platform:
osname=linux
osvers=6.12.10-76061203-generic
archname=x86_64-linux
uname='linux sn00py 6.12.10-76061203-generic #202412060638~1743109366~22.04~1fce33b smp preempt_dynamic thu m x86_64 x86_64 x86_64 gnulinux '
config_args='-de -Dprefix=/usr/local/perlbrew/perls/perl-5.40.2 -Aeval:scriptdir=/usr/local/perlbrew/perls/perl-5.40.2/bin'
hint=recommended
useposix=true
d_sigaction=define
useithreads=undef
usemultiplicity=undef
use64bitint=define
use64bitall=define
uselongdouble=undef
usemymalloc=n
default_inc_excludes_dot=define
Compiler:
cc='cc'
ccflags ='-fwrapv -fno-strict-aliasing -pipe -fstack-protector-strong -I/usr/local/include -D_LARGEFILE_SOURCE -D_FILE_OFFSET_BITS=64'
optimize='-O2'
cppflags='-fwrapv -fno-strict-aliasing -pipe -fstack-protector-strong -I/usr/local/include'
ccversion=''
gccversion='11.4.0'
gccosandvers=''
intsize=4
longsize=8
ptrsize=8
doublesize=8
byteorder=12345678
doublekind=3
d_longlong=define
longlongsize=8
d_longdbl=define
longdblsize=16
longdblkind=3
ivtype='long'
ivsize=8
nvtype='double'
nvsize=8
Off_t='off_t'
lseeksize=8
alignbytes=8
prototype=define
Linker and Libraries:
ld='cc'
ldflags =' -fstack-protector-strong -L/usr/local/lib'
libpth=/usr/local/lib /usr/lib/x86_64-linux-gnu /usr/lib /usr/lib64
libs=-lpthread -ldl -lm -lcrypt -lutil -lc
perllibs=-lpthread -ldl -lm -lcrypt -lutil -lc
libc=/lib/x86_64-linux-gnu/libc.so.6
so=so
useshrplib=false
libperl=libperl.a
gnulibc_version='2.35'
Dynamic Linking:
dlsrc=dl_dlopen.xs
dlext=so
d_dlsymun=undef
ccdlflags='-Wl,-E'
cccdlflags='-fPIC'
lddlflags='-shared -O2 -L/usr/local/lib -fstack-protector-strong'
Characteristics of this binary (from libperl):
Compile-time options:
HAS_LONG_DOUBLE
HAS_STRTOLD
HAS_TIMES
PERLIO_LAYERS
PERL_COPY_ON_WRITE
PERL_DONT_CREATE_GVSV
PERL_HASH_FUNC_SIPHASH13
PERL_HASH_USE_SBOX32
PERL_MALLOC_WRAP
PERL_OP_PARENT
PERL_PRESERVE_IVUV
PERL_USE_SAFE_PUTENV
USE_64_BIT_ALL
USE_64_BIT_INT
USE_LARGE_FILES
USE_LOCALE
USE_LOCALE_COLLATE
USE_LOCALE_CTYPE
USE_LOCALE_NUMERIC
USE_LOCALE_TIME
USE_PERLIO
USE_PERL_ATOF
Built under linux
Compiled at Apr 20 2025 23:12:23
%ENV:
PERL5LIB=""
PERL5OPT=""
PERL5_CPANPLUS_IS_RUNNING="13772"
PERL5_CPAN_IS_RUNNING="13772"
PERLBREW_HOME="/home/mc7244/.perlbrew"
PERLBREW_MANPATH="/usr/local/perlbrew/perls/perl-5.40.2/man"
PERLBREW_PATH="/usr/local/perlbrew/bin:/usr/local/perlbrew/perls/perl-5.40.2/bin"
PERLBREW_PERL="perl-5.40.2"
PERLBREW_ROOT="/usr/local/perlbrew"
PERLBREW_SHELLRC_VERSION="0.94"
PERLBREW_VERSION="0.94"
PERL_MM_USE_DEFAULT="1"
PERL_USE_UNSAFE_INC="1"
@INC:
/usr/local/perlbrew/perls/perl-5.40.2/lib/site_perl/5.40.2/x86_64-linux
/usr/local/perlbrew/perls/perl-5.40.2/lib/site_perl/5.40.2
/usr/local/perlbrew/perls/perl-5.40.2/lib/5.40.2/x86_64-linux
/usr/local/perlbrew/perls/perl-5.40.2/lib/5.40.2
.