Mojolicious-Plugin-Export v0.008 Perl 5 v5.41.2 x86_64-linux-ld

Status
Pass
From
Andreas J. König (ANDK)
Dist
Mojolicious-Plugin-Export v0.008
Platform
Perl 5 v5.41.2 x86_64-linux-ld
Date
2024-08-24 08:28:14
ID
ce8e9ac2-61f2-11ef-a1a3-bd0eb6d066c7
This distribution has been tested as part of the CPAN Testers
project, supporting the Perl programming language.  See
http://wiki.cpantesters.org/ for more information or email
questions to cpan-testers-discuss@perl.org


--
Dear Doug Bell,

This is a computer-generated report for Mojolicious-Plugin-Export-0.008
on perl 5.41.2, created by CPAN-Reporter-1.2019.

Thank you for uploading your work to CPAN.  Congratulations!
All tests were successful.

Sections of this report:

    * Tester comments
    * Program output
    * Prerequisites
    * Environment and other context

------------------------------
TESTER COMMENTS
------------------------------

Additional comments from tester:

this report is from an automated smoke testing program
and was not reviewed by a human for accuracy

------------------------------
PROGRAM OUTPUT
------------------------------

Output from '/usr/bin/make test':

PERL_DL_NONLAZY=1 "/tmp/basesmoker-reloperl-dYFh/bin/perl" "-MExtUtils::Command::MM" "-MTest::Harness" "-e" "undef *Test::Harness::Switches; test_harness(0, 'blib/lib', 'blib/arch')" t/*.t
t/00-compile.t ......... ok
# 
# Versions for all modules listed in MYMETA.json (including optional ones):
# 
# === Configure Requires ===
# 
#     Module              Want Have
#     ------------------- ---- ----
#     ExtUtils::MakeMaker  any 7.70
# 
# === Build Requires ===
# 
#     Module              Want Have
#     ------------------- ---- ----
#     ExtUtils::MakeMaker  any 7.70
# 
# === Test Requires ===
# 
#     Module              Want     Have
#     ------------------- ---- --------
#     ExtUtils::MakeMaker  any     7.70
#     File::Spec           any     3.92
#     IO::Handle           any     1.55
#     IPC::Open3           any     1.22
#     Test::More           any 1.302199
# 
# === Test Recommends ===
# 
#     Module         Want     Have
#     ---------- -------- --------
#     CPAN::Meta 2.120900 2.150010
# 
# === Runtime Requires ===
# 
#     Module      Want Have
#     ----------- ---- ----
#     Mojolicious    8 9.38
# 
t/00-report-prereqs.t .. ok
[2024-08-24 08:26:27.48028] [3328008] [trace] [dkJiq6aFZsaw] GET "/"
[2024-08-24 08:26:27.48160] [3328008] [trace] [dkJiq6aFZsaw] Rendering template "index.html.ep" from DATA section
[2024-08-24 08:26:27.48252] [3328008] [trace] [dkJiq6aFZsaw] 200 OK (0.002216s, 451.264/s)
[2024-08-24 08:26:27.48613] [3328008] [trace] [lqNMBxuHXvrH] GET "/docs"
[2024-08-24 08:26:27.48665] [3328008] [trace] [lqNMBxuHXvrH] Rendering template "docs.html.ep" from DATA section
[2024-08-24 08:26:27.48730] [3328008] [trace] [lqNMBxuHXvrH] 200 OK (0.001153s, 867.303/s)
[2024-08-24 08:26:27.48948] [3328008] [trace] [lf3P7y26w22L] GET "/about"
[2024-08-24 08:26:27.48992] [3328008] [trace] [lf3P7y26w22L] Rendering template "about.html.ep" from DATA section
[2024-08-24 08:26:27.49052] [3328008] [trace] [lf3P7y26w22L] 200 OK (0.00101s, 990.099/s)
[2024-08-24 08:26:27.49283] [3328008] [trace] [9CSjr2wha18z] GET "/NOT_FOUND"
[2024-08-24 08:26:27.49328] [3328008] [trace] [9CSjr2wha18z] Template "not_found.development.html.ep" not found
[2024-08-24 08:26:27.49343] [3328008] [trace] [9CSjr2wha18z] Template "not_found.html.ep" not found
[2024-08-24 08:26:27.49356] [3328008] [trace] [9CSjr2wha18z] Rendering template "mojo/debug.html.ep"
[2024-08-24 08:26:27.50703] [3328008] [trace] Your secret passphrase needs to be changed (see FAQ for more)
[2024-08-24 08:26:27.50996] [3328008] [trace] [9CSjr2wha18z] 404 Not Found (0.017109s, 58.449/s)
[2024-08-24 08:26:27.51274] [3328008] [trace] [rAh1D3szLbNS] GET "/redirect"
[2024-08-24 08:26:27.51308] [3328008] [trace] [rAh1D3szLbNS] Routing to a callback
[2024-08-24 08:26:27.51329] [3328008] [trace] [rAh1D3szLbNS] 302 Found (0.000537s, 1862.197/s)
[2024-08-24 08:26:27.51776] [3328008] [trace] [i1LtX-Bm-5TY] GET "/docs/more"
[2024-08-24 08:26:27.51807] [3328008] [trace] [i1LtX-Bm-5TY] Routing to a callback
[2024-08-24 08:26:27.51823] [3328008] [trace] [i1LtX-Bm-5TY] Rendering inline template "2da2aed28011bbc3541e0de248c276ca"
[2024-08-24 08:26:27.51885] [3328008] [trace] [i1LtX-Bm-5TY] 200 OK (0.001083s, 923.361/s)
Mojo::File::spurt is deprecated in favor of Mojo::File::spew at /tmp/loop_over_bdir-2499747-zqy0US/Mojolicious-Plugin-Export-0.008-0/blib/lib/Mojolicious/Plugin/Export.pm line 277.
Mojo::File::spurt is deprecated in favor of Mojo::File::spew at /tmp/loop_over_bdir-2499747-zqy0US/Mojolicious-Plugin-Export-0.008-0/blib/lib/Mojolicious/Plugin/Export.pm line 277.
Mojo::File::spurt is deprecated in favor of Mojo::File::spew at /tmp/loop_over_bdir-2499747-zqy0US/Mojolicious-Plugin-Export-0.008-0/blib/lib/Mojolicious/Plugin/Export.pm line 277.
Mojo::File::spurt is deprecated in favor of Mojo::File::spew at /tmp/loop_over_bdir-2499747-zqy0US/Mojolicious-Plugin-Export-0.008-0/blib/lib/Mojolicious/Plugin/Export.pm line 277.
Mojo::File::spurt is deprecated in favor of Mojo::File::spew at /tmp/loop_over_bdir-2499747-zqy0US/Mojolicious-Plugin-Export-0.008-0/blib/lib/Mojolicious/Plugin/Export.pm line 277.
Mojo::File::spurt is deprecated in favor of Mojo::File::spew at t/command.t line 80.
[2024-08-24 08:26:27.53158] [3328008] [trace] [LZJiAs3vg-uX] GET "/"
[2024-08-24 08:26:27.53188] [3328008] [trace] [LZJiAs3vg-uX] Rendering cached template "index.html.ep" from DATA section
[2024-08-24 08:26:27.53207] [3328008] [trace] [LZJiAs3vg-uX] 200 OK (0.000479s, 2087.683/s)
[2024-08-24 08:26:27.53493] [3328008] [trace] [Ep_hcdvH3GsC] GET "/docs"
[2024-08-24 08:26:27.53526] [3328008] [trace] [Ep_hcdvH3GsC] Rendering cached template "docs.html.ep" from DATA section
[2024-08-24 08:26:27.53545] [3328008] [trace] [Ep_hcdvH3GsC] 200 OK (0.000514s, 1945.525/s)
[2024-08-24 08:26:27.53816] [3328008] [trace] [AtrVmq0KOKhe] GET "/about"
[2024-08-24 08:26:27.53845] [3328008] [trace] [AtrVmq0KOKhe] Rendering cached template "about.html.ep" from DATA section
[2024-08-24 08:26:27.53864] [3328008] [trace] [AtrVmq0KOKhe] 200 OK (0.000468s, 2136.752/s)
[2024-08-24 08:26:27.54103] [3328008] [trace] [ABZtmYtEcyfi] GET "/NOT_FOUND"
[2024-08-24 08:26:27.54146] [3328008] [trace] [ABZtmYtEcyfi] Template "not_found.development.html.ep" not found
[2024-08-24 08:26:27.54162] [3328008] [trace] [ABZtmYtEcyfi] Template "not_found.html.ep" not found
[2024-08-24 08:26:27.54171] [3328008] [trace] [ABZtmYtEcyfi] Rendering cached template "mojo/debug.html.ep"
[2024-08-24 08:26:27.54570] [3328008] [trace] [ABZtmYtEcyfi] 404 Not Found (0.004645s, 215.285/s)
[2024-08-24 08:26:27.54842] [3328008] [trace] [xE_CLxVUn87A] GET "/redirect"
[2024-08-24 08:26:27.54863] [3328008] [trace] [xE_CLxVUn87A] Routing to a callback
[2024-08-24 08:26:27.54884] [3328008] [trace] [xE_CLxVUn87A] 302 Found (0.000412s, 2427.184/s)
[2024-08-24 08:26:27.55277] [3328008] [trace] [6UsGUC48E5H8] GET "/docs/more"
[2024-08-24 08:26:27.55296] [3328008] [trace] [6UsGUC48E5H8] Routing to a callback
[2024-08-24 08:26:27.55311] [3328008] [trace] [6UsGUC48E5H8] Rendering cached inline template "2da2aed28011bbc3541e0de248c276ca"
[2024-08-24 08:26:27.55327] [3328008] [trace] [6UsGUC48E5H8] 200 OK (0.00049s, 2040.816/s)
Mojo::File::spurt is deprecated in favor of Mojo::File::spew at /tmp/loop_over_bdir-2499747-zqy0US/Mojolicious-Plugin-Export-0.008-0/blib/lib/Mojolicious/Plugin/Export.pm line 277.
Mojo::File::spurt is deprecated in favor of Mojo::File::spew at /tmp/loop_over_bdir-2499747-zqy0US/Mojolicious-Plugin-Export-0.008-0/blib/lib/Mojolicious/Plugin/Export.pm line 277.
Mojo::File::spurt is deprecated in favor of Mojo::File::spew at /tmp/loop_over_bdir-2499747-zqy0US/Mojolicious-Plugin-Export-0.008-0/blib/lib/Mojolicious/Plugin/Export.pm line 277.
Mojo::File::spurt is deprecated in favor of Mojo::File::spew at /tmp/loop_over_bdir-2499747-zqy0US/Mojolicious-Plugin-Export-0.008-0/blib/lib/Mojolicious/Plugin/Export.pm line 277.
Mojo::File::spurt is deprecated in favor of Mojo::File::spew at /tmp/loop_over_bdir-2499747-zqy0US/Mojolicious-Plugin-Export-0.008-0/blib/lib/Mojolicious/Plugin/Export.pm line 277.
[2024-08-24 08:26:27.56379] [3328008] [trace] [MiDoHMjA_g-M] GET "/"
[2024-08-24 08:26:27.56415] [3328008] [trace] [MiDoHMjA_g-M] Rendering cached template "index.html.ep" from DATA section
[2024-08-24 08:26:27.56434] [3328008] [trace] [MiDoHMjA_g-M] 200 OK (0.000543s, 1841.621/s)
[2024-08-24 08:26:27.56737] [3328008] [trace] [ZzGkaxJEtoCo] GET "/docs"
[2024-08-24 08:26:27.56768] [3328008] [trace] [ZzGkaxJEtoCo] Rendering cached template "docs.html.ep" from DATA section
[2024-08-24 08:26:27.56799] [3328008] [trace] [ZzGkaxJEtoCo] 200 OK (0.000605s, 1652.893/s)
[2024-08-24 08:26:27.57070] [3328008] [trace] [snJS4Unbo-rH] GET "/about"
[2024-08-24 08:26:27.57099] [3328008] [trace] [snJS4Unbo-rH] Rendering cached template "about.html.ep" from DATA section
[2024-08-24 08:26:27.57119] [3328008] [trace] [snJS4Unbo-rH] 200 OK (0.000486s, 2057.613/s)
[2024-08-24 08:26:27.57360] [3328008] [trace] [snEdnEPSATOM] GET "/NOT_FOUND"
[2024-08-24 08:26:27.57404] [3328008] [trace] [snEdnEPSATOM] Template "not_found.development.html.ep" not found
[2024-08-24 08:26:27.57417] [3328008] [trace] [snEdnEPSATOM] Template "not_found.html.ep" not found
[2024-08-24 08:26:27.57427] [3328008] [trace] [snEdnEPSATOM] Rendering cached template "mojo/debug.html.ep"
[2024-08-24 08:26:27.57827] [3328008] [trace] [snEdnEPSATOM] 404 Not Found (0.004651s, 215.008/s)
[2024-08-24 08:26:27.58087] [3328008] [trace] [YI6kedmxu9o4] GET "/redirect"
[2024-08-24 08:26:27.58106] [3328008] [trace] [YI6kedmxu9o4] Routing to a callback
[2024-08-24 08:26:27.58124] [3328008] [trace] [YI6kedmxu9o4] 302 Found (0.000363s, 2754.821/s)
[2024-08-24 08:26:27.58544] [3328008] [trace] [ROBd_BEiy8S1] GET "/docs/more"
[2024-08-24 08:26:27.58564] [3328008] [trace] [ROBd_BEiy8S1] Routing to a callback
[2024-08-24 08:26:27.58578] [3328008] [trace] [ROBd_BEiy8S1] Rendering cached inline template "2da2aed28011bbc3541e0de248c276ca"
[2024-08-24 08:26:27.58594] [3328008] [trace] [ROBd_BEiy8S1] 200 OK (0.0005s, 2000.000/s)
Mojo::File::spurt is deprecated in favor of Mojo::File::spew at /tmp/loop_over_bdir-2499747-zqy0US/Mojolicious-Plugin-Export-0.008-0/blib/lib/Mojolicious/Plugin/Export.pm line 277.
Mojo::File::spurt is deprecated in favor of Mojo::File::spew at /tmp/loop_over_bdir-2499747-zqy0US/Mojolicious-Plugin-Export-0.008-0/blib/lib/Mojolicious/Plugin/Export.pm line 277.
Mojo::File::spurt is deprecated in favor of Mojo::File::spew at /tmp/loop_over_bdir-2499747-zqy0US/Mojolicious-Plugin-Export-0.008-0/blib/lib/Mojolicious/Plugin/Export.pm line 277.
Mojo::File::spurt is deprecated in favor of Mojo::File::spew at /tmp/loop_over_bdir-2499747-zqy0US/Mojolicious-Plugin-Export-0.008-0/blib/lib/Mojolicious/Plugin/Export.pm line 277.
Mojo::File::spurt is deprecated in favor of Mojo::File::spew at /tmp/loop_over_bdir-2499747-zqy0US/Mojolicious-Plugin-Export-0.008-0/blib/lib/Mojolicious/Plugin/Export.pm line 277.
[2024-08-24 08:26:27.59543] [3328008] [trace] [U9S70axWdTwf] GET "/docs"
[2024-08-24 08:26:27.59571] [3328008] [trace] [U9S70axWdTwf] Rendering cached template "docs.html.ep" from DATA section
[2024-08-24 08:26:27.59589] [3328008] [trace] [U9S70axWdTwf] 200 OK (0.000446s, 2242.152/s)
[2024-08-24 08:26:27.59799] [3328008] [trace] [0QUVr1-W89kz] GET "/docs/more"
[2024-08-24 08:26:27.59816] [3328008] [trace] [0QUVr1-W89kz] Routing to a callback
[2024-08-24 08:26:27.59829] [3328008] [trace] [0QUVr1-W89kz] Rendering cached inline template "2da2aed28011bbc3541e0de248c276ca"
[2024-08-24 08:26:27.59845] [3328008] [trace] [0QUVr1-W89kz] 200 OK (0.000446s, 2242.152/s)
Mojo::File::spurt is deprecated in favor of Mojo::File::spew at /tmp/loop_over_bdir-2499747-zqy0US/Mojolicious-Plugin-Export-0.008-0/blib/lib/Mojolicious/Plugin/Export.pm line 277.
Mojo::File::spurt is deprecated in favor of Mojo::File::spew at /tmp/loop_over_bdir-2499747-zqy0US/Mojolicious-Plugin-Export-0.008-0/blib/lib/Mojolicious/Plugin/Export.pm line 277.
[2024-08-24 08:26:27.60676] [3328008] [trace] [f7gzQfpswASh] GET "/"
[2024-08-24 08:26:27.60711] [3328008] [trace] [f7gzQfpswASh] Rendering cached template "index.html.ep" from DATA section
[2024-08-24 08:26:27.60749] [3328008] [trace] [f7gzQfpswASh] 200 OK (0.000718s, 1392.758/s)
[2024-08-24 08:26:27.61053] [3328008] [trace] [dDyXYrdmU1kh] GET "/docs"
[2024-08-24 08:26:27.61082] [3328008] [trace] [dDyXYrdmU1kh] Rendering cached template "docs.html.ep" from DATA section
[2024-08-24 08:26:27.61101] [3328008] [trace] [dDyXYrdmU1kh] 200 OK (0.000468s, 2136.752/s)
[2024-08-24 08:26:27.61345] [3328008] [trace] [thOOzIzN9Ksw] GET "/about"
[2024-08-24 08:26:27.61372] [3328008] [trace] [thOOzIzN9Ksw] Rendering cached template "about.html.ep" from DATA section
[2024-08-24 08:26:27.61390] [3328008] [trace] [thOOzIzN9Ksw] 200 OK (0.000435s, 2298.851/s)
[2024-08-24 08:26:27.61644] [3328008] [trace] [oLnVvXztJFqx] GET "/NOT_FOUND"
[2024-08-24 08:26:27.61689] [3328008] [trace] [oLnVvXztJFqx] Template "not_found.development.html.ep" not found
[2024-08-24 08:26:27.61704] [3328008] [trace] [oLnVvXztJFqx] Template "not_found.html.ep" not found
[2024-08-24 08:26:27.61716] [3328008] [trace] [oLnVvXztJFqx] Rendering cached template "mojo/debug.html.ep"
[2024-08-24 08:26:27.62087] [3328008] [trace] [oLnVvXztJFqx] 404 Not Found (0.004405s, 227.015/s)
[2024-08-24 08:26:27.62353] [3328008] [trace] [3ujlPVxDw_Yw] GET "/redirect"
[2024-08-24 08:26:27.62373] [3328008] [trace] [3ujlPVxDw_Yw] Routing to a callback
[2024-08-24 08:26:27.62391] [3328008] [trace] [3ujlPVxDw_Yw] 302 Found (0.000372s, 2688.172/s)
[2024-08-24 08:26:27.62817] [3328008] [trace] [cZw33X659G_n] GET "/docs/more"
[2024-08-24 08:26:27.62847] [3328008] [trace] [cZw33X659G_n] Routing to a callback
[2024-08-24 08:26:27.62863] [3328008] [trace] [cZw33X659G_n] Rendering cached inline template "2da2aed28011bbc3541e0de248c276ca"
[2024-08-24 08:26:27.62880] [3328008] [trace] [cZw33X659G_n] 200 OK (0.00062s, 1612.903/s)
Mojo::File::spurt is deprecated in favor of Mojo::File::spew at /tmp/loop_over_bdir-2499747-zqy0US/Mojolicious-Plugin-Export-0.008-0/blib/lib/Mojolicious/Plugin/Export.pm line 277.
Mojo::File::spurt is deprecated in favor of Mojo::File::spew at /tmp/loop_over_bdir-2499747-zqy0US/Mojolicious-Plugin-Export-0.008-0/blib/lib/Mojolicious/Plugin/Export.pm line 277.
Mojo::File::spurt is deprecated in favor of Mojo::File::spew at /tmp/loop_over_bdir-2499747-zqy0US/Mojolicious-Plugin-Export-0.008-0/blib/lib/Mojolicious/Plugin/Export.pm line 277.
Mojo::File::spurt is deprecated in favor of Mojo::File::spew at /tmp/loop_over_bdir-2499747-zqy0US/Mojolicious-Plugin-Export-0.008-0/blib/lib/Mojolicious/Plugin/Export.pm line 277.
Mojo::File::spurt is deprecated in favor of Mojo::File::spew at /tmp/loop_over_bdir-2499747-zqy0US/Mojolicious-Plugin-Export-0.008-0/blib/lib/Mojolicious/Plugin/Export.pm line 277.
[2024-08-24 08:26:27.63997] [3328008] [trace] [r_0NA1Cox6R8] GET "/"
[2024-08-24 08:26:27.64029] [3328008] [trace] [r_0NA1Cox6R8] Rendering cached template "index.html.ep" from DATA section
[2024-08-24 08:26:27.64050] [3328008] [trace] [r_0NA1Cox6R8] 200 OK (0.000522s, 1915.709/s)
[2024-08-24 08:26:27.64346] [3328008] [trace] [qEhcUKLEkSks] GET "/docs"
[2024-08-24 08:26:27.64378] [3328008] [trace] [qEhcUKLEkSks] Rendering cached template "docs.html.ep" from DATA section
[2024-08-24 08:26:27.64397] [3328008] [trace] [qEhcUKLEkSks] 200 OK (0.000501s, 1996.008/s)
[2024-08-24 08:26:27.64665] [3328008] [trace] [Ru7pFCMHB5BN] GET "/about"
[2024-08-24 08:26:27.64693] [3328008] [trace] [Ru7pFCMHB5BN] Rendering cached template "about.html.ep" from DATA section
[2024-08-24 08:26:27.64711] [3328008] [trace] [Ru7pFCMHB5BN] 200 OK (0.000452s, 2212.389/s)
[2024-08-24 08:26:27.64967] [3328008] [trace] [wsrIk_FFNWCr] GET "/NOT_FOUND"
[2024-08-24 08:26:27.65011] [3328008] [trace] [wsrIk_FFNWCr] Template "not_found.development.html.ep" not found
[2024-08-24 08:26:27.65025] [3328008] [trace] [wsrIk_FFNWCr] Template "not_found.html.ep" not found
[2024-08-24 08:26:27.65034] [3328008] [trace] [wsrIk_FFNWCr] Rendering cached template "mojo/debug.html.ep"
[2024-08-24 08:26:27.65431] [3328008] [trace] [wsrIk_FFNWCr] 404 Not Found (0.004615s, 216.685/s)
[2024-08-24 08:26:27.65703] [3328008] [trace] [plmzyOF-yrS3] GET "/redirect"
[2024-08-24 08:26:27.65723] [3328008] [trace] [plmzyOF-yrS3] Routing to a callback
[2024-08-24 08:26:27.65744] [3328008] [trace] [plmzyOF-yrS3] 302 Found (0.000402s, 2487.562/s)
[2024-08-24 08:26:27.66170] [3328008] [trace] [l_o8Nl7RnR04] GET "/docs/more"
[2024-08-24 08:26:27.66191] [3328008] [trace] [l_o8Nl7RnR04] Routing to a callback
[2024-08-24 08:26:27.66207] [3328008] [trace] [l_o8Nl7RnR04] Rendering cached inline template "2da2aed28011bbc3541e0de248c276ca"
[2024-08-24 08:26:27.66224] [3328008] [trace] [l_o8Nl7RnR04] 200 OK (0.00053s, 1886.792/s)
Mojo::File::spurt is deprecated in favor of Mojo::File::spew at /tmp/loop_over_bdir-2499747-zqy0US/Mojolicious-Plugin-Export-0.008-0/blib/lib/Mojolicious/Plugin/Export.pm line 277.
Mojo::File::spurt is deprecated in favor of Mojo::File::spew at /tmp/loop_over_bdir-2499747-zqy0US/Mojolicious-Plugin-Export-0.008-0/blib/lib/Mojolicious/Plugin/Export.pm line 277.
Mojo::File::spurt is deprecated in favor of Mojo::File::spew at /tmp/loop_over_bdir-2499747-zqy0US/Mojolicious-Plugin-Export-0.008-0/blib/lib/Mojolicious/Plugin/Export.pm line 277.
Mojo::File::spurt is deprecated in favor of Mojo::File::spew at /tmp/loop_over_bdir-2499747-zqy0US/Mojolicious-Plugin-Export-0.008-0/blib/lib/Mojolicious/Plugin/Export.pm line 277.
Mojo::File::spurt is deprecated in favor of Mojo::File::spew at /tmp/loop_over_bdir-2499747-zqy0US/Mojolicious-Plugin-Export-0.008-0/blib/lib/Mojolicious/Plugin/Export.pm line 277.
[2024-08-24 08:26:27.67348] [3328008] [trace] [H-55_6zbHijD] GET "/docs"
[2024-08-24 08:26:27.67381] [3328008] [trace] [H-55_6zbHijD] Rendering cached template "docs.html.ep" from DATA section
[2024-08-24 08:26:27.67401] [3328008] [trace] [H-55_6zbHijD] 200 OK (0.000519s, 1926.782/s)
[2024-08-24 08:26:27.67659] [3328008] [trace] [fehUazphKKRl] GET "/docs/more"
[2024-08-24 08:26:27.67679] [3328008] [trace] [fehUazphKKRl] Routing to a callback
[2024-08-24 08:26:27.67705] [3328008] [trace] [fehUazphKKRl] Rendering cached inline template "2da2aed28011bbc3541e0de248c276ca"
[2024-08-24 08:26:27.67724] [3328008] [trace] [fehUazphKKRl] 200 OK (0.000639s, 1564.945/s)
Mojo::File::spurt is deprecated in favor of Mojo::File::spew at /tmp/loop_over_bdir-2499747-zqy0US/Mojolicious-Plugin-Export-0.008-0/blib/lib/Mojolicious/Plugin/Export.pm line 277.
Mojo::File::spurt is deprecated in favor of Mojo::File::spew at /tmp/loop_over_bdir-2499747-zqy0US/Mojolicious-Plugin-Export-0.008-0/blib/lib/Mojolicious/Plugin/Export.pm line 277.
t/command.t ............ ok
[2024-08-24 08:26:28.19941] [3328009] [trace] [j72Go_96hNGs] GET "/"
[2024-08-24 08:26:28.20079] [3328009] [trace] [j72Go_96hNGs] Rendering template "index.html.ep" from DATA section
[2024-08-24 08:26:28.20166] [3328009] [trace] [j72Go_96hNGs] 200 OK (0.00224s, 446.429/s)
Mojo::File::spurt is deprecated in favor of Mojo::File::spew at /tmp/loop_over_bdir-2499747-zqy0US/Mojolicious-Plugin-Export-0.008-0/blib/lib/Mojolicious/Plugin/Export.pm line 277.
Mojo::File::spurt is deprecated in favor of Mojo::File::spew at /tmp/loop_over_bdir-2499747-zqy0US/Mojolicious-Plugin-Export-0.008-0/blib/lib/Mojolicious/Plugin/Export.pm line 277.
t/plugin.t ............. ok
All tests successful.
Files=4, Tests=55,  2 wallclock secs ( 0.04 usr  0.00 sys +  1.60 cusr  0.27 csys =  1.91 CPU)
Result: PASS

------------------------------
PREREQUISITES
------------------------------

Prerequisite modules loaded:

requires:

    Module              Need  Have    
    ------------------- ----- --------
    Mojolicious         8     9.38    
    perl                5.014 5.041002

build_requires:

    Module              Need  Have    
    ------------------- ----- --------
    ExtUtils::MakeMaker 0     7.70    
    File::Spec          0     3.92    
    IO::Handle          0     1.55    
    IPC::Open3          0     1.22    
    Test::More          0     1.302199

configure_requires:

    Module              Need  Have    
    ------------------- ----- --------
    ExtUtils::MakeMaker 0     7.70    


------------------------------
ENVIRONMENT AND OTHER CONTEXT
------------------------------

Environment variables:

    AUTOMATED_TESTING = 1
    LANG = en_US.UTF-8
    LC_ADDRESS = de_DE.UTF-8
    LC_IDENTIFICATION = de_DE.UTF-8
    LC_MEASUREMENT = de_DE.UTF-8
    LC_MONETARY = de_DE.UTF-8
    LC_NAME = de_DE.UTF-8
    LC_NUMERIC = de_DE.UTF-8
    LC_PAPER = de_DE.UTF-8
    LC_TELEPHONE = de_DE.UTF-8
    LC_TIME = de_DE.UTF-8
    PATH = /home/sand/bin:/usr/local/bin:/usr/local/sbin:/usr/sbin:/usr/bin:/sbin:/bin:/usr/games:/usr/local/games:/snap/bin:/usr/local/perl/bin:/usr/X11/bin
    PERL = /tmp/basesmoker-reloperl-dYFh/bin/perl
    PERL5LIB = /tmp/loop_over_bdir-2499747-zqy0US/perl-Hardware-UPS-Perl-0.43-0/blib/arch:/tmp/loop_over_bdir-2499747-zqy0US/perl-Hardware-UPS-Perl-0.43-0/blib/lib
    PERL5OPT = 
    PERL5_CPANPLUS_IS_RUNNING = 2499755
    PERL5_CPAN_IS_RUNNING = 2499755
    PERL_CANARY_STABILITY_NOPROMPT = 1
    PERL_MM_USE_DEFAULT = 1
    PERL_USE_UNSAFE_INC = 1
    SHELL = /usr/bin/zsh
    TERM = screen

Perl special variables (and OS-specific diagnostics, for MSWin32):

    $^X = /tmp/basesmoker-reloperl-dYFh/bin/perl
    $UID/$EUID = 1005 / 1005
    $GID = 1005 1005
    $EGID = 1005 1005

Perl module toolchain versions installed:

    Module              Have    
    ------------------- --------
    CPAN                2.36    
    CPAN::Meta          2.150010
    Cwd                 3.92    
    ExtUtils::CBuilder  0.280240
    ExtUtils::Command   7.70    
    ExtUtils::Install   2.22    
    ExtUtils::MakeMaker 7.70    
    ExtUtils::Manifest  1.75    
    ExtUtils::ParseXS   3.52    
    File::Spec          3.92    
    JSON                4.10    
    JSON::PP            4.16    
    Module::Build       0.4234  
    Module::Signature   0.88    
    Parse::CPAN::Meta   2.150010
    Test2               1.302199
    Test::Harness       3.48    
    Test::More          1.302199
    YAML                1.31    
    YAML::Syck          1.34    
    version             0.9932  


--

Summary of my perl5 (revision 5 version 41 subversion 2) configuration:
  Commit id: bcb5884b9b0ae1345ac74420bacb865ba11baab3
  Platform:
    osname=linux
    osvers=6.5.0-41-generic
    archname=x86_64-linux-ld
    uname='linux k93jammy 6.5.0-41-generic #41~22.04.2-ubuntu smp preempt_dynamic mon jun 3 11:32:55 utc 2 x86_64 x86_64 x86_64 gnulinux '
    config_args='-Dprefix=/home/sand/src/perl/repoperls/installed-perls/host/k93jammy/v5.41.2/5674 -Dmyhostname=k93jammy -Dinstallusrbinperl=n -Uversiononly -Dusedevel -des -Ui_db -Dlibswanted=cl pthread socket inet nsl gdbm dbm malloc dl ld sun m crypt sec util c cposix posix ucb BSD gdbm_compat -Uuseithreads -Duselongdouble -DEBUGGING=-g'
    hint=recommended
    useposix=true
    d_sigaction=define
    useithreads=undef
    usemultiplicity=undef
    use64bitint=define
    use64bitall=define
    uselongdouble=define
    usemymalloc=n
    default_inc_excludes_dot=define
  Compiler:
    cc='cc'
    ccflags ='-fwrapv -fno-strict-aliasing -pipe -fstack-protector-strong -I/usr/local/include -D_LARGEFILE_SOURCE -D_FILE_OFFSET_BITS=64'
    optimize='-O2 -g'
    cppflags='-fwrapv -fno-strict-aliasing -pipe -fstack-protector-strong -I/usr/local/include'
    ccversion=''
    gccversion='11.4.0'
    gccosandvers=''
    intsize=4
    longsize=8
    ptrsize=8
    doublesize=8
    byteorder=12345678
    doublekind=3
    d_longlong=define
    longlongsize=8
    d_longdbl=define
    longdblsize=16
    longdblkind=3
    ivtype='long'
    ivsize=8
    nvtype='long double'
    nvsize=16
    Off_t='off_t'
    lseeksize=8
    alignbytes=16
    prototype=define
  Linker and Libraries:
    ld='cc'
    ldflags =' -fstack-protector-strong -L/usr/local/lib'
    libpth=/usr/local/lib /usr/lib/x86_64-linux-gnu /usr/lib /usr/lib64
    libs=-lpthread -lnsl -ldl -lm -lcrypt -lutil -lc
    perllibs=-lpthread -lnsl -ldl -lm -lcrypt -lutil -lc
    libc=/lib/x86_64-linux-gnu/libc.so.6
    so=so
    useshrplib=false
    libperl=libperl.a
    gnulibc_version='2.35'
  Dynamic Linking:
    dlsrc=dl_dlopen.xs
    dlext=so
    d_dlsymun=undef
    ccdlflags='-Wl,-E'
    cccdlflags='-fPIC'
    lddlflags='-shared -O2 -g -L/usr/local/lib -fstack-protector-strong'


Characteristics of this binary (from libperl): 
  Compile-time options:
    HAS_LONG_DOUBLE
    HAS_STRTOLD
    HAS_TIMES
    PERLIO_LAYERS
    PERL_COPY_ON_WRITE
    PERL_DONT_CREATE_GVSV
    PERL_HASH_FUNC_SIPHASH13
    PERL_HASH_USE_SBOX32
    PERL_MALLOC_WRAP
    PERL_OP_PARENT
    PERL_PRESERVE_IVUV
    PERL_USE_DEVEL
    PERL_USE_SAFE_PUTENV
    USE_64_BIT_ALL
    USE_64_BIT_INT
    USE_LARGE_FILES
    USE_LOCALE
    USE_LOCALE_COLLATE
    USE_LOCALE_CTYPE
    USE_LOCALE_NUMERIC
    USE_LOCALE_TIME
    USE_LONG_DOUBLE
    USE_PERLIO
    USE_PERL_ATOF
  Built under linux
  Compiled at Jul 21 2024 17:40:43
  %ENV:
    PERL="/tmp/basesmoker-reloperl-dYFh/bin/perl"
    PERL5LIB="/tmp/loop_over_bdir-2499747-zqy0US/perl-Hardware-UPS-Perl-0.43-0/blib/arch:/tmp/loop_over_bdir-2499747-zqy0US/perl-Hardware-UPS-Perl-0.43-0/blib/lib"
    PERL5OPT=""
    PERL5_CPANPLUS_IS_RUNNING="2499755"
    PERL5_CPAN_IS_RUNNING="2499755"
    PERL_CANARY_STABILITY_NOPROMPT="1"
    PERL_MM_USE_DEFAULT="1"
    PERL_USE_UNSAFE_INC="1"
  @INC:
    /tmp/loop_over_bdir-2499747-zqy0US/perl-Hardware-UPS-Perl-0.43-0/blib/arch
    /tmp/loop_over_bdir-2499747-zqy0US/perl-Hardware-UPS-Perl-0.43-0/blib/lib
    /home/sand/src/perl/repoperls/installed-perls/host/k93jammy/v5.41.2/5674/lib/site_perl/5.41.2/x86_64-linux-ld
    /home/sand/src/perl/repoperls/installed-perls/host/k93jammy/v5.41.2/5674/lib/site_perl/5.41.2
    /home/sand/src/perl/repoperls/installed-perls/host/k93jammy/v5.41.2/5674/lib/5.41.2/x86_64-linux-ld
    /home/sand/src/perl/repoperls/installed-perls/host/k93jammy/v5.41.2/5674/lib/5.41.2
    .