Test2-Tools-URL v0.06 Perl 5 v5.32.0 x86_64-linux
- Status
- Pass
- From
- David Cantrell (DCANTRELL)
- Dist
-
Test2-Tools-URL v0.06
- Platform
- Perl 5 v5.32.0 x86_64-linux
- Date
- 2021-03-25 02:21:28
- ID
- ce35d3a2-8d10-11eb-8cd7-376c2b0048e4
This distribution has been tested as part of the CPAN Testers
project, supporting the Perl programming language. See
http://wiki.cpantesters.org/ for more information or email
questions to cpan-testers-discuss@perl.org
--
Dear Graham Ollis,
This is a computer-generated report for Test2-Tools-URL-0.06
on perl 5.32.0, created by CPAN-Reporter-1.2018.
Thank you for uploading your work to CPAN. Congratulations!
All tests were successful.
Sections of this report:
* Tester comments
* Program output
* Prerequisites
* Environment and other context
------------------------------
TESTER COMMENTS
------------------------------
Additional comments from tester:
this report is from an automated smoke testing program
and was not reviewed by a human for accuracy
------------------------------
PROGRAM OUTPUT
------------------------------
Output from '/usr/bin/make test':
PERL_DL_NONLAZY=1 "/home/david/cpantesting/perl-5.32.0/bin/perl" "-MExtUtils::Command::MM" "-MTest::Harness" "-e" "undef *Test::Harness::Switches; test_harness(0, 'blib/lib', 'blib/arch')" t/*.t
#
#
#
# HARNESS_ACTIVE=1
# HARNESS_VERSION=3.42
# LANG=en_GB.UTF-8
# LC_TERMINAL=iTerm2
# LC_TERMINAL_VERSION=3.4.4
# PERL="/home/david/cpantesting/perl-5.32.0/bin/perl"
# PERL5LIB=/home/david/cpantesting/perl-5.32.0/.cpan/build/Test2-Tools-URL-0.06-0/blib/lib:/home/david/cpantesting/perl-5.32.0/.cpan/build/Test2-Tools-URL-0.06-0/blib/arch:
# PERL5OPT=
# PERL5_CPANPLUS_IS_RUNNING=16698
# PERL5_CPAN_IS_RUNNING=16698
# PERLBREW_HOME=/home/david/.perlbrew
# PERLBREW_MANPATH=/home/david/perl5/perlbrew/perls/perl-5.30.2/man
# PERLBREW_PATH=/home/david/perl5/perlbrew/bin:/home/david/perl5/perlbrew/perls/perl-5.30.2/bin
# PERLBREW_PERL=perl-5.30.2
# PERLBREW_ROOT=/home/david/perl5/perlbrew
# PERLBREW_SHELLRC_VERSION=0.89
# PERLBREW_VERSION=0.89
# PERLVER=5.32.0
# PERL_DL_NONLAZY=1
# PERL_INLINE_DIRECTORY=/home/david/.Inline-5.32.0
# PERL_MM_USE_DEFAULT=1
# PERL_USE_UNSAFE_INC=0
# SHELL=/bin/bash
#
#
#
# PERL5LIB path
# /home/david/cpantesting/perl-5.32.0/.cpan/build/Test2-Tools-URL-0.06-0/blib/lib
# /home/david/cpantesting/perl-5.32.0/.cpan/build/Test2-Tools-URL-0.06-0/blib/arch
#
#
#
# perl 5.032000 linux x86_64-linux
# Carp 1.50
# ExtUtils::MakeMaker 7.44
# Mojolicious 9.14
# Test2::Compare 0.000139
# Test2::Compare::Base 0.000139
# Test2::Compare::Custom 0.000139
# Test2::Compare::Hash 0.000139
# Test2::Compare::String 0.000139
# Test2::V0 0.000139
# URI 1.76
# URI::QueryParam 1.76
#
#
#
t/00_diag.t .......... ok
t/01_use.t ........... ok
t/test2_tools_url.t .. ok
All tests successful.
Files=3, Tests=27, 11 wallclock secs ( 0.14 usr 0.03 sys + 4.09 cusr 0.34 csys = 4.60 CPU)
Result: PASS
------------------------------
PREREQUISITES
------------------------------
Prerequisite modules loaded:
requires:
Module Need Have
---------------------- -------- --------
Carp 0 1.50
perl 5.008001 5.032000
Test2::Compare 0.000060 0.000139
Test2::Compare::Base 0.000060 0.000139
Test2::Compare::Custom 0.000060 0.000139
Test2::Compare::Hash 0.000060 0.000139
Test2::Compare::String 0.000060 0.000139
URI 1.61 1.76
URI::QueryParam 0 1.76
build_requires:
Module Need Have
---------------------- -------- --------
ExtUtils::MakeMaker 0 7.44
Test2::V0 0.000121 0.000139
configure_requires:
Module Need Have
---------------------- -------- --------
ExtUtils::MakeMaker 0 7.44
perl 5.008001 5.032000
------------------------------
ENVIRONMENT AND OTHER CONTEXT
------------------------------
Environment variables:
AUTOMATED_TESTING = 1
LANG = en_GB.UTF-8
LANGUAGE = en_GB:en
LC_TERMINAL = iTerm2
LC_TERMINAL_VERSION = 3.4.4
NONINTERACTIVE_TESTING = 1
PATH = /home/david/perl5/perlbrew/bin:/home/david/perl5/perlbrew/perls/perl-5.30.2/bin:/usr/local/bin:/usr/bin:/bin:/usr/local/games:/usr/games
PERL = 5.32.0
PERL5LIB =
PERL5OPT =
PERL5_CPANPLUS_IS_RUNNING = 16698
PERL5_CPAN_IS_RUNNING = 16698
PERLBREW_HOME = /home/david/.perlbrew
PERLBREW_MANPATH = /home/david/perl5/perlbrew/perls/perl-5.30.2/man
PERLBREW_PATH = /home/david/perl5/perlbrew/bin:/home/david/perl5/perlbrew/perls/perl-5.30.2/bin
PERLBREW_PERL = perl-5.30.2
PERLBREW_ROOT = /home/david/perl5/perlbrew
PERLBREW_SHELLRC_VERSION = 0.89
PERLBREW_VERSION = 0.89
PERLVER = 5.32.0
PERL_INLINE_DIRECTORY = /home/david/.Inline-5.32.0
PERL_MM_USE_DEFAULT = 1
PERL_USE_UNSAFE_INC = 0
SHELL = /bin/bash
TERM = screen
Perl special variables (and OS-specific diagnostics, for MSWin32):
$^X = /home/david/cpantesting/perl-5.32.0/bin/perl
$UID/$EUID = 1000 / 1000
$GID = 1000 24 25 27 29 30 44 46 109 1000
$EGID = 1000 24 25 27 29 30 44 46 109 1000
Perl module toolchain versions installed:
Module Have
------------------- --------
CPAN 2.27
CPAN::Meta 2.150010
Cwd 3.78
ExtUtils::CBuilder 0.280234
ExtUtils::Command 7.44
ExtUtils::Install 2.14
ExtUtils::MakeMaker 7.44
ExtUtils::Manifest 1.72
ExtUtils::ParseXS 3.40
File::Spec 3.78
JSON 4.03
JSON::PP 4.04
Module::Build 0.4231
Module::Signature n/a
Parse::CPAN::Meta 2.150010
Test::Harness 3.42
Test::More 1.302183
YAML 1.30
YAML::Syck n/a
version 0.9924
--
Summary of my perl5 (revision 5 version 32 subversion 0) configuration:
Platform:
osname=linux
osvers=4.9.0-8-amd64
archname=x86_64-linux
uname='linux pigsty.barnyard.co.uk 4.9.0-8-amd64 #1 smp debian 4.9.144-3 (2019-02-02) x86_64 gnulinux '
config_args='-de -Dprefix=/home/david/cpantesting/perl-5.32.0'
hint=recommended
useposix=true
d_sigaction=define
useithreads=undef
usemultiplicity=undef
use64bitint=define
use64bitall=define
uselongdouble=undef
usemymalloc=n
default_inc_excludes_dot=define
bincompat5005=undef
Compiler:
cc='cc'
ccflags ='-fwrapv -fno-strict-aliasing -pipe -fstack-protector-strong -I/usr/local/include -D_LARGEFILE_SOURCE -D_FILE_OFFSET_BITS=64 -D_FORTIFY_SOURCE=2'
optimize='-O2'
cppflags='-fwrapv -fno-strict-aliasing -pipe -fstack-protector-strong -I/usr/local/include'
ccversion=''
gccversion='6.3.0 20170516'
gccosandvers=''
intsize=4
longsize=8
ptrsize=8
doublesize=8
byteorder=12345678
doublekind=3
d_longlong=define
longlongsize=8
d_longdbl=define
longdblsize=16
longdblkind=3
ivtype='long'
ivsize=8
nvtype='double'
nvsize=8
Off_t='off_t'
lseeksize=8
alignbytes=8
prototype=define
Linker and Libraries:
ld='cc'
ldflags =' -fstack-protector-strong -L/usr/local/lib'
libpth=/usr/local/lib /usr/lib/gcc/x86_64-linux-gnu/6/include-fixed /usr/include/x86_64-linux-gnu /usr/lib /lib/x86_64-linux-gnu /lib/../lib /usr/lib/x86_64-linux-gnu /usr/lib/../lib /lib
libs=-lpthread -lnsl -ldb -ldl -lm -lcrypt -lutil -lc
perllibs=-lpthread -lnsl -ldl -lm -lcrypt -lutil -lc
libc=libc-2.24.so
so=so
useshrplib=false
libperl=libperl.a
gnulibc_version='2.24'
Dynamic Linking:
dlsrc=dl_dlopen.xs
dlext=so
d_dlsymun=undef
ccdlflags='-Wl,-E'
cccdlflags='-fPIC'
lddlflags='-shared -O2 -L/usr/local/lib -fstack-protector-strong'
Characteristics of this binary (from libperl):
Compile-time options:
HAS_TIMES
PERLIO_LAYERS
PERL_COPY_ON_WRITE
PERL_DONT_CREATE_GVSV
PERL_MALLOC_WRAP
PERL_OP_PARENT
PERL_PRESERVE_IVUV
USE_64_BIT_ALL
USE_64_BIT_INT
USE_LARGE_FILES
USE_LOCALE
USE_LOCALE_COLLATE
USE_LOCALE_CTYPE
USE_LOCALE_NUMERIC
USE_LOCALE_TIME
USE_PERLIO
USE_PERL_ATOF
Built under linux
Compiled at Jun 22 2020 23:26:03
%ENV:
PERL="5.32.0"
PERL5LIB=""
PERL5OPT=""
PERL5_CPANPLUS_IS_RUNNING="16698"
PERL5_CPAN_IS_RUNNING="16698"
PERLBREW_HOME="/home/david/.perlbrew"
PERLBREW_MANPATH="/home/david/perl5/perlbrew/perls/perl-5.30.2/man"
PERLBREW_PATH="/home/david/perl5/perlbrew/bin:/home/david/perl5/perlbrew/perls/perl-5.30.2/bin"
PERLBREW_PERL="perl-5.30.2"
PERLBREW_ROOT="/home/david/perl5/perlbrew"
PERLBREW_SHELLRC_VERSION="0.89"
PERLBREW_VERSION="0.89"
PERLVER="5.32.0"
PERL_INLINE_DIRECTORY="/home/david/.Inline-5.32.0"
PERL_MM_USE_DEFAULT="1"
PERL_USE_UNSAFE_INC="0"
@INC:
/home/david/cpantesting/perl-5.32.0/lib/site_perl/5.32.0/x86_64-linux
/home/david/cpantesting/perl-5.32.0/lib/site_perl/5.32.0
/home/david/cpantesting/perl-5.32.0/lib/5.32.0/x86_64-linux
/home/david/cpantesting/perl-5.32.0/lib/5.32.0