Report for WWW-Google-Contacts-0.39

Back
From: metabase:user:314402c4-2aae-11df-837a-5e0a49663a4f
Subject: PASS WWW-Google-Contacts-0.39 v5.20.1 GNU/Linux
Date: 2015-11-02T12:46:58Z

This distribution has been tested as part of the CPAN Testers
project, supporting the Perl programming language.  See
http://wiki.cpantesters.org/ for more information or email
questions to cpan-testers-discuss@perl.org


--
Dear Magnus Erixzon,

This is a computer-generated report for WWW-Google-Contacts-0.39
on perl 5.20.1, created by CPAN-Reporter-1.2015.

Thank you for uploading your work to CPAN.  Congratulations!
All tests were successful.

Sections of this report:

    * Tester comments
    * Program output
    * Prerequisites
    * Environment and other context

------------------------------
TESTER COMMENTS
------------------------------

Additional comments from tester:

none provided

------------------------------
PROGRAM OUTPUT
------------------------------

Output from '/usr/bin/make test':

PERL_DL_NONLAZY=1 "/bbbike/perl-5.20.1/bin/perl5.20.1" "-MExtUtils::Command::MM" "-MTest::Harness" "-e" "undef *Test::Harness::Switches; test_harness(0, 'blib/lib', 'blib/arch')" t/*.t
# Testing WWW::Google::Contacts 0.39, Perl 5.020001, /bbbike/perl-5.20.1/bin/perl5.20.1
t/00-load.t ....................... ok
t/01-basics.t ..................... ok
t/10-list-contacts-ONLINE.t ....... skipped: no TEST_GOOGLE_USERNAME or TEST_GOOGLE_PASSWORD set in the environment
t/20.group_members.t .............. skipped: no TEST_GOOGLE_USERNAME or TEST_GOOGLE_PASSWORD set in the environment
t/21.add_to_group.t ............... skipped: no TEST_GOOGLE_USERNAME or TEST_GOOGLE_PASSWORD set in the environment
t/22.change_email_type.t .......... skipped: no TEST_GOOGLE_USERNAME or TEST_GOOGLE_PASSWORD set in the environment
t/23.set_contact_values.t ......... skipped: no TEST_GOOGLE_USERNAME or TEST_GOOGLE_PASSWORD set in the environment
t/24.set_priority.t ............... skipped: no TEST_GOOGLE_USERNAME or TEST_GOOGLE_PASSWORD set in the environment
t/25.set_organization.t ........... skipped: no TEST_GOOGLE_USERNAME or TEST_GOOGLE_PASSWORD set in the environment
t/26.language.t ................... skipped: no TEST_GOOGLE_USERNAME or TEST_GOOGLE_PASSWORD set in the environment
t/27.relation.t ................... skipped: no TEST_GOOGLE_USERNAME or TEST_GOOGLE_PASSWORD set in the environment
t/33.photo.t ...................... skipped: no TEST_GOOGLE_USERNAME or TEST_GOOGLE_PASSWORD set in the environment
t/50.types.t ...................... ok
t/60.getting_user_defined.t ....... skipped: no TEST_GOOGLE_USERNAME or TEST_GOOGLE_PASSWORD set in the environment
t/61.utf8.t ....................... skipped: no TEST_GOOGLE_USERNAME or TEST_GOOGLE_PASSWORD set in the environment
t/9999.deprecated.get_contact.t ... ok
t/9999.deprecated.get_contacts.t .. ok
t/9999.deprecated.get_groups.t .... ok
t/release-pod-coverage.t .......... skipped: these tests are for release candidate testing
t/release-pod-syntax.t ............ skipped: these tests are for release candidate testing
t/type_relation.t ................. ok
t/yomi_name.t ..................... ok
All tests successful.
Files=22, Tests=57, 12 wallclock secs ( 0.06 usr  0.10 sys + 11.65 cusr  0.90 csys = 12.71 CPU)
Result: PASS

------------------------------
PREREQUISITES
------------------------------

Prerequisite modules loaded:

requires:

    Module                      Need Have   
    --------------------------- ---- -------
    Class::MOP                  1.09 2.1603 
    Crypt::SSLeay               0    0.72   
    File::Slurp                 0    9999.19
    LWP::UserAgent              0    6.13   
    Moose                       0    2.1603 
    MooseX::Role::Parameterized 0    1.08   
    MooseX::Types               0    0.45   
    Net::Google::AuthSub        0    0.5    
    Perl6::Junction             0    1.60000
    Try::Tiny                   0    0.22   
    XML::Simple                 0    2.20   

configure_requires:

    Module                      Need Have   
    --------------------------- ---- -------
    ExtUtils::MakeMaker         6.30 7.04   


------------------------------
ENVIRONMENT AND OTHER CONTEXT
------------------------------

Environment variables:

    LANG = C
    LC_ALL = de_DE.UTF-8
    PATH = /usr/local/bin:/usr/bin:/bin:/usr/local/sbin:/usr/sbin:/sbin:/home/eserte/bin/linux-gnu:/home/eserte/bin/sh:/home/eserte/bin:/usr/games:/home/eserte/devel:/home/eserte/src/srezic-misc/scripts
    PERL5LIB = /home/eserte/.cpan/build/2015110212/swat-0.1.64-0my0e_/blib/arch:/home/eserte/.cpan/build/2015110212/swat-0.1.64-0my0e_/blib/lib
    PERL5OPT = 
    PERL5_CPANPLUS_IS_RUNNING = 7264
    PERL5_CPAN_IS_RUNNING = 7264
    PERL5_CPAN_IS_RUNNING_IN_RECURSION = 7202,7264
    PERLDOC = -MPod::Perldoc::ToTextOverstrike
    PERL_BATCH = yes
    PERL_CANARY_STABILITY_NOPROMPT = 1
    PERL_CPAN_REPORTER_CONFIG = /var/tmp/cpansmoker-1001/2015110212/cpanreporter_000_config.ini
    PERL_EXTUTILS_AUTOINSTALL = --defaultdeps
    PERL_PARALLEL_SMOKER = yes
    SHELL = /bin/zsh
    TERM = screen
    TMPDIR = /var/tmp/cpansmoker-1001/2015110212

Perl special variables (and OS-specific diagnostics, for MSWin32):

    $^X = /bbbike/perl-5.20.1/bin/perl5.20.1
    $UID/$EUID = 1001 / 1001
    $GID = 1001 109 1001
    $EGID = 1001 109 1001

Perl module toolchain versions installed:

    Module              Have    
    ------------------- --------
    CPAN                2.05    
    CPAN::Meta          2.150005
    Cwd                 3.47    
    ExtUtils::CBuilder  0.280219
    ExtUtils::Command   1.18    
    ExtUtils::Install   2.04    
    ExtUtils::MakeMaker 7.04    
    ExtUtils::Manifest  1.68    
    ExtUtils::ParseXS   3.24    
    File::Spec          3.47    
    JSON                2.90    
    JSON::PP            2.27300 
    Module::Build       0.4214  
    Module::Signature   0.78    
    Parse::CPAN::Meta   1.4414  
    Test::Harness       3.34    
    Test::More          1.001014
    YAML                1.15    
    YAML::Syck          1.29    
    version             0.9912  


--

Summary of my perl5 (revision 5 version 20 subversion 1) configuration:
   
  Platform:
    osname=linux, osvers=3.2.0-4-amd64, archname=x86_64-linux
    uname='linux eserte 3.2.0-4-amd64 #1 smp debian 3.2.60-1+deb7u3 x86_64 gnulinux '
    config_args='-ds -e -Dprefix=/opt/perl-5.20.1'
    hint=recommended, useposix=true, d_sigaction=define
    useithreads=undef, usemultiplicity=undef
    use64bitint=define, use64bitall=define, uselongdouble=undef
    usemymalloc=n, bincompat5005=undef
  Compiler:
    cc='cc', ccflags ='-fwrapv -fno-strict-aliasing -pipe -fstack-protector -I/usr/local/include -D_LARGEFILE_SOURCE -D_FILE_OFFSET_BITS=64',
    optimize='-O2',
    cppflags='-fwrapv -fno-strict-aliasing -pipe -fstack-protector -I/usr/local/include'
    ccversion='', gccversion='4.7.2', gccosandvers=''
    intsize=4, longsize=8, ptrsize=8, doublesize=8, byteorder=12345678
    d_longlong=define, longlongsize=8, d_longdbl=define, longdblsize=16
    ivtype='long', ivsize=8, nvtype='double', nvsize=8, Off_t='off_t', lseeksize=8
    alignbytes=8, prototype=define
  Linker and Libraries:
    ld='cc', ldflags =' -fstack-protector -L/usr/local/lib'
    libpth=/usr/local/lib /usr/lib/gcc/x86_64-linux-gnu/4.7/include-fixed /usr/include/x86_64-linux-gnu /usr/lib /lib/x86_64-linux-gnu /lib/../lib /usr/lib/x86_64-linux-gnu /usr/lib/../lib /lib
    libs=-lnsl -ldb -ldl -lm -lcrypt -lutil -lc
    perllibs=-lnsl -ldl -lm -lcrypt -lutil -lc
    libc=libc-2.13.so, so=so, useshrplib=false, libperl=libperl.a
    gnulibc_version='2.13'
  Dynamic Linking:
    dlsrc=dl_dlopen.xs, dlext=so, d_dlsymun=undef, ccdlflags='-Wl,-E'
    cccdlflags='-fPIC', lddlflags='-shared -O2 -L/usr/local/lib -fstack-protector'


Characteristics of this binary (from libperl): 
  Compile-time options: HAS_TIMES PERLIO_LAYERS PERL_DONT_CREATE_GVSV
                        PERL_HASH_FUNC_ONE_AT_A_TIME_HARD PERL_MALLOC_WRAP
                        PERL_NEW_COPY_ON_WRITE PERL_PRESERVE_IVUV
                        USE_64_BIT_ALL USE_64_BIT_INT USE_LARGE_FILES
                        USE_LOCALE USE_LOCALE_COLLATE USE_LOCALE_CTYPE
                        USE_LOCALE_NUMERIC USE_PERLIO USE_PERL_ATOF
  Built under linux
  Compiled at Sep 14 2014 15:24:49
  %ENV:
    PERL5LIB="/home/eserte/.cpan/build/2015110212/swat-0.1.64-0my0e_/blib/arch:/home/eserte/.cpan/build/2015110212/swat-0.1.64-0my0e_/blib/lib"
    PERL5OPT=""
    PERL5_CPANPLUS_IS_RUNNING="7264"
    PERL5_CPAN_IS_RUNNING="7264"
    PERL5_CPAN_IS_RUNNING_IN_RECURSION="7202,7264"
    PERLDOC="-MPod::Perldoc::ToTextOverstrike"
    PERL_BATCH="yes"
    PERL_CANARY_STABILITY_NOPROMPT="1"
    PERL_CPAN_REPORTER_CONFIG="/var/tmp/cpansmoker-1001/2015110212/cpanreporter_000_config.ini"
    PERL_EXTUTILS_AUTOINSTALL="--defaultdeps"
    PERL_PARALLEL_SMOKER="yes"
  @INC:
    /home/eserte/.cpan/build/2015110212/swat-0.1.64-0my0e_/blib/arch
    /home/eserte/.cpan/build/2015110212/swat-0.1.64-0my0e_/blib/lib
    /opt/perl-5.20.1/lib/site_perl/5.20.1/x86_64-linux
    /opt/perl-5.20.1/lib/site_perl/5.20.1
    /opt/perl-5.20.1/lib/5.20.1/x86_64-linux
    /opt/perl-5.20.1/lib/5.20.1
    .