JSON-Any v1.40 Perl 5 v5.38.2 darwin-2level
- Status
- Pass
- From
- Slaven Rezić
- Dist
-
JSON-Any v1.40
- Platform
- Perl 5 v5.38.2 darwin-2level
- Date
- 2024-03-02 21:21:16
- ID
- ce238ee0-d8da-11ee-b11d-cee86d8775ea
This distribution has been tested as part of the CPAN Testers
project, supporting the Perl programming language. See
http://wiki.cpantesters.org/ for more information or email
questions to cpan-testers-discuss@perl.org
--
Dear Karen Etheridge,
This is a computer-generated report for JSON-Any-1.40
on perl 5.38.2, created by CPAN-Reporter-1.2019.
Thank you for uploading your work to CPAN. Congratulations!
All tests were successful.
Sections of this report:
* Tester comments
* Program output
* Prerequisites
* Environment and other context
------------------------------
TESTER COMMENTS
------------------------------
Additional comments from tester:
none provided
------------------------------
PROGRAM OUTPUT
------------------------------
Output from '/usr/bin/make test':
PERL_DL_NONLAZY=1 "/opt/perl-5.38.2/bin/perl" "-MExtUtils::Command::MM" "-MTest::Harness" "-e" "undef *Test::Harness::Switches; test_harness(0, 'blib/lib', 'blib/arch')" t/*.t
# Testing JSON::Any 1.40, Perl 5.038002, /opt/perl-5.38.2/bin/perl
t/00-load.t ............ ok
#
# Versions for all modules listed in MYMETA.json (including optional ones):
#
# === Configure Requires ===
#
# Module Want Have
# ------------------------ -------- --------
# CPAN::Meta::Requirements 2.120620 2.140
# ExtUtils::MakeMaker any 7.70
# Module::Metadata any 1.000037
# perl 5.008 5.038002
#
# === Build Requires ===
#
# Module Want Have
# ------------------- ---- ----
# ExtUtils::MakeMaker any 7.70
#
# === Test Requires ===
#
# Module Want Have
# --------------------- ----- --------
# Data::Dumper any 2.188
# ExtUtils::MakeMaker any 7.70
# File::Spec any 3.88
# Storable any 3.32
# Test::Fatal any 0.017
# Test::More 0.88 1.302194
# Test::Needs any 0.002010
# Test::Warnings 0.009 0.033
# Test::Without::Module any 0.21
# open any 1.13
# perl 5.008 5.038002
# utf8 any 1.25
#
# === Test Recommends ===
#
# Module Want Have
# ---------- -------- --------
# CPAN::Meta 2.120900 2.150010
#
# === Runtime Requires ===
#
# Module Want Have
# -------- ----- --------
# Carp any 1.54
# constant any 1.33
# perl 5.008 5.038002
# strict any 1.12
# warnings any 1.65
#
# === Other Modules ===
#
# Module Have
# ---------------- --------
# Cpanel::JSON::XS 4.37
# Encode 3.19
# File::Temp 0.2311
# JSON missing
# JSON::DWIW missing
# JSON::MaybeXS 1.004005
# JSON::PP 4.16
# JSON::Syck 1.34
# JSON::XS missing
# Module::Runtime 0.016
# Pod::Coverage 0.23
# Sub::Name 0.27
# YAML 1.31
# autodie 2.36
# constant 1.33
#
t/00-report-prereqs.t .. ok
t/01-JSON.t ............ skipped: JSON.pm not installed: Couldn't find a JSON package. Need JSON at (eval 9) line 1.
t/02-JSON-XS.t ......... skipped: JSON::XS not installed: Couldn't find a JSON package. Need JSON::XS at (eval 9) line 1.
t/03-JSON-DWIW.t ....... skipped: JSON::DWIW not installed: Couldn't find a JSON package. Need JSON::DWIW at (eval 9) line 1.
t/04-ENV.t ............. ok
Found deprecated package JSON::Syck. Please upgrade to Cpanel::JSON::XS, JSON::XS, JSON::PP, JSON or JSON::DWIW at (eval 9) line 1.
t/05-JSON-Syck.t ....... ok
# Testing JSON::PP backend
t/06-JSON-PP.t ......... ok
# Testing Cpanel::JSON::XS backend
t/07-CPanel-JSON-XS.t .. ok
t/10_unicode.t ......... ok
t/11-string-escape.t ... ok
t/12-boolean.t ......... ok
t/13-no-backends.t ..... ok
t/14-deprecated.t ...... ok
All tests successful.
Files=14, Tests=144, 2 wallclock secs ( 0.05 usr 0.03 sys + 1.02 cusr 0.21 csys = 1.31 CPU)
Result: PASS
------------------------------
PREREQUISITES
------------------------------
Prerequisite modules loaded:
requires:
Module Need Have
------------------------ -------- --------
Carp 0 1.54
constant 0 1.33
perl 5.008 5.038002
strict 0 1.12
warnings 0 1.65
build_requires:
Module Need Have
------------------------ -------- --------
Data::Dumper 0 2.188
ExtUtils::MakeMaker 0 7.70
File::Spec 0 3.88
open 0 1.13
Storable 0 3.32
Test::Fatal 0 0.017
Test::More 0.88 1.302194
Test::Needs 0 0.002010
Test::Warnings 0.009 0.033
Test::Without::Module 0 0.21
utf8 0 1.25
configure_requires:
Module Need Have
------------------------ -------- --------
CPAN::Meta::Requirements 2.120620 2.140
ExtUtils::MakeMaker 0 7.70
Module::Metadata 0 1.000037
perl 5.008 5.038002
------------------------------
ENVIRONMENT AND OTHER CONTEXT
------------------------------
Environment variables:
LANG = en_US.UTF-8
PATH = /usr/local/bin:/usr/bin:/bin:/usr/local/sbin:/usr/sbin:/sbin:/Users/slaven.rezic/bin/darwin21.0:/Users/slaven.rezic/bin/sh:/Users/slaven.rezic/bin:/Users/slaven.rezic/bin/pistachio-perl/bin:/usr/games:/Users/slaven.rezic/devel:/Users/slaven.rezic/work/drafts-slaven.rezic/misc:/Users/slaven.rezic/work2/fzf/bin:/Users/slaven.rezic/src/srezic-misc/scripts
PERL5LIB =
PERL5OPT =
PERL5_CPANPLUS_IS_RUNNING = 15534
PERL5_CPAN_IS_RUNNING = 15534
PERL5_CPAN_IS_RUNNING_IN_RECURSION = 3064,15534
PERLDOC = -MPod::Perldoc::ToTextOverstrike
PERL_BATCH = yes
PERL_CANARY_STABILITY_NOPROMPT = 1
PERL_CPAN_REPORTER_CONFIG = /var/tmp/cpansmoker-501/2024030221/cpanreporter_000_config.ini
PERL_EXTUTILS_AUTOINSTALL = --defaultdeps
PERL_USE_UNSAFE_INC = 1
PISTACHIO_PERL_MANAGER = 1
SHELL = /bin/zsh
TERM = screen
TMPDIR = /var/tmp/cpansmoker-501/2024030221
Perl special variables (and OS-specific diagnostics, for MSWin32):
$^X = /opt/perl-5.38.2/bin/perl
$UID/$EUID = 501 / 501
$GID = 20 20 501 701 12 61 702 98 100 703
$EGID = 20 20 501 701 12 61 702 98 100 703
Perl module toolchain versions installed:
Module Have
------------------- --------
CPAN 2.36
CPAN::Meta 2.150010
Cwd 3.89
ExtUtils::CBuilder 0.280238
ExtUtils::Command 7.70
ExtUtils::Install 2.22
ExtUtils::MakeMaker 7.70
ExtUtils::Manifest 1.73
ExtUtils::ParseXS 3.51
File::Spec 3.88
JSON n/a
JSON::PP 4.16
Module::Build 0.4234
Module::Signature n/a
Parse::CPAN::Meta 2.150010
Test2 1.302194
Test::Harness 3.44
Test::More 1.302194
YAML 1.31
YAML::Syck 1.34
version 0.9929
--
Summary of my perl5 (revision 5 version 38 subversion 2) configuration:
Platform:
osname=darwin
osvers=21.6.0
archname=darwin-2level
uname='darwin w3tk 21.6.0 darwin kernel version 21.6.0: sun dec 17 22:55:27 pst 2023; root:xnu-8020.240.18.706.2~1release_x86_64 x86_64 '
config_args='-ds -e -Dprefix=/opt/perl-5.38.2 -Dcf_email=srezic@cpan.org'
hint=previous
useposix=true
d_sigaction=define
useithreads=undef
usemultiplicity=undef
use64bitint=define
use64bitall=define
uselongdouble=undef
usemymalloc=n
default_inc_excludes_dot=define
Compiler:
cc='cc'
ccflags ='-fno-common -DPERL_DARWIN -mmacosx-version-min=12.7 -DNO_POSIX_2008_LOCALE -fno-strict-aliasing -pipe -fstack-protector-strong -I/usr/local/include'
optimize='-O3'
cppflags='-fno-common -DPERL_DARWIN -mmacosx-version-min=12.7 -DNO_POSIX_2008_LOCALE -fno-strict-aliasing -pipe -fstack-protector-strong -I/usr/local/include'
ccversion=''
gccversion='Apple LLVM 14.0.0 (clang-1400.0.29.202)'
gccosandvers=''
intsize=4
longsize=8
ptrsize=8
doublesize=8
byteorder=12345678
doublekind=3
d_longlong=define
longlongsize=8
d_longdbl=define
longdblsize=16
longdblkind=3
ivtype='long'
ivsize=8
nvtype='double'
nvsize=8
Off_t='off_t'
lseeksize=8
alignbytes=8
prototype=define
Linker and Libraries:
ld='cc'
ldflags =' -mmacosx-version-min=12.7 -fstack-protector-strong -L/usr/local/lib'
libpth=/usr/local/lib /Library/Developer/CommandLineTools/usr/lib/clang/13.1.6/lib /Library/Developer/CommandLineTools/SDKs/MacOSX12.3.sdk/usr/lib /Library/Developer/CommandLineTools/usr/lib /usr/lib /Library/Developer/CommandLineTools/usr/lib/clang/14.0.0/lib /Library/Developer/CommandLineTools/SDKs/MacOSX13.1.sdk/usr/lib
libs=-lgdbm -ldbm -ldb
perllibs=
libc=
so=dylib
useshrplib=false
libperl=libperl.a
gnulibc_version=''
Dynamic Linking:
dlsrc=dl_dlopen.xs
dlext=bundle
d_dlsymun=undef
ccdlflags=' '
cccdlflags=' '
lddlflags=' -mmacosx-version-min=12.7 -bundle -undefined dynamic_lookup -L/usr/local/lib -fstack-protector-strong'
Characteristics of this binary (from libperl):
Compile-time options:
HAS_LONG_DOUBLE
HAS_STRTOLD
HAS_TIMES
PERLIO_LAYERS
PERL_COPY_ON_WRITE
PERL_DONT_CREATE_GVSV
PERL_HASH_FUNC_SIPHASH13
PERL_HASH_USE_SBOX32
PERL_MALLOC_WRAP
PERL_OP_PARENT
PERL_PRESERVE_IVUV
PERL_USE_SAFE_PUTENV
USE_64_BIT_ALL
USE_64_BIT_INT
USE_LARGE_FILES
USE_LOCALE
USE_LOCALE_COLLATE
USE_LOCALE_CTYPE
USE_LOCALE_NUMERIC
USE_LOCALE_TIME
USE_PERLIO
USE_PERL_ATOF
Built under darwin
Compiled at Mar 2 2024 20:42:28
%ENV:
PERL5LIB=""
PERL5OPT=""
PERL5_CPANPLUS_IS_RUNNING="15534"
PERL5_CPAN_IS_RUNNING="15534"
PERL5_CPAN_IS_RUNNING_IN_RECURSION="3064,15534"
PERLDOC="-MPod::Perldoc::ToTextOverstrike"
PERL_BATCH="yes"
PERL_CANARY_STABILITY_NOPROMPT="1"
PERL_CPAN_REPORTER_CONFIG="/var/tmp/cpansmoker-501/2024030221/cpanreporter_000_config.ini"
PERL_EXTUTILS_AUTOINSTALL="--defaultdeps"
PERL_USE_UNSAFE_INC="1"
@INC:
/opt/perl-5.38.2/lib/site_perl/5.38.2/darwin-2level
/opt/perl-5.38.2/lib/site_perl/5.38.2
/opt/perl-5.38.2/lib/5.38.2/darwin-2level
/opt/perl-5.38.2/lib/5.38.2
.