CGI-Buffer v0.88 Perl 5 v5.38.0 darwin-2level

Status
Pass
From
Nigel Horne
Dist
CGI-Buffer v0.88
Platform
Perl 5 v5.38.0 darwin-2level
Date
2025-09-25 18:16:50
ID
ce1b2f7e-9a3b-11f0-a6ed-a661fa18a4f3
This distribution has been tested as part of the CPAN Testers
project, supporting the Perl programming language.  See
http://wiki.cpantesters.org/ for more information or email
questions to cpan-testers-discuss@perl.org


--
Dear Nigel Horne,

This is a computer-generated report for CGI-Buffer-0.88
on perl 5.38.0, created by CPAN-Reporter-1.2020.

Thank you for uploading your work to CPAN.  Congratulations!
All tests were successful.

Sections of this report:

    * Tester comments
    * Program output
    * Prerequisites
    * Environment and other context

------------------------------
TESTER COMMENTS
------------------------------

Additional comments from tester:

none provided

------------------------------
PROGRAM OUTPUT
------------------------------

Output from '/usr/bin/make test':

PERL_DL_NONLAZY=1 "/Users/njh/perl5/perlbrew/perls/perl-5.38.0/bin/perl" "-MExtUtils::Command::MM" "-MTest::Harness" "-e" "undef *Test::Harness::Switches; test_harness(0, 'blib/lib', 'blib/arch')" t/*.t
t/apoc.t .............. skipped: Need Test::Apocalypse
t/boiler.t ............ ok
t/changes.t ........... skipped: Not running author tests
# Testing CGI::Buffer 0.88, Perl 5.038000, /Users/njh/perl5/perlbrew/perls/perl-5.38.0/bin/perl
t/00-load.t ........... ok
t/comment-spelling.t .. skipped: Not running author tests
t/critic.t ............ skipped: Not running author tests
t/cv.t ................ skipped: Not running author tests
t/coverage.t .......... ok
t/dist.t .............. skipped: Not running author tests
t/eof.t ............... skipped: Not running author tests
t/eol.t ............... skipped: Not running author tests
t/gv.t ................ skipped: Not running author tests
# Using CHI 0.61
t/is_cached.t ......... ok
t/js.t ................ ok
t/kwalitee.t .......... skipped: Not running author tests
t/links.t ............. skipped: Not running author tests
t/manifest.t .......... skipped: Not running author tests
t/metrics.t ........... skipped: Not running author tests
t/modules-used.t ...... skipped: Not running author tests
t/namespaces.t ........ skipped: Not running author tests
t/no404s.t ............ skipped: Not running author tests
t/noopentickets.t ..... skipped: Not running author tests
t/noplan.t ............ skipped: Not running author tests
t/last_mod.t .......... ok
t/pod-cm.t ............ ok
t/pod-snippets.t ...... skipped: Not running author tests
t/pod-spelling.t ...... skipped: Not running author tests
t/pod-synopsis.t ...... skipped: Not running author tests
t/pod.t ............... skipped: Not running author tests
t/port.t .............. skipped: Test::Portability::Files required for testing filenames portability
t/prereq.t ............ skipped: Not running author tests
t/strict.t ............ skipped: Not running author tests
# Using CHI 0.61
# Ignore the error that it can't retrieve the given body
CGI::Buffer: error retrieving data for key xyzzy at t/too_late.t line 0.
t/too_late.t .......... ok
t/unused.t ............ skipped: Not running author tests
t/vars.t .............. skipped: Not running author tests
# Ignore warning about <a> is never closed
(1:59): <a> at (1:13) is never closed
(1:66): <head> tag is required
(1:66): <title> tag is required
t/output.t ............ ok
All tests successful.

Test Summary Report
-------------------
t/boiler.t          (Wstat: 0 Tests: 3 Failed: 0)
  TODO passed:   1-3
Files=36, Tests=139,  6 wallclock secs ( 0.15 usr  0.10 sys +  7.62 cusr  1.53 csys =  9.40 CPU)
Result: PASS

------------------------------
PREREQUISITES
------------------------------

Prerequisite modules loaded:

requires:

    Module              Need     Have    
    ------------------- -------- --------
    Carp                0        1.54    
    CGI::Info           0.51     0.82    
    Compress::Zlib      0        2.212   
    CSS::Packer         0        2.09    
    Digest::MD5         0        2.59    
    Encode              0        3.21    
    File::Spec          0        3.88    
    HTML::Lint          0        2.32    
    HTML::Packer        1        2.10    
    HTTP::Date          0        6.06    
    HTTP::Status        0        6.45    
    IO::String          0        1.08    
    JavaScript::Packer  2        2.11    
    perl                5.014000 5.038000
    Readonly            0        2.05    
    Storable            0        3.32    
    Text::Diff          0        1.45    
    Time::localtime     0        1.03    

build_requires:

    Module              Need     Have    
    ------------------- -------- --------
    autodie             0        2.37    
    DateTime            0        1.65    
    ExtUtils::MakeMaker 0        7.70    
    Test::DescribeMe    0        0.004   
    Test::Most          0        0.38    
    Test::Needs         0        0.002010
    Test::TempDir::Tiny 0        0.018   

configure_requires:

    Module              Need     Have    
    ------------------- -------- --------
    ExtUtils::MakeMaker 0        7.70    


------------------------------
ENVIRONMENT AND OTHER CONTEXT
------------------------------

Environment variables:

    HARNESS_OPTIONS = c:j2
    LANG = en_US.UTF-8
    LDFLAGS = -L/usr/local/opt/imagemagick@7/lib
    NONINTERACTIVE_TESTING = 1
    PATH = /Users/njh/perl5/perlbrew/bin:/Users/njh/perl5/perlbrew/perls/perl-5.38.0/bin:/usr/local/bin:/usr/bin:/bin:/usr/sbin:/sbin:/opt/X11/bin:/Library/Apple/usr/bin:/Users/njh/bin
    PERL5LIB = 
    PERL5OPT = 
    PERL5_CPANPLUS_IS_RUNNING = 2813
    PERL5_CPAN_IS_RUNNING = 2813
    PERLBREW_HOME = /Users/njh/.perlbrew
    PERLBREW_MANPATH = /Users/njh/perl5/perlbrew/perls/perl-5.38.0/man
    PERLBREW_PATH = /Users/njh/perl5/perlbrew/bin:/Users/njh/perl5/perlbrew/perls/perl-5.38.0/bin
    PERLBREW_PERL = perl-5.38.0
    PERLBREW_ROOT = /Users/njh/perl5/perlbrew
    PERLBREW_SHELLRC_VERSION = 0.98
    PERLBREW_VERSION = 0.98
    PERL_MM_USE_DEFAULT = 1
    PERL_USE_UNSAFE_INC = 1
    SHELL = /bin/bash
    TERM = xterm-256color
    TMPDIR = /var/folders/8v/329gghld15g2ls572lrpg_yw0000z8/T/

Perl special variables (and OS-specific diagnostics, for MSWin32):

    $^X = /Users/njh/perl5/perlbrew/perls/perl-5.38.0/bin/perl
    $UID/$EUID = 1000 / 1000
    $GID = 20 20 12 61 401 102 402 100
    $EGID = 20 20 12 61 401 102 402 100

Perl module toolchain versions installed:

    Module              Have    
    ------------------- --------
    CPAN                2.37    
    CPAN::Meta          2.150010
    Cwd                 3.89    
    ExtUtils::CBuilder  0.280238
    ExtUtils::Command   7.70    
    ExtUtils::Install   2.22    
    ExtUtils::MakeMaker 7.70    
    ExtUtils::Manifest  1.75    
    ExtUtils::ParseXS   3.51    
    File::Spec          3.88    
    JSON                4.10    
    JSON::PP            4.16    
    Module::Build       0.4234  
    Module::Signature   n/a     
    Parse::CPAN::Meta   2.150010
    Test2               1.302199
    Test::Harness       3.48    
    Test::More          1.302199
    YAML                1.31    
    YAML::Syck          1.34    
    version             0.9933  


--

Summary of my perl5 (revision 5 version 38 subversion 0) configuration:
   
  Platform:
    osname=darwin
    osvers=20.6.0
    archname=darwin-2level
    uname='darwin nigels-macbook-pro.local 20.6.0 darwin kernel version 20.6.0: thu jun 8 22:36:09 pdt 2023; root:xnu-7195.141.49.701.4~1release_x86_64 x86_64 '
    config_args='-de -Dprefix=/Users/njh/perl5/perlbrew/perls/perl-5.38.0 -Aeval:scriptdir=/Users/njh/perl5/perlbrew/perls/perl-5.38.0/bin'
    hint=recommended
    useposix=true
    d_sigaction=define
    useithreads=undef
    usemultiplicity=undef
    use64bitint=define
    use64bitall=define
    uselongdouble=undef
    usemymalloc=n
    default_inc_excludes_dot=define
  Compiler:
    cc='cc'
    ccflags ='-fno-common -DPERL_DARWIN -fno-strict-aliasing -pipe -fstack-protector-strong -I/usr/local/include'
    optimize='-O3'
    cppflags='-fno-common -DPERL_DARWIN -fno-strict-aliasing -pipe -fstack-protector-strong -I/usr/local/include'
    ccversion=''
    gccversion='Apple LLVM 12.0.0 (clang-1200.0.32.29)'
    gccosandvers=''
    intsize=4
    longsize=8
    ptrsize=8
    doublesize=8
    byteorder=12345678
    doublekind=3
    d_longlong=define
    longlongsize=8
    d_longdbl=define
    longdblsize=16
    longdblkind=3
    ivtype='long'
    ivsize=8
    nvtype='double'
    nvsize=8
    Off_t='off_t'
    lseeksize=8
    alignbytes=8
    prototype=define
  Linker and Libraries:
    ld='cc'
    ldflags =' -fstack-protector-strong -L/usr/local/lib -L/opt/local/lib'
    libpth=/usr/local/lib /Applications/Xcode.app/Contents/Developer/Toolchains/XcodeDefault.xctoolchain/usr/lib/clang/12.0.0/lib /Applications/Xcode.app/Contents/Developer/Platforms/MacOSX.platform/Developer/SDKs/MacOSX.sdk/usr/lib /Applications/Xcode.app/Contents/Developer/Toolchains/XcodeDefault.xctoolchain/usr/lib /opt/local/lib /usr/lib
    libs=-lgdbm -ldbm
    perllibs=
    libc=
    so=dylib
    useshrplib=false
    libperl=libperl.a
    gnulibc_version=''
  Dynamic Linking:
    dlsrc=dl_dlopen.xs
    dlext=bundle
    d_dlsymun=undef
    ccdlflags=' '
    cccdlflags=' '
    lddlflags=' -bundle -undefined dynamic_lookup -L/usr/local/lib -L/opt/local/lib -fstack-protector-strong'


Characteristics of this binary (from libperl): 
  Compile-time options:
    HAS_LONG_DOUBLE
    HAS_STRTOLD
    HAS_TIMES
    PERLIO_LAYERS
    PERL_COPY_ON_WRITE
    PERL_DONT_CREATE_GVSV
    PERL_HASH_FUNC_SIPHASH13
    PERL_HASH_USE_SBOX32
    PERL_MALLOC_WRAP
    PERL_OP_PARENT
    PERL_PRESERVE_IVUV
    PERL_USE_SAFE_PUTENV
    USE_64_BIT_ALL
    USE_64_BIT_INT
    USE_LARGE_FILES
    USE_LOCALE
    USE_LOCALE_COLLATE
    USE_LOCALE_CTYPE
    USE_LOCALE_NUMERIC
    USE_LOCALE_TIME
    USE_PERLIO
    USE_PERL_ATOF
  Built under darwin
  Compiled at Jul 22 2023 11:15:59
  %ENV:
    PERL5LIB=""
    PERL5OPT=""
    PERL5_CPANPLUS_IS_RUNNING="2813"
    PERL5_CPAN_IS_RUNNING="2813"
    PERLBREW_HOME="/Users/njh/.perlbrew"
    PERLBREW_MANPATH="/Users/njh/perl5/perlbrew/perls/perl-5.38.0/man"
    PERLBREW_PATH="/Users/njh/perl5/perlbrew/bin:/Users/njh/perl5/perlbrew/perls/perl-5.38.0/bin"
    PERLBREW_PERL="perl-5.38.0"
    PERLBREW_ROOT="/Users/njh/perl5/perlbrew"
    PERLBREW_SHELLRC_VERSION="0.98"
    PERLBREW_VERSION="0.98"
    PERL_MM_USE_DEFAULT="1"
    PERL_USE_UNSAFE_INC="1"
  @INC:
    /Users/njh/perl5/perlbrew/perls/perl-5.38.0/lib/site_perl/5.38.0/darwin-2level
    /Users/njh/perl5/perlbrew/perls/perl-5.38.0/lib/site_perl/5.38.0
    /Users/njh/perl5/perlbrew/perls/perl-5.38.0/lib/5.38.0/darwin-2level
    /Users/njh/perl5/perlbrew/perls/perl-5.38.0/lib/5.38.0
    .