Back
From: metabase:user:30ae4450-2aae-11df-837a-5e0a49663a4f
Subject: PASS WebService-RTMAgent-0.600 v5.16.2 GNU/Linux
Date: 2014-12-16T15:40:04Z
This distribution has been tested as part of the CPAN Testers
project, supporting the Perl programming language. See
http://wiki.cpantesters.org/ for more information or email
questions to cpan-testers-discuss@perl.org
--
Dear Ricardo SIGNES,
This is a computer-generated report for WebService-RTMAgent-0.600
on perl 5.16.2, created by CPAN-Reporter-1.2009.
Thank you for uploading your work to CPAN. Congratulations!
All tests were successful.
Sections of this report:
* Tester comments
* Program output
* Prerequisites
* Environment and other context
------------------------------
TESTER COMMENTS
------------------------------
Additional comments from tester:
this report is from an automated smoke testing program
and was not reviewed by a human for accuracy
------------------------------
PROGRAM OUTPUT
------------------------------
Output from '/usr/bin/make test':
PERL_DL_NONLAZY=1 /home/c/perl5/perlbrew/perls/perl-5.16.2/bin/perl "-MExtUtils::Command::MM" "-e" "test_harness(0, 'blib/lib', 'blib/arch')" t/*.t
#
#
# Generated by Dist::Zilla::Plugin::ReportVersions::Tiny v1.10
# perl: 5.016002 (wanted any version) on linux from /home/c/perl5/perlbrew/perls/perl-5.16.2/bin/perl
#
# Carp => 1.26 (want any version)
# Data::Dumper => 2.135_06 (want any version)
# Digest::MD5 => 2.52 (want any version)
# English => 1.05 (want any version)
# ExtUtils::MakeMaker => 6.6302 (want 6.30)
# File::Copy => 2.23 (want any version)
# File::Spec => 3.39_02 (want any version)
# File::Temp => 0.22 (want any version)
# HTTP::Response => 6.04 (want any version)
# HTTP::Status => 6.03 (want any version)
# LWP::Protocol::https => 6.03 (want any version)
# LWP::UserAgent => 6.05 (want any version)
# Test::More => 0.98 (want 0.96)
# XML::Simple => 2.20 (want any version)
# base => 2.18 (want any version)
# parent => 0.225 (want any version)
# strict => 1.07 (want any version)
# warnings => 1.13 (want any version)
#
# Thanks for using my code. I hope it works for you.
# If not, please try and include this output in the bug report.
# That will help me reproduce the issue and solve your problem.
#
t/000-report-versions-tiny.t .. ok
frobbed -- getting token
frobbed -- getting token
token token
t/auth.t ...................... ok
t/init.t ...................... ok
request:
POST https://www.rememberthemilk.com/services/rest/
Content-Type: application/x-www-form-urlencoded
method=rtm.tasks.add&nam=adding&api_key=key&auth_token=10438&timeline=114114&api_sig=3340edd30a22e9b2c67ff206283d0b67
response:
HTTP/1.1 200 OK
Connection: keep-alive
Date: Mon, 24 Dec 2007 11:49:10 GMT
Server: nginx/RTM
Vary: Accept-Encoding
Content-Type: text/xml; charset="utf-8"
Client-Date: Mon, 24 Dec 2007 11:50:39 GMT
Client-Peer: 75.126.232.204:80
Client-Response-Num: 1
Client-Transfer-Encoding: chunked
Keep-Alive: timeout=300
<?xml version="1.0" encoding="UTF-8"?>
<rsp stat="fail"><err code="4000" msg="Task name provided is invalid."/></rsp>
t/requests.t .................. ok
t/undo.t ...................... ok
All tests successful.
Files=5, Tests=32, 2 wallclock secs ( 0.01 usr 0.05 sys + 0.59 cusr 0.11 csys = 0.76 CPU)
Result: PASS
------------------------------
PREREQUISITES
------------------------------
Prerequisite modules loaded:
requires:
Module Need Have
-------------------- ---- --------
base 0 2.18
Carp 0 1.26
Data::Dumper 0 2.135_06
Digest::MD5 0 2.52
English 0 1.05
File::Copy 0 2.23
File::Spec 0 3.39_02
File::Temp 0 0.22
HTTP::Response 0 6.04
HTTP::Status 0 6.03
LWP::Protocol::https 0 6.03
LWP::UserAgent 0 6.05
parent 0 0.225
strict 0 1.07
Test::More 0.96 0.98
warnings 0 1.13
XML::Simple 0 2.20
build_requires:
Module Need Have
-------------------- ---- --------
ExtUtils::MakeMaker 0 6.63_02
configure_requires:
Module Need Have
-------------------- ---- --------
ExtUtils::MakeMaker 6.30 6.63_02
------------------------------
ENVIRONMENT AND OTHER CONTEXT
------------------------------
Environment variables:
AUTOMATED_TESTING = 1
LANG = ru_RU.utf8
PATH = /home/c/perl5/perlbrew/bin:/home/c/perl5/perlbrew/perls/perl-5.16.2/bin:/usr/local/bin:/usr/bin:/bin:/usr/local/games:/usr/games
PERL5LIB = /home/c/.cpan/build/File-XDG-0.04-7ClCy4/blib/arch:/home/c/.cpan/build/File-XDG-0.04-7ClCy4/blib/lib:/home/c/.cpan/build/Devel-Pragma-0.60-Aa2iLO/blib/arch:/home/c/.cpan/build/Devel-Pragma-0.60-Aa2iLO/blib/lib:/home/c/.cpan/build/Lexical-SealRequireHints-0.007-NfgXgV/blib/arch:/home/c/.cpan/build/Lexical-SealRequireHints-0.007-NfgXgV/blib/lib:/home/c/.cpan/build/Ubic-1.57-W13Q7O/blib/arch:/home/c/.cpan/build/Ubic-1.57-W13Q7O/blib/lib:/home/c/.cpan/build/ZMQ-Constants-1.04-lZpDjC/blib/arch:/home/c/.cpan/build/ZMQ-Constants-1.04-lZpDjC/blib/lib:/home/c/.cpan/build/Net-IMAP-Client-0.9505-ll1D0E/blib/arch:/home/c/.cpan/build/Net-IMAP-Client-0.9505-ll1D0E/blib/lib
PERL5OPT =
PERL5_CPANPLUS_IS_RUNNING = 12995
PERL5_CPAN_IS_RUNNING = 12995
PERL5_CPAN_IS_RUNNING_IN_RECURSION = 27793,12995
PERLBREW_MANPATH = /home/c/perl5/perlbrew/perls/perl-5.16.2/man
PERLBREW_PATH = /home/c/perl5/perlbrew/bin:/home/c/perl5/perlbrew/perls/perl-5.16.2/bin
PERLBREW_PERL = perl-5.16.2
PERLBREW_ROOT = /home/c/perl5/perlbrew
PERLBREW_SKIP_INIT = 1
PERLBREW_VERSION = 0.58
PERL_CR_SMOKER_CURRENT = Exobrain-Idonethis-1.08
PERL_EXTUTILS_AUTOINSTALL = --defaultdeps
PERL_MM_USE_DEFAULT = 1
SHELL = /bin/bash
TERM = xterm
Perl special variables (and OS-specific diagnostics, for MSWin32):
$^X = /home/c/perl5/perlbrew/perls/perl-5.16.2/bin/perl
$UID/$EUID = 1000 / 1000
$GID = 1000 24 25 27 29 30 44 46 108 109 115 1000 1001
$EGID = 1000 24 25 27 29 30 44 46 108 109 115 1000 1001
Perl module toolchain versions installed:
Module Have
------------------- --------
CPAN 1.9800
CPAN::Meta 2.120921
Cwd 3.39_02
ExtUtils::CBuilder 0.280206
ExtUtils::Command 1.17
ExtUtils::Install 1.58
ExtUtils::MakeMaker 6.63_02
ExtUtils::Manifest 1.61
ExtUtils::ParseXS 3.16
File::Spec 3.39_02
JSON 2.53
JSON::PP 2.27200
Module::Build 0.4004
Module::Signature 0.70
Parse::CPAN::Meta 1.4404
Test::Harness 3.23
Test::More 0.98
YAML 0.84
YAML::Syck 1.22
version 0.9901
--
Summary of my perl5 (revision 5 version 16 subversion 2) configuration:
Platform:
osname=linux, osvers=2.6.32-5-686, archname=i686-linux
uname='linux deb1 2.6.32-5-686 #1 smp sun sep 23 09:49:36 utc 2012 i686 gnulinux '
config_args='-de -Dprefix=/home/c/perl5/perlbrew/perls/perl-5.16.2 -Aeval:scriptdir=/home/c/perl5/perlbrew/perls/perl-5.16.2/bin'
hint=recommended, useposix=true, d_sigaction=define
useithreads=undef, usemultiplicity=undef
useperlio=define, d_sfio=undef, uselargefiles=define, usesocks=undef
use64bitint=undef, use64bitall=undef, uselongdouble=undef
usemymalloc=n, bincompat5005=undef
Compiler:
cc='cc', ccflags ='-fno-strict-aliasing -pipe -fstack-protector -I/usr/local/include -D_LARGEFILE_SOURCE -D_FILE_OFFSET_BITS=64',
optimize='-O2',
cppflags='-fno-strict-aliasing -pipe -fstack-protector -I/usr/local/include'
ccversion='', gccversion='4.4.5', gccosandvers=''
intsize=4, longsize=4, ptrsize=4, doublesize=8, byteorder=1234
d_longlong=define, longlongsize=8, d_longdbl=define, longdblsize=12
ivtype='long', ivsize=4, nvtype='double', nvsize=8, Off_t='off_t', lseeksize=8
alignbytes=4, prototype=define
Linker and Libraries:
ld='cc', ldflags =' -fstack-protector -L/usr/local/lib'
libpth=/usr/local/lib /lib/../lib /usr/lib/../lib /lib /usr/lib /usr/lib/i486-linux-gnu /usr/lib64
libs=-lnsl -ldl -lm -lcrypt -lutil -lc
perllibs=-lnsl -ldl -lm -lcrypt -lutil -lc
libc=/lib/libc-2.11.3.so, so=so, useshrplib=false, libperl=libperl.a
gnulibc_version='2.11.3'
Dynamic Linking:
dlsrc=dl_dlopen.xs, dlext=so, d_dlsymun=undef, ccdlflags='-Wl,-E'
cccdlflags='-fPIC', lddlflags='-shared -O2 -L/usr/local/lib -fstack-protector'
Characteristics of this binary (from libperl):
Compile-time options: HAS_TIMES PERLIO_LAYERS PERL_DONT_CREATE_GVSV
PERL_MALLOC_WRAP PERL_PRESERVE_IVUV USE_LARGE_FILES
USE_LOCALE USE_LOCALE_COLLATE USE_LOCALE_CTYPE
USE_LOCALE_NUMERIC USE_PERLIO USE_PERL_ATOF
Built under linux
Compiled at Jan 4 2013 21:20:12
%ENV:
PERL5LIB="/home/c/.cpan/build/File-XDG-0.04-7ClCy4/blib/arch:/home/c/.cpan/build/File-XDG-0.04-7ClCy4/blib/lib:/home/c/.cpan/build/Devel-Pragma-0.60-Aa2iLO/blib/arch:/home/c/.cpan/build/Devel-Pragma-0.60-Aa2iLO/blib/lib:/home/c/.cpan/build/Lexical-SealRequireHints-0.007-NfgXgV/blib/arch:/home/c/.cpan/build/Lexical-SealRequireHints-0.007-NfgXgV/blib/lib:/home/c/.cpan/build/Ubic-1.57-W13Q7O/blib/arch:/home/c/.cpan/build/Ubic-1.57-W13Q7O/blib/lib:/home/c/.cpan/build/ZMQ-Constants-1.04-lZpDjC/blib/arch:/home/c/.cpan/build/ZMQ-Constants-1.04-lZpDjC/blib/lib:/home/c/.cpan/build/Net-IMAP-Client-0.9505-ll1D0E/blib/arch:/home/c/.cpan/build/Net-IMAP-Client-0.9505-ll1D0E/blib/lib"
PERL5OPT=""
PERL5_CPANPLUS_IS_RUNNING="12995"
PERL5_CPAN_IS_RUNNING="12995"
PERL5_CPAN_IS_RUNNING_IN_RECURSION="27793,12995"
PERLBREW_MANPATH="/home/c/perl5/perlbrew/perls/perl-5.16.2/man"
PERLBREW_PATH="/home/c/perl5/perlbrew/bin:/home/c/perl5/perlbrew/perls/perl-5.16.2/bin"
PERLBREW_PERL="perl-5.16.2"
PERLBREW_ROOT="/home/c/perl5/perlbrew"
PERLBREW_SKIP_INIT="1"
PERLBREW_VERSION="0.58"
PERL_CR_SMOKER_CURRENT="Exobrain-Idonethis-1.08"
PERL_EXTUTILS_AUTOINSTALL="--defaultdeps"
PERL_MM_USE_DEFAULT="1"
@INC:
/home/c/.cpan/build/File-XDG-0.04-7ClCy4/blib/arch
/home/c/.cpan/build/File-XDG-0.04-7ClCy4/blib/lib
/home/c/.cpan/build/Devel-Pragma-0.60-Aa2iLO/blib/arch
/home/c/.cpan/build/Devel-Pragma-0.60-Aa2iLO/blib/lib
/home/c/.cpan/build/Lexical-SealRequireHints-0.007-NfgXgV/blib/arch
/home/c/.cpan/build/Lexical-SealRequireHints-0.007-NfgXgV/blib/lib
/home/c/.cpan/build/Ubic-1.57-W13Q7O/blib/arch
/home/c/.cpan/build/Ubic-1.57-W13Q7O/blib/lib
/home/c/.cpan/build/ZMQ-Constants-1.04-lZpDjC/blib/arch
/home/c/.cpan/build/ZMQ-Constants-1.04-lZpDjC/blib/lib
/home/c/.cpan/build/Net-IMAP-Client-0.9505-ll1D0E/blib/arch
/home/c/.cpan/build/Net-IMAP-Client-0.9505-ll1D0E/blib/lib
/home/c/perl5/perlbrew/perls/perl-5.16.2/lib/site_perl/5.16.2/i686-linux
/home/c/perl5/perlbrew/perls/perl-5.16.2/lib/site_perl/5.16.2
/home/c/perl5/perlbrew/perls/perl-5.16.2/lib/5.16.2/i686-linux
/home/c/perl5/perlbrew/perls/perl-5.16.2/lib/5.16.2
.