Back
From: metabase:user:e83797c6-6da0-1014-84df-33ea7e0f01d3
Subject: PASS Dist-Zilla-Stash-PodWeaver-1.005 v5.14.2
Date: 2013-09-05T09:42:24Z
This distribution has been tested as part of the CPAN Testers
project, supporting the Perl programming language. See
http://wiki.cpantesters.org/ for more information or email
questions to cpan-testers-discuss@perl.org
--
Dear Randy Stauner,
This is a computer-generated report for Dist-Zilla-Stash-PodWeaver-1.005
on perl 5.14.2, created by CPAN-Reporter-1.2010.
Thank you for uploading your work to CPAN. Congratulations!
All tests were successful.
Sections of this report:
* Tester comments
* Program output
* Prerequisites
* Environment and other context
------------------------------
TESTER COMMENTS
------------------------------
Additional comments from tester:
this report is from an automated smoke testing program
and was not reviewed by a human for accuracy
------------------------------
PROGRAM OUTPUT
------------------------------
Output from 'C:\Dwimperl\c\bin\dmake.EXE test':
C:\Dwimperl\perl\bin\perl.exe "-MExtUtils::Command::MM" "-e" "test_harness(0, 'blib\lib', 'blib\arch')" t/*.t
t/00-compile.t ......... ok
# Prerequisite Report:
# Version Module
# ---------- ---------------------------------
# 1.006 Dist::Zilla::Role::Stash::Plugins
# 4.300037 Dist::Zilla::Tester
# 6.74 ExtUtils::MakeMaker
# 1.19 File::Find
# 3.40 File::Spec::Functions
# 0.2301 File::Temp
# 1.32 List::Util
# 2.1005 Moose
# 0.100002 Pod::Coverage::TrustPod
# 3.101638 Pod::Weaver::Config::Assembler
# missing Test::CPAN::Meta
# 1.20110612 Test::MockObject
# 0.98 Test::More
# 1.45 Test::Pod
# 1.08 Test::Pod::Coverage
# 1.04 strict
# 1.12 warnings
t/00-report-prereqs.t .. ok
t/ini-config.t ......... ok
All tests successful.
Files=3, Tests=17, 6 wallclock secs ( 0.06 usr + 0.05 sys = 0.11 CPU)
Result: PASS
------------------------------
PREREQUISITES
------------------------------
Prerequisite modules loaded:
requires:
Module Need Have
--------------------------------- ----- ----------
Dist::Zilla::Role::Stash::Plugins 1.006 1.006
Moose 0 2.1005
Pod::Weaver::Config::Assembler 0 3.101638
strict 0 1.04
warnings 0 1.12
build_requires:
Module Need Have
--------------------------------- ----- ----------
Dist::Zilla::Tester 0 4.300037
ExtUtils::MakeMaker 0 6.74
File::Find 0 1.19
File::Spec::Functions 0 3.40
File::Temp 0 0.2301
List::Util 0 1.32
Test::MockObject 0 1.20110612
Test::More 0 0.98
configure_requires:
Module Need Have
--------------------------------- ----- ----------
ExtUtils::MakeMaker 6.30 6.74
------------------------------
ENVIRONMENT AND OTHER CONTEXT
------------------------------
Environment variables:
AUTOMATED_TESTING = 1
COMSPEC = C:\windows\system32\cmd.exe
NUMBER_OF_PROCESSORS = 8
PATH = C:\windows\system32;C:\windows;C:\windows\System32\Wbem;C:\windows\System32\WindowsPowerShell\v1.0\;C:\Dwimperl\perl\bin;C:\Dwimperl\perl\site\bin;C:\Dwimperl\c\bin;C:\Program Files\Intel\WiFi\bin\;C:\Program Files\Common Files\Intel\WirelessCommon\;C:\Program Files\Mercurial;.;;.;;.;;.;
PERL5LIB =
PERL5OPT =
PERL5_CPANPLUS_IS_RUNNING = 7084
PERL5_CPAN_IS_RUNNING = 7084
PERL5_CPAN_IS_RUNNING_IN_RECURSION = 9592,7084
PERL_CR_SMOKER_CURRENT = Dist-Zilla-PluginBundle-DOY-0.14
PERL_EXTUTILS_AUTOINSTALL = --defaultdeps
PERL_MM_USE_DEFAULT = 1
PROCESSOR_IDENTIFIER = Intel64 Family 6 Model 42 Stepping 7, GenuineIntel
TEMP = C:\Users\lithron\AppData\Local\Temp
Perl special variables (and OS-specific diagnostics, for MSWin32):
$^X = C:\Dwimperl\perl\bin\perl.exe
$UID/$EUID = 0 / 0
$GID = 0
$EGID = 0
Win32::GetOSName = Win7
Win32::GetOSVersion = Service Pack 1, 6, 1, 7601, 2, 1, 0, 768, 1
Win32::FsType = NTFS
Win32::IsAdminUser = 0
Perl module toolchain versions installed:
Module Have
------------------- --------
CPAN 2.00
CPAN::Meta 2.132140
Cwd 3.40
ExtUtils::CBuilder 0.280205
ExtUtils::Command 1.17
ExtUtils::Install 1.56
ExtUtils::MakeMaker 6.74
ExtUtils::Manifest 1.61
ExtUtils::ParseXS 3.22
File::Spec 3.40
JSON 2.59
JSON::PP 2.27202
Module::Build 0.4007
Module::Signature 0.73
Parse::CPAN::Meta 1.4405
Test::Harness 3.23
Test::More 0.98
YAML 0.84
YAML::Syck 1.27
version 0.9903
--
Summary of my perl5 (revision 5 version 14 subversion 2) configuration:
Platform:
osname=MSWin32, osvers=4.0, archname=MSWin32-x86-multi-thread
uname='Win32 strawberryperl 5.14.2.1 #1 Tue Nov 22 21:00:59 2011 i386'
config_args='undef'
hint=recommended, useposix=true, d_sigaction=undef
useithreads=define, usemultiplicity=define
useperlio=define, d_sfio=undef, uselargefiles=define, usesocks=undef
use64bitint=undef, use64bitall=undef, uselongdouble=undef
usemymalloc=n, bincompat5005=undef
Compiler:
cc='gcc', ccflags =' -s -O2 -DWIN32 -DPERL_TEXTMODE_SCRIPTS -DUSE_SITECUSTOMIZE -DPERL_IMPLICIT_CONTEXT -DPERL_IMPLICIT_SYS -fno-strict-aliasing -mms-bitfields',
optimize='-s -O2',
cppflags='-DWIN32'
ccversion='', gccversion='4.4.7', gccosandvers=''
intsize=4, longsize=4, ptrsize=4, doublesize=8, byteorder=1234
d_longlong=undef, longlongsize=8, d_longdbl=define, longdblsize=12
ivtype='long', ivsize=4, nvtype='double', nvsize=8, Off_t='long long', lseeksize=8
alignbytes=8, prototype=define
Linker and Libraries:
ld='g++', ldflags ='-s -L"C:\Dwimperl\perl\lib\CORE" -L"C:\Dwimperl\c\lib"'
libpth=C:\Dwimperl\c\lib C:\Dwimperl\c\i686-w64-mingw32\lib
libs=-lmoldname -lkernel32 -luser32 -lgdi32 -lwinspool -lcomdlg32 -ladvapi32 -lshell32 -lole32 -loleaut32 -lnetapi32 -luuid -lws2_32 -lmpr -lwinmm -lversion -lodbc32 -lodbccp32 -lcomctl32
perllibs=-lmoldname -lkernel32 -luser32 -lgdi32 -lwinspool -lcomdlg32 -ladvapi32 -lshell32 -lole32 -loleaut32 -lnetapi32 -luuid -lws2_32 -lmpr -lwinmm -lversion -lodbc32 -lodbccp32 -lcomctl32
libc=, so=dll, useshrplib=true, libperl=libperl514.a
gnulibc_version=''
Dynamic Linking:
dlsrc=dl_win32.xs, dlext=dll, d_dlsymun=undef, ccdlflags=' '
cccdlflags=' ', lddlflags='-mdll -s -L"C:\Dwimperl\perl\lib\CORE" -L"C:\Dwimperl\c\lib"'
Characteristics of this binary (from libperl):
Compile-time options: MULTIPLICITY PERL_DONT_CREATE_GVSV
PERL_IMPLICIT_CONTEXT PERL_IMPLICIT_SYS
PERL_MALLOC_WRAP PERL_PRESERVE_IVUV PL_OP_SLAB_ALLOC
USE_ITHREADS USE_LARGE_FILES USE_PERLIO USE_PERL_ATOF
USE_SITECUSTOMIZE
Built under MSWin32
Compiled at Nov 22 2011 21:13:28
%ENV:
PERL5_CPANPLUS_IS_RUNNING="7084"
PERL5_CPAN_IS_RUNNING="7084"
PERL5_CPAN_IS_RUNNING_IN_RECURSION="9592,7084"
PERL_CR_SMOKER_CURRENT="Dist-Zilla-PluginBundle-DOY-0.14"
PERL_EXTUTILS_AUTOINSTALL="--defaultdeps"
PERL_MM_USE_DEFAULT="1"
@INC:
C:/Dwimperl/perl/site/lib
C:/Dwimperl/perl/vendor/lib
C:/Dwimperl/perl/lib
.