File-MultiTemp vv0.1.5 Perl 5 v5.30.3 amd64-freebsd

Status
Pass
From
Slaven Rezić
Dist
File-MultiTemp vv0.1.5
Platform
Perl 5 v5.30.3 amd64-freebsd
Date
2023-04-17 14:33:22
ID
cdfd19b8-dd2c-11ed-947d-7a446e8775ea
This distribution has been tested as part of the CPAN Testers
project, supporting the Perl programming language.  See
http://wiki.cpantesters.org/ for more information or email
questions to cpan-testers-discuss@perl.org


--
Dear Robert Rothenberg,

This is a computer-generated report for File-MultiTemp-v0.1.5
on perl 5.30.3, created by CPAN-Reporter-1.2018.

Thank you for uploading your work to CPAN.  Congratulations!
All tests were successful.

Sections of this report:

    * Tester comments
    * Program output
    * Prerequisites
    * Environment and other context

------------------------------
TESTER COMMENTS
------------------------------

Additional comments from tester:

none provided

------------------------------
PROGRAM OUTPUT
------------------------------

Output from '/usr/bin/make test':

PERL_DL_NONLAZY=1 "/usr/perl5.30.3p/bin/perl5.30.3" "-MExtUtils::Command::MM" "-MTest::Harness" "-e" "undef *Test::Harness::Switches; test_harness(0, 'blib/lib', 'blib/arch')" t/*.t
# 
# Versions for all modules listed in MYMETA.json (including optional ones):
# 
# === Configure Requires ===
# 
#     Module              Want Have
#     ------------------- ---- ----
#     ExtUtils::MakeMaker  any 7.70
# 
# === Build Requires ===
# 
#     Module              Want Have
#     ------------------- ---- ----
#     ExtUtils::MakeMaker  any 7.70
# 
# === Test Requires ===
# 
#     Module             Want     Have
#     ----------------- ----- --------
#     File::Spec          any     3.78
#     Module::Metadata    any 1.000037
#     Path::Tiny        0.101    0.144
#     Test::Differences   any     0.68
#     Test::More          any 1.302192
#     Test::Most          any     0.38
#     strict              any     1.11
#     warnings            any     1.44
# 
# === Test Recommends ===
# 
#     Module         Want     Have
#     ---------- -------- --------
#     CPAN::Meta 2.120900 2.150010
# 
# === Runtime Requires ===
# 
#     Module                 Want     Have
#     --------------------- ----- --------
#     Fcntl                   any     1.13
#     List::Util             1.29     1.63
#     Moo                     any 2.005005
#     Path::Tiny            0.101    0.144
#     PerlX::Maybe            any    1.201
#     Scalar::Util            any     1.63
#     Types::Common::String   any 2.004000
#     Types::Path::Tiny       any    0.006
#     Types::Standard         any 2.004000
#     namespace::autoclean    any     0.29
# 
# === Runtime Recommends ===
# 
#     Module         Want  Have
#     -------------- ---- -----
#     Type::Tiny::XS  any 0.025
# 
t/00-report-prereqs.t ........ ok
t/01-basic.t ................. ok
t/author-clean-namespaces.t .. skipped: these tests are for testing by the author
t/author-critic.t ............ skipped: these tests are for testing by the author
t/author-eof.t ............... skipped: these tests are for testing by the author
t/author-eol.t ............... skipped: these tests are for testing by the author
t/author-minimum-version.t ... skipped: these tests are for testing by the author
t/author-no-tabs.t ........... skipped: these tests are for testing by the author
t/author-pod-coverage.t ...... skipped: these tests are for testing by the author
t/author-pod-linkcheck.t ..... skipped: these tests are for testing by the author
t/author-pod-syntax.t ........ skipped: these tests are for testing by the author
t/author-portability.t ....... skipped: these tests are for testing by the author
t/release-check-manifest.t ... skipped: these tests are for release candidate testing
t/release-fixme.t ............ skipped: these tests are for release candidate testing
t/release-kwalitee.t ......... skipped: these tests are for release candidate testing
t/release-trailing-space.t ... skipped: these tests are for release candidate testing
All tests successful.
Files=16, Tests=20,  1 wallclock secs ( 0.08 usr  0.04 sys +  0.44 cusr  0.22 csys =  0.77 CPU)
Result: PASS

------------------------------
PREREQUISITES
------------------------------

Prerequisite modules loaded:

requires:

    Module                Need     Have    
    --------------------- -------- --------
    Fcntl                 0        1.13    
    List::Util            1.29     1.63    
    Moo                   0        2.005005
    namespace::autoclean  0        0.29    
    Path::Tiny            0.101    0.144   
    perl                  5.014000 5.030003
    PerlX::Maybe          0        1.201   
    Scalar::Util          0        1.63    
    Types::Common::String 0        2.004000
    Types::Path::Tiny     0        0.006   
    Types::Standard       0        2.004000

build_requires:

    Module                Need     Have    
    --------------------- -------- --------
    ExtUtils::MakeMaker   0        7.70    
    File::Spec            0        3.78    
    Module::Metadata      0        1.000037
    Path::Tiny            0.101    0.144   
    strict                0        1.11    
    Test::Differences     0        0.68    
    Test::More            0        1.302192
    Test::Most            0        0.38    
    warnings              0        1.44    

configure_requires:

    Module                Need     Have    
    --------------------- -------- --------
    ExtUtils::MakeMaker   0        7.70    


------------------------------
ENVIRONMENT AND OTHER CONTEXT
------------------------------

Environment variables:

    PATH = /usr/local/bin:/usr/bin:/bin:/usr/local/sbin:/usr/sbin:/sbin:/home/cpansand/bin/sh:/home/cpansand/bin:/usr/games:/home/cpansand/devel:/usr/home/eserte/src/srezic-misc/scripts
    PERL5LIB = 
    PERL5OPT = 
    PERL5_CPANPLUS_IS_RUNNING = 73518
    PERL5_CPAN_IS_RUNNING = 73518
    PERL5_CPAN_IS_RUNNING_IN_RECURSION = 72912,73518
    PERL_BATCH = yes
    PERL_CANARY_STABILITY_NOPROMPT = 1
    PERL_CPAN_REPORTER_CONFIG = /var/tmp/cpansmoker-1023/2023041714/cpanreporter_000_config.ini
    PERL_EXTUTILS_AUTOINSTALL = --defaultdeps
    PERL_USE_UNSAFE_INC = 1
    SHELL = /bin/sh
    TMPDIR = /var/tmp/cpansmoker-1023/2023041714

Perl special variables (and OS-specific diagnostics, for MSWin32):

    $^X = /usr/perl5.30.3p/bin/perl5.30.3
    $UID/$EUID = 1023 / 1023
    $GID = 1023 1023
    $EGID = 1023 1023

Perl module toolchain versions installed:

    Module              Have    
    ------------------- --------
    CPAN                2.29    
    CPAN::Meta          2.150010
    Cwd                 3.78    
    ExtUtils::CBuilder  0.280236
    ExtUtils::Command   7.70    
    ExtUtils::Install   2.20    
    ExtUtils::MakeMaker 7.70    
    ExtUtils::Manifest  1.72    
    ExtUtils::ParseXS   3.40    
    File::Spec          3.78    
    JSON                4.10    
    JSON::PP            4.15    
    Module::Build       0.4232  
    Module::Signature   0.88    
    Parse::CPAN::Meta   2.150010
    Test::Harness       3.42    
    Test::More          1.302192
    YAML                1.30    
    YAML::Syck          1.34    
    version             0.9929  


--

Summary of my perl5 (revision 5 version 30 subversion 3) configuration:
   
  Platform:
    osname=freebsd
    osvers=12.1-stable
    archname=amd64-freebsd
    uname='freebsd cloud1.bbbike.org 12.1-stable freebsd 12.1-stable c3d9189e4c2(stable12) generic amd64 '
    config_args='-ds -e -Dprefix=/usr/perl5.30.3p -Dcf_email=srezic@cpan.org -Doptimize=-O2 -pipe'
    hint=recommended
    useposix=true
    d_sigaction=define
    useithreads=undef
    usemultiplicity=undef
    use64bitint=define
    use64bitall=define
    uselongdouble=undef
    usemymalloc=n
    default_inc_excludes_dot=define
    bincompat5005=undef
  Compiler:
    cc='cc'
    ccflags ='-DHAS_FPSETMASK -DHAS_FLOATINGPOINT_H -fno-strict-aliasing -pipe -fstack-protector-strong -I/usr/local/include'
    optimize='-O2 -pipe'
    cppflags='-DHAS_FPSETMASK -DHAS_FLOATINGPOINT_H -fno-strict-aliasing -pipe -fstack-protector-strong -I/usr/local/include'
    ccversion=''
    gccversion='FreeBSD Clang 10.0.0 (git@github.com:llvm/llvm-project.git llvmorg-10.0.0-0-gd32170dbd5b)'
    gccosandvers=''
    intsize=4
    longsize=8
    ptrsize=8
    doublesize=8
    byteorder=12345678
    doublekind=3
    d_longlong=define
    longlongsize=8
    d_longdbl=define
    longdblsize=16
    longdblkind=3
    ivtype='long'
    ivsize=8
    nvtype='double'
    nvsize=8
    Off_t='off_t'
    lseeksize=8
    alignbytes=8
    prototype=define
  Linker and Libraries:
    ld='cc'
    ldflags ='-pthread -Wl,-E  -fstack-protector-strong -L/usr/local/lib'
    libpth=/usr/lib /usr/local/lib /usr/lib/clang/10.0.0/lib /usr/lib
    libs=-lpthread -lgdbm -ldl -lm -lcrypt -lutil -lc
    perllibs=-lpthread -ldl -lm -lcrypt -lutil -lc
    libc=
    so=so
    useshrplib=false
    libperl=libperl.a
    gnulibc_version=''
  Dynamic Linking:
    dlsrc=dl_dlopen.xs
    dlext=so
    d_dlsymun=undef
    ccdlflags=' '
    cccdlflags='-DPIC -fPIC'
    lddlflags='-shared  -L/usr/local/lib -fstack-protector-strong'


Characteristics of this binary (from libperl): 
  Compile-time options:
    HAS_TIMES
    PERLIO_LAYERS
    PERL_COPY_ON_WRITE
    PERL_DONT_CREATE_GVSV
    PERL_MALLOC_WRAP
    PERL_OP_PARENT
    PERL_PRESERVE_IVUV
    USE_64_BIT_ALL
    USE_64_BIT_INT
    USE_LARGE_FILES
    USE_LOCALE
    USE_LOCALE_COLLATE
    USE_LOCALE_CTYPE
    USE_LOCALE_NUMERIC
    USE_LOCALE_TIME
    USE_PERLIO
    USE_PERL_ATOF
  Built under freebsd
  Compiled at Jul  6 2020 19:02:57
  %ENV:
    PERL5LIB=""
    PERL5OPT=""
    PERL5_CPANPLUS_IS_RUNNING="73518"
    PERL5_CPAN_IS_RUNNING="73518"
    PERL5_CPAN_IS_RUNNING_IN_RECURSION="72912,73518"
    PERL_BATCH="yes"
    PERL_CANARY_STABILITY_NOPROMPT="1"
    PERL_CPAN_REPORTER_CONFIG="/var/tmp/cpansmoker-1023/2023041714/cpanreporter_000_config.ini"
    PERL_EXTUTILS_AUTOINSTALL="--defaultdeps"
    PERL_USE_UNSAFE_INC="1"
  @INC:
    /usr/perl5.30.3p/lib/site_perl/5.30.3/amd64-freebsd
    /usr/perl5.30.3p/lib/site_perl/5.30.3
    /usr/perl5.30.3p/lib/5.30.3/amd64-freebsd
    /usr/perl5.30.3p/lib/5.30.3
    .