Report for Data-TreeValidator-0.04

Back
From: metabase:user:31d414ea-2aae-11df-837a-5e0a49663a4f
Subject: PASS Data-TreeValidator-0.04 v5.12.4 GNU/Linux
Date: 2012-07-16T19:38:22Z

This distribution has been tested as part of the CPAN Testers
project, supporting the Perl programming language.  See
http://wiki.cpantesters.org/ for more information or email
questions to cpan-testers-discuss@perl.org


--
Dear Oliver Charles,

This is a computer-generated report for Data-TreeValidator-0.04
on perl 5.12.4, created by CPAN-Reporter-1.2002.

Thank you for uploading your work to CPAN.  Congratulations!
All tests were successful.

Sections of this report:

    * Tester comments
    * Program output
    * Prerequisites
    * Environment and other context

------------------------------
TESTER COMMENTS
------------------------------

Additional comments from tester:

this report is from an automated smoke testing program
and was not reviewed by a human for accuracy

------------------------------
PROGRAM OUTPUT
------------------------------

Output from '/usr/bin/make test':

PERL_DL_NONLAZY=1 /home/david/cpantesting/perl-5.12.4/bin/perl "-MExtUtils::Command::MM" "-e" "test_harness(0, 'blib/lib', 'blib/arch')" t/*.t t/Tests/Data/TreeValidator/*.t t/Tests/Data/TreeValidator/Result/*.t t/functional/*.t
t/functional/artist.t ......................... ok
t/functional/login.t .......................... ok
t/release-no-tabs.t ........................... skipped: these tests are for release candidate testing
t/release-pod-coverage.t ...................... skipped: these tests are for release candidate testing
t/release-pod-syntax.t ........................ skipped: these tests are for release candidate testing
t/Tests/Data/TreeValidator/Branch.t ........... ok
t/Tests/Data/TreeValidator/Constraints.t ...... ok
t/Tests/Data/TreeValidator/Leaf.t ............. ok
t/Tests/Data/TreeValidator/RepeatingBranch.t .. ok
t/Tests/Data/TreeValidator/Result/Branch.t .... ok
t/Tests/Data/TreeValidator/Result/Leaf.t ...... ok
t/Tests/Data/TreeValidator/Sugar.t ............ ok
All tests successful.
Files=12, Tests=13, 18 wallclock secs ( 0.04 usr  0.04 sys +  3.22 cusr  0.22 csys =  3.52 CPU)
Result: PASS

------------------------------
PREREQUISITES
------------------------------

Prerequisite modules loaded:

requires:

    Module                    Need     Have    
    ------------------------- -------- --------
    aliased                   0.30     0.30    
    CGI::Expand               2.02     2.03    
    Moose                     1.16     2.0603  
    MooseX::Params::Validate  0.14     0.16    
    MooseX::Types             0.24     0.35    
    MooseX::Types::Structured 0.23     0.28    
    namespace::autoclean      0.11     0.13    
    Set::Object               0        1.28    
    Sub::Exporter             0.982    0.982   
    Throwable                 0.102080 0.102080
    Try::Tiny                 0.07     0.11    

build_requires:

    Module                    Need     Have    
    ------------------------- -------- --------
    Moose                     1.16     2.0603  
    Test::Fatal               0.003    0.010   
    Test::More                0.96     0.98    
    Test::Routine             0.004    0.015   

configure_requires:

    Module                    Need     Have    
    ------------------------- -------- --------
    ExtUtils::MakeMaker       6.30     6.62    


------------------------------
ENVIRONMENT AND OTHER CONTEXT
------------------------------

Environment variables:

    AUTOMATED_TESTING = 1
    PATH = /usr/local/bin:/usr/bin:/bin:/usr/games
    PERL5LIB = 
    PERL5OPT = 
    PERL5_CPANPLUS_IS_RUNNING = 21527
    PERL5_CPAN_IS_RUNNING = 21527
    PERLVER = 5.12.4
    PERL_INLINE_DIRECTORY = /home/david/.Inline-5.12.4
    SHELL = /bin/bash
    TERM = screen

Perl special variables (and OS-specific diagnostics, for MSWin32):

    $^X = /home/david/cpantesting/perl-5.12.4/bin/perl
    $UID/$EUID = 1000 / 1000
    $GID = 1000 1000
    $EGID = 1000 1000

Perl module toolchain versions installed:

    Module              Have    
    ------------------- --------
    CPAN                1.94_56 
    CPAN::Meta          2.120921
    Cwd                 3.31    
    ExtUtils::CBuilder  0.27    
    ExtUtils::Command   1.16    
    ExtUtils::Install   1.55    
    ExtUtils::MakeMaker 6.62    
    ExtUtils::Manifest  1.58    
    ExtUtils::ParseXS   2.21    
    File::Spec          3.31_01 
    JSON                2.53    
    JSON::PP            2.27200 
    Module::Build       0.4001  
    Module::Signature   n/a     
    Parse::CPAN::Meta   1.4404  
    Test::Harness       3.25    
    Test::More          0.98    
    YAML                0.84    
    YAML::Syck          1.20    
    version             0.99    


--

Summary of my perl5 (revision 5 version 12 subversion 4) configuration:
   
  Platform:
    osname=linux, osvers=2.6.18-4-xen-amd64, archname=x86_64-linux-thread-multi
    uname='linux pigsty.barnyard.co.uk 2.6.18-4-xen-amd64 #1 smp fri may 4 02:40:51 utc 2007 x86_64 gnulinux '
    config_args='-de -Dprefix=/home/david/cpantesting/perl-5.12.4 -Dusethreads -Duse64bitall'
    hint=recommended, useposix=true, d_sigaction=define
    useithreads=define, usemultiplicity=define
    useperlio=define, d_sfio=undef, uselargefiles=define, usesocks=undef
    use64bitint=define, use64bitall=define, uselongdouble=undef
    usemymalloc=n, bincompat5005=undef
  Compiler:
    cc='cc', ccflags ='-D_REENTRANT -D_GNU_SOURCE -fno-strict-aliasing -pipe -fstack-protector -I/usr/local/include -D_LARGEFILE_SOURCE -D_FILE_OFFSET_BITS=64',
    optimize='-O2',
    cppflags='-D_REENTRANT -D_GNU_SOURCE -fno-strict-aliasing -pipe -fstack-protector -I/usr/local/include'
    ccversion='', gccversion='4.1.2 20061115 (prerelease) (Debian 4.1.1-21)', gccosandvers=''
    intsize=4, longsize=8, ptrsize=8, doublesize=8, byteorder=12345678
    d_longlong=define, longlongsize=8, d_longdbl=define, longdblsize=16
    ivtype='long', ivsize=8, nvtype='double', nvsize=8, Off_t='off_t', lseeksize=8
    alignbytes=8, prototype=define
  Linker and Libraries:
    ld='cc', ldflags =' -fstack-protector -L/usr/local/lib'
    libpth=/usr/local/lib /lib /usr/lib /lib64 /usr/lib64
    libs=-lnsl -lgdbm -ldb -ldl -lm -lcrypt -lutil -lpthread -lc -lgdbm_compat
    perllibs=-lnsl -ldl -lm -lcrypt -lutil -lpthread -lc
    libc=/lib/libc-2.3.6.so, so=so, useshrplib=false, libperl=libperl.a
    gnulibc_version='2.3.6'
  Dynamic Linking:
    dlsrc=dl_dlopen.xs, dlext=so, d_dlsymun=undef, ccdlflags='-Wl,-E'
    cccdlflags='-fPIC', lddlflags='-shared -O2 -L/usr/local/lib -fstack-protector'


Characteristics of this binary (from libperl): 
  Compile-time options: MULTIPLICITY PERL_DONT_CREATE_GVSV
                        PERL_IMPLICIT_CONTEXT PERL_MALLOC_WRAP USE_64_BIT_ALL
                        USE_64_BIT_INT USE_ITHREADS USE_LARGE_FILES
                        USE_PERLIO USE_PERL_ATOF USE_REENTRANT_API
  Built under linux
  Compiled at Aug 17 2011 15:24:51
  %ENV:
    PERL5LIB=""
    PERL5OPT=""
    PERL5_CPANPLUS_IS_RUNNING="21527"
    PERL5_CPAN_IS_RUNNING="21527"
    PERLVER="5.12.4"
    PERL_INLINE_DIRECTORY="/home/david/.Inline-5.12.4"
  @INC:
    /home/david/cpantesting/perl-5.12.4/lib/site_perl/5.12.4/x86_64-linux-thread-multi
    /home/david/cpantesting/perl-5.12.4/lib/site_perl/5.12.4
    /home/david/cpantesting/perl-5.12.4/lib/5.12.4/x86_64-linux-thread-multi
    /home/david/cpantesting/perl-5.12.4/lib/5.12.4
    .