Intertangle-API-Kiwisolver v0.001 Perl 5 v5.36.0 x86_64-linux
- Status
- Pass
- From
- Andreas J. König (ANDK)
- Dist
-
Intertangle-API-Kiwisolver v0.001
- Platform
- Perl 5 v5.36.0 x86_64-linux
- Date
- 2022-06-18 08:15:23
- ID
- cd7cbef4-eede-11ec-afb2-e25dcafa55a7
This distribution has been tested as part of the CPAN Testers
project, supporting the Perl programming language. See
http://wiki.cpantesters.org/ for more information or email
questions to cpan-testers-discuss@perl.org
--
Dear Zakariyya Mughal,
This is a computer-generated report for Intertangle-API-Kiwisolver-0.001
on perl 5.36.0, created by CPAN-Reporter-1.2018.
Thank you for uploading your work to CPAN. Congratulations!
All tests were successful.
Sections of this report:
* Tester comments
* Program output
* Prerequisites
* Environment and other context
------------------------------
TESTER COMMENTS
------------------------------
Additional comments from tester:
this report is from an automated smoke testing program
and was not reviewed by a human for accuracy
------------------------------
PROGRAM OUTPUT
------------------------------
Output from '/usr/bin/make test':
"/tmp/basesmoker-reloperl-QPlg/bin/perl" -MExtUtils::Command::MM -e 'cp_nonempty' -- Kiwisolver.bs blib/arch/auto/Intertangle/API/Kiwisolver/Kiwisolver.bs 644
PERL_DL_NONLAZY=1 "/tmp/basesmoker-reloperl-QPlg/bin/perl" "-MExtUtils::Command::MM" "-MTest::Harness" "-e" "undef *Test::Harness::Switches; test_harness(0, 'blib/lib', 'blib/arch')" t/*.t t/Intertangle/API/Kiwisolver/*.t t/benchmark/cassowary/*.t
t/benchmark/cassowary/chain.t .................. ok
t/benchmark/cassowary/graphical-binary-tree.t .. ok
t/benchmark/cassowary/star.t ................... ok
t/benchmark/cassowary/tree.t ................... ok
t/Intertangle/API/Kiwisolver/Expression.t ...... ok
t/Intertangle/API/Kiwisolver/Variable.t ........ ok
t/solve-example.t .............................. ok
t/symbolics.t .................................. ok
All tests successful.
Files=8, Tests=11, 2 wallclock secs ( 0.03 usr 0.01 sys + 2.06 cusr 0.27 csys = 2.37 CPU)
Result: PASS
------------------------------
PREREQUISITES
------------------------------
Prerequisite modules loaded:
requires:
Module Need Have
--------------------------------- ------ ----------
next::XS v1.0.7 1.0.7
overload 0 1.35
perl 5.008 5.036000
Renard::Incunabula::Common::Setup 0 0.005
XS::Framework v1.5.2 1.5.2
XS::Install v1.3.5 1.3.5
XS::libpanda v1.5.8 1.5.8
XS::Loader 0 0
build_requires:
Module Need Have
--------------------------------- ------ ----------
aliased 0 0.34
constant 0 1.33
Data::Perl 0 0.002011
lib 0 0.65
MooX::HandlesVia 0 0.001009
MooX::InsideOut 0 0.001004
Mu 0 1.191300
Path::Tiny 0 0.122
SVG 0 2.87
Test::Deep 0 1.130
Test::More 0 1.302190
Test::Most 0 0.37
Test::Simple 0.96 1.302190
configure_requires:
Module Need Have
--------------------------------- ------ ----------
Alien::Kiwisolver 0 0.003
ExtUtils::MakeMaker 0 7.64
List::UtilsBy 0 0.12
Modern::Perl 0 1.20220515
perl 5.004 5.036000
XS::Framework 0 1.5.2
------------------------------
ENVIRONMENT AND OTHER CONTEXT
------------------------------
Environment variables:
AUTOMATED_TESTING = 1
LANG = en_US.UTF-8
LC_ADDRESS = de_DE.UTF-8
LC_IDENTIFICATION = de_DE.UTF-8
LC_MEASUREMENT = de_DE.UTF-8
LC_MONETARY = de_DE.UTF-8
LC_NAME = de_DE.UTF-8
LC_NUMERIC = de_DE.UTF-8
LC_PAPER = de_DE.UTF-8
LC_TELEPHONE = de_DE.UTF-8
LC_TIME = de_DE.UTF-8
PATH = /home/sand/bin:/usr/local/bin:/usr/local/sbin:/usr/sbin:/usr/bin:/sbin:/bin:/usr/games:/usr/local/games:/snap/bin:/usr/local/perl/bin:/usr/X11/bin
PERL = /tmp/basesmoker-reloperl-QPlg/bin/perl
PERL5LIB = /tmp/loop_over_bdir-141033-rAkQU3/perl-Hardware-UPS-Perl-0.43-0/blib/arch:/tmp/loop_over_bdir-141033-rAkQU3/perl-Hardware-UPS-Perl-0.43-0/blib/lib:/tmp/loop_over_bdir-141033-rAkQU3/Sysync-0.35-0/blib/arch:/tmp/loop_over_bdir-141033-rAkQU3/Sysync-0.35-0/blib/lib
PERL5OPT =
PERL5_CPANPLUS_IS_RUNNING = 141042
PERL5_CPAN_IS_RUNNING = 141042
PERL_CANARY_STABILITY_NOPROMPT = 1
PERL_MM_USE_DEFAULT = 1
PERL_USE_UNSAFE_INC = 1
SHELL = /usr/bin/zsh
TERM = screen
Perl special variables (and OS-specific diagnostics, for MSWin32):
$^X = /tmp/basesmoker-reloperl-QPlg/bin/perl
$UID/$EUID = 1005 / 1005
$GID = 1005 1005
$EGID = 1005 1005
Perl module toolchain versions installed:
Module Have
------------------- --------
CPAN 2.34
CPAN::Meta 2.150010
Cwd 3.84
ExtUtils::CBuilder 0.280236
ExtUtils::Command 7.64
ExtUtils::Install 2.20
ExtUtils::MakeMaker 7.64
ExtUtils::Manifest 1.73
ExtUtils::ParseXS 3.45
File::Spec 3.84
JSON 4.06
JSON::PP 4.09
Module::Build 0.4231
Module::Signature 0.88
Parse::CPAN::Meta 2.150010
Test::Harness 3.44
Test::More 1.302190
YAML 1.30
YAML::Syck 1.34
version 0.9929
--
Summary of my perl5 (revision 5 version 36 subversion 0) configuration:
Commit id: b3c502b607191da0e743a4fa34501a05442305b3
Platform:
osname=linux
osvers=5.15.0-39-generic
archname=x86_64-linux
uname='linux k93jammy 5.15.0-39-generic #42-ubuntu smp thu jun 9 23:42:32 utc 2022 x86_64 x86_64 x86_64 gnulinux '
config_args='-Dprefix=/home/sand/src/perl/repoperls/installed-perls/host/k93jammy/v5.36.0/6567 -Dmyhostname=k93jammy -Dinstallusrbinperl=n -Uversiononly -Dusedevel -des -Ui_db -Dlibswanted=cl pthread socket inet nsl gdbm dbm malloc dl ld sun m crypt sec util c cposix posix ucb BSD gdbm_compat -Uuseithreads -Uuselongdouble -DEBUGGING=-g'
hint=recommended
useposix=true
d_sigaction=define
useithreads=undef
usemultiplicity=undef
use64bitint=define
use64bitall=define
uselongdouble=undef
usemymalloc=n
default_inc_excludes_dot=define
Compiler:
cc='cc'
ccflags ='-fwrapv -fno-strict-aliasing -pipe -fstack-protector-strong -I/usr/local/include -D_LARGEFILE_SOURCE -D_FILE_OFFSET_BITS=64'
optimize='-O2 -g'
cppflags='-fwrapv -fno-strict-aliasing -pipe -fstack-protector-strong -I/usr/local/include'
ccversion=''
gccversion='11.2.0'
gccosandvers=''
intsize=4
longsize=8
ptrsize=8
doublesize=8
byteorder=12345678
doublekind=3
d_longlong=define
longlongsize=8
d_longdbl=define
longdblsize=16
longdblkind=3
ivtype='long'
ivsize=8
nvtype='double'
nvsize=8
Off_t='off_t'
lseeksize=8
alignbytes=8
prototype=define
Linker and Libraries:
ld='cc'
ldflags =' -fstack-protector-strong -L/usr/local/lib'
libpth=/usr/local/lib /usr/lib/x86_64-linux-gnu /usr/lib /usr/lib64
libs=-lpthread -lnsl -ldl -lm -lcrypt -lutil -lc
perllibs=-lpthread -lnsl -ldl -lm -lcrypt -lutil -lc
libc=/lib/x86_64-linux-gnu/libc.so.6
so=so
useshrplib=false
libperl=libperl.a
gnulibc_version='2.35'
Dynamic Linking:
dlsrc=dl_dlopen.xs
dlext=so
d_dlsymun=undef
ccdlflags='-Wl,-E'
cccdlflags='-fPIC'
lddlflags='-shared -O2 -g -L/usr/local/lib -fstack-protector-strong'
Characteristics of this binary (from libperl):
Compile-time options:
HAS_TIMES
PERLIO_LAYERS
PERL_COPY_ON_WRITE
PERL_DONT_CREATE_GVSV
PERL_MALLOC_WRAP
PERL_OP_PARENT
PERL_PRESERVE_IVUV
PERL_USE_DEVEL
USE_64_BIT_ALL
USE_64_BIT_INT
USE_LARGE_FILES
USE_LOCALE
USE_LOCALE_COLLATE
USE_LOCALE_CTYPE
USE_LOCALE_NUMERIC
USE_LOCALE_TIME
USE_PERLIO
USE_PERL_ATOF
Built under linux
Compiled at Jun 16 2022 19:28:47
%ENV:
PERL="/tmp/basesmoker-reloperl-QPlg/bin/perl"
PERL5LIB="/tmp/loop_over_bdir-141033-rAkQU3/perl-Hardware-UPS-Perl-0.43-0/blib/arch:/tmp/loop_over_bdir-141033-rAkQU3/perl-Hardware-UPS-Perl-0.43-0/blib/lib:/tmp/loop_over_bdir-141033-rAkQU3/Sysync-0.35-0/blib/arch:/tmp/loop_over_bdir-141033-rAkQU3/Sysync-0.35-0/blib/lib"
PERL5OPT=""
PERL5_CPANPLUS_IS_RUNNING="141042"
PERL5_CPAN_IS_RUNNING="141042"
PERL_CANARY_STABILITY_NOPROMPT="1"
PERL_MM_USE_DEFAULT="1"
PERL_USE_UNSAFE_INC="1"
@INC:
/tmp/loop_over_bdir-141033-rAkQU3/perl-Hardware-UPS-Perl-0.43-0/blib/arch
/tmp/loop_over_bdir-141033-rAkQU3/perl-Hardware-UPS-Perl-0.43-0/blib/lib
/tmp/loop_over_bdir-141033-rAkQU3/Sysync-0.35-0/blib/arch
/tmp/loop_over_bdir-141033-rAkQU3/Sysync-0.35-0/blib/lib
/home/sand/src/perl/repoperls/installed-perls/host/k93jammy/v5.36.0/6567/lib/site_perl/5.36.0/x86_64-linux
/home/sand/src/perl/repoperls/installed-perls/host/k93jammy/v5.36.0/6567/lib/site_perl/5.36.0
/home/sand/src/perl/repoperls/installed-perls/host/k93jammy/v5.36.0/6567/lib/5.36.0/x86_64-linux
/home/sand/src/perl/repoperls/installed-perls/host/k93jammy/v5.36.0/6567/lib/5.36.0
.