Dancer2 v1.1.0 Perl 5 v5.39.9 MSWin32-x64-multi-thread

Status
Pass
From
twata
Dist
Dancer2 v1.1.0
Platform
Perl 5 v5.39.9 MSWin32-x64-multi-thread
Date
2024-04-29 14:42:48
ID
cd7a2ab1-6d85-1014-92d2-f1bf2163951a
This distribution has been tested as part of the CPAN Testers
project, supporting the Perl programming language.  See
http://wiki.cpantesters.org/ for more information or email
questions to cpan-testers-discuss@perl.org


--
Dear CROMEDOME,

This is a computer-generated report for Dancer2-1.1.0
on perl 5.39.9, created by App::cpanminus::reporter 0.18 (1.7047).

Thank you for uploading your work to CPAN.  Congratulations!
All tests were successful.

Sections of this report:

    * Tester comments
    * Program output
    * Prerequisites
    * Environment and other context

------------------------------
TESTER COMMENTS
------------------------------

Additional comments from tester:

none provided

------------------------------
PROGRAM OUTPUT
------------------------------

Output from '':

Building and testing Dancer2-1.1.0
cp share\skel\MANIFEST.SKIP blib\lib\auto\share\dist\Dancer2\skel\MANIFEST.SKIP
cp share\skel\cpanfile blib\lib\auto\share\dist\Dancer2\skel\cpanfile
cp share\skel\public\404.html blib\lib\auto\share\dist\Dancer2\skel\public\404.html
cp share\skel\environments\development.yml blib\lib\auto\share\dist\Dancer2\skel\environments\development.yml
cp share\.gitignore blib\lib\auto\share\dist\Dancer2\.gitignore
cp share\docker\Dockerfile blib\lib\auto\share\dist\Dancer2\docker\Dockerfile
cp share\skel\lib\AppFile.pm blib\lib\auto\share\dist\Dancer2\skel\lib\AppFile.pm
cp share\skel\public\+dispatch.cgi blib\lib\auto\share\dist\Dancer2\skel\public\+dispatch.cgi
cp share\skel\Makefile.PL blib\lib\auto\share\dist\Dancer2\skel\Makefile.PL
cp share\skel\public\+dispatch.fcgi blib\lib\auto\share\dist\Dancer2\skel\public\+dispatch.fcgi
cp share\skel\.dancer blib\lib\auto\share\dist\Dancer2\skel\.dancer
cp share\skel\config.yml blib\lib\auto\share\dist\Dancer2\skel\config.yml
cp share\skel\bin\+app.psgi blib\lib\auto\share\dist\Dancer2\skel\bin\+app.psgi
cp share\skel\environments\production.yml blib\lib\auto\share\dist\Dancer2\skel\environments\production.yml
cp share\skel\t\002_index_route.t blib\lib\auto\share\dist\Dancer2\skel\t\002_index_route.t
cp share\skel\public\images\perldancer.jpg blib\lib\auto\share\dist\Dancer2\skel\public\images\perldancer.jpg
cp share\skel\t\001_base.t blib\lib\auto\share\dist\Dancer2\skel\t\001_base.t
cp share\skel\views\index.tt blib\lib\auto\share\dist\Dancer2\skel\views\index.tt
cp share\skel\public\favicon.ico blib\lib\auto\share\dist\Dancer2\skel\public\favicon.ico
cp share\skel\public\500.html blib\lib\auto\share\dist\Dancer2\skel\public\500.html
cp share\skel\public\images\perldancer-bg.jpg blib\lib\auto\share\dist\Dancer2\skel\public\images\perldancer-bg.jpg
cp share\skel\views\layouts\main.tt blib\lib\auto\share\dist\Dancer2\skel\views\layouts\main.tt
cp share\skel\public\css\style.css blib\lib\auto\share\dist\Dancer2\skel\public\css\style.css
cp share\skel\public\javascripts\jquery.js blib\lib\auto\share\dist\Dancer2\skel\public\javascripts\jquery.js
cp share\skel\public\css\error.css blib\lib\auto\share\dist\Dancer2\skel\public\css\error.css
cp lib/Dancer2/CLI/Version.pm blib\lib\Dancer2\CLI\Version.pm
cp lib/Dancer2/Core.pm blib\lib\Dancer2\Core.pm
cp lib/Dancer2/Core/Response.pm blib\lib\Dancer2\Core\Response.pm
cp lib/Dancer2/CLI/Gen.pm blib\lib\Dancer2\CLI\Gen.pm
cp lib/Dancer2/Core/Error.pm blib\lib\Dancer2\Core\Error.pm
cp lib/Dancer2/Core/Factory.pm blib\lib\Dancer2\Core\Factory.pm
cp lib/Dancer2/Core/Role/ConfigReader.pm blib\lib\Dancer2\Core\Role\ConfigReader.pm
cp lib/Dancer2/Core/Cookie.pm blib\lib\Dancer2\Core\Cookie.pm
cp lib/Dancer2/Core/Request/Upload.pm blib\lib\Dancer2\Core\Request\Upload.pm
cp lib/Dancer2/Core/Request.pm blib\lib\Dancer2\Core\Request.pm
cp lib/Dancer2/Core/App.pm blib\lib\Dancer2\Core\App.pm
cp lib/Dancer2/Cookbook.pod blib\lib\Dancer2\Cookbook.pod
cp lib/Dancer2/Core/Response/Delayed.pm blib\lib\Dancer2\Core\Response\Delayed.pm
cp lib/Dancer2/CLI.pm blib\lib\Dancer2\CLI.pm
cp lib/Dancer2.pm blib\lib\Dancer2.pm
cp lib/Dancer2/Core/Hook.pm blib\lib\Dancer2\Core\Hook.pm
cp lib/Dancer2/Core/HTTP.pm blib\lib\Dancer2\Core\HTTP.pm
cp lib/Dancer2/Core/MIME.pm blib\lib\Dancer2\Core\MIME.pm
cp lib/Dancer2/Core/DSL.pm blib\lib\Dancer2\Core\DSL.pm
cp lib/Dancer2/Config.pod blib\lib\Dancer2\Config.pod
cp lib/Dancer2/Core/Dispatcher.pm blib\lib\Dancer2\Core\Dispatcher.pm
cp lib/Dancer2/Core/Role/Serializer.pm blib\lib\Dancer2\Core\Role\Serializer.pm
cp lib/Dancer2/Core/Role/Handler.pm blib\lib\Dancer2\Core\Role\Handler.pm
cp lib/Dancer2/Core/Role/HasLocation.pm blib\lib\Dancer2\Core\Role\HasLocation.pm
cp lib/Dancer2/Core/Time.pm blib\lib\Dancer2\Core\Time.pm
cp lib/Dancer2/Core/Role/Hookable.pm blib\lib\Dancer2\Core\Role\Hookable.pm
cp lib/Dancer2/Core/Types.pm blib\lib\Dancer2\Core\Types.pm
cp lib/Dancer2/Core/Role/Template.pm blib\lib\Dancer2\Core\Role\Template.pm
cp lib/Dancer2/Core/Session.pm blib\lib\Dancer2\Core\Session.pm
cp lib/Dancer2/DeprecationPolicy.pod blib\lib\Dancer2\DeprecationPolicy.pod
cp lib/Dancer2/Core/Role/SessionFactory/File.pm blib\lib\Dancer2\Core\Role\SessionFactory\File.pm
cp lib/Dancer2/Core/Role/SessionFactory.pm blib\lib\Dancer2\Core\Role\SessionFactory.pm
cp lib/Dancer2/Core/Role/StandardResponses.pm blib\lib\Dancer2\Core\Role\StandardResponses.pm
cp lib/Dancer2/Core/Role/DSL.pm blib\lib\Dancer2\Core\Role\DSL.pm
cp lib/Dancer2/Core/Role/Logger.pm blib\lib\Dancer2\Core\Role\Logger.pm
cp lib/Dancer2/Core/Runner.pm blib\lib\Dancer2\Core\Runner.pm
cp lib/Dancer2/Core/Route.pm blib\lib\Dancer2\Core\Route.pm
cp lib/Dancer2/Core/Role/Engine.pm blib\lib\Dancer2\Core\Role\Engine.pm
cp lib/Dancer2/Plugins.pod blib\lib\Dancer2\Plugins.pod
cp lib/Dancer2/Policy.pod blib\lib\Dancer2\Policy.pod
cp lib/Dancer2/Logger/Capture.pm blib\lib\Dancer2\Logger\Capture.pm
cp lib/Dancer2/Manual/Testing.pod blib\lib\Dancer2\Manual\Testing.pod
cp lib/Dancer2/Logger/Diag.pm blib\lib\Dancer2\Logger\Diag.pm
cp lib/Dancer2/Handler/AutoPage.pm blib\lib\Dancer2\Handler\AutoPage.pm
cp lib/Dancer2/Manual/Deployment.pod blib\lib\Dancer2\Manual\Deployment.pod
cp lib/Dancer2/Manual/Migration.pod blib\lib\Dancer2\Manual\Migration.pod
cp lib/Dancer2/Logger/Capture/Trap.pm blib\lib\Dancer2\Logger\Capture\Trap.pm
cp lib/Dancer2/Logger/Note.pm blib\lib\Dancer2\Logger\Note.pm
cp lib/Dancer2/Manual.pod blib\lib\Dancer2\Manual.pod
cp lib/Dancer2/Serializer/Dumper.pm blib\lib\Dancer2\Serializer\Dumper.pm
cp lib/Dancer2/Handler/File.pm blib\lib\Dancer2\Handler\File.pm
cp lib/Dancer2/Logger/Console.pm blib\lib\Dancer2\Logger\Console.pm
cp lib/Dancer2/Logger/Null.pm blib\lib\Dancer2\Logger\Null.pm
cp lib/Dancer2/FileUtils.pm blib\lib\Dancer2\FileUtils.pm
cp lib/Dancer2/Manual/Keywords.pod blib\lib\Dancer2\Manual\Keywords.pod
cp lib/Dancer2/Logger/File.pm blib\lib\Dancer2\Logger\File.pm
cp lib/Dancer2/Plugin.pm blib\lib\Dancer2\Plugin.pm
cp lib/Dancer2/Template/TemplateToolkit.pm blib\lib\Dancer2\Template\TemplateToolkit.pm
cp lib/Dancer2/Serializer/JSON.pm blib\lib\Dancer2\Serializer\JSON.pm
cp lib/Dancer2/Template/Implementation/ForkedTiny.pm blib\lib\Dancer2\Template\Implementation\ForkedTiny.pm
cp lib/Dancer2/Serializer/YAML.pm blib\lib\Dancer2\Serializer\YAML.pm
cp lib/Dancer2/Session/Simple.pm blib\lib\Dancer2\Session\Simple.pm
cp lib/Dancer2/Tutorial.pod blib\lib\Dancer2\Tutorial.pod
cp lib/Dancer2/Session/YAML.pm blib\lib\Dancer2\Session\YAML.pm
cp lib/Dancer2/Template/Simple.pm blib\lib\Dancer2\Template\Simple.pm
cp lib/Dancer2/Serializer/Mutable.pm blib\lib\Dancer2\Serializer\Mutable.pm
cp lib/Dancer2/Template/Tiny.pm blib\lib\Dancer2\Template\Tiny.pm
cp lib/Dancer2/Test.pm blib\lib\Dancer2\Test.pm
"C:\WinLibs\Perl-5.39.9\bin\perl.exe" -MExtUtils::Command -e cp -- script/dancer2 blib\script\dancer2
pl2bat.bat blib\script\dancer2
Skip blib\lib\auto\share\dist\Dancer2\skel\public\404.html (unchanged)
Skip blib\lib\auto\share\dist\Dancer2\skel\environments\development.yml (unchanged)
Skip blib\lib\auto\share\dist\Dancer2\skel\public\+dispatch.fcgi (unchanged)
Skip blib\lib\auto\share\dist\Dancer2\docker\Dockerfile (unchanged)
Skip blib\lib\auto\share\dist\Dancer2\skel\environments\production.yml (unchanged)
Skip blib\lib\auto\share\dist\Dancer2\skel\public\+dispatch.cgi (unchanged)
Skip blib\lib\auto\share\dist\Dancer2\skel\config.yml (unchanged)
Skip blib\lib\auto\share\dist\Dancer2\skel\bin\+app.psgi (unchanged)
Skip blib\lib\auto\share\dist\Dancer2\skel\cpanfile (unchanged)
Skip blib\lib\auto\share\dist\Dancer2\skel\Makefile.PL (unchanged)
Skip blib\lib\auto\share\dist\Dancer2\skel\.dancer (unchanged)
Skip blib\lib\auto\share\dist\Dancer2\skel\lib\AppFile.pm (unchanged)
Skip blib\lib\auto\share\dist\Dancer2\.gitignore (unchanged)
Skip blib\lib\auto\share\dist\Dancer2\skel\MANIFEST.SKIP (unchanged)
Skip blib\lib\auto\share\dist\Dancer2\skel\views\index.tt (unchanged)
Skip blib\lib\auto\share\dist\Dancer2\skel\t\001_base.t (unchanged)
Skip blib\lib\auto\share\dist\Dancer2\skel\views\layouts\main.tt (unchanged)
Skip blib\lib\auto\share\dist\Dancer2\skel\t\002_index_route.t (unchanged)
Skip blib\lib\auto\share\dist\Dancer2\skel\public\images\perldancer-bg.jpg (unchanged)
Skip blib\lib\auto\share\dist\Dancer2\skel\public\500.html (unchanged)
Skip blib\lib\auto\share\dist\Dancer2\skel\public\css\style.css (unchanged)
Skip blib\lib\auto\share\dist\Dancer2\skel\public\favicon.ico (unchanged)
Skip blib\lib\auto\share\dist\Dancer2\skel\public\css\error.css (unchanged)
Skip blib\lib\auto\share\dist\Dancer2\skel\public\javascripts\jquery.js (unchanged)
Skip blib\lib\auto\share\dist\Dancer2\skel\public\images\perldancer.jpg (unchanged)
"C:\WinLibs\Perl-5.39.9\bin\perl.exe" "-MExtUtils::Command::MM" "-MTest::Harness" "-e" "undef *Test::Harness::Switches; test_harness(0, 'blib\lib', 'blib\arch')" t/*.t t/classes/Dancer2-Core-Factory/*.t t/classes/Dancer2-Core-Hook/*.t t/classes/Dancer2-Core-Request/*.t t/classes/Dancer2-Core-Response-Delayed/*.t t/classes/Dancer2-Core-Response/*.t t/classes/Dancer2-Core-Role-Engine/*.t t/classes/Dancer2-Core-Role-Handler/*.t t/classes/Dancer2-Core-Role-HasLocation/*.t t/classes/Dancer2-Core-Role-Serializer/*.t t/classes/Dancer2-Core-Role-StandardResponses/*.t t/classes/Dancer2-Core-Route/*.t t/classes/Dancer2-Core-Runner/*.t t/classes/Dancer2-Core/*.t t/classes/Dancer2/*.t t/dsl/*.t t/examples/*.t t/issues/*.t t/issues/gh-1013/*.t t/issues/gh-1046/*.t t/issues/gh-1216/*.t t/issues/gh-1226/*.t t/issues/gh-1230/*.t t/issues/gh-1621/*.t t/issues/gh-639/fails/*.t t/issues/gh-639/succeeds/*.t t/issues/gh-650/*.t t/issues/gh-975/*.t t/issues/memleak/*.t t/plugin2/*.t t/plugin2/app_dsl_cb/*.t t/roles/*.t t/route-pod-coverage/*.t t/scope_problems/*.t t/template_tiny/*.t
t/00-compile.t ......................................... ok
# 
# Versions for all modules listed in MYMETA.json (including optional ones):
# 
# === Configure Requires ===
# 
#     Module                       Want     Have
#     ------------------------ -------- --------
#     CPAN::Meta::Requirements 2.120620    2.143
#     ExtUtils::MakeMaker           any     7.70
#     File::ShareDir::Install      0.06     0.14
#     Module::Metadata              any 1.000038
# 
# === Build Requires ===
# 
#     Module              Want Have
#     ------------------- ---- ----
#     ExtUtils::MakeMaker  any 7.70
# 
# === Test Requires ===
# 
#     Module                  Want     Have
#     ----------------------- ---- --------
#     Capture::Tiny           0.12     0.48
#     ExtUtils::MakeMaker      any     7.70
#     File::Spec               any     3.90
#     HTTP::Cookies            any     6.11
#     HTTP::Headers            any     6.45
#     IO::Handle               any     1.55
#     IPC::Open3               any     1.22
#     Pod::Simple::SimpleTree  any     3.45
#     Template                 any    3.101
#     Test::Builder            any 1.302199
#     Test::EOL                any     2.02
#     Test::Fatal              any    0.017
#     Test::More              0.92 1.302199
# 
# === Test Recommends ===
# 
#     Module         Want     Have
#     ---------- -------- --------
#     CPAN::Meta 2.120900 2.150010
# 
# === Runtime Requires ===
# 
#     Module                                          Want     Have
#     ------------------------------------------- -------- --------
#     Attribute::Handlers                              any     1.03
#     CLI::Osprey                                      any     0.08
#     Carp                                             any     1.54
#     Clone                                            any     0.46
#     Config::Any                                      any     0.33
#     Digest::SHA                                      any     6.04
#     Encode                                           any     3.21
#     Exporter                                        5.57     5.78
#     Exporter::Tiny                                   any 1.006002
#     File::Basename                                   any     2.86
#     File::Copy                                       any     2.41
#     File::Path                                       any     2.18
#     File::Share                                      any     0.27
#     File::Spec                                       any     3.90
#     File::Temp                                       any   0.2311
#     File::Which                                      any     1.27
#     HTTP::Date                                       any     6.06
#     HTTP::Headers::Fast                             0.21     0.22
#     HTTP::Tiny                                       any    0.088
#     HTTP::XSCookies                             0.000007 0.000021
#     Hash::Merge::Simple                              any    0.051
#     Hash::MultiValue                                 any     0.16
#     Import::Into                                     any 1.002005
#     JSON::MaybeXS                                    any 1.004005
#     List::Util                                      1.29     1.63
#     MIME::Base64                                    3.13  3.16_01
#     Module::Runtime                                  any    0.016
#     Moo                                         2.000000 2.005005
#     Moo::Role                                        any 2.005005
#     POSIX                                            any     2.18
#     Path::Tiny                                       any    0.144
#     Plack                                         1.0040   1.0051
#     Plack::Middleware::FixMissingBodyInRedirect      any     0.12
#     Plack::Middleware::RemoveRedundantBody           any     0.09
#     Ref::Util                                        any    0.204
#     Role::Tiny                                  2.000000 2.002004
#     Safe::Isa                                        any 1.000010
#     Sub::Quote                                       any 2.006008
#     Template                                         any    3.101
#     Template::Tiny                                   any     1.14
#     Test::Builder                                    any 1.302199
#     Test::More                                      0.92 1.302199
#     Type::Tiny                                  1.000006 2.004000
#     Types::Standard                                  any 2.004000
#     URI::Escape                                      any     5.28
#     YAML                                            0.86     1.31
#     parent                                           any    0.241
#     perl                                           5.014 5.039009
# 
# === Runtime Recommends ===
# 
#     Module                      Want     Have
#     ----------------------- -------- --------
#     CGI::Deurl::XS               any     0.08
#     Class::XSAccessor            any     1.19
#     Cpanel::JSON::XS             any     4.37
#     Crypt::URandom               any     0.40
#     HTTP::XSCookies         0.000015 0.000021
#     HTTP::XSHeaders              any  missing
#     Math::Random::ISAAC::XS      any    1.004
#     MooX::TypeTiny               any 0.002003
#     Pod::Simple::Search          any     3.45
#     Pod::Simple::SimpleTree      any     3.45
#     Scope::Upper                 any     0.34
#     Type::Tiny::XS               any    0.025
#     URL::Encode::XS              any     0.03
#     Unicode::UTF8                any     0.62
#     YAML::XS                     any     0.89
# 
# === Runtime Suggests ===
# 
#     Module      Want Have
#     ----------- ---- ----
#     Fcntl        any 1.17
#     MIME::Types  any 2.26
# 
# === Runtime Conflicts ===
# 
#     Module            Want     Have
#     ---------- ----------- --------
#     Role::Tiny == 2.000007 2.002004
#     YAML           == 1.16     1.31
# 
t/00-report-prereqs.t .................................. ok
t/app.t ................................................ ok
t/app_alone.t .......................................... ok
t/author-distmeta.t .................................... skipped: these tests are for testing by the author
t/author-no-tabs.t ..................................... skipped: these tests are for testing by the author
t/author-pod-syntax.t .................................. skipped: these tests are for testing by the author
t/auto_page.t .......................................... ok
t/caller.t ............................................. ok
t/charset_server.t ..................................... ok
t/classes/Dancer2-Core-Factory/new.t ................... ok
t/classes/Dancer2-Core-Hook/new.t ...................... ok
t/classes/Dancer2-Core-Request/new.t ................... ok
t/classes/Dancer2-Core-Request/serializers.t ........... ok
t/classes/Dancer2-Core-Response-Delayed/after_hooks.t .. ok
t/classes/Dancer2-Core-Response-Delayed/new.t .......... ok
t/classes/Dancer2-Core-Response/new_from.t ............. ok
t/classes/Dancer2-Core-Role-Engine/with.t .............. ok
t/classes/Dancer2-Core-Role-Handler/with.t ............. ok
t/classes/Dancer2-Core-Role-HasLocation/with.t ......... ok
t/classes/Dancer2-Core-Role-Serializer/with.t .......... ok
t/classes/Dancer2-Core-Role-StandardResponses/with.t ... ok
t/classes/Dancer2-Core-Route/base.t .................... ok
t/classes/Dancer2-Core-Route/deprecated_param_keys.t ... ok
t/classes/Dancer2-Core-Route/match.t ................... ok
t/classes/Dancer2-Core-Runner/environment.t ............ ok
t/classes/Dancer2-Core-Runner/new.t .................... ok
t/classes/Dancer2-Core-Runner/psgi_app.t ............... ok
t/classes/Dancer2-Core/camelize.t ...................... ok
t/classes/Dancer2/import-pragmas.t ..................... ok
t/classes/Dancer2/import.t ............................. ok
t/config-files-logged.t ................................ ok
t/config_multiapp.t .................................... ok
t/config_reader.t ...................................... ok
t/config_settings.t .................................... ok
t/context-in-before.t .................................. ok
t/cookie.t ............................................. ok
t/custom_dsl.t ......................................... ok
t/dancer-test.t ........................................ ok
t/deserialize.t ........................................ ok
t/disp_named_capture.t ................................. ok
# Dispatch test 0, for GET /
# Dispatch test 1, for GET /user/Johnny
# Dispatch test 2, for GET /twoohfour
# Dispatch test 3, for GET /haltme
t/dispatcher.t ......................................... ok
t/dsl/any.t ............................................ ok
t/dsl/app.t ............................................ ok
t/dsl/content.t ........................................ ok
t/dsl/delayed.t ........................................ skipped: AnyEvent required for this test
t/dsl/error_template.t ................................. ok
t/dsl/extend.t ......................................... ok
t/dsl/halt.t ........................................... ok
t/dsl/halt_with_param.t ................................ ok
t/dsl/json.t ........................................... ok
t/dsl/mime.t ........................................... ok
t/dsl/parameters.t ..................................... ok
t/dsl/pass.t ........................................... ok
t/dsl/path.t ........................................... ok
t/dsl/pod.t ............................................ ok
t/dsl/request.t ........................................ ok
t/dsl/request_data.t ................................... ok
t/dsl/route_retvals.t .................................. ok
Subroutine from_json redefined at C:\home\ACORN5~4\.cpanm\work\1714401499.8592\Dancer2-1.1.0\blib\lib/Dancer2/Serializer/jSoN.pm line 13.
Subroutine to_json redefined at C:\home\ACORN5~4\.cpanm\work\1714401499.8592\Dancer2-1.1.0\blib\lib/Dancer2/Serializer/jSoN.pm line 15.
Subroutine decode_json redefined at C:\home\ACORN5~4\.cpanm\work\1714401499.8592\Dancer2-1.1.0\blib\lib/Dancer2/Serializer/jSoN.pm line 17.
Subroutine encode_json redefined at C:\home\ACORN5~4\.cpanm\work\1714401499.8592\Dancer2-1.1.0\blib\lib/Dancer2/Serializer/jSoN.pm line 23.
Subroutine serialize redefined at C:\home\ACORN5~4\.cpanm\work\1714401499.8592\Dancer2-1.1.0\blib\lib/Dancer2/Serializer/jSoN.pm line 30.
Subroutine deserialize redefined at C:\home\ACORN5~4\.cpanm\work\1714401499.8592\Dancer2-1.1.0\blib\lib/Dancer2/Serializer/jSoN.pm line 43.
t/dsl/send_as.t ........................................ ok
t/dsl/send_file.t ...................................... ok
t/dsl/splat.t .......................................... ok
t/dsl/to_app.t ......................................... ok
t/dsl/uri_for.t ........................................ ok
t/dsl/uri_for_route.t .................................. ok
t/dsl/yaml.t ........................................... ok
t/engine.t ............................................. ok
t/error.t .............................................. ok
t/examples/hello_world.t ............................... ok
t/examples/simple_calculator.t ......................... ok
t/factory.t ............................................ ok
t/file_utils.t ......................................... ok
t/forward.t ............................................ ok
t/forward_before_hook.t ................................ ok
t/forward_hmv_params.t ................................. ok
t/forward_test_tcp.t ................................... ok
t/hooks.t .............................................. ok
t/http_methods.t ....................................... ok
t/http_status.t ........................................ ok
t/issues/gh-1013/gh-1013.t ............................. ok
t/issues/gh-1046/gh-1046.t ............................. ok
t/issues/gh-1070.t ..................................... ok
t/issues/gh-1098.t ..................................... ok
t/issues/gh-1216/gh-1216.t ............................. ok
t/issues/gh-1226/gh-1226.t ............................. ok
t/issues/gh-1230/gh-1230.t ............................. ok
t/issues/gh-1232.t ..................................... ok
t/issues/gh-1289.t ..................................... ok
t/issues/gh-1564.t ..................................... ok
t/issues/gh-1621/gh-1621.t ............................. ok
t/issues/gh-596.t ...................................... ok
t/issues/gh-634.t ...................................... ok
t/issues/gh-639/fails/issue.t .......................... ok
t/issues/gh-639/succeeds/issue.t ....................... ok
t/issues/gh-650/gh-650.t ............................... ok
t/issues/gh-723.t ...................................... ok
t/issues/gh-730.t ...................................... ok
t/issues/gh-762.t ...................................... ok
t/issues/gh-794.t ...................................... ok
t/issues/gh-797.t ...................................... ok
t/issues/gh-799.t ...................................... ok
t/issues/gh-811.t ...................................... skipped: Dancer2::Session::Cookie probably missing.
t/issues/gh-931.t ...................................... ok
t/issues/gh-936.t ...................................... ok
t/issues/gh-944.t ...................................... ok
t/issues/gh-975/gh-975.t ............................... ok
t/issues/memleak/die_in_hooks.t ........................ ok
t/issues/vars-in-forward.t ............................. ok
t/log_die_before_hook.t ................................ ok
t/log_levels.t ......................................... ok
t/logger.t ............................................. ok
t/logger_console.t ..................................... ok
t/memory_cycles.t ...................................... ok
t/mime.t ............................................... ok
t/multi_apps.t ......................................... ok
t/multi_apps_forward.t ................................. ok
t/multiapp_template_hooks.t ............................ ok
t/multipart_content.t .................................. ok
t/named_apps.t ......................................... ok
t/named_routes.t ....................................... ok
t/no_default_middleware.t .............................. ok
t/plugin2/app_dsl_cb/app_dsl_cb.t ...................... ok
t/plugin2/basic-2.t .................................... ok
t/plugin2/basic.t ...................................... ok
t/plugin2/define-keywords.t ............................ ok
t/plugin2/find_plugin.t ................................ ok
t/plugin2/from-config.t ................................ ok
t/plugin2/hooks.t ...................................... ok
t/plugin2/inside-plugin.t .............................. ok
t/plugin2/keywords-hooks-namespace.t ................... ok
t/plugin2/memory_cycles.t .............................. ok
t/plugin2/no-app-munging.t ............................. ok
t/plugin2/no-clobbering.t .............................. ok
t/plugin2/no-config.t .................................. ok
t/plugin2/with-plugins.t ............................... ok
t/plugin_import.t ...................................... ok
t/plugin_multiple_apps.t ............................... ok
t/plugin_register.t .................................... ok
t/plugin_syntax.t ...................................... ok
t/prepare_app.t ........................................ ok
t/psgi_app.t ........................................... ok
t/psgi_app_forward_and_pass.t .......................... ok
t/redirect.t ........................................... ok
t/request.t ............................................ ok
t/request_make_forward_to.t ............................ ok
t/request_multipart_formdata.t ......................... ok
cannot unlink file for C:\Users\USER\AppData\Local\Temp\qaNTn\0vHR_PNq0d: Permission denied at C:/WinLibs/Perl-5.39.9/lib/File/Temp.pm line 2643.
cannot unlink file for C:\Users\USER\AppData\Local\Temp\qaNTn\9MSJiGSSze: Permission denied at C:/WinLibs/Perl-5.39.9/lib/File/Temp.pm line 2643.
cannot unlink file for C:\Users\USER\AppData\Local\Temp\qaNTn\lbBxYYco0c: Permission denied at C:/WinLibs/Perl-5.39.9/lib/File/Temp.pm line 2643.
cannot unlink file for C:\Users\USER\AppData\Local\Temp\qaNTn\O8cy6IZf6p: Permission denied at C:/WinLibs/Perl-5.39.9/lib/File/Temp.pm line 2643.
cannot unlink file for C:\Users\USER\AppData\Local\Temp\qaNTn\ri_mDurFSQ: Permission denied at C:/WinLibs/Perl-5.39.9/lib/File/Temp.pm line 2643.
cannot remove directory for C:/Users/USER/AppData/Local/Temp/qaNTn: Directory not empty at C:/WinLibs/Perl-5.39.9/lib/File/Temp.pm line 2643.
cannot unlink file for C:\Users\USER\AppData\Local\Temp\SyBs4\0JXdmLmOib: Permission denied at C:/WinLibs/Perl-5.39.9/lib/File/Temp.pm line 2643.
cannot unlink file for C:\Users\USER\AppData\Local\Temp\SyBs4\0qJ9YiZOPW: Permission denied at C:/WinLibs/Perl-5.39.9/lib/File/Temp.pm line 2643.
cannot unlink file for C:\Users\USER\AppData\Local\Temp\SyBs4\gAGJsuFg_R: Permission denied at C:/WinLibs/Perl-5.39.9/lib/File/Temp.pm line 2643.
cannot unlink file for C:\Users\USER\AppData\Local\Temp\SyBs4\vL0XZsbEL_: Permission denied at C:/WinLibs/Perl-5.39.9/lib/File/Temp.pm line 2643.
cannot unlink file for C:\Users\USER\AppData\Local\Temp\SyBs4\zp3hbfLmIM: Permission denied at C:/WinLibs/Perl-5.39.9/lib/File/Temp.pm line 2643.
cannot remove directory for C:/Users/USER/AppData/Local/Temp/SyBs4: Directory not empty at C:/WinLibs/Perl-5.39.9/lib/File/Temp.pm line 2643.
cannot unlink file for C:\Users\USER\AppData\Local\Temp\SudOs\b8u67vlSy5: Permission denied at C:/WinLibs/Perl-5.39.9/lib/File/Temp.pm line 2643.
cannot unlink file for C:\Users\USER\AppData\Local\Temp\SudOs\DsBzC29bME: Permission denied at C:/WinLibs/Perl-5.39.9/lib/File/Temp.pm line 2643.
cannot unlink file for C:\Users\USER\AppData\Local\Temp\SudOs\k8yhYgbouk: Permission denied at C:/WinLibs/Perl-5.39.9/lib/File/Temp.pm line 2643.
cannot unlink file for C:\Users\USER\AppData\Local\Temp\SudOs\N37jeV1N8v: Permission denied at C:/WinLibs/Perl-5.39.9/lib/File/Temp.pm line 2643.
cannot unlink file for C:\Users\USER\AppData\Local\Temp\SudOs\WAIaXI5zqz: Permission denied at C:/WinLibs/Perl-5.39.9/lib/File/Temp.pm line 2643.
cannot remove directory for C:/Users/USER/AppData/Local/Temp/SudOs: Directory not empty at C:/WinLibs/Perl-5.39.9/lib/File/Temp.pm line 2643.
t/request_upload.t ..................................... ok
t/response.t ........................................... ok
t/roles/hook.t ......................................... ok
t/route-pod-coverage/route-pod-coverage.t .............. ok
t/scope_problems/dispatcher_internal_request.t ......... ok
t/scope_problems/keywords_before_template_hook.t ....... ok
t/scope_problems/session_is_cleared.t .................. ok
t/scope_problems/with_return_dies.t .................... ok
t/serializer.t ......................................... ok
t/serializer_json.t .................................... ok
t/serializer_mutable.t ................................. ok
t/serializer_mutable_custom.t .......................... ok
t/session_bad_client_cookie.t .......................... ok
t/session_config.t ..................................... ok
t/session_engines.t .................................... ok
t/session_forward.t .................................... ok
t/session_hooks.t ...................................... ok
t/session_hooks_no_change_id.t ......................... ok
t/session_in_template.t ................................ ok
t/session_lifecycle.t .................................. ok
t/session_object.t ..................................... ok
t/session_yaml_object.t ................................ ok
t/shared_engines.t ..................................... ok
t/static_content.t ..................................... ok
t/template.t ........................................... ok
t/template_default_tokens.t ............................ ok
t/template_ext.t ....................................... ok
t/template_name.t ...................................... ok
t/template_simple.t .................................... ok
t/template_tiny/01_compile.t ........................... ok
t/template_tiny/02_trivial.t ........................... ok
t/template_tiny/03_samples.t ........................... ok
t/template_tiny/04_compat.t ............................ ok
t/template_tiny/05_preparse.t .......................... ok
t/time.t ............................................... ok
t/types.t .............................................. ok
t/vars.t ............................................... ok
All tests successful.
Files=183, Tests=1945, 209 wallclock secs ( 1.06 usr +  0.61 sys =  1.67 CPU)
Result: PASS

------------------------------
PREREQUISITES
------------------------------

Prerequisite modules loaded:

    No requirements found

------------------------------
ENVIRONMENT AND OTHER CONTEXT
------------------------------

Environment variables:

    COMSPEC = C:\WINDOWS\system32\cmd.exe
    LC_ALL = C
    NUMBER_OF_PROCESSORS = 4
    PATH = C:\home\acorn5399\perl5\bin;C:\WinLibs\ext\bin;C:\WinLibs\Perl-5.39.9\bin;C:\winlibs-x86_64-posix-seh-gcc-13.2.0-llvm-17.0.4-mingw-w64msvcrt-11.0.1-r2\mingw64\bin;C:\WinLibs\ext\openssl\bin;C:\WINDOWS\system32;C:\WINDOWS;C:\WINDOWS\System32\Wbem;C:\WINDOWS\System32\WindowsPowerShell\v1.0
    PERL5LIB = C:\home\acorn5399\perl5\lib\perl5
    PERL_LOCAL_LIB_ROOT = C:\home\acorn5399\perl5
    PERL_MB_OPT = --install_base "C:\\home\\acorn5399\\perl5"
    PERL_MM_OPT = INSTALL_BASE=C:\\home\\acorn5399\\perl5
    PROCESSOR_IDENTIFIER = Intel64 Family 6 Model 58 Stepping 9, GenuineIntel
    TEMP = C:\Users\USER\AppData\Local\Temp
    TERM = dumb

Perl special variables (and OS-specific diagnostics, for MSWin32):

    EGID = 0
    EUID = 0
    EXECUTABLE_NAME = C:\WinLibs\Perl-5.39.9\bin\perl.exe
    GID = 0
    UID = 0
    Win32::FsType = NTFS
    Win32::GetOSName = Win8.1
    Win32::GetOSVersion = , 6, 3, 9600, 2, 0, 0, 256, 1
    Win32::IsAdminUser = 0

Perl module toolchain versions installed:

    Module              Have    
    ------------------- --------
    CPAN                2.36    
    CPAN::Meta          2.150010
    Cwd                 3.90    
    ExtUtils::CBuilder  0.280240
    ExtUtils::Command   7.70    
    ExtUtils::Install   2.22    
    ExtUtils::MakeMaker 7.70    
    ExtUtils::Manifest  1.75    
    ExtUtils::ParseXS   3.51    
    File::Spec          3.90    
    JSON                4.10    
    JSON::PP            4.16    
    Module::Build       0.4234  
    Module::Signature   n/a     
    Parse::CPAN::Meta   2.150010
    Test::Harness       3.49_01 
    Test::More          1.302199
    YAML                1.31    
    YAML::Syck          1.34    
    version             0.9932  


--

Summary of my perl5 (revision 5 version 39 subversion 9) configuration:
   
  Platform:
    osname=MSWin32
    osvers=6.3.9600
    archname=MSWin32-x64-multi-thread
    uname=''
    config_args='undef'
    hint=recommended
    useposix=true
    d_sigaction=undef
    useithreads=define
    usemultiplicity=define
    use64bitint=define
    use64bitall=undef
    uselongdouble=undef
    usemymalloc=n
    default_inc_excludes_dot=define
  Compiler:
    cc='gcc'
    ccflags ='-std=c99 -DWIN32 -DWIN64 -DPERL_TEXTMODE_SCRIPTS -DMULTIPLICITY -DPERL_IMPLICIT_SYS -DUSE_PERLIO -D__USE_MINGW_ANSI_STDIO -fwrapv -fno-strict-aliasing -mms-bitfields'
    optimize='-Os'
    cppflags='-DWIN32'
    ccversion=''
    gccversion='13.2.0'
    gccosandvers=''
    intsize=4
    longsize=4
    ptrsize=8
    doublesize=8
    byteorder=12345678
    doublekind=3
    d_longlong=define
    longlongsize=8
    d_longdbl=define
    longdblsize=16
    longdblkind=3
    ivtype='long long'
    ivsize=8
    nvtype='double'
    nvsize=8
    Off_t='long long'
    lseeksize=8
    alignbytes=8
    prototype=define
  Linker and Libraries:
    ld='g++'
    ldflags ='-s -L"C:\WinLibs\Perl-5.39.9\lib\CORE" -L"C:\winlibs-x86_64-posix-seh-gcc-13.2.0-llvm-17.0.4-mingw-w64msvcrt-11.0.1-r2\mingw64\lib" -L"C:\winlibs-x86_64-posix-seh-gcc-13.2.0-llvm-17.0.4-mingw-w64msvcrt-11.0.1-r2\mingw64\x86_64-w64-mingw32\lib" -L"C:\winlibs-x86_64-posix-seh-gcc-13.2.0-llvm-17.0.4-mingw-w64msvcrt-11.0.1-r2\mingw64\lib\gcc\x86_64-w64-mingw32\13.2.0"'
    libpth=C:\winlibs-x86_64-posix-seh-gcc-13.2.0-llvm-17.0.4-mingw-w64msvcrt-11.0.1-r2\mingw64\lib C:\winlibs-x86_64-posix-seh-gcc-13.2.0-llvm-17.0.4-mingw-w64msvcrt-11.0.1-r2\mingw64\x86_64-w64-mingw32\lib C:\winlibs-x86_64-posix-seh-gcc-13.2.0-llvm-17.0.4-mingw-w64msvcrt-11.0.1-r2\mingw64\lib\gcc\x86_64-w64-mingw32\13.2.0
    libs= -lmoldname -lkernel32 -luser32 -lgdi32 -lwinspool -lcomdlg32 -ladvapi32 -lshell32 -lole32 -loleaut32 -lnetapi32 -luuid -lws2_32 -lmpr -lwinmm -lversion -lodbc32 -lodbccp32 -lcomctl32
    perllibs= -lmoldname -lkernel32 -luser32 -lgdi32 -lwinspool -lcomdlg32 -ladvapi32 -lshell32 -lole32 -loleaut32 -lnetapi32 -luuid -lws2_32 -lmpr -lwinmm -lversion -lodbc32 -lodbccp32 -lcomctl32
    libc=-lmsvcrt
    so=dll
    useshrplib=true
    libperl=libperl539.a
    gnulibc_version=''
  Dynamic Linking:
    dlsrc=dl_win32.xs
    dlext=dll
    d_dlsymun=undef
    ccdlflags=' '
    cccdlflags=' '
    lddlflags='-shared -s -L"C:\WinLibs\Perl-5.39.9\lib\CORE" -L"C:\winlibs-x86_64-posix-seh-gcc-13.2.0-llvm-17.0.4-mingw-w64msvcrt-11.0.1-r2\mingw64\lib" -L"C:\winlibs-x86_64-posix-seh-gcc-13.2.0-llvm-17.0.4-mingw-w64msvcrt-11.0.1-r2\mingw64\x86_64-w64-mingw32\lib" -L"C:\winlibs-x86_64-posix-seh-gcc-13.2.0-llvm-17.0.4-mingw-w64msvcrt-11.0.1-r2\mingw64\lib\gcc\x86_64-w64-mingw32\13.2.0"'


Characteristics of this binary (from libperl): 
  Compile-time options:
    HAS_LONG_DOUBLE
    HAS_TIMES
    HAVE_INTERP_INTERN
    MULTIPLICITY
    PERLIO_LAYERS
    PERL_COPY_ON_WRITE
    PERL_DONT_CREATE_GVSV
    PERL_HASH_FUNC_SIPHASH13
    PERL_HASH_USE_SBOX32
    PERL_IMPLICIT_SYS
    PERL_MALLOC_WRAP
    PERL_OP_PARENT
    PERL_PRESERVE_IVUV
    PERL_USE_SAFE_PUTENV
    USE_64_BIT_INT
    USE_ITHREADS
    USE_LARGE_FILES
    USE_LOCALE
    USE_LOCALE_COLLATE
    USE_LOCALE_CTYPE
    USE_LOCALE_NUMERIC
    USE_LOCALE_TIME
    USE_PERLIO
    USE_PERL_ATOF
  Built under MSWin32
  Compiled at Mar 23 2024 13:57:21
  %ENV:
    PERL5LIB="C:\home\acorn5399\perl5\lib\perl5"
    PERL_LOCAL_LIB_ROOT="C:\home\acorn5399\perl5"
    PERL_MB_OPT="--install_base "C:\\home\\acorn5399\\perl5""
    PERL_MM_OPT="INSTALL_BASE=C:\\home\\acorn5399\\perl5"
  @INC:
    C:\home\acorn5399\perl5\lib\perl5/MSWin32-x64-multi-thread
    C:\home\acorn5399\perl5\lib\perl5
    C:/WinLibs/Perl-5.39.9/site/lib
    C:/WinLibs/Perl-5.39.9/lib