Net-Azure-StorageClient v0.6 Perl 5 v5.38.0 RC1 x86_64-linux-thread-multi-ld

Status
Pass
From
Andreas J. König (ANDK)
Dist
Net-Azure-StorageClient v0.6
Platform
Perl 5 v5.38.0 RC1 x86_64-linux-thread-multi-ld
Date
2023-06-18 18:06:09
ID
cd68ffb0-0e02-11ee-b10e-a1c64fd2e7f5
This distribution has been tested as part of the CPAN Testers
project, supporting the Perl programming language.  See
http://wiki.cpantesters.org/ for more information or email
questions to cpan-testers-discuss@perl.org


--
Dear Dean Hamstead,

This is a computer-generated report for Net-Azure-StorageClient-0.6
on perl 5.38.0, created by CPAN-Reporter-1.2019.

Thank you for uploading your work to CPAN.  Congratulations!
All tests were successful.

Sections of this report:

    * Tester comments
    * Program output
    * Prerequisites
    * Environment and other context

------------------------------
TESTER COMMENTS
------------------------------

Additional comments from tester:

this report is from an automated smoke testing program
and was not reviewed by a human for accuracy

------------------------------
PROGRAM OUTPUT
------------------------------

Output from '/usr/bin/make test':

PERL_DL_NONLAZY=1 "/tmp/basesmoker-reloperl-CzM8/bin/perl" "-MExtUtils::Command::MM" "-MTest::Harness" "-e" "undef *Test::Harness::Switches; test_harness(0, 'blib/lib', 'blib/arch')" t/*.t
t/00-Blob.t .................... skipped: Testing this module required account and primary access key of Windows Azure Blob Storage.
t/00-compile.t ................. ok
# 
# Versions for all modules listed in MYMETA.json (including optional ones):
# 
# === Configure Requires ===
# 
#     Module              Want   Have
#     ------------------- ---- ------
#     ExtUtils::MakeMaker  any   7.70
#     Module::Build       0.28 0.4234
# 
# === Build Requires ===
# 
#     Module        Want     Have
#     ------------- ---- --------
#     Module::Build 0.28   0.4234
#     Test::More     any 1.302195
# 
# === Test Requires ===
# 
#     Module              Want     Have
#     ------------------- ---- --------
#     ExtUtils::MakeMaker  any     7.70
#     File::Spec           any     3.88
#     IO::Handle           any     1.52
#     IPC::Open3           any     1.22
#     Test::More           any 1.302195
# 
# === Test Recommends ===
# 
#     Module         Want     Have
#     ---------- -------- --------
#     CPAN::Meta 2.120900 2.150010
# 
# === Runtime Requires ===
# 
#     Module            Want    Have
#     ----------------- ---- -------
#     Digest::MD5        any 2.58_01
#     Digest::SHA        any    6.04
#     Encode             any    3.19
#     File::Basename     any    2.86
#     File::Find         any    1.43
#     File::Path         any    2.18
#     File::Spec         any    3.88
#     HTTP::Date         any    6.05
#     LWP::UserAgent     any    6.70
#     MIME::Base64       any 3.16_01
#     Thread::Semaphore  any    2.13
#     URI::QueryParam    any    5.19
#     XML::Simple        any    2.25
#     namespace::clean   any    0.27
#     parent             any   0.241
#     strict             any    1.12
#     threads            any    2.36
#     warnings           any    1.65
# 
t/00-report-prereqs.t .......... ok
t/author-clean-namespaces.t .... skipped: these tests are for testing by the author
t/author-critic.t .............. skipped: these tests are for testing by the author
t/author-eof.t ................. skipped: these tests are for testing by the author
t/author-eol.t ................. skipped: these tests are for testing by the author
t/author-no-breakpoints.t ...... skipped: these tests are for testing by the author
t/author-no-tabs.t ............. skipped: these tests are for testing by the author
t/author-pod-linkcheck.t ....... skipped: these tests are for testing by the author
t/author-pod-spell.t ........... skipped: these tests are for testing by the author
t/author-pod-syntax.t .......... skipped: these tests are for testing by the author
t/author-portability.t ......... skipped: these tests are for testing by the author
t/release-distmeta.t ........... skipped: these tests are for release candidate testing
t/release-kwalitee.t ........... skipped: these tests are for release candidate testing
t/release-pause-permissions.t .. skipped: these tests are for release candidate testing
t/release-test-legal.t ......... skipped: these tests are for release candidate testing
t/release-unused-vars.t ........ skipped: these tests are for release candidate testing
All tests successful.
Files=18, Tests=5,  0 wallclock secs ( 0.06 usr  0.01 sys +  0.52 cusr  0.15 csys =  0.74 CPU)
Result: PASS

------------------------------
PREREQUISITES
------------------------------

Prerequisite modules loaded:

requires:

    Module              Need     Have    
    ------------------- -------- --------
    Digest::MD5         0        2.58_01 
    Digest::SHA         0        6.04    
    Encode              0        3.19    
    File::Basename      0        2.86    
    File::Find          0        1.43    
    File::Path          0        2.18    
    File::Spec          0        3.88    
    HTTP::Date          0        6.05    
    LWP::UserAgent      0        6.70    
    MIME::Base64        0        3.16_01 
    namespace::clean    0        0.27    
    parent              0        0.241   
    perl                5.010000 5.038000
    strict              0        1.12    
    Thread::Semaphore   0        2.13    
    threads             0        2.36    
    URI::QueryParam     0        5.19    
    warnings            0        1.65    
    XML::Simple         0        2.25    

build_requires:

    Module              Need     Have    
    ------------------- -------- --------
    ExtUtils::MakeMaker 0        7.70    
    File::Spec          0        3.88    
    IO::Handle          0        1.52    
    IPC::Open3          0        1.22    
    Module::Build       0.28     0.4234  
    Test::More          0        1.302195

configure_requires:

    Module              Need     Have    
    ------------------- -------- --------
    ExtUtils::MakeMaker 0        7.70    
    Module::Build       0.28     0.4234  
    perl                v5.10.0  5.038000


------------------------------
ENVIRONMENT AND OTHER CONTEXT
------------------------------

Environment variables:

    AUTOMATED_TESTING = 1
    LANG = en_US.UTF-8
    LC_ADDRESS = de_DE.UTF-8
    LC_IDENTIFICATION = de_DE.UTF-8
    LC_MEASUREMENT = de_DE.UTF-8
    LC_MONETARY = de_DE.UTF-8
    LC_NAME = de_DE.UTF-8
    LC_NUMERIC = de_DE.UTF-8
    LC_PAPER = de_DE.UTF-8
    LC_TELEPHONE = de_DE.UTF-8
    LC_TIME = de_DE.UTF-8
    PATH = /home/sand/bin:/usr/local/bin:/usr/local/sbin:/usr/sbin:/usr/bin:/sbin:/bin:/usr/games:/usr/local/games:/snap/bin:/usr/local/perl/bin:/usr/X11/bin
    PERL = /tmp/basesmoker-reloperl-CzM8/bin/perl
    PERL5LIB = /tmp/loop_over_bdir-2516-5yRf7d/DBIx-Migration-Directories-0.12-0/blib/arch:/tmp/loop_over_bdir-2516-5yRf7d/DBIx-Migration-Directories-0.12-0/blib/lib:/tmp/loop_over_bdir-2516-5yRf7d/App-nrun-v1.1.2-0/blib/arch:/tmp/loop_over_bdir-2516-5yRf7d/App-nrun-v1.1.2-0/blib/lib:/tmp/loop_over_bdir-2516-5yRf7d/downsexta-0/blib/arch:/tmp/loop_over_bdir-2516-5yRf7d/downsexta-0/blib/lib:/tmp/loop_over_bdir-2516-5yRf7d/makepp-1.19-0/blib/arch:/tmp/loop_over_bdir-2516-5yRf7d/makepp-1.19-0/blib/lib:/tmp/loop_over_bdir-2516-5yRf7d/Captive-Portal-4.10-0/blib/arch:/tmp/loop_over_bdir-2516-5yRf7d/Captive-Portal-4.10-0/blib/lib:/tmp/loop_over_bdir-2516-5yRf7d/AllKnowingDNS-1.7-0/blib/arch:/tmp/loop_over_bdir-2516-5yRf7d/AllKnowingDNS-1.7-0/blib/lib:/tmp/loop_over_bdir-2516-5yRf7d/Devel-Required-0.16-0/blib/arch:/tmp/loop_over_bdir-2516-5yRf7d/Devel-Required-0.16-0/blib/lib:/tmp/loop_over_bdir-2516-5yRf7d/shishi-0.0.1-0/blib/arch:/tmp/loop_over_bdir-2516-5yRf7d/shishi-0.0.1-0/blib/lib:/tmp/loop_over_bdir-2516-5yRf7d/Dpkg-1.21.22-0/blib/arch:/tmp/loop_over_bdir-2516-5yRf7d/Dpkg-1.21.22-0/blib/lib:/tmp/loop_over_bdir-2516-5yRf7d/mmds-1.902-0/blib/arch:/tmp/loop_over_bdir-2516-5yRf7d/mmds-1.902-0/blib/lib
    PERL5OPT = 
    PERL5_CPANPLUS_IS_RUNNING = 2535
    PERL5_CPAN_IS_RUNNING = 2535
    PERL_CANARY_STABILITY_NOPROMPT = 1
    PERL_MM_USE_DEFAULT = 1
    PERL_USE_UNSAFE_INC = 1
    SHELL = /usr/bin/zsh
    TERM = screen

Perl special variables (and OS-specific diagnostics, for MSWin32):

    $^X = /tmp/basesmoker-reloperl-CzM8/bin/perl
    $UID/$EUID = 1005 / 1005
    $GID = 1005 1005
    $EGID = 1005 1005

Perl module toolchain versions installed:

    Module              Have    
    ------------------- --------
    CPAN                2.36    
    CPAN::Meta          2.150010
    Cwd                 3.89    
    ExtUtils::CBuilder  0.280238
    ExtUtils::Command   7.70    
    ExtUtils::Install   2.22    
    ExtUtils::MakeMaker 7.70    
    ExtUtils::Manifest  1.75    
    ExtUtils::ParseXS   3.51    
    File::Spec          3.88    
    JSON                4.10    
    JSON::PP            4.16    
    Module::Build       0.4234  
    Module::Signature   0.88    
    Parse::CPAN::Meta   2.150010
    Test2               1.302195
    Test::Harness       3.44    
    Test::More          1.302195
    YAML                1.30    
    YAML::Syck          1.34    
    version             0.9929  


--

Summary of my perl5 (revision 5 version 38 subversion 0) configuration:
  Commit id: c4d7cf6ca54e055b3c7b4a1175737dd5bf0da023
  Platform:
    osname=linux
    osvers=5.19.0-43-generic
    archname=x86_64-linux-thread-multi-ld
    uname='linux k93jammy 5.19.0-43-generic #44~22.04.1-ubuntu smp preempt_dynamic mon may 22 13:39:36 utc 2 x86_64 x86_64 x86_64 gnulinux '
    config_args='-Dprefix=/home/sand/src/perl/repoperls/installed-perls/host/k93jammy/v5.38.0-RC1/322f -Dmyhostname=k93jammy -Dinstallusrbinperl=n -Uversiononly -Dusedevel -des -Ui_db -Dlibswanted=cl pthread socket inet nsl gdbm dbm malloc dl ld sun m crypt sec util c cposix posix ucb BSD gdbm_compat -Duseithreads -Duselongdouble -DEBUGGING=-g'
    hint=recommended
    useposix=true
    d_sigaction=define
    useithreads=define
    usemultiplicity=define
    use64bitint=define
    use64bitall=define
    uselongdouble=define
    usemymalloc=n
    default_inc_excludes_dot=define
  Compiler:
    cc='cc'
    ccflags ='-D_REENTRANT -D_GNU_SOURCE -fwrapv -fno-strict-aliasing -pipe -fstack-protector-strong -I/usr/local/include -D_LARGEFILE_SOURCE -D_FILE_OFFSET_BITS=64'
    optimize='-O2 -g'
    cppflags='-D_REENTRANT -D_GNU_SOURCE -fwrapv -fno-strict-aliasing -pipe -fstack-protector-strong -I/usr/local/include'
    ccversion=''
    gccversion='11.3.0'
    gccosandvers=''
    intsize=4
    longsize=8
    ptrsize=8
    doublesize=8
    byteorder=12345678
    doublekind=3
    d_longlong=define
    longlongsize=8
    d_longdbl=define
    longdblsize=16
    longdblkind=3
    ivtype='long'
    ivsize=8
    nvtype='long double'
    nvsize=16
    Off_t='off_t'
    lseeksize=8
    alignbytes=16
    prototype=define
  Linker and Libraries:
    ld='cc'
    ldflags =' -fstack-protector-strong -L/usr/local/lib'
    libpth=/usr/local/lib /usr/lib/x86_64-linux-gnu /usr/lib /usr/lib64
    libs=-lpthread -lnsl -ldl -lm -lcrypt -lutil -lc
    perllibs=-lpthread -lnsl -ldl -lm -lcrypt -lutil -lc
    libc=/lib/x86_64-linux-gnu/libc.so.6
    so=so
    useshrplib=false
    libperl=libperl.a
    gnulibc_version='2.35'
  Dynamic Linking:
    dlsrc=dl_dlopen.xs
    dlext=so
    d_dlsymun=undef
    ccdlflags='-Wl,-E'
    cccdlflags='-fPIC'
    lddlflags='-shared -O2 -g -L/usr/local/lib -fstack-protector-strong'


Characteristics of this binary (from libperl): 
  Compile-time options:
    HAS_LONG_DOUBLE
    HAS_STRTOLD
    HAS_TIMES
    MULTIPLICITY
    PERLIO_LAYERS
    PERL_COPY_ON_WRITE
    PERL_DONT_CREATE_GVSV
    PERL_HASH_FUNC_SIPHASH13
    PERL_HASH_USE_SBOX32
    PERL_MALLOC_WRAP
    PERL_OP_PARENT
    PERL_PRESERVE_IVUV
    PERL_USE_DEVEL
    PERL_USE_SAFE_PUTENV
    USE_64_BIT_ALL
    USE_64_BIT_INT
    USE_ITHREADS
    USE_LARGE_FILES
    USE_LOCALE
    USE_LOCALE_COLLATE
    USE_LOCALE_CTYPE
    USE_LOCALE_NUMERIC
    USE_LOCALE_TIME
    USE_LONG_DOUBLE
    USE_PERLIO
    USE_PERL_ATOF
    USE_REENTRANT_API
    USE_THREAD_SAFE_LOCALE
  Locally applied patches:
    RC1
  Built under linux
  Compiled at Jun 16 2023 03:40:27
  %ENV:
    PERL="/tmp/basesmoker-reloperl-CzM8/bin/perl"
    PERL5LIB="/tmp/loop_over_bdir-2516-5yRf7d/DBIx-Migration-Directories-0.12-0/blib/arch:/tmp/loop_over_bdir-2516-5yRf7d/DBIx-Migration-Directories-0.12-0/blib/lib:/tmp/loop_over_bdir-2516-5yRf7d/App-nrun-v1.1.2-0/blib/arch:/tmp/loop_over_bdir-2516-5yRf7d/App-nrun-v1.1.2-0/blib/lib:/tmp/loop_over_bdir-2516-5yRf7d/downsexta-0/blib/arch:/tmp/loop_over_bdir-2516-5yRf7d/downsexta-0/blib/lib:/tmp/loop_over_bdir-2516-5yRf7d/makepp-1.19-0/blib/arch:/tmp/loop_over_bdir-2516-5yRf7d/makepp-1.19-0/blib/lib:/tmp/loop_over_bdir-2516-5yRf7d/Captive-Portal-4.10-0/blib/arch:/tmp/loop_over_bdir-2516-5yRf7d/Captive-Portal-4.10-0/blib/lib:/tmp/loop_over_bdir-2516-5yRf7d/AllKnowingDNS-1.7-0/blib/arch:/tmp/loop_over_bdir-2516-5yRf7d/AllKnowingDNS-1.7-0/blib/lib:/tmp/loop_over_bdir-2516-5yRf7d/Devel-Required-0.16-0/blib/arch:/tmp/loop_over_bdir-2516-5yRf7d/Devel-Required-0.16-0/blib/lib:/tmp/loop_over_bdir-2516-5yRf7d/shishi-0.0.1-0/blib/arch:/tmp/loop_over_bdir-2516-5yRf7d/shishi-0.0.1-0/blib/lib:/tmp/loop_over_bdir-2516-5yRf7d/Dpkg-1.21.22-0/blib/arch:/tmp/loop_over_bdir-2516-5yRf7d/Dpkg-1.21.22-0/blib/lib:/tmp/loop_over_bdir-2516-5yRf7d/mmds-1.902-0/blib/arch:/tmp/loop_over_bdir-2516-5yRf7d/mmds-1.902-0/blib/lib"
    PERL5OPT=""
    PERL5_CPANPLUS_IS_RUNNING="2535"
    PERL5_CPAN_IS_RUNNING="2535"
    PERL_CANARY_STABILITY_NOPROMPT="1"
    PERL_MM_USE_DEFAULT="1"
    PERL_USE_UNSAFE_INC="1"
  @INC:
    /tmp/loop_over_bdir-2516-5yRf7d/DBIx-Migration-Directories-0.12-0/blib/arch
    /tmp/loop_over_bdir-2516-5yRf7d/DBIx-Migration-Directories-0.12-0/blib/lib
    /tmp/loop_over_bdir-2516-5yRf7d/App-nrun-v1.1.2-0/blib/arch
    /tmp/loop_over_bdir-2516-5yRf7d/App-nrun-v1.1.2-0/blib/lib
    /tmp/loop_over_bdir-2516-5yRf7d/downsexta-0/blib/arch
    /tmp/loop_over_bdir-2516-5yRf7d/downsexta-0/blib/lib
    /tmp/loop_over_bdir-2516-5yRf7d/makepp-1.19-0/blib/arch
    /tmp/loop_over_bdir-2516-5yRf7d/makepp-1.19-0/blib/lib
    /tmp/loop_over_bdir-2516-5yRf7d/Captive-Portal-4.10-0/blib/arch
    /tmp/loop_over_bdir-2516-5yRf7d/Captive-Portal-4.10-0/blib/lib
    /tmp/loop_over_bdir-2516-5yRf7d/AllKnowingDNS-1.7-0/blib/arch
    /tmp/loop_over_bdir-2516-5yRf7d/AllKnowingDNS-1.7-0/blib/lib
    /tmp/loop_over_bdir-2516-5yRf7d/Devel-Required-0.16-0/blib/arch
    /tmp/loop_over_bdir-2516-5yRf7d/Devel-Required-0.16-0/blib/lib
    /tmp/loop_over_bdir-2516-5yRf7d/shishi-0.0.1-0/blib/arch
    /tmp/loop_over_bdir-2516-5yRf7d/shishi-0.0.1-0/blib/lib
    /tmp/loop_over_bdir-2516-5yRf7d/Dpkg-1.21.22-0/blib/arch
    /tmp/loop_over_bdir-2516-5yRf7d/Dpkg-1.21.22-0/blib/lib
    /tmp/loop_over_bdir-2516-5yRf7d/mmds-1.902-0/blib/arch
    /tmp/loop_over_bdir-2516-5yRf7d/mmds-1.902-0/blib/lib
    /home/sand/src/perl/repoperls/installed-perls/host/k93jammy/v5.38.0-RC1/322f/lib/site_perl/5.38.0/x86_64-linux-thread-multi-ld
    /home/sand/src/perl/repoperls/installed-perls/host/k93jammy/v5.38.0-RC1/322f/lib/site_perl/5.38.0
    /home/sand/src/perl/repoperls/installed-perls/host/k93jammy/v5.38.0-RC1/322f/lib/5.38.0/x86_64-linux-thread-multi-ld
    /home/sand/src/perl/repoperls/installed-perls/host/k93jammy/v5.38.0-RC1/322f/lib/5.38.0
    .