Report for Search-ContextGraph-0.15

Back
From: metabase:user:322078bc-2aae-11df-837a-5e0a49663a4f
Subject: PASS Search-ContextGraph-0.15 v5.15.4 GNU/Linux
Date: 2011-11-12T11:38:12Z

This distribution has been tested as part of the CPAN Testers
project, supporting the Perl programming language.  See
http://wiki.cpantesters.org/ for more information or email
questions to cpan-testers-discuss@perl.org


--

Dear MCEGLOWS,

This is a computer-generated error report created automatically by
CPANPLUS, version 0.9112. Testers personal comments may appear
at the end of this report.

MAKE TEST passed: PERL_DL_NONLAZY=1 /home/cpan/pit/bare/perl-5.15.4/bin/perl5.15.4 "-MExtUtils::Command::MM" "-e" "test_harness(0, 'blib/lib', 'blib/arch')" t/*.t
t/accessors.t ....... ok
t/add_subtract.t .... ok
t/dump.t ............ ok
t/find_by_title.t ... ok
t/has.t ............. ok
t/intersection.t .... ok
t/invariance.t ...... ok
t/merge.t ........... ok
Using MLDBM: test at /home/cpan/pit/bare/conf/perl-5.15.4/.cpanplus/5.15.4/build/Search-ContextGraph-0.15/blib/lib/Search/ContextGraph.pm line 224.
t/mldbm.t ........... ok
t/rebalancing.t ..... ok
t/simple_search.t ... ok
t/term_doc_lists.t .. ok
t/update.t .......... ok
All tests successful.
Files=13, Tests=159,  4 wallclock secs ( 0.06 usr  0.01 sys +  3.02 cusr  0.10 csys =  3.19 CPU)
Result: PASS
PERL_DL_NONLAZY=1 /home/cpan/pit/bare/perl-5.15.4/bin/perl5.15.4 "-Iblib/lib" "-Iblib/arch" test.pl
ok 1 - have Search::ContextGraph object
ok 2 - only two matches
ok 3 - contains first document
ok 4 - contains third document
ok 5 - correct relevance on search doc \#1
ok 6 - correct relevance on search doc \#3
ok 7 - repeating search does not change results
ok 8 - complained about duplicate title
ok 9 - able to add more documents
ok 10 - document count is correct
ok 11 - word count is correct
ok 12 - word list is correct
ok 13 - singleton search did not change
ok 14 - raw search gives same result
ok 15 - result changed for non-singleton search
ok 16 - find similar search correct
ok 17 - find similar search correct
ok 18 - able to store object to file
ok 19 - reload object from stored file
ok 20 - remove stored file
ok 21 - reloaded search object works fine
ok 22 - able to load TDM file 
ok 23 - correct document count
ok 24 - correct term count
ok 25 - Got right number of results
ok 26 - mixed search got right doc value
ok 27 - mixed search got right term value
1..27

[MSG] [Sat Nov 12 11:38:09 2011] Sending test report for 'Search-ContextGraph-0.15'

PREREQUISITES:

Here is a list of prerequisites you specified and versions we
managed to load:

	  Module Name                        Have     Want
	  ExtUtils::MakeMaker                6.62        0
	  MLDBM                              2.04      0.1
	  Test::More                         0.98        0

Perl module toolchain versions installed:
	Module Name                        Have
	CPANPLUS                         0.9112
	CPANPLUS::Dist::Build              0.60
	Cwd                                3.37
	ExtUtils::CBuilder             0.280204
	ExtUtils::Command                  1.17
	ExtUtils::Install                  1.57
	ExtUtils::MakeMaker                6.62
	ExtUtils::Manifest                 1.60
	ExtUtils::ParseXS                  3.05
	File::Spec                         3.34
	Module::Build                   0.39_01
	Test::Harness                      3.23
	Test::More                         0.98
	version                            0.94

******************************** NOTE ********************************
The comments above are created mechanically, possibly without manual
checking by the sender.  As there are many people performing automatic
tests on each upload to CPAN, it is likely that you will receive
identical messages about the same problem.

If you believe that the message is mistaken, please reply to the first
one with correction and/or additional informations, and do not take
it personally.  We appreciate your patience. :)
**********************************************************************

Additional comments:


This report was machine-generated by CPANPLUS::Dist::YACSmoke 0.66.
Powered by minismokebox version 0.54

------------------------------
ENVIRONMENT AND OTHER CONTEXT
------------------------------

Environment variables:

    AUTOMATED_TESTING = 1
    LANG = en_US
    LC_COLLATE = C
    PATH = /usr/local/bin:/usr/bin:/bin:/usr/games:/usr/lib64/java/bin:/usr/lib64/qt/bin:/usr/share/texmf/bin:.
    PERL5LIB = :/home/cpan/pit/bare/conf/perl-5.15.4/.cpanplus/5.15.4/build/MLDBM-2.04/blib/lib:/home/cpan/pit/bare/conf/perl-5.15.4/.cpanplus/5.15.4/build/MLDBM-2.04/blib/arch:/home/cpan/pit/bare/conf/perl-5.15.4/.cpanplus/5.15.4/build/Search-ContextGraph-0.15/blib/lib:/home/cpan/pit/bare/conf/perl-5.15.4/.cpanplus/5.15.4/build/Search-ContextGraph-0.15/blib/arch
    PERL5_CPANPLUS_IS_RUNNING = 30007
    PERL5_CPANPLUS_IS_VERSION = 0.9112
    PERL5_MINISMOKEBOX = 0.54
    PERL5_YACSMOKE_BASE = /home/cpan/pit/bare/conf/perl-5.15.4
    PERL_EXTUTILS_AUTOINSTALL = --defaultdeps
    PERL_MM_USE_DEFAULT = 1
    SHELL = /bin/bash
    TERM = screen

Perl special variables (and OS-specific diagnostics, for MSWin32):

    Perl: $^X = /home/cpan/pit/bare/perl-5.15.4/bin/perl5.15.4
    UID:  $<  = 1001
    EUID: $>  = 1001
    GID:  $(  = 100 100
    EGID: $)  = 100 100


-------------------------------


--

Summary of my perl5 (revision 5 version 15 subversion 4) configuration:
   
  Platform:
    osname=linux, osvers=2.6.33.4, archname=x86_64-linux
    uname='linux slack64 2.6.33.4 #3 smp wed may 12 23:13:09 cdt 2010 x86_64 intel(r) xeon(r) cpu e5520 @ 2.27ghz genuineintel gnulinux '
    config_args='-des -Dprefix=/home/cpan/pit/bare/perl-5.15.4 -Dusedevel'
    hint=recommended, useposix=true, d_sigaction=define
    useithreads=undef, usemultiplicity=undef
    useperlio=define, d_sfio=undef, uselargefiles=define, usesocks=undef
    use64bitint=define, use64bitall=define, uselongdouble=undef
    usemymalloc=n, bincompat5005=undef
  Compiler:
    cc='cc', ccflags ='-fno-strict-aliasing -pipe -fstack-protector -I/usr/local/include -D_LARGEFILE_SOURCE -D_FILE_OFFSET_BITS=64',
    optimize='-O2',
    cppflags='-fno-strict-aliasing -pipe -fstack-protector -I/usr/local/include'
    ccversion='', gccversion='4.4.4', gccosandvers=''
    intsize=4, longsize=8, ptrsize=8, doublesize=8, byteorder=12345678
    d_longlong=define, longlongsize=8, d_longdbl=define, longdblsize=16
    ivtype='long', ivsize=8, nvtype='double', nvsize=8, Off_t='off_t', lseeksize=8
    alignbytes=8, prototype=define
  Linker and Libraries:
    ld='cc', ldflags =' -fstack-protector -L/usr/local/lib'
    libpth=/usr/local/lib /lib/../lib64 /usr/lib/../lib64 /lib /usr/lib /lib64 /usr/lib64 /usr/local/lib64
    libs=-lnsl -lgdbm -ldb -ldl -lm -lcrypt -lutil -lc
    perllibs=-lnsl -ldl -lm -lcrypt -lutil -lc
    libc=, so=so, useshrplib=false, libperl=libperl.a
    gnulibc_version='2.11.1'
  Dynamic Linking:
    dlsrc=dl_dlopen.xs, dlext=so, d_dlsymun=undef, ccdlflags='-Wl,-E'
    cccdlflags='-fPIC', lddlflags='-shared -O2 -L/usr/local/lib -fstack-protector'


Characteristics of this binary (from libperl): 
  Compile-time options: HAS_TIMES PERLIO_LAYERS PERL_DONT_CREATE_GVSV
                        PERL_MALLOC_WRAP PERL_PRESERVE_IVUV PERL_USE_DEVEL
                        USE_64_BIT_ALL USE_64_BIT_INT USE_LARGE_FILES
                        USE_LOCALE USE_LOCALE_COLLATE USE_LOCALE_CTYPE
                        USE_LOCALE_NUMERIC USE_PERLIO USE_PERL_ATOF
  Built under linux
  Compiled at Oct 21 2011 10:15:48
  %ENV:
    PERL5LIB=":/home/cpan/pit/bare/conf/perl-5.15.4/.cpanplus/5.15.4/build/MLDBM-2.04/blib/lib:/home/cpan/pit/bare/conf/perl-5.15.4/.cpanplus/5.15.4/build/MLDBM-2.04/blib/arch:/home/cpan/pit/bare/conf/perl-5.15.4/.cpanplus/5.15.4/build/Search-ContextGraph-0.15/blib/lib:/home/cpan/pit/bare/conf/perl-5.15.4/.cpanplus/5.15.4/build/Search-ContextGraph-0.15/blib/arch"
    PERL5_CPANPLUS_IS_RUNNING="30007"
    PERL5_CPANPLUS_IS_VERSION="0.9112"
    PERL5_MINISMOKEBOX="0.54"
    PERL5_YACSMOKE_BASE="/home/cpan/pit/bare/conf/perl-5.15.4"
    PERL_EXTUTILS_AUTOINSTALL="--defaultdeps"
    PERL_MM_USE_DEFAULT="1"
  @INC:
    /home/cpan/pit/bare/conf/perl-5.15.4/.cpanplus/5.15.4/build/MLDBM-2.04/blib/lib
    /home/cpan/pit/bare/conf/perl-5.15.4/.cpanplus/5.15.4/build/MLDBM-2.04/blib/arch
    /home/cpan/pit/bare/conf/perl-5.15.4/.cpanplus/5.15.4/build/Search-ContextGraph-0.15/blib/lib
    /home/cpan/pit/bare/conf/perl-5.15.4/.cpanplus/5.15.4/build/Search-ContextGraph-0.15/blib/arch
    /home/cpan/pit/bare/perl-5.15.4/lib/site_perl/5.15.4/x86_64-linux
    /home/cpan/pit/bare/perl-5.15.4/lib/site_perl/5.15.4
    /home/cpan/pit/bare/perl-5.15.4/lib/5.15.4/x86_64-linux
    /home/cpan/pit/bare/perl-5.15.4/lib/5.15.4
    .