Back
From: metabase:user:314402c4-2aae-11df-837a-5e0a49663a4f
Subject: PASS POE-Component-SSLify-1.012 v5.18.4 GNU/Linux
Date: 2014-11-14T20:35:42Z
This distribution has been tested as part of the CPAN Testers
project, supporting the Perl programming language. See
http://wiki.cpantesters.org/ for more information or email
questions to cpan-testers-discuss@perl.org
--
Dear Apocalypse,
This is a computer-generated report for POE-Component-SSLify-1.012
on perl 5.18.4, created by CPAN-Reporter-1.2011.
Thank you for uploading your work to CPAN. Congratulations!
All tests were successful.
Sections of this report:
* Tester comments
* Program output
* Prerequisites
* Environment and other context
------------------------------
TESTER COMMENTS
------------------------------
Additional comments from tester:
none provided
------------------------------
PROGRAM OUTPUT
------------------------------
Output from './Build test':
t/00-compile.t ................ ok
#
# Versions for all modules listed in MYMETA.json (including optional ones):
#
# === Configure Requires ===
#
# Module Want Have
# ------------------- ----- -----
# ExtUtils::MakeMaker any 7.00
# Module::Build::Tiny 0.039 0.039
#
# === Test Requires ===
#
# Module Want Have
# --------------------------- -------- --------
# ExtUtils::MakeMaker any 7.00
# File::Spec any 3.47
# File::Temp any 0.2304
# IO::Handle 1.28 1.34
# IPC::Open3 any 1.13
# POE 1.267 1.366
# POE::Component::Client::TCP any 1.366
# POE::Component::Server::TCP any 1.366
# POE::Filter::Stream any 1.366
# Socket any 2.015
# Test::FailWarnings any 0.008
# Test::More 1.001002 1.001009
#
# === Test Recommends ===
#
# Module Want Have
# ---------- -------- --------
# CPAN::Meta 2.120900 2.142690
#
# === Runtime Requires ===
#
# Module Want Have
# ------------ ----- -----
# Exporter any 5.70
# IO::Handle 1.28 1.34
# Net::SSLeay 1.36 1.66
# POE 1.267 1.366
# Scalar::Util any 1.41
# Symbol any 1.07
# Task::Weaken 1.03 1.04
# parent any 0.228
# strict any 1.07
# warnings any 1.18
#
t/00-report-prereqs.t ......... ok
#
# Net::SSLeay::ver_number is 0x1000105f
# OpenSSL 1.0.1e 11 Feb 2013
# compiler: gcc -fPIC -DOPENSSL_PIC -DZLIB -DOPENSSL_THREADS -D_REENTRANT -DDSO_DLFCN -DHAVE_DLFCN_H -m64 -DL_ENDIAN -DTERMIO -g -O2 -fstack-protector --param=ssp-buffer-size=4 -Wformat -Werror=format-security -D_FORTIFY_SOURCE=2 -Wl,-z,relro -Wa,--noexecstack -Wall -DMD32_REG_T=int -DOPENSSL_IA32_SSE2 -DOPENSSL_BN_ASM_MONT -DOPENSSL_BN_ASM_MONT5 -DOPENSSL_BN_ASM_GF2m -DSHA1_ASM -DSHA256_ASM -DSHA512_ASM -DMD5_ASM -DAES_ASM -DVPAES_ASM -DBSAES_ASM -DWHIRLPOOL_ASM -DGHASH_ASM
# built on: Wed Oct 15 17:54:53 UTC 2014
# platform: debian-amd64
# pogomips: 52027688
t/00-ssleay-info.t ............ ok
t/99_mire_test.t .............. skipped: AUTHOR TEST
t/apocalypse.t ................ skipped: Test::Apocalypse required for validating the distribution
t/connect_hook.t .............. ok
t/connect_hook_nodata.t ....... ok
t/connfail_client.t ........... ok
t/connfail_server.t ........... ok
t/renegotiate_client.t ........ ok
t/renegotiate_client_pings.t .. ok
t/renegotiate_server.t ........ ok
t/simple.t .................... ok
t/simple_large.t .............. ok
t/simple_parallel.t ........... ok
t/simple_parallel_large.t ..... ok
t/simple_parallel_superbig.t .. skipped: AUTHOR TEST: NO at (eval 5) line 1.
t/simple_superbig.t ........... skipped: AUTHOR TEST: NO at (eval 5) line 1.
t/upgrade.t ................... ok
All tests successful.
Test Summary Report
-------------------
t/renegotiate_client_pings.t (Wstat: 0 Tests: 22 Failed: 0)
TODO passed: 15-17
Files=19, Tests=435, 4 wallclock secs ( 0.08 usr 0.09 sys + 2.85 cusr 0.50 csys = 3.52 CPU)
Result: PASS
------------------------------
PREREQUISITES
------------------------------
Prerequisite modules loaded:
requires:
Module Need Have
--------------------------- -------- --------
Exporter 0 5.70
IO::Handle 1.28 1.34
Net::SSLeay 1.36 1.66
parent 0 0.228
perl 5.006 5.018004
POE 1.267 1.366
Scalar::Util 0 1.41
strict 0 1.07
Symbol 0 1.07
Task::Weaken 1.03 1.04
warnings 0 1.18
build_requires:
Module Need Have
--------------------------- -------- --------
ExtUtils::MakeMaker 0 7.00
File::Spec 0 3.47
File::Temp 0 0.2304
IO::Handle 1.28 1.34
IPC::Open3 0 1.13
perl 5.006 5.018004
POE 1.267 1.366
POE::Component::Client::TCP 0 1.366
POE::Component::Server::TCP 0 1.366
POE::Filter::Stream 0 1.366
Socket 0 2.015
Test::FailWarnings 0 0.008
Test::More 1.001002 1.001009
configure_requires:
Module Need Have
--------------------------- -------- --------
ExtUtils::MakeMaker 0 7.00
Module::Build::Tiny 0.039 0.039
perl 5.006 5.018004
------------------------------
ENVIRONMENT AND OTHER CONTEXT
------------------------------
Environment variables:
DBIC_NO_WARN_BAD_PERL = 1
LANG = C
LC_ALL = de_DE.UTF-8
PATH = /usr/local/bin:/usr/bin:/bin:/usr/local/sbin:/usr/sbin:/sbin:/home/eserte/bin/linux-gnu:/home/eserte/bin/sh:/home/eserte/bin:/usr/games:/home/eserte/devel:/home/eserte/src/srezic-misc/scripts
PERL5LIB =
PERL5OPT =
PERL5_CPANPLUS_IS_RUNNING = 5256
PERL5_CPAN_IS_RUNNING = 5256
PERL5_CPAN_IS_RUNNING_IN_RECURSION = 5173,5256
PERLDOC = -MPod::Perldoc::ToTextOverstrike
PERL_BATCH = yes
PERL_CPAN_REPORTER_CONFIG = /var/tmp/cpansmoker-1001/EKEHcieF5j_config.ini
PERL_EXTUTILS_AUTOINSTALL = --defaultdeps
PERL_HTML_DISPLAY_CLASS = HTML::Display::Mozilla
PERL_PARALLEL_SMOKER = yes
SHELL = /bin/zsh
TERM = screen
TMPDIR = /var/tmp/cpansmoker-1001
Perl special variables (and OS-specific diagnostics, for MSWin32):
$^X = /opt/perl-5.18.4/bin/perl5.18.4
$UID/$EUID = 1001 / 1001
$GID = 1001 109 1001
$EGID = 1001 109 1001
Perl module toolchain versions installed:
Module Have
------------------- --------
CPAN 2.05
CPAN::Meta 2.142690
Cwd 3.47
ExtUtils::CBuilder 0.280220
ExtUtils::Command 1.17
ExtUtils::Install 2.04
ExtUtils::MakeMaker 7.00
ExtUtils::Manifest 1.68
ExtUtils::ParseXS 3.24
File::Spec 3.47
JSON 2.90
JSON::PP 2.27203
Module::Build 0.4210
Module::Signature 0.73
Parse::CPAN::Meta 1.4414
Test::Harness 3.34
Test::More 1.001009
YAML 1.12
YAML::Syck 1.27
version 0.9909
--
Summary of my perl5 (revision 5 version 18 subversion 4) configuration:
Platform:
osname=linux, osvers=3.2.0-4-amd64, archname=x86_64-linux
uname='linux eserte 3.2.0-4-amd64 #1 smp debian 3.2.60-1+deb7u3 x86_64 gnulinux '
config_args='-ds -e -Dprefix=/opt/perl-5.18.4'
hint=recommended, useposix=true, d_sigaction=define
useithreads=undef, usemultiplicity=undef
useperlio=define, d_sfio=undef, uselargefiles=define, usesocks=undef
use64bitint=define, use64bitall=define, uselongdouble=undef
usemymalloc=n, bincompat5005=undef
Compiler:
cc='cc', ccflags ='-fno-strict-aliasing -pipe -fstack-protector -I/usr/local/include -D_LARGEFILE_SOURCE -D_FILE_OFFSET_BITS=64',
optimize='-O2',
cppflags='-fno-strict-aliasing -pipe -fstack-protector -I/usr/local/include'
ccversion='', gccversion='4.7.2', gccosandvers=''
intsize=4, longsize=8, ptrsize=8, doublesize=8, byteorder=12345678
d_longlong=define, longlongsize=8, d_longdbl=define, longdblsize=16
ivtype='long', ivsize=8, nvtype='double', nvsize=8, Off_t='off_t', lseeksize=8
alignbytes=8, prototype=define
Linker and Libraries:
ld='cc', ldflags =' -fstack-protector -L/usr/local/lib'
libpth=/usr/local/lib /lib/x86_64-linux-gnu /lib/../lib /usr/lib/x86_64-linux-gnu /usr/lib/../lib /lib /usr/lib
libs=-lnsl -ldb -ldl -lm -lcrypt -lutil -lc
perllibs=-lnsl -ldl -lm -lcrypt -lutil -lc
libc=, so=so, useshrplib=false, libperl=libperl.a
gnulibc_version='2.13'
Dynamic Linking:
dlsrc=dl_dlopen.xs, dlext=so, d_dlsymun=undef, ccdlflags='-Wl,-E'
cccdlflags='-fPIC', lddlflags='-shared -O2 -L/usr/local/lib -fstack-protector'
Characteristics of this binary (from libperl):
Compile-time options: HAS_TIMES PERLIO_LAYERS PERL_DONT_CREATE_GVSV
PERL_HASH_FUNC_ONE_AT_A_TIME_HARD PERL_MALLOC_WRAP
PERL_PRESERVE_IVUV PERL_SAWAMPERSAND USE_64_BIT_ALL
USE_64_BIT_INT USE_LARGE_FILES USE_LOCALE
USE_LOCALE_COLLATE USE_LOCALE_CTYPE
USE_LOCALE_NUMERIC USE_PERLIO USE_PERL_ATOF
Built under linux
Compiled at Oct 2 2014 05:37:02
%ENV:
PERL5LIB=""
PERL5OPT=""
PERL5_CPANPLUS_IS_RUNNING="5256"
PERL5_CPAN_IS_RUNNING="5256"
PERL5_CPAN_IS_RUNNING_IN_RECURSION="5173,5256"
PERLDOC="-MPod::Perldoc::ToTextOverstrike"
PERL_BATCH="yes"
PERL_CPAN_REPORTER_CONFIG="/var/tmp/cpansmoker-1001/EKEHcieF5j_config.ini"
PERL_EXTUTILS_AUTOINSTALL="--defaultdeps"
PERL_HTML_DISPLAY_CLASS="HTML::Display::Mozilla"
PERL_PARALLEL_SMOKER="yes"
@INC:
/opt/perl-5.18.4/lib/site_perl/5.18.4/x86_64-linux
/opt/perl-5.18.4/lib/site_perl/5.18.4
/opt/perl-5.18.4/lib/5.18.4/x86_64-linux
/opt/perl-5.18.4/lib/5.18.4
.