Back
From: metabase:user:30977d10-2aae-11df-837a-5e0a49663a4f
Subject: PASS Catalyst-Model-CacheFunky-Loader-0.06 v5.10.1 GNU/Linux
Date: 2011-07-30T18:57:41Z
This distribution has been tested as part of the CPAN Testers
project, supporting the Perl programming language. See
http://wiki.cpantesters.org/ for more information or email
questions to cpan-testers-discuss@perl.org
--
Dear Tomohiro Teranishi,
This is a computer-generated report for Catalyst-Model-CacheFunky-Loader-0.06
on perl 5.10.1, created by CPAN-Reporter-1.19_04.
Thank you for uploading your work to CPAN. Congratulations!
All tests were successful.
Sections of this report:
* Tester comments
* Program output
* Prerequisites
* Environment and other context
------------------------------
TESTER COMMENTS
------------------------------
Additional comments from tester:
this report is from an automated smoke testing program
and was not reviewed by a human for accuracy
------------------------------
PROGRAM OUTPUT
------------------------------
Output from '/usr/bin/make test':
PERL_DL_NONLAZY=1 /home/trushel/perl/perl5101/bin/perl "-MExtUtils::Command::MM" "-e" "test_harness(0, 'inc', 'blib/lib', 'blib/arch')" t/00-load.t t/01_app.t t/boilerplate.t t/pod-coverage.t t/pod.t t/spelling.t
# Testing Catalyst::Model::CacheFunky::Loader 0.06, Perl 5.010001, /home/trushel/perl/perl5101/bin/perl
t/00-load.t ....... ok
Catalyst::Model::CacheFunky::Loader uses NEXT, which is deprecated. Please see the Class::C3::Adopt::NEXT documentation for details. NEXT used at /home/trushel/cpan/build/5.10.1/Catalyst-Model-CacheFunky-Loader-0.06-FbRJvC/blib/lib/Catalyst/Model/CacheFunky/Loader.pm line 13
[debug] Debug messages enabled
[debug] Statistics enabled
[debug] Loaded plugins:
.-----------------------------------------------------------------------------------------------------------------------------------------------------------------------------.
| Catalyst::Plugin::ConfigLoader 0.30 |
'-----------------------------------------------------------------------------------------------------------------------------------------------------------------------------'
[debug] Loaded dispatcher "Catalyst::Dispatcher"
[debug] Loaded engine "Catalyst::Engine"
[debug] Found home "/home/trushel/cpan/build/5.10.1/Catalyst-Model-CacheFunky-Loader-0.06-FbRJvC/t/lib/TestApp"
[debug] Loaded components:
.------------------------------------------------------------------------------------------------------------------------------------------------------------------+----------.
| Class | Type |
+------------------------------------------------------------------------------------------------------------------------------------------------------------------+----------+
| TestApp::Controller::Root | instance |
| TestApp::Model::Funky | instance |
| TestApp::Model::Funky::Context | class |
| TestApp::Model::Funky::Date | class |
'------------------------------------------------------------------------------------------------------------------------------------------------------------------+----------'
[debug] Loaded Private actions:
.-------------------------------------------+------------------------------------------------------------------------------------+--------------------------------------------.
| Private | Class | Method |
+-------------------------------------------+------------------------------------------------------------------------------------+--------------------------------------------+
| /date | TestApp::Controller::Root | date |
| /context | TestApp::Controller::Root | context |
| /default | TestApp::Controller::Root | default |
'-------------------------------------------+------------------------------------------------------------------------------------+--------------------------------------------'
[debug] Loaded Path actions:
.--------------------------------------------------------------------------------------+--------------------------------------------------------------------------------------.
| Path | Private |
+--------------------------------------------------------------------------------------+--------------------------------------------------------------------------------------+
| /context/... | /context |
| /date/... | /date |
'--------------------------------------------------------------------------------------+--------------------------------------------------------------------------------------'
[info] TestApp powered by Catalyst 5.89003
[info] *** Request 1 (1.000/s) [27625] [Sat Jul 30 06:56:52 2011] ***
[debug] "GET" request for "date" from "127.0.0.1"
[debug] Path is "date"
[debug] Response Code: 200; Content-Type: unknown; Content-Length: 1
[info] Request took 1.002590s (0.997/s)
.-------------------------------------------------------------------------------------------------------------------------------------------------------------+-----------.
| Action | Time |
+-------------------------------------------------------------------------------------------------------------------------------------------------------------+-----------+
| /date | 1.000416s |
'-------------------------------------------------------------------------------------------------------------------------------------------------------------+-----------'
[info] *** Request 2 (2.000/s) [27625] [Sat Jul 30 06:56:53 2011] ***
[debug] "GET" request for "context" from "127.0.0.1"
[debug] Path is "context"
[debug] Response Code: 200; Content-Type: unknown; Content-Length: 1
[info] Request took 0.001738s (575.374/s)
.-------------------------------------------------------------------------------------------------------------------------------------------------------------+-----------.
| Action | Time |
+-------------------------------------------------------------------------------------------------------------------------------------------------------------+-----------+
| /context | 0.000158s |
'-------------------------------------------------------------------------------------------------------------------------------------------------------------+-----------'
t/01_app.t ........ ok
t/boilerplate.t ... ok
t/pod-coverage.t .. ok
t/pod.t ........... ok
t/spelling.t ...... ok
All tests successful.
Files=6, Tests=9, 3 wallclock secs ( 0.03 usr 0.02 sys + 1.36 cusr 0.11 csys = 1.52 CPU)
Result: PASS
------------------------------
PREREQUISITES
------------------------------
Prerequisite modules loaded:
requires:
Module Need Have
------------------------------ ---- -------
Cache::Funky 0 0.06
Catalyst 0 5.89003
Catalyst::Plugin::ConfigLoader 0 0.30
Module::Recursive::Require 0.04 0.04
Test::More 0 0.98
Test::Spelling 0 0.14
build_requires:
Module Need Have
------------------------------ ---- -------
ExtUtils::MakeMaker 0 6.58
------------------------------
ENVIRONMENT AND OTHER CONTEXT
------------------------------
Environment variables:
AUTOMATED_TESTING = 1
LANG = en_US.UTF-8
LANGUAGE = en
LC_COLLATE = C
LC_MONETARY = C
LC_NUMERIC = C
LC_TIME = C
PATH = /usr/local/sbin:/usr/local/bin:/usr/sbin:/usr/bin:/sbin:/bin
PERL5LIB =
PERL5OPT =
PERL5_CPANPLUS_IS_RUNNING = 27401
PERL5_CPAN_IS_RUNNING = 27401
PERL5_CPAN_IS_RUNNING_IN_RECURSION = 32116,27401
PERL_CR_SMOKER_CURRENT = Catalyst-Model-CacheFunky-Loader-0.06
PERL_EXTUTILS_AUTOINSTALL = --defaultdeps
PERL_MM_USE_DEFAULT = 1
SHELL = /bin/bash
TERM = xterm
Perl special variables (and OS-specific diagnostics, for MSWin32):
$^X = /home/trushel/perl/perl5101/bin/perl
$UID/$EUID = 138375 / 138375
$GID = 5762 4 20 21 24 25 26 30 44 46 104 105 119 122 431 5762
$EGID = 5762 4 20 21 24 25 26 30 44 46 104 105 119 122 431 5762
Perl module toolchain versions installed:
Module Have
------------------- -----------
CPAN 1.97_51
CPAN::Meta 2.110930001
Cwd 3.33
ExtUtils::CBuilder 0.280202
ExtUtils::Command 1.17
ExtUtils::Install 1.54
ExtUtils::MakeMaker 6.58
ExtUtils::Manifest 1.58
ExtUtils::ParseXS 3.00_05
File::Spec 3.33
JSON 2.53
JSON::PP 2.27200
Module::Build 0.3800
Module::Signature n/a
Parse::CPAN::Meta 1.4401
Test::Harness 3.23
Test::More 0.98
YAML 0.73
YAML::Syck 1.17
version 0.93
--
Summary of my perl5 (revision 5 version 10 subversion 1) configuration:
Platform:
osname=linux, osvers=2.6.32-33-generic, archname=x86_64-linux
uname='linux trushel-glaptop 2.6.32-33-generic #70-ubuntu smp thu jul 7 21:13:52 utc 2011 x86_64 gnulinux '
config_args=''
hint=recommended, useposix=true, d_sigaction=define
useithreads=undef, usemultiplicity=undef
useperlio=define, d_sfio=undef, uselargefiles=define, usesocks=undef
use64bitint=define, use64bitall=define, uselongdouble=undef
usemymalloc=n, bincompat5005=undef
Compiler:
cc='cc', ccflags ='-fno-strict-aliasing -pipe -fstack-protector -I/usr/local/include -D_LARGEFILE_SOURCE -D_FILE_OFFSET_BITS=64',
optimize='-O2',
cppflags='-fno-strict-aliasing -pipe -fstack-protector -I/usr/local/include'
ccversion='', gccversion='4.4.3', gccosandvers=''
intsize=4, longsize=8, ptrsize=8, doublesize=8, byteorder=12345678
d_longlong=define, longlongsize=8, d_longdbl=define, longdblsize=16
ivtype='long', ivsize=8, nvtype='double', nvsize=8, Off_t='off_t', lseeksize=8
alignbytes=8, prototype=define
Linker and Libraries:
ld='cc', ldflags =' -fstack-protector -L/usr/local/lib'
libpth=/usr/local/lib /lib /usr/lib /lib64 /usr/lib64
libs=-lnsl -ldb -ldl -lm -lcrypt -lutil -lc
perllibs=-lnsl -ldl -lm -lcrypt -lutil -lc
libc=/lib/libc-2.11.1.so, so=so, useshrplib=false, libperl=libperl.a
gnulibc_version='2.11.1'
Dynamic Linking:
dlsrc=dl_dlopen.xs, dlext=so, d_dlsymun=undef, ccdlflags='-Wl,-E'
cccdlflags='-fPIC', lddlflags='-shared -O2 -L/usr/local/lib -fstack-protector'
Characteristics of this binary (from libperl):
Compile-time options: PERL_DONT_CREATE_GVSV PERL_MALLOC_WRAP USE_64_BIT_ALL
USE_64_BIT_INT USE_LARGE_FILES USE_PERLIO
Built under linux
Compiled at Jul 20 2011 06:19:42
%ENV:
PERL5LIB=""
PERL5OPT=""
PERL5_CPANPLUS_IS_RUNNING="27401"
PERL5_CPAN_IS_RUNNING="27401"
PERL5_CPAN_IS_RUNNING_IN_RECURSION="32116,27401"
PERL_CR_SMOKER_CURRENT="Catalyst-Model-CacheFunky-Loader-0.06"
PERL_EXTUTILS_AUTOINSTALL="--defaultdeps"
PERL_MM_USE_DEFAULT="1"
@INC:
/home/trushel/perl/perl5101/lib/5.10.1/x86_64-linux
/home/trushel/perl/perl5101/lib/5.10.1
/home/trushel/perl/perl5101/lib/site_perl/5.10.1/x86_64-linux
/home/trushel/perl/perl5101/lib/site_perl/5.10.1
.