Report for Catalyst-Controller-ActionRole-0.15

Back
From: metabase:user:3198cbe2-2aae-11df-837a-5e0a49663a4f
Subject: PASS Catalyst-Controller-ActionRole-0.15 v5.18.0 GNU/Linux
Date: 2014-01-16T20:07:18Z

This distribution has been tested as part of the CPAN Testers
project, supporting the Perl programming language.  See
http://wiki.cpantesters.org/ for more information or email
questions to cpan-testers-discuss@perl.org


--
Dear Florian Ragwitz,

This is a computer-generated report for Catalyst-Controller-ActionRole-0.15
on perl 5.18.0, created by CPAN-Reporter-1.2010.

Thank you for uploading your work to CPAN.  Congratulations!
All tests were successful.

Sections of this report:

    * Tester comments
    * Program output
    * Prerequisites
    * Environment and other context

------------------------------
TESTER COMMENTS
------------------------------

Additional comments from tester:

this report is from an automated smoke testing program
and was not reviewed by a human for accuracy

------------------------------
PROGRAM OUTPUT
------------------------------

Output from '/usr/bin/make test':

PERL_DL_NONLAZY=1 /home/graham/perls/perl5.18.0-thread/bin/perl "-MExtUtils::Command::MM" "-MTest::Harness" "-e" "undef *Test::Harness::Switches; test_harness(0, 'blib/lib', 'blib/arch')" t/*.t
# Acme::Override::INET replaced IO::Socket::INET with IO::Socket::IP
Class::MOP::load_class is deprecated at /home/graham/perls/perl5.18.0-thread/lib/site_perl/5.18.0/x86_64-linux-thread-multi/Class/MOP.pm line 76.
	Class::MOP::load_class("TestApp::ActionRole::Kooh") called at /home/graham/perls/caches/perl-5.18.0-thread/build/Catalyst-Controller-ActionRole-0.15-6PiSH0/blib/lib/Catalyst/Controller/ActionRole.pm line 50
	Catalyst::Controller::ActionRole::_build__action_roles(TestApp::Controller::Bar=HASH(0x3f80b50)) called at native delegation method Catalyst::Controller::ActionRole::_action_roles (elements) of attribute _action_roles (defined at /home/graham/perls/caches/perl-5.18.0-thread/build/Catalyst-Controller-ActionRole-0.15-6PiSH0/blib/lib/Catalyst/Controller/ActionRole.pm line 37) line 8
	Catalyst::Controller::ActionRole::_action_roles(TestApp::Controller::Bar=HASH(0x3f80b50)) called at /home/graham/perls/perl5.18.0-thread/lib/site_perl/5.18.0/Catalyst/Controller.pm line 84
	Catalyst::Controller::BUILD(TestApp::Controller::Bar=HASH(0x3f80b50), HASH(0x3f88db8)) called at /home/graham/perls/perl5.18.0-thread/lib/site_perl/5.18.0/x86_64-linux-thread-multi/Class/MOP/Method.pm line 131
	Class::MOP::Method::execute(Moose::Meta::Class::__ANON__::SERIAL::6=HASH(0x37b7360), TestApp::Controller::Bar=HASH(0x3f80b50), HASH(0x3f88db8)) called at /home/graham/perls/perl5.18.0-thread/lib/site_perl/5.18.0/x86_64-linux-thread-multi/Moose/Object.pm line 59
	Moose::Object::BUILDALL(TestApp::Controller::Bar=HASH(0x3f80b50), HASH(0x3f88db8)) called at /home/graham/perls/perl5.18.0-thread/lib/site_perl/5.18.0/x86_64-linux-thread-multi/Moose/Meta/Class.pm line 285
	Moose::Meta::Class::new_object(Moose::Meta::Class::__ANON__::SERIAL::5=HASH(0x3f61ad0), HASH(0x3f88db8)) called at /home/graham/perls/perl5.18.0-thread/lib/site_perl/5.18.0/x86_64-linux-thread-multi/Moose/Object.pm line 30
	Moose::Object::new("TestApp::Controller::Bar", "TestApp", HASH(0x3ecbb08)) called at constructor Catalyst::Controller::new (defined at /home/graham/perls/perl5.18.0-thread/lib/site_perl/5.18.0/Catalyst/Controller.pm line 573) line 4
	Catalyst::Controller::new("TestApp::Controller::Bar", "TestApp", HASH(0x3ecbb08)) called at /home/graham/perls/perl5.18.0-thread/lib/site_perl/5.18.0/Catalyst/Component.pm line 123
	Catalyst::Component::COMPONENT("TestApp::Controller::Bar", "TestApp", HASH(0x3ecbb08)) called at /home/graham/perls/perl5.18.0-thread/lib/site_perl/5.18.0/Catalyst.pm line 2652
	eval {...} called at /home/graham/perls/perl5.18.0-thread/lib/site_perl/5.18.0/Catalyst.pm line 2652
	Catalyst::setup_component("TestApp", "TestApp::Controller::Bar") called at /home/graham/perls/perl5.18.0-thread/lib/site_perl/5.18.0/Catalyst.pm line 2579
	Catalyst::setup_components("TestApp") called at /home/graham/perls/perl5.18.0-thread/lib/site_perl/5.18.0/Catalyst.pm line 1174
	Catalyst::setup("TestApp") called at /home/graham/perls/caches/perl-5.18.0-thread/build/Catalyst-Controller-ActionRole-0.15-6PiSH0/t/lib/TestApp.pm line 9
	require TestApp.pm called at /home/graham/perls/perl5.18.0-thread/lib/site_perl/5.18.0/Module/Runtime.pm line 317
	Module::Runtime::require_module("TestApp") called at /home/graham/perls/perl5.18.0-thread/lib/site_perl/5.18.0/Class/Load.pm line 177
	Class::Load::try {...} () called at /home/graham/perls/perl5.18.0-thread/lib/site_perl/5.18.0/Try/Tiny.pm line 78
	eval {...} called at /home/graham/perls/perl5.18.0-thread/lib/site_perl/5.18.0/Try/Tiny.pm line 74
	Try::Tiny::try(CODE(0x297d018), Try::Tiny::Catch=REF(0x2944b20)) called at /home/graham/perls/perl5.18.0-thread/lib/site_perl/5.18.0/Class/Load.pm line 183
	Class::Load::try_load_class("TestApp", undef) called at /home/graham/perls/perl5.18.0-thread/lib/site_perl/5.18.0/Class/Load.pm line 38
	Class::Load::load_class("TestApp") called at /home/graham/perls/perl5.18.0-thread/lib/site_perl/5.18.0/Catalyst/Test.pm line 29
	Catalyst::Test::_build_request_export("Catalyst::Test", HASH(0x2e5d2c8)) called at /home/graham/perls/perl5.18.0-thread/lib/site_perl/5.18.0/Catalyst/Test.pm line 92
	Catalyst::Test::__ANON__("Catalyst::Test", "all", HASH(0x2e5d280), HASH(0x1a52008)) called at /home/graham/perls/perl5.18.0-thread/lib/site_perl/5.18.0/Sub/Exporter.pm line 108
	Sub::Exporter::_expand_group("Catalyst::Test", HASH(0x2e5c9b0), ARRAY(0x1a522a8), HASH(0x1a52008), HASH(0x2e5d2f8), HASH(0x193b290)) called at /home/graham/perls/perl5.18.0-thread/lib/site_perl/5.18.0/Sub/Exporter.pm line 39
	Sub::Exporter::_expand_groups("Catalyst::Test", HASH(0x2e5c9b0), ARRAY(0x2e5cae8), HASH(0x1a52008)) called at /home/graham/perls/perl5.18.0-thread/lib/site_perl/5.18.0/Sub/Exporter.pm line 323
	Sub::Exporter::__ANON__("Catalyst::Test", "-all", HASH(0x194f178)) called at /home/graham/perls/perl5.18.0-thread/lib/site_perl/5.18.0/Catalyst/Test.pm line 155
	Catalyst::Test::import("Catalyst::Test", "TestApp") called at t/action-class.t line 8
	main::BEGIN() called at /home/graham/perls/caches/perl-5.18.0-thread/build/Catalyst-Controller-ActionRole-0.15-6PiSH0/t/lib/TestApp.pm line 0
	eval {...} called at /home/graham/perls/caches/perl-5.18.0-thread/build/Catalyst-Controller-ActionRole-0.15-6PiSH0/t/lib/TestApp.pm line 0
Class::MOP::load_first_existing_class is deprecated at /home/graham/perls/perl5.18.0-thread/lib/site_perl/5.18.0/x86_64-linux-thread-multi/Class/MOP.pm line 85.
	Class::MOP::load_first_existing_class("TestApp::ActionRole::Shared", "Catalyst::ActionRole::Shared") called at /home/graham/perls/caches/perl-5.18.0-thread/build/Catalyst-Controller-ActionRole-0.15-6PiSH0/blib/lib/Catalyst/Controller/ActionRole.pm line 120
	Catalyst::Controller::ActionRole::__ANON__("Shared") called at /home/graham/perls/perl5.18.0-thread/lib/site_perl/5.18.0/String/RewritePrefix.pm line 44
	String::RewritePrefix::__ANON__("Shared") called at /home/graham/perls/perl5.18.0-thread/lib/site_perl/5.18.0/String/RewritePrefix.pm line 18
	String::RewritePrefix::rewrite("String::RewritePrefix", HASH(0x3f91608), "Shared") called at /home/graham/perls/caches/perl-5.18.0-thread/build/Catalyst-Controller-ActionRole-0.15-6PiSH0/blib/lib/Catalyst/Controller/ActionRole.pm line 125
	Catalyst::Controller::ActionRole::_expand_role_shortname(TestApp::Controller::ExecutionViaConfig=HASH(0x3f91200), "Shared") called at /home/graham/perls/caches/perl-5.18.0-thread/build/Catalyst-Controller-ActionRole-0.15-6PiSH0/blib/lib/Catalyst/Controller/ActionRole.pm line 49
	Catalyst::Controller::ActionRole::_build__action_roles(TestApp::Controller::ExecutionViaConfig=HASH(0x3f91200)) called at native delegation method Catalyst::Controller::ActionRole::_action_roles (elements) of attribute _action_roles (defined at /home/graham/perls/caches/perl-5.18.0-thread/build/Catalyst-Controller-ActionRole-0.15-6PiSH0/blib/lib/Catalyst/Controller/ActionRole.pm line 37) line 8
	Catalyst::Controller::ActionRole::_action_roles(TestApp::Controller::ExecutionViaConfig=HASH(0x3f91200)) called at /home/graham/perls/perl5.18.0-thread/lib/site_perl/5.18.0/Catalyst/Controller.pm line 84
	Catalyst::Controller::BUILD(TestApp::Controller::ExecutionViaConfig=HASH(0x3f91200), HASH(0x3f99a68)) called at /home/graham/perls/perl5.18.0-thread/lib/site_perl/5.18.0/x86_64-linux-thread-multi/Class/MOP/Method.pm line 131
	Class::MOP::Method::execute(Moose::Meta::Class::__ANON__::SERIAL::6=HASH(0x37b7360), TestApp::Controller::ExecutionViaConfig=HASH(0x3f91200), HASH(0x3f99a68)) called at /home/graham/perls/perl5.18.0-thread/lib/site_perl/5.18.0/x86_64-linux-thread-multi/Moose/Object.pm line 59
	Moose::Object::BUILDALL(TestApp::Controller::ExecutionViaConfig=HASH(0x3f91200), HASH(0x3f99a68)) called at /home/graham/perls/perl5.18.0-thread/lib/site_perl/5.18.0/x86_64-linux-thread-multi/Moose/Meta/Class.pm line 285
	Moose::Meta::Class::new_object(Moose::Meta::Class::__ANON__::SERIAL::5=HASH(0x3f70bf0), HASH(0x3f99a68)) called at /home/graham/perls/perl5.18.0-thread/lib/site_perl/5.18.0/x86_64-linux-thread-multi/Moose/Object.pm line 30
	Moose::Object::new("TestApp::Controller::ExecutionViaConfig", "TestApp", HASH(0x3f90ed0)) called at constructor Catalyst::Controller::new (defined at /home/graham/perls/perl5.18.0-thread/lib/site_perl/5.18.0/Catalyst/Controller.pm line 573) line 4
	Catalyst::Controller::new("TestApp::Controller::ExecutionViaConfig", "TestApp", HASH(0x3f90ed0)) called at /home/graham/perls/perl5.18.0-thread/lib/site_perl/5.18.0/Catalyst/Component.pm line 123
	Catalyst::Component::COMPONENT("TestApp::Controller::ExecutionViaConfig", "TestApp", HASH(0x3f90ed0)) called at /home/graham/perls/perl5.18.0-thread/lib/site_perl/5.18.0/Catalyst.pm line 2652
	eval {...} called at /home/graham/perls/perl5.18.0-thread/lib/site_perl/5.18.0/Catalyst.pm line 2652
	Catalyst::setup_component("TestApp", "TestApp::Controller::ExecutionViaConfig") called at /home/graham/perls/perl5.18.0-thread/lib/site_perl/5.18.0/Catalyst.pm line 2579
	Catalyst::setup_components("TestApp") called at /home/graham/perls/perl5.18.0-thread/lib/site_perl/5.18.0/Catalyst.pm line 1174
	Catalyst::setup("TestApp") called at /home/graham/perls/caches/perl-5.18.0-thread/build/Catalyst-Controller-ActionRole-0.15-6PiSH0/t/lib/TestApp.pm line 9
	require TestApp.pm called at /home/graham/perls/perl5.18.0-thread/lib/site_perl/5.18.0/Module/Runtime.pm line 317
	Module::Runtime::require_module("TestApp") called at /home/graham/perls/perl5.18.0-thread/lib/site_perl/5.18.0/Class/Load.pm line 177
	Class::Load::try {...} () called at /home/graham/perls/perl5.18.0-thread/lib/site_perl/5.18.0/Try/Tiny.pm line 78
	eval {...} called at /home/graham/perls/perl5.18.0-thread/lib/site_perl/5.18.0/Try/Tiny.pm line 74
	Try::Tiny::try(CODE(0x297d018), Try::Tiny::Catch=REF(0x2944b20)) called at /home/graham/perls/perl5.18.0-thread/lib/site_perl/5.18.0/Class/Load.pm line 183
	Class::Load::try_load_class("TestApp", undef) called at /home/graham/perls/perl5.18.0-thread/lib/site_perl/5.18.0/Class/Load.pm line 38
	Class::Load::load_class("TestApp") called at /home/graham/perls/perl5.18.0-thread/lib/site_perl/5.18.0/Catalyst/Test.pm line 29
	Catalyst::Test::_build_request_export("Catalyst::Test", HASH(0x2e5d2c8)) called at /home/graham/perls/perl5.18.0-thread/lib/site_perl/5.18.0/Catalyst/Test.pm line 92
	Catalyst::Test::__ANON__("Catalyst::Test", "all", HASH(0x2e5d280), HASH(0x1a52008)) called at /home/graham/perls/perl5.18.0-thread/lib/site_perl/5.18.0/Sub/Exporter.pm line 108
	Sub::Exporter::_expand_group("Catalyst::Test", HASH(0x2e5c9b0), ARRAY(0x1a522a8), HASH(0x1a52008), HASH(0x2e5d2f8), HASH(0x193b290)) called at /home/graham/perls/perl5.18.0-thread/lib/site_perl/5.18.0/Sub/Exporter.pm line 39
	Sub::Exporter::_expand_groups("Catalyst::Test", HASH(0x2e5c9b0), ARRAY(0x2e5cae8), HASH(0x1a52008)) called at /home/graham/perls/perl5.18.0-thread/lib/site_perl/5.18.0/Sub/Exporter.pm line 323
	Sub::Exporter::__ANON__("Catalyst::Test", "-all", HASH(0x194f178)) called at /home/graham/perls/perl5.18.0-thread/lib/site_perl/5.18.0/Catalyst/Test.pm line 155
	Catalyst::Test::import("Catalyst::Test", "TestApp") called at t/action-class.t line 8
	main::BEGIN() called at /home/graham/perls/caches/perl-5.18.0-thread/build/Catalyst-Controller-ActionRole-0.15-6PiSH0/t/lib/TestApp.pm line 0
	eval {...} called at /home/graham/perls/caches/perl-5.18.0-thread/build/Catalyst-Controller-ActionRole-0.15-6PiSH0/t/lib/TestApp.pm line 0
t/action-class.t .......... ok
# Acme::Override::INET replaced IO::Socket::INET with IO::Socket::IP
Class::MOP::load_class is deprecated at /home/graham/perls/perl5.18.0-thread/lib/site_perl/5.18.0/x86_64-linux-thread-multi/Class/MOP.pm line 76.
	Class::MOP::load_class("TestApp::ActionRole::Kooh") called at /home/graham/perls/caches/perl-5.18.0-thread/build/Catalyst-Controller-ActionRole-0.15-6PiSH0/blib/lib/Catalyst/Controller/ActionRole.pm line 50
	Catalyst::Controller::ActionRole::_build__action_roles(TestApp::Controller::Bar=HASH(0x4a3d1c8)) called at native delegation method Catalyst::Controller::ActionRole::_action_roles (elements) of attribute _action_roles (defined at /home/graham/perls/caches/perl-5.18.0-thread/build/Catalyst-Controller-ActionRole-0.15-6PiSH0/blib/lib/Catalyst/Controller/ActionRole.pm line 37) line 8
	Catalyst::Controller::ActionRole::_action_roles(TestApp::Controller::Bar=HASH(0x4a3d1c8)) called at /home/graham/perls/perl5.18.0-thread/lib/site_perl/5.18.0/Catalyst/Controller.pm line 84
	Catalyst::Controller::BUILD(TestApp::Controller::Bar=HASH(0x4a3d1c8), HASH(0x4a45d70)) called at /home/graham/perls/perl5.18.0-thread/lib/site_perl/5.18.0/x86_64-linux-thread-multi/Class/MOP/Method.pm line 131
	Class::MOP::Method::execute(Moose::Meta::Class::__ANON__::SERIAL::6=HASH(0x4274380), TestApp::Controller::Bar=HASH(0x4a3d1c8), HASH(0x4a45d70)) called at /home/graham/perls/perl5.18.0-thread/lib/site_perl/5.18.0/x86_64-linux-thread-multi/Moose/Object.pm line 59
	Moose::Object::BUILDALL(TestApp::Controller::Bar=HASH(0x4a3d1c8), HASH(0x4a45d70)) called at /home/graham/perls/perl5.18.0-thread/lib/site_perl/5.18.0/x86_64-linux-thread-multi/Moose/Meta/Class.pm line 285
	Moose::Meta::Class::new_object(Moose::Meta::Class::__ANON__::SERIAL::5=HASH(0x4a1dd80), HASH(0x4a45d70)) called at /home/graham/perls/perl5.18.0-thread/lib/site_perl/5.18.0/x86_64-linux-thread-multi/Moose/Object.pm line 30
	Moose::Object::new("TestApp::Controller::Bar", "TestApp", HASH(0x49b7c48)) called at constructor Catalyst::Controller::new (defined at /home/graham/perls/perl5.18.0-thread/lib/site_perl/5.18.0/Catalyst/Controller.pm line 573) line 4
	Catalyst::Controller::new("TestApp::Controller::Bar", "TestApp", HASH(0x49b7c48)) called at /home/graham/perls/perl5.18.0-thread/lib/site_perl/5.18.0/Catalyst/Component.pm line 123
	Catalyst::Component::COMPONENT("TestApp::Controller::Bar", "TestApp", HASH(0x49b7c48)) called at /home/graham/perls/perl5.18.0-thread/lib/site_perl/5.18.0/Catalyst.pm line 2652
	eval {...} called at /home/graham/perls/perl5.18.0-thread/lib/site_perl/5.18.0/Catalyst.pm line 2652
	Catalyst::setup_component("TestApp", "TestApp::Controller::Bar") called at /home/graham/perls/perl5.18.0-thread/lib/site_perl/5.18.0/Catalyst.pm line 2579
	Catalyst::setup_components("TestApp") called at /home/graham/perls/perl5.18.0-thread/lib/site_perl/5.18.0/Catalyst.pm line 1174
	Catalyst::setup("TestApp") called at /home/graham/perls/caches/perl-5.18.0-thread/build/Catalyst-Controller-ActionRole-0.15-6PiSH0/t/lib/TestApp.pm line 9
	require TestApp.pm called at /home/graham/perls/perl5.18.0-thread/lib/site_perl/5.18.0/Module/Runtime.pm line 317
	Module::Runtime::require_module("TestApp") called at /home/graham/perls/perl5.18.0-thread/lib/site_perl/5.18.0/Class/Load.pm line 177
	Class::Load::try {...} () called at /home/graham/perls/perl5.18.0-thread/lib/site_perl/5.18.0/Try/Tiny.pm line 78
	eval {...} called at /home/graham/perls/perl5.18.0-thread/lib/site_perl/5.18.0/Try/Tiny.pm line 74
	Try::Tiny::try(CODE(0x343a288), Try::Tiny::Catch=REF(0x343a498)) called at /home/graham/perls/perl5.18.0-thread/lib/site_perl/5.18.0/Class/Load.pm line 183
	Class::Load::try_load_class("TestApp", undef) called at /home/graham/perls/perl5.18.0-thread/lib/site_perl/5.18.0/Class/Load.pm line 38
	Class::Load::load_class("TestApp") called at /home/graham/perls/perl5.18.0-thread/lib/site_perl/5.18.0/Catalyst/Test.pm line 29
	Catalyst::Test::_build_request_export("Catalyst::Test", HASH(0x391a508)) called at /home/graham/perls/perl5.18.0-thread/lib/site_perl/5.18.0/Catalyst/Test.pm line 92
	Catalyst::Test::__ANON__("Catalyst::Test", "all", HASH(0x391a4c0), HASH(0x24e0298)) called at /home/graham/perls/perl5.18.0-thread/lib/site_perl/5.18.0/Sub/Exporter.pm line 108
	Sub::Exporter::_expand_group("Catalyst::Test", HASH(0x3919bf0), ARRAY(0x250f378), HASH(0x24e0298), HASH(0x391a538), HASH(0x2206028)) called at /home/graham/perls/perl5.18.0-thread/lib/site_perl/5.18.0/Sub/Exporter.pm line 39
	Sub::Exporter::_expand_groups("Catalyst::Test", HASH(0x3919bf0), ARRAY(0x3919d28), HASH(0x24e0298)) called at /home/graham/perls/perl5.18.0-thread/lib/site_perl/5.18.0/Sub/Exporter.pm line 323
	Sub::Exporter::__ANON__("Catalyst::Test", "-all", HASH(0x23f8320)) called at /home/graham/perls/perl5.18.0-thread/lib/site_perl/5.18.0/Catalyst/Test.pm line 155
	Catalyst::Test::import("Catalyst::Test", "TestApp") called at t/basic.t line 8
	main::BEGIN() called at /home/graham/perls/caches/perl-5.18.0-thread/build/Catalyst-Controller-ActionRole-0.15-6PiSH0/t/lib/TestApp.pm line 0
	eval {...} called at /home/graham/perls/caches/perl-5.18.0-thread/build/Catalyst-Controller-ActionRole-0.15-6PiSH0/t/lib/TestApp.pm line 0
Class::MOP::load_first_existing_class is deprecated at /home/graham/perls/perl5.18.0-thread/lib/site_perl/5.18.0/x86_64-linux-thread-multi/Class/MOP.pm line 85.
	Class::MOP::load_first_existing_class("TestApp::ActionRole::Shared", "Catalyst::ActionRole::Shared") called at /home/graham/perls/caches/perl-5.18.0-thread/build/Catalyst-Controller-ActionRole-0.15-6PiSH0/blib/lib/Catalyst/Controller/ActionRole.pm line 120
	Catalyst::Controller::ActionRole::__ANON__("Shared") called at /home/graham/perls/perl5.18.0-thread/lib/site_perl/5.18.0/String/RewritePrefix.pm line 44
	String::RewritePrefix::__ANON__("Shared") called at /home/graham/perls/perl5.18.0-thread/lib/site_perl/5.18.0/String/RewritePrefix.pm line 18
	String::RewritePrefix::rewrite("String::RewritePrefix", HASH(0x4a4e188), "Shared") called at /home/graham/perls/caches/perl-5.18.0-thread/build/Catalyst-Controller-ActionRole-0.15-6PiSH0/blib/lib/Catalyst/Controller/ActionRole.pm line 125
	Catalyst::Controller::ActionRole::_expand_role_shortname(TestApp::Controller::ExecutionViaConfig=HASH(0x4a4dd80), "Shared") called at /home/graham/perls/caches/perl-5.18.0-thread/build/Catalyst-Controller-ActionRole-0.15-6PiSH0/blib/lib/Catalyst/Controller/ActionRole.pm line 49
	Catalyst::Controller::ActionRole::_build__action_roles(TestApp::Controller::ExecutionViaConfig=HASH(0x4a4dd80)) called at native delegation method Catalyst::Controller::ActionRole::_action_roles (elements) of attribute _action_roles (defined at /home/graham/perls/caches/perl-5.18.0-thread/build/Catalyst-Controller-ActionRole-0.15-6PiSH0/blib/lib/Catalyst/Controller/ActionRole.pm line 37) line 8
	Catalyst::Controller::ActionRole::_action_roles(TestApp::Controller::ExecutionViaConfig=HASH(0x4a4dd80)) called at /home/graham/perls/perl5.18.0-thread/lib/site_perl/5.18.0/Catalyst/Controller.pm line 84
	Catalyst::Controller::BUILD(TestApp::Controller::ExecutionViaConfig=HASH(0x4a4dd80), HASH(0x4a52930)) called at /home/graham/perls/perl5.18.0-thread/lib/site_perl/5.18.0/x86_64-linux-thread-multi/Class/MOP/Method.pm line 131
	Class::MOP::Method::execute(Moose::Meta::Class::__ANON__::SERIAL::6=HASH(0x4274380), TestApp::Controller::ExecutionViaConfig=HASH(0x4a4dd80), HASH(0x4a52930)) called at /home/graham/perls/perl5.18.0-thread/lib/site_perl/5.18.0/x86_64-linux-thread-multi/Moose/Object.pm line 59
	Moose::Object::BUILDALL(TestApp::Controller::ExecutionViaConfig=HASH(0x4a4dd80), HASH(0x4a52930)) called at /home/graham/perls/perl5.18.0-thread/lib/site_perl/5.18.0/x86_64-linux-thread-multi/Moose/Meta/Class.pm line 285
	Moose::Meta::Class::new_object(Moose::Meta::Class::__ANON__::SERIAL::5=HASH(0x4a2d988), HASH(0x4a52930)) called at /home/graham/perls/perl5.18.0-thread/lib/site_perl/5.18.0/x86_64-linux-thread-multi/Moose/Object.pm line 30
	Moose::Object::new("TestApp::Controller::ExecutionViaConfig", "TestApp", HASH(0x4a4da50)) called at constructor Catalyst::Controller::new (defined at /home/graham/perls/perl5.18.0-thread/lib/site_perl/5.18.0/Catalyst/Controller.pm line 573) line 4
	Catalyst::Controller::new("TestApp::Controller::ExecutionViaConfig", "TestApp", HASH(0x4a4da50)) called at /home/graham/perls/perl5.18.0-thread/lib/site_perl/5.18.0/Catalyst/Component.pm line 123
	Catalyst::Component::COMPONENT("TestApp::Controller::ExecutionViaConfig", "TestApp", HASH(0x4a4da50)) called at /home/graham/perls/perl5.18.0-thread/lib/site_perl/5.18.0/Catalyst.pm line 2652
	eval {...} called at /home/graham/perls/perl5.18.0-thread/lib/site_perl/5.18.0/Catalyst.pm line 2652
	Catalyst::setup_component("TestApp", "TestApp::Controller::ExecutionViaConfig") called at /home/graham/perls/perl5.18.0-thread/lib/site_perl/5.18.0/Catalyst.pm line 2579
	Catalyst::setup_components("TestApp") called at /home/graham/perls/perl5.18.0-thread/lib/site_perl/5.18.0/Catalyst.pm line 1174
	Catalyst::setup("TestApp") called at /home/graham/perls/caches/perl-5.18.0-thread/build/Catalyst-Controller-ActionRole-0.15-6PiSH0/t/lib/TestApp.pm line 9
	require TestApp.pm called at /home/graham/perls/perl5.18.0-thread/lib/site_perl/5.18.0/Module/Runtime.pm line 317
	Module::Runtime::require_module("TestApp") called at /home/graham/perls/perl5.18.0-thread/lib/site_perl/5.18.0/Class/Load.pm line 177
	Class::Load::try {...} () called at /home/graham/perls/perl5.18.0-thread/lib/site_perl/5.18.0/Try/Tiny.pm line 78
	eval {...} called at /home/graham/perls/perl5.18.0-thread/lib/site_perl/5.18.0/Try/Tiny.pm line 74
	Try::Tiny::try(CODE(0x343a288), Try::Tiny::Catch=REF(0x343a498)) called at /home/graham/perls/perl5.18.0-thread/lib/site_perl/5.18.0/Class/Load.pm line 183
	Class::Load::try_load_class("TestApp", undef) called at /home/graham/perls/perl5.18.0-thread/lib/site_perl/5.18.0/Class/Load.pm line 38
	Class::Load::load_class("TestApp") called at /home/graham/perls/perl5.18.0-thread/lib/site_perl/5.18.0/Catalyst/Test.pm line 29
	Catalyst::Test::_build_request_export("Catalyst::Test", HASH(0x391a508)) called at /home/graham/perls/perl5.18.0-thread/lib/site_perl/5.18.0/Catalyst/Test.pm line 92
	Catalyst::Test::__ANON__("Catalyst::Test", "all", HASH(0x391a4c0), HASH(0x24e0298)) called at /home/graham/perls/perl5.18.0-thread/lib/site_perl/5.18.0/Sub/Exporter.pm line 108
	Sub::Exporter::_expand_group("Catalyst::Test", HASH(0x3919bf0), ARRAY(0x250f378), HASH(0x24e0298), HASH(0x391a538), HASH(0x2206028)) called at /home/graham/perls/perl5.18.0-thread/lib/site_perl/5.18.0/Sub/Exporter.pm line 39
	Sub::Exporter::_expand_groups("Catalyst::Test", HASH(0x3919bf0), ARRAY(0x3919d28), HASH(0x24e0298)) called at /home/graham/perls/perl5.18.0-thread/lib/site_perl/5.18.0/Sub/Exporter.pm line 323
	Sub::Exporter::__ANON__("Catalyst::Test", "-all", HASH(0x23f8320)) called at /home/graham/perls/perl5.18.0-thread/lib/site_perl/5.18.0/Catalyst/Test.pm line 155
	Catalyst::Test::import("Catalyst::Test", "TestApp") called at t/basic.t line 8
	main::BEGIN() called at /home/graham/perls/caches/perl-5.18.0-thread/build/Catalyst-Controller-ActionRole-0.15-6PiSH0/t/lib/TestApp.pm line 0
	eval {...} called at /home/graham/perls/caches/perl-5.18.0-thread/build/Catalyst-Controller-ActionRole-0.15-6PiSH0/t/lib/TestApp.pm line 0
t/basic.t ................. ok
# Acme::Override::INET replaced IO::Socket::INET with IO::Socket::IP
Class::MOP::load_first_existing_class is deprecated at /home/graham/perls/perl5.18.0-thread/lib/site_perl/5.18.0/x86_64-linux-thread-multi/Class/MOP.pm line 85.
	Class::MOP::load_first_existing_class("TestAppREST::ActionRole::Moo", "Catalyst::ActionRole::Moo") called at /home/graham/perls/caches/perl-5.18.0-thread/build/Catalyst-Controller-ActionRole-0.15-6PiSH0/blib/lib/Catalyst/Controller/ActionRole.pm line 120
	Catalyst::Controller::ActionRole::__ANON__("Moo") called at /home/graham/perls/perl5.18.0-thread/lib/site_perl/5.18.0/String/RewritePrefix.pm line 44
	String::RewritePrefix::__ANON__("Moo") called at /home/graham/perls/perl5.18.0-thread/lib/site_perl/5.18.0/String/RewritePrefix.pm line 18
	String::RewritePrefix::rewrite("String::RewritePrefix", HASH(0x3fe37c0), "Moo") called at /home/graham/perls/caches/perl-5.18.0-thread/build/Catalyst-Controller-ActionRole-0.15-6PiSH0/blib/lib/Catalyst/Controller/ActionRole.pm line 125
	Catalyst::Controller::ActionRole::_expand_role_shortname(TestAppREST::Controller::Foo=HASH(0x3f7a1d0), "Moo") called at /home/graham/perls/caches/perl-5.18.0-thread/build/Catalyst-Controller-ActionRole-0.15-6PiSH0/blib/lib/Catalyst/Controller/ActionRole.pm line 134
	Catalyst::Controller::ActionRole::_parse_Does_attr(TestAppREST::Controller::Foo=HASH(0x3f7a1d0), "TestAppREST", "foo", "Moo") called at /home/graham/perls/perl5.18.0-thread/lib/site_perl/5.18.0/Catalyst/Controller.pm line 441
	Catalyst::Controller::_parse_attr(TestAppREST::Controller::Foo=HASH(0x3f7a1d0), "TestAppREST", "foo", "Does", ARRAY(0x3fe2a58)) called at /home/graham/perls/perl5.18.0-thread/lib/site_perl/5.18.0/Catalyst/Controller.pm line 427
	Catalyst::Controller::_parse_attrs(TestAppREST::Controller::Foo=HASH(0x3f7a1d0), "TestAppREST", "foo", "Local", "Does('Moo')", "ActionClass('REST')") called at /home/graham/perls/perl5.18.0-thread/lib/site_perl/5.18.0/Catalyst/Controller.pm line 279
	Catalyst::Controller::register_action_methods(TestAppREST::Controller::Foo=HASH(0x3f7a1d0), "TestAppREST", Moose::Meta::Class::__ANON__::SERIAL::2=HASH(0x3fdc900), Moose::Meta::Class::__ANON__::SERIAL::2=HASH(0x3fdcb58), Moose::Meta::Class::__ANON__::SERIAL::2=HASH(0x3fceba8), Moose::Meta::Class::__ANON__::SERIAL::2=HASH(0x3fdd470), Moose::Meta::Class::__ANON__::SERIAL::2=HASH(0x3fdc6d8), Moose::Meta::Class::__ANON__::SERIAL::2=HASH(0x3fe2c38)) called at /home/graham/perls/perl5.18.0-thread/lib/site_perl/5.18.0/Catalyst/Controller.pm line 257
	Catalyst::Controller::register_actions(TestAppREST::Controller::Foo=HASH(0x3f7a1d0), "TestAppREST") called at /home/graham/perls/perl5.18.0-thread/lib/site_perl/5.18.0/Catalyst/Dispatcher.pm line 609
	Catalyst::Dispatcher::setup_actions(Catalyst::Dispatcher=HASH(0x3c8b240), "TestAppREST") called at /home/graham/perls/perl5.18.0-thread/lib/site_perl/5.18.0/Catalyst.pm line 2539
	Catalyst::setup_actions("TestAppREST") called at /home/graham/perls/perl5.18.0-thread/lib/site_perl/5.18.0/Catalyst.pm line 1235
	Catalyst::setup("TestAppREST") called at /home/graham/perls/caches/perl-5.18.0-thread/build/Catalyst-Controller-ActionRole-0.15-6PiSH0/t/lib/TestAppREST.pm line 9
	require TestAppREST.pm called at /home/graham/perls/perl5.18.0-thread/lib/site_perl/5.18.0/Module/Runtime.pm line 317
	Module::Runtime::require_module("TestAppREST") called at /home/graham/perls/perl5.18.0-thread/lib/site_perl/5.18.0/Class/Load.pm line 177
	Class::Load::try {...} () called at /home/graham/perls/perl5.18.0-thread/lib/site_perl/5.18.0/Try/Tiny.pm line 78
	eval {...} called at /home/graham/perls/perl5.18.0-thread/lib/site_perl/5.18.0/Try/Tiny.pm line 74
	Try::Tiny::try(CODE(0x3615f88), Try::Tiny::Catch=REF(0x3668a30)) called at /home/graham/perls/perl5.18.0-thread/lib/site_perl/5.18.0/Class/Load.pm line 183
	Class::Load::try_load_class("TestAppREST", undef) called at /home/graham/perls/perl5.18.0-thread/lib/site_perl/5.18.0/Class/Load.pm line 38
	Class::Load::load_class("TestAppREST") called at /home/graham/perls/perl5.18.0-thread/lib/site_perl/5.18.0/Catalyst/Test.pm line 29
	Catalyst::Test::_build_request_export("Catalyst::Test", HASH(0x36e0bb0)) called at /home/graham/perls/perl5.18.0-thread/lib/site_perl/5.18.0/Catalyst/Test.pm line 92
	Catalyst::Test::__ANON__("Catalyst::Test", "all", HASH(0x36e0b68), HASH(0x36a5b50)) called at /home/graham/perls/perl5.18.0-thread/lib/site_perl/5.18.0/Sub/Exporter.pm line 108
	Sub::Exporter::_expand_group("Catalyst::Test", HASH(0x36e0298), ARRAY(0x364e1e8), HASH(0x36a5b50), HASH(0x36e0be0), HASH(0x16c0618)) called at /home/graham/perls/perl5.18.0-thread/lib/site_perl/5.18.0/Sub/Exporter.pm line 39
	Sub::Exporter::_expand_groups("Catalyst::Test", HASH(0x36e0298), ARRAY(0x36e03d0), HASH(0x36a5b50)) called at /home/graham/perls/perl5.18.0-thread/lib/site_perl/5.18.0/Sub/Exporter.pm line 323
	Sub::Exporter::__ANON__("Catalyst::Test", "-all", HASH(0x3647a78)) called at /home/graham/perls/perl5.18.0-thread/lib/site_perl/5.18.0/Catalyst/Test.pm line 155
	Catalyst::Test::import("Catalyst::Test", "TestAppREST") called at t/basic_rest.t line 16
	main::BEGIN() called at /home/graham/perls/caches/perl-5.18.0-thread/build/Catalyst-Controller-ActionRole-0.15-6PiSH0/t/lib/TestAppREST.pm line 0
	eval {...} called at /home/graham/perls/caches/perl-5.18.0-thread/build/Catalyst-Controller-ActionRole-0.15-6PiSH0/t/lib/TestAppREST.pm line 0
Class::MOP::load_class is deprecated at /home/graham/perls/perl5.18.0-thread/lib/site_perl/5.18.0/x86_64-linux-thread-multi/Class/MOP.pm line 76.
	Class::MOP::load_class("TestAppREST::ActionRole::Moo") called at /home/graham/perls/caches/perl-5.18.0-thread/build/Catalyst-Controller-ActionRole-0.15-6PiSH0/blib/lib/Catalyst/Controller/ActionRole.pm line 69
	Class::MOP::Class:::around(CODE(0x34cce90), TestAppREST::Controller::Foo=HASH(0x3f7a1d0), "name", "foo", "code", CODE(0x38f2a08), "reverse", "foo/foo", "namespace", ...) called at /home/graham/perls/perl5.18.0-thread/lib/site_perl/5.18.0/x86_64-linux-thread-multi/Class/MOP/Method/Wrapped.pm line 166
	Class::MOP::Method::Wrapped::__ANON__(TestAppREST::Controller::Foo=HASH(0x3f7a1d0), "name", "foo", "code", CODE(0x38f2a08), "reverse", "foo/foo", "namespace", "foo", ...) called at /home/graham/perls/perl5.18.0-thread/lib/site_perl/5.18.0/x86_64-linux-thread-multi/Class/MOP/Method/Wrapped.pm line 95
	Catalyst::Controller::ActionRole::create_action(TestAppREST::Controller::Foo=HASH(0x3f7a1d0), "name", "foo", "code", CODE(0x38f2a08), "reverse", "foo/foo", "namespace", "foo", ...) called at /home/graham/perls/perl5.18.0-thread/lib/site_perl/5.18.0/Catalyst/Controller.pm line 288
	Catalyst::Controller::register_action_methods(TestAppREST::Controller::Foo=HASH(0x3f7a1d0), "TestAppREST", Moose::Meta::Class::__ANON__::SERIAL::2=HASH(0x3fdc900), Moose::Meta::Class::__ANON__::SERIAL::2=HASH(0x3fdcb58), Moose::Meta::Class::__ANON__::SERIAL::2=HASH(0x3fceba8), Moose::Meta::Class::__ANON__::SERIAL::2=HASH(0x3fdd470), Moose::Meta::Class::__ANON__::SERIAL::2=HASH(0x3fdc6d8), Moose::Meta::Class::__ANON__::SERIAL::2=HASH(0x3fe2c38)) called at /home/graham/perls/perl5.18.0-thread/lib/site_perl/5.18.0/Catalyst/Controller.pm line 257
	Catalyst::Controller::register_actions(TestAppREST::Controller::Foo=HASH(0x3f7a1d0), "TestAppREST") called at /home/graham/perls/perl5.18.0-thread/lib/site_perl/5.18.0/Catalyst/Dispatcher.pm line 609
	Catalyst::Dispatcher::setup_actions(Catalyst::Dispatcher=HASH(0x3c8b240), "TestAppREST") called at /home/graham/perls/perl5.18.0-thread/lib/site_perl/5.18.0/Catalyst.pm line 2539
	Catalyst::setup_actions("TestAppREST") called at /home/graham/perls/perl5.18.0-thread/lib/site_perl/5.18.0/Catalyst.pm line 1235
	Catalyst::setup("TestAppREST") called at /home/graham/perls/caches/perl-5.18.0-thread/build/Catalyst-Controller-ActionRole-0.15-6PiSH0/t/lib/TestAppREST.pm line 9
	require TestAppREST.pm called at /home/graham/perls/perl5.18.0-thread/lib/site_perl/5.18.0/Module/Runtime.pm line 317
	Module::Runtime::require_module("TestAppREST") called at /home/graham/perls/perl5.18.0-thread/lib/site_perl/5.18.0/Class/Load.pm line 177
	Class::Load::try {...} () called at /home/graham/perls/perl5.18.0-thread/lib/site_perl/5.18.0/Try/Tiny.pm line 78
	eval {...} called at /home/graham/perls/perl5.18.0-thread/lib/site_perl/5.18.0/Try/Tiny.pm line 74
	Try::Tiny::try(CODE(0x3615f88), Try::Tiny::Catch=REF(0x3668a30)) called at /home/graham/perls/perl5.18.0-thread/lib/site_perl/5.18.0/Class/Load.pm line 183
	Class::Load::try_load_class("TestAppREST", undef) called at /home/graham/perls/perl5.18.0-thread/lib/site_perl/5.18.0/Class/Load.pm line 38
	Class::Load::load_class("TestAppREST") called at /home/graham/perls/perl5.18.0-thread/lib/site_perl/5.18.0/Catalyst/Test.pm line 29
	Catalyst::Test::_build_request_export("Catalyst::Test", HASH(0x36e0bb0)) called at /home/graham/perls/perl5.18.0-thread/lib/site_perl/5.18.0/Catalyst/Test.pm line 92
	Catalyst::Test::__ANON__("Catalyst::Test", "all", HASH(0x36e0b68), HASH(0x36a5b50)) called at /home/graham/perls/perl5.18.0-thread/lib/site_perl/5.18.0/Sub/Exporter.pm line 108
	Sub::Exporter::_expand_group("Catalyst::Test", HASH(0x36e0298), ARRAY(0x364e1e8), HASH(0x36a5b50), HASH(0x36e0be0), HASH(0x16c0618)) called at /home/graham/perls/perl5.18.0-thread/lib/site_perl/5.18.0/Sub/Exporter.pm line 39
	Sub::Exporter::_expand_groups("Catalyst::Test", HASH(0x36e0298), ARRAY(0x36e03d0), HASH(0x36a5b50)) called at /home/graham/perls/perl5.18.0-thread/lib/site_perl/5.18.0/Sub/Exporter.pm line 323
	Sub::Exporter::__ANON__("Catalyst::Test", "-all", HASH(0x3647a78)) called at /home/graham/perls/perl5.18.0-thread/lib/site_perl/5.18.0/Catalyst/Test.pm line 155
	Catalyst::Test::import("Catalyst::Test", "TestAppREST") called at t/basic_rest.t line 16
	main::BEGIN() called at /home/graham/perls/caches/perl-5.18.0-thread/build/Catalyst-Controller-ActionRole-0.15-6PiSH0/t/lib/TestAppREST.pm line 0
	eval {...} called at /home/graham/perls/caches/perl-5.18.0-thread/build/Catalyst-Controller-ActionRole-0.15-6PiSH0/t/lib/TestAppREST.pm line 0
t/basic_rest.t ............ ok
# Acme::Override::INET replaced IO::Socket::INET with IO::Socket::IP
Class::MOP::load_class is deprecated at /home/graham/perls/perl5.18.0-thread/lib/site_perl/5.18.0/x86_64-linux-thread-multi/Class/MOP.pm line 76.
	Class::MOP::load_class("TestApp::ActionRole::Kooh") called at /home/graham/perls/caches/perl-5.18.0-thread/build/Catalyst-Controller-ActionRole-0.15-6PiSH0/blib/lib/Catalyst/Controller/ActionRole.pm line 50
	Catalyst::Controller::ActionRole::_build__action_roles(TestApp::Controller::Bar=HASH(0x439bd58)) called at native delegation method Catalyst::Controller::ActionRole::_action_roles (elements) of attribute _action_roles (defined at /home/graham/perls/caches/perl-5.18.0-thread/build/Catalyst-Controller-ActionRole-0.15-6PiSH0/blib/lib/Catalyst/Controller/ActionRole.pm line 37) line 8
	Catalyst::Controller::ActionRole::_action_roles(TestApp::Controller::Bar=HASH(0x439bd58)) called at /home/graham/perls/perl5.18.0-thread/lib/site_perl/5.18.0/Catalyst/Controller.pm line 84
	Catalyst::Controller::BUILD(TestApp::Controller::Bar=HASH(0x439bd58), HASH(0x439bbc0)) called at /home/graham/perls/perl5.18.0-thread/lib/site_perl/5.18.0/x86_64-linux-thread-multi/Class/MOP/Method.pm line 131
	Class::MOP::Method::execute(Moose::Meta::Class::__ANON__::SERIAL::7=HASH(0x3bd2630), TestApp::Controller::Bar=HASH(0x439bd58), HASH(0x439bbc0)) called at /home/graham/perls/perl5.18.0-thread/lib/site_perl/5.18.0/x86_64-linux-thread-multi/Moose/Object.pm line 59
	Moose::Object::BUILDALL(TestApp::Controller::Bar=HASH(0x439bd58), HASH(0x439bbc0)) called at /home/graham/perls/perl5.18.0-thread/lib/site_perl/5.18.0/x86_64-linux-thread-multi/Moose/Meta/Class.pm line 285
	Moose::Meta::Class::new_object(Moose::Meta::Class::__ANON__::SERIAL::5=HASH(0x437d018), HASH(0x439bbc0)) called at /home/graham/perls/perl5.18.0-thread/lib/site_perl/5.18.0/x86_64-linux-thread-multi/Moose/Object.pm line 30
	Moose::Object::new("TestApp::Controller::Bar", "TestApp", HASH(0x42e70d0)) called at constructor Catalyst::Controller::new (defined at /home/graham/perls/perl5.18.0-thread/lib/site_perl/5.18.0/Catalyst/Controller.pm line 573) line 4
	Catalyst::Controller::new("TestApp::Controller::Bar", "TestApp", HASH(0x42e70d0)) called at /home/graham/perls/perl5.18.0-thread/lib/site_perl/5.18.0/Catalyst/Component.pm line 123
	Catalyst::Component::COMPONENT("TestApp::Controller::Bar", "TestApp", HASH(0x42e70d0)) called at /home/graham/perls/perl5.18.0-thread/lib/site_perl/5.18.0/Catalyst.pm line 2652
	eval {...} called at /home/graham/perls/perl5.18.0-thread/lib/site_perl/5.18.0/Catalyst.pm line 2652
	Catalyst::setup_component("TestApp", "TestApp::Controller::Bar") called at /home/graham/perls/perl5.18.0-thread/lib/site_perl/5.18.0/Catalyst.pm line 2579
	Catalyst::setup_components("TestApp") called at /home/graham/perls/perl5.18.0-thread/lib/site_perl/5.18.0/Catalyst.pm line 1174
	Catalyst::setup("TestApp") called at /home/graham/perls/caches/perl-5.18.0-thread/build/Catalyst-Controller-ActionRole-0.15-6PiSH0/t/lib/TestApp.pm line 9
	require TestApp.pm called at /home/graham/perls/perl5.18.0-thread/lib/site_perl/5.18.0/Module/Runtime.pm line 317
	Module::Runtime::require_module("TestApp") called at /home/graham/perls/perl5.18.0-thread/lib/site_perl/5.18.0/Class/Load.pm line 177
	Class::Load::try {...} () called at /home/graham/perls/perl5.18.0-thread/lib/site_perl/5.18.0/Try/Tiny.pm line 78
	eval {...} called at /home/graham/perls/perl5.18.0-thread/lib/site_perl/5.18.0/Try/Tiny.pm line 74
	Try::Tiny::try(CODE(0x2d98798), Try::Tiny::Catch=REF(0x2d5fdc8)) called at /home/graham/perls/perl5.18.0-thread/lib/site_perl/5.18.0/Class/Load.pm line 183
	Class::Load::try_load_class("TestApp", undef) called at /home/graham/perls/perl5.18.0-thread/lib/site_perl/5.18.0/Class/Load.pm line 38
	Class::Load::load_class("TestApp") called at /home/graham/perls/perl5.18.0-thread/lib/site_perl/5.18.0/Catalyst/Test.pm line 29
	Catalyst::Test::_build_request_export("Catalyst::Test", HASH(0x3278928)) called at /home/graham/perls/perl5.18.0-thread/lib/site_perl/5.18.0/Catalyst/Test.pm line 92
	Catalyst::Test::__ANON__("Catalyst::Test", "all", HASH(0x32788e0), HASH(0x1cc0a50)) called at /home/graham/perls/perl5.18.0-thread/lib/site_perl/5.18.0/Sub/Exporter.pm line 108
	Sub::Exporter::_expand_group("Catalyst::Test", HASH(0x3278010), ARRAY(0x1e6d7f8), HASH(0x1cc0a50), HASH(0x3278958), HASH(0x1e6d558)) called at /home/graham/perls/perl5.18.0-thread/lib/site_perl/5.18.0/Sub/Exporter.pm line 39
	Sub::Exporter::_expand_groups("Catalyst::Test", HASH(0x3278010), ARRAY(0x3278148), HASH(0x1cc0a50)) called at /home/graham/perls/perl5.18.0-thread/lib/site_perl/5.18.0/Sub/Exporter.pm line 323
	Sub::Exporter::__ANON__("Catalyst::Test", "-all", HASH(0x1b6d1f0)) called at /home/graham/perls/perl5.18.0-thread/lib/site_perl/5.18.0/Catalyst/Test.pm line 155
	Catalyst::Test::import("Catalyst::Test", "TestApp") called at t/execution-via-config.t line 8
	main::BEGIN() called at /home/graham/perls/caches/perl-5.18.0-thread/build/Catalyst-Controller-ActionRole-0.15-6PiSH0/t/lib/TestApp.pm line 0
	eval {...} called at /home/graham/perls/caches/perl-5.18.0-thread/build/Catalyst-Controller-ActionRole-0.15-6PiSH0/t/lib/TestApp.pm line 0
Class::MOP::load_first_existing_class is deprecated at /home/graham/perls/perl5.18.0-thread/lib/site_perl/5.18.0/x86_64-linux-thread-multi/Class/MOP.pm line 85.
	Class::MOP::load_first_existing_class("TestApp::ActionRole::Shared", "Catalyst::ActionRole::Shared") called at /home/graham/perls/caches/perl-5.18.0-thread/build/Catalyst-Controller-ActionRole-0.15-6PiSH0/blib/lib/Catalyst/Controller/ActionRole.pm line 120
	Catalyst::Controller::ActionRole::__ANON__("Shared") called at /home/graham/perls/perl5.18.0-thread/lib/site_perl/5.18.0/String/RewritePrefix.pm line 44
	String::RewritePrefix::__ANON__("Shared") called at /home/graham/perls/perl5.18.0-thread/lib/site_perl/5.18.0/String/RewritePrefix.pm line 18
	String::RewritePrefix::rewrite("String::RewritePrefix", HASH(0x43ac5b8), "Shared") called at /home/graham/perls/caches/perl-5.18.0-thread/build/Catalyst-Controller-ActionRole-0.15-6PiSH0/blib/lib/Catalyst/Controller/ActionRole.pm line 125
	Catalyst::Controller::ActionRole::_expand_role_shortname(TestApp::Controller::ExecutionViaConfig=HASH(0x43ac1b0), "Shared") called at /home/graham/perls/caches/perl-5.18.0-thread/build/Catalyst-Controller-ActionRole-0.15-6PiSH0/blib/lib/Catalyst/Controller/ActionRole.pm line 49
	Catalyst::Controller::ActionRole::_build__action_roles(TestApp::Controller::ExecutionViaConfig=HASH(0x43ac1b0)) called at native delegation method Catalyst::Controller::ActionRole::_action_roles (elements) of attribute _action_roles (defined at /home/graham/perls/caches/perl-5.18.0-thread/build/Catalyst-Controller-ActionRole-0.15-6PiSH0/blib/lib/Catalyst/Controller/ActionRole.pm line 37) line 8
	Catalyst::Controller::ActionRole::_action_roles(TestApp::Controller::ExecutionViaConfig=HASH(0x43ac1b0)) called at /home/graham/perls/perl5.18.0-thread/lib/site_perl/5.18.0/Catalyst/Controller.pm line 84
	Catalyst::Controller::BUILD(TestApp::Controller::ExecutionViaConfig=HASH(0x43ac1b0), HASH(0x43b6018)) called at /home/graham/perls/perl5.18.0-thread/lib/site_perl/5.18.0/x86_64-linux-thread-multi/Class/MOP/Method.pm line 131
	Class::MOP::Method::execute(Moose::Meta::Class::__ANON__::SERIAL::7=HASH(0x3bd2630), TestApp::Controller::ExecutionViaConfig=HASH(0x43ac1b0), HASH(0x43b6018)) called at /home/graham/perls/perl5.18.0-thread/lib/site_perl/5.18.0/x86_64-linux-thread-multi/Moose/Object.pm line 59
	Moose::Object::BUILDALL(TestApp::Controller::ExecutionViaConfig=HASH(0x43ac1b0), HASH(0x43b6018)) called at /home/graham/perls/perl5.18.0-thread/lib/site_perl/5.18.0/x86_64-linux-thread-multi/Moose/Meta/Class.pm line 285
	Moose::Meta::Class::new_object(Moose::Meta::Class::__ANON__::SERIAL::5=HASH(0x4380590), HASH(0x43b6018)) called at /home/graham/perls/perl5.18.0-thread/lib/site_perl/5.18.0/x86_64-linux-thread-multi/Moose/Object.pm line 30
	Moose::Object::new("TestApp::Controller::ExecutionViaConfig", "TestApp", HASH(0x43abe80)) called at constructor Catalyst::Controller::new (defined at /home/graham/perls/perl5.18.0-thread/lib/site_perl/5.18.0/Catalyst/Controller.pm line 573) line 4
	Catalyst::Controller::new("TestApp::Controller::ExecutionViaConfig", "TestApp", HASH(0x43abe80)) called at /home/graham/perls/perl5.18.0-thread/lib/site_perl/5.18.0/Catalyst/Component.pm line 123
	Catalyst::Component::COMPONENT("TestApp::Controller::ExecutionViaConfig", "TestApp", HASH(0x43abe80)) called at /home/graham/perls/perl5.18.0-thread/lib/site_perl/5.18.0/Catalyst.pm line 2652
	eval {...} called at /home/graham/perls/perl5.18.0-thread/lib/site_perl/5.18.0/Catalyst.pm line 2652
	Catalyst::setup_component("TestApp", "TestApp::Controller::ExecutionViaConfig") called at /home/graham/perls/perl5.18.0-thread/lib/site_perl/5.18.0/Catalyst.pm line 2579
	Catalyst::setup_components("TestApp") called at /home/graham/perls/perl5.18.0-thread/lib/site_perl/5.18.0/Catalyst.pm line 1174
	Catalyst::setup("TestApp") called at /home/graham/perls/caches/perl-5.18.0-thread/build/Catalyst-Controller-ActionRole-0.15-6PiSH0/t/lib/TestApp.pm line 9
	require TestApp.pm called at /home/graham/perls/perl5.18.0-thread/lib/site_perl/5.18.0/Module/Runtime.pm line 317
	Module::Runtime::require_module("TestApp") called at /home/graham/perls/perl5.18.0-thread/lib/site_perl/5.18.0/Class/Load.pm line 177
	Class::Load::try {...} () called at /home/graham/perls/perl5.18.0-thread/lib/site_perl/5.18.0/Try/Tiny.pm line 78
	eval {...} called at /home/graham/perls/perl5.18.0-thread/lib/site_perl/5.18.0/Try/Tiny.pm line 74
	Try::Tiny::try(CODE(0x2d98798), Try::Tiny::Catch=REF(0x2d5fdc8)) called at /home/graham/perls/perl5.18.0-thread/lib/site_perl/5.18.0/Class/Load.pm line 183
	Class::Load::try_load_class("TestApp", undef) called at /home/graham/perls/perl5.18.0-thread/lib/site_perl/5.18.0/Class/Load.pm line 38
	Class::Load::load_class("TestApp") called at /home/graham/perls/perl5.18.0-thread/lib/site_perl/5.18.0/Catalyst/Test.pm line 29
	Catalyst::Test::_build_request_export("Catalyst::Test", HASH(0x3278928)) called at /home/graham/perls/perl5.18.0-thread/lib/site_perl/5.18.0/Catalyst/Test.pm line 92
	Catalyst::Test::__ANON__("Catalyst::Test", "all", HASH(0x32788e0), HASH(0x1cc0a50)) called at /home/graham/perls/perl5.18.0-thread/lib/site_perl/5.18.0/Sub/Exporter.pm line 108
	Sub::Exporter::_expand_group("Catalyst::Test", HASH(0x3278010), ARRAY(0x1e6d7f8), HASH(0x1cc0a50), HASH(0x3278958), HASH(0x1e6d558)) called at /home/graham/perls/perl5.18.0-thread/lib/site_perl/5.18.0/Sub/Exporter.pm line 39
	Sub::Exporter::_expand_groups("Catalyst::Test", HASH(0x3278010), ARRAY(0x3278148), HASH(0x1cc0a50)) called at /home/graham/perls/perl5.18.0-thread/lib/site_perl/5.18.0/Sub/Exporter.pm line 323
	Sub::Exporter::__ANON__("Catalyst::Test", "-all", HASH(0x1b6d1f0)) called at /home/graham/perls/perl5.18.0-thread/lib/site_perl/5.18.0/Catalyst/Test.pm line 155
	Catalyst::Test::import("Catalyst::Test", "TestApp") called at t/execution-via-config.t line 8
	main::BEGIN() called at /home/graham/perls/caches/perl-5.18.0-thread/build/Catalyst-Controller-ActionRole-0.15-6PiSH0/t/lib/TestApp.pm line 0
	eval {...} called at /home/graham/perls/caches/perl-5.18.0-thread/build/Catalyst-Controller-ActionRole-0.15-6PiSH0/t/lib/TestApp.pm line 0
t/execution-via-config.t .. ok
# Acme::Override::INET replaced IO::Socket::INET with IO::Socket::IP
Class::MOP::load_class is deprecated at /home/graham/perls/perl5.18.0-thread/lib/site_perl/5.18.0/x86_64-linux-thread-multi/Class/MOP.pm line 76.
	Class::MOP::load_class("TestApp::ActionRole::Kooh") called at /home/graham/perls/caches/perl-5.18.0-thread/build/Catalyst-Controller-ActionRole-0.15-6PiSH0/blib/lib/Catalyst/Controller/ActionRole.pm line 50
	Catalyst::Controller::ActionRole::_build__action_roles(TestApp::Controller::Bar=HASH(0x4820890)) called at native delegation method Catalyst::Controller::ActionRole::_action_roles (elements) of attribute _action_roles (defined at /home/graham/perls/caches/perl-5.18.0-thread/build/Catalyst-Controller-ActionRole-0.15-6PiSH0/blib/lib/Catalyst/Controller/ActionRole.pm line 37) line 8
	Catalyst::Controller::ActionRole::_action_roles(TestApp::Controller::Bar=HASH(0x4820890)) called at /home/graham/perls/perl5.18.0-thread/lib/site_perl/5.18.0/Catalyst/Controller.pm line 84
	Catalyst::Controller::BUILD(TestApp::Controller::Bar=HASH(0x4820890), HASH(0x48187b8)) called at /home/graham/perls/perl5.18.0-thread/lib/site_perl/5.18.0/x86_64-linux-thread-multi/Class/MOP/Method.pm line 131
	Class::MOP::Method::execute(Moose::Meta::Class::__ANON__::SERIAL::7=HASH(0x404f640), TestApp::Controller::Bar=HASH(0x4820890), HASH(0x48187b8)) called at /home/graham/perls/perl5.18.0-thread/lib/site_perl/5.18.0/x86_64-linux-thread-multi/Moose/Object.pm line 59
	Moose::Object::BUILDALL(TestApp::Controller::Bar=HASH(0x4820890), HASH(0x48187b8)) called at /home/graham/perls/perl5.18.0-thread/lib/site_perl/5.18.0/x86_64-linux-thread-multi/Moose/Meta/Class.pm line 285
	Moose::Meta::Class::new_object(Moose::Meta::Class::__ANON__::SERIAL::5=HASH(0x47f9c70), HASH(0x48187b8)) called at /home/graham/perls/perl5.18.0-thread/lib/site_perl/5.18.0/x86_64-linux-thread-multi/Moose/Object.pm line 30
	Moose::Object::new("TestApp::Controller::Bar", "TestApp", HASH(0x479c300)) called at constructor Catalyst::Controller::new (defined at /home/graham/perls/perl5.18.0-thread/lib/site_perl/5.18.0/Catalyst/Controller.pm line 573) line 4
	Catalyst::Controller::new("TestApp::Controller::Bar", "TestApp", HASH(0x479c300)) called at /home/graham/perls/perl5.18.0-thread/lib/site_perl/5.18.0/Catalyst/Component.pm line 123
	Catalyst::Component::COMPONENT("TestApp::Controller::Bar", "TestApp", HASH(0x479c300)) called at /home/graham/perls/perl5.18.0-thread/lib/site_perl/5.18.0/Catalyst.pm line 2652
	eval {...} called at /home/graham/perls/perl5.18.0-thread/lib/site_perl/5.18.0/Catalyst.pm line 2652
	Catalyst::setup_component("TestApp", "TestApp::Controller::Bar") called at /home/graham/perls/perl5.18.0-thread/lib/site_perl/5.18.0/Catalyst.pm line 2579
	Catalyst::setup_components("TestApp") called at /home/graham/perls/perl5.18.0-thread/lib/site_perl/5.18.0/Catalyst.pm line 1174
	Catalyst::setup("TestApp") called at /home/graham/perls/caches/perl-5.18.0-thread/build/Catalyst-Controller-ActionRole-0.15-6PiSH0/t/lib/TestApp.pm line 9
	require TestApp.pm called at /home/graham/perls/perl5.18.0-thread/lib/site_perl/5.18.0/Module/Runtime.pm line 317
	Module::Runtime::require_module("TestApp") called at /home/graham/perls/perl5.18.0-thread/lib/site_perl/5.18.0/Class/Load.pm line 177
	Class::Load::try {...} () called at /home/graham/perls/perl5.18.0-thread/lib/site_perl/5.18.0/Try/Tiny.pm line 78
	eval {...} called at /home/graham/perls/perl5.18.0-thread/lib/site_perl/5.18.0/Try/Tiny.pm line 74
	Try::Tiny::try(CODE(0x32154e8), Try::Tiny::Catch=REF(0x32156c8)) called at /home/graham/perls/perl5.18.0-thread/lib/site_perl/5.18.0/Class/Load.pm line 183
	Class::Load::try_load_class("TestApp", undef) called at /home/graham/perls/perl5.18.0-thread/lib/site_perl/5.18.0/Class/Load.pm line 38
	Class::Load::load_class("TestApp") called at /home/graham/perls/perl5.18.0-thread/lib/site_perl/5.18.0/Catalyst/Test.pm line 29
	Catalyst::Test::_build_request_export("Catalyst::Test", HASH(0x36f5458)) called at /home/graham/perls/perl5.18.0-thread/lib/site_perl/5.18.0/Catalyst/Test.pm line 92
	Catalyst::Test::__ANON__("Catalyst::Test", "all", HASH(0x36f5410), HASH(0x22bc2b0)) called at /home/graham/perls/perl5.18.0-thread/lib/site_perl/5.18.0/Sub/Exporter.pm line 108
	Sub::Exporter::_expand_group("Catalyst::Test", HASH(0x36f4b40), ARRAY(0x22ea5c8), HASH(0x22bc2b0), HASH(0x36f5488), HASH(0x1fea130)) called at /home/graham/perls/perl5.18.0-thread/lib/site_perl/5.18.0/Sub/Exporter.pm line 39
	Sub::Exporter::_expand_groups("Catalyst::Test", HASH(0x36f4b40), ARRAY(0x36f4c78), HASH(0x22bc2b0)) called at /home/graham/perls/perl5.18.0-thread/lib/site_perl/5.18.0/Sub/Exporter.pm line 323
	Sub::Exporter::__ANON__("Catalyst::Test", "-all", HASH(0x213d890)) called at /home/graham/perls/perl5.18.0-thread/lib/site_perl/5.18.0/Catalyst/Test.pm line 155
	Catalyst::Test::import("Catalyst::Test", "TestApp") called at t/execution-via-does.t line 8
	main::BEGIN() called at /home/graham/perls/caches/perl-5.18.0-thread/build/Catalyst-Controller-ActionRole-0.15-6PiSH0/t/lib/TestApp.pm line 0
	eval {...} called at /home/graham/perls/caches/perl-5.18.0-thread/build/Catalyst-Controller-ActionRole-0.15-6PiSH0/t/lib/TestApp.pm line 0
Class::MOP::load_first_existing_class is deprecated at /home/graham/perls/perl5.18.0-thread/lib/site_perl/5.18.0/x86_64-linux-thread-multi/Class/MOP.pm line 85.
	Class::MOP::load_first_existing_class("TestApp::ActionRole::Shared", "Catalyst::ActionRole::Shared") called at /home/graham/perls/caches/perl-5.18.0-thread/build/Catalyst-Controller-ActionRole-0.15-6PiSH0/blib/lib/Catalyst/Controller/ActionRole.pm line 120
	Catalyst::Controller::ActionRole::__ANON__("Shared") called at /home/graham/perls/perl5.18.0-thread/lib/site_perl/5.18.0/String/RewritePrefix.pm line 44
	String::RewritePrefix::__ANON__("Shared") called at /home/graham/perls/perl5.18.0-thread/lib/site_perl/5.18.0/String/RewritePrefix.pm line 18
	String::RewritePrefix::rewrite("String::RewritePrefix", HASH(0x48293f8), "Shared") called at /home/graham/perls/caches/perl-5.18.0-thread/build/Catalyst-Controller-ActionRole-0.15-6PiSH0/blib/lib/Catalyst/Controller/ActionRole.pm line 125
	Catalyst::Controller::ActionRole::_expand_role_shortname(TestApp::Controller::ExecutionViaConfig=HASH(0x4828ff0), "Shared") called at /home/graham/perls/caches/perl-5.18.0-thread/build/Catalyst-Controller-ActionRole-0.15-6PiSH0/blib/lib/Catalyst/Controller/ActionRole.pm line 49
	Catalyst::Controller::ActionRole::_build__action_roles(TestApp::Controller::ExecutionViaConfig=HASH(0x4828ff0)) called at native delegation method Catalyst::Controller::ActionRole::_action_roles (elements) of attribute _action_roles (defined at /home/graham/perls/caches/perl-5.18.0-thread/build/Catalyst-Controller-ActionRole-0.15-6PiSH0/blib/lib/Catalyst/Controller/ActionRole.pm line 37) line 8
	Catalyst::Controller::ActionRole::_action_roles(TestApp::Controller::ExecutionViaConfig=HASH(0x4828ff0)) called at /home/graham/perls/perl5.18.0-thread/lib/site_perl/5.18.0/Catalyst/Controller.pm line 84
	Catalyst::Controller::BUILD(TestApp::Controller::ExecutionViaConfig=HASH(0x4828ff0), HASH(0x4832b28)) called at /home/graham/perls/perl5.18.0-thread/lib/site_perl/5.18.0/x86_64-linux-thread-multi/Class/MOP/Method.pm line 131
	Class::MOP::Method::execute(Moose::Meta::Class::__ANON__::SERIAL::7=HASH(0x404f640), TestApp::Controller::ExecutionViaConfig=HASH(0x4828ff0), HASH(0x4832b28)) called at /home/graham/perls/perl5.18.0-thread/lib/site_perl/5.18.0/x86_64-linux-thread-multi/Moose/Object.pm line 59
	Moose::Object::BUILDALL(TestApp::Controller::ExecutionViaConfig=HASH(0x4828ff0), HASH(0x4832b28)) called at /home/graham/perls/perl5.18.0-thread/lib/site_perl/5.18.0/x86_64-linux-thread-multi/Moose/Meta/Class.pm line 285
	Moose::Meta::Class::new_object(Moose::Meta::Class::__ANON__::SERIAL::5=HASH(0x4818188), HASH(0x4832b28)) called at /home/graham/perls/perl5.18.0-thread/lib/site_perl/5.18.0/x86_64-linux-thread-multi/Moose/Object.pm line 30
	Moose::Object::new("TestApp::Controller::ExecutionViaConfig", "TestApp", HASH(0x4828cd8)) called at constructor Catalyst::Controller::new (defined at /home/graham/perls/perl5.18.0-thread/lib/site_perl/5.18.0/Catalyst/Controller.pm line 573) line 4
	Catalyst::Controller::new("TestApp::Controller::ExecutionViaConfig", "TestApp", HASH(0x4828cd8)) called at /home/graham/perls/perl5.18.0-thread/lib/site_perl/5.18.0/Catalyst/Component.pm line 123
	Catalyst::Component::COMPONENT("TestApp::Controller::ExecutionViaConfig", "TestApp", HASH(0x4828cd8)) called at /home/graham/perls/perl5.18.0-thread/lib/site_perl/5.18.0/Catalyst.pm line 2652
	eval {...} called at /home/graham/perls/perl5.18.0-thread/lib/site_perl/5.18.0/Catalyst.pm line 2652
	Catalyst::setup_component("TestApp", "TestApp::Controller::ExecutionViaConfig") called at /home/graham/perls/perl5.18.0-thread/lib/site_perl/5.18.0/Catalyst.pm line 2579
	Catalyst::setup_components("TestApp") called at /home/graham/perls/perl5.18.0-thread/lib/site_perl/5.18.0/Catalyst.pm line 1174
	Catalyst::setup("TestApp") called at /home/graham/perls/caches/perl-5.18.0-thread/build/Catalyst-Controller-ActionRole-0.15-6PiSH0/t/lib/TestApp.pm line 9
	require TestApp.pm called at /home/graham/perls/perl5.18.0-thread/lib/site_perl/5.18.0/Module/Runtime.pm line 317
	Module::Runtime::require_module("TestApp") called at /home/graham/perls/perl5.18.0-thread/lib/site_perl/5.18.0/Class/Load.pm line 177
	Class::Load::try {...} () called at /home/graham/perls/perl5.18.0-thread/lib/site_perl/5.18.0/Try/Tiny.pm line 78
	eval {...} called at /home/graham/perls/perl5.18.0-thread/lib/site_perl/5.18.0/Try/Tiny.pm line 74
	Try::Tiny::try(CODE(0x32154e8), Try::Tiny::Catch=REF(0x32156c8)) called at /home/graham/perls/perl5.18.0-thread/lib/site_perl/5.18.0/Class/Load.pm line 183
	Class::Load::try_load_class("TestApp", undef) called at /home/graham/perls/perl5.18.0-thread/lib/site_perl/5.18.0/Class/Load.pm line 38
	Class::Load::load_class("TestApp") called at /home/graham/perls/perl5.18.0-thread/lib/site_perl/5.18.0/Catalyst/Test.pm line 29
	Catalyst::Test::_build_request_export("Catalyst::Test", HASH(0x36f5458)) called at /home/graham/perls/perl5.18.0-thread/lib/site_perl/5.18.0/Catalyst/Test.pm line 92
	Catalyst::Test::__ANON__("Catalyst::Test", "all", HASH(0x36f5410), HASH(0x22bc2b0)) called at /home/graham/perls/perl5.18.0-thread/lib/site_perl/5.18.0/Sub/Exporter.pm line 108
	Sub::Exporter::_expand_group("Catalyst::Test", HASH(0x36f4b40), ARRAY(0x22ea5c8), HASH(0x22bc2b0), HASH(0x36f5488), HASH(0x1fea130)) called at /home/graham/perls/perl5.18.0-thread/lib/site_perl/5.18.0/Sub/Exporter.pm line 39
	Sub::Exporter::_expand_groups("Catalyst::Test", HASH(0x36f4b40), ARRAY(0x36f4c78), HASH(0x22bc2b0)) called at /home/graham/perls/perl5.18.0-thread/lib/site_perl/5.18.0/Sub/Exporter.pm line 323
	Sub::Exporter::__ANON__("Catalyst::Test", "-all", HASH(0x213d890)) called at /home/graham/perls/perl5.18.0-thread/lib/site_perl/5.18.0/Catalyst/Test.pm line 155
	Catalyst::Test::import("Catalyst::Test", "TestApp") called at t/execution-via-does.t line 8
	main::BEGIN() called at /home/graham/perls/caches/perl-5.18.0-thread/build/Catalyst-Controller-ActionRole-0.15-6PiSH0/t/lib/TestApp.pm line 0
	eval {...} called at /home/graham/perls/caches/perl-5.18.0-thread/build/Catalyst-Controller-ActionRole-0.15-6PiSH0/t/lib/TestApp.pm line 0
t/execution-via-does.t .... ok
t/release-eol.t ........... skipped: these tests are for release candidate testing
t/release-no-tabs.t ....... skipped: these tests are for release candidate testing
t/release-pod-coverage.t .. skipped: these tests are for release candidate testing
t/release-pod-syntax.t .... skipped: these tests are for release candidate testing
All tests successful.
Files=9, Tests=43,  9 wallclock secs ( 0.06 usr  0.02 sys +  7.76 cusr  0.38 csys =  8.22 CPU)
Result: PASS

------------------------------
PREREQUISITES
------------------------------

Prerequisite modules loaded:

requires:

    Module                 Need    Have    
    ---------------------- ------- --------
    Catalyst::Controller   0       0       
    Catalyst::Runtime      5.80025 5.90053 
    Catalyst::Utils        0       0       
    Class::MOP             0       2.1201  
    List::Util             0       1.36    
    Moose                  0       2.1201  
    Moose::Meta::Class     0       2.1201  
    MooseX::Types::Moose   0       0.42    
    namespace::clean       0       0.24    
    String::RewritePrefix  0.004   0.007   

build_requires:

    Module                 Need    Have    
    ---------------------- ------- --------
    Catalyst               0       5.90053 
    Catalyst::Action       0       0       
    Catalyst::Action::REST 0       1.14    
    Catalyst::Test         0       0       
    FindBin                0       1.51    
    Moose::Role            0       2.1201  
    parent                 0       0.228   
    Test::More             0       1.001002

configure_requires:

    Module                 Need    Have    
    ---------------------- ------- --------
    ExtUtils::MakeMaker    6.31    6.87_01 


------------------------------
ENVIRONMENT AND OTHER CONTEXT
------------------------------

Environment variables:

    AUTOMATED_TESTING = 1
    LANG = en_GB.UTF-8
    LC_ADDRESS = en_GB.UTF-8
    LC_COLLATE = en_GB.UTF-8
    LC_CTYPE = en_GB.UTF-8
    LC_IDENTIFICATION = en_GB.UTF-8
    LC_MEASUREMENT = en_GB.UTF-8
    LC_MESSAGES = en_GB.UTF-8
    LC_MONETARY = en_GB.UTF-8
    LC_NAME = en_GB.UTF-8
    LC_NUMERIC = en_GB.UTF-8
    LC_PAPER = en_GB.UTF-8
    LC_TELEPHONE = en_GB.UTF-8
    LC_TIME = en_GB.UTF-8
    PATH = /home/graham/perls/perl5.18.0-thread/bin:/usr/local/sbin:/usr/local/bin:/usr/bin:/usr/bin/core_perl
    PERL5LIB = 
    PERL5OPT = 
    PERL5_CPANPLUS_IS_RUNNING = 3888
    PERL5_CPAN_IS_RUNNING = 3888
    PERL5_CPAN_IS_RUNNING_IN_RECURSION = 497,3888
    PERL_CR_SMOKER_CURRENT = CatalystX-Crudite-0.20
    PERL_EXTUTILS_AUTOINSTALL = --defaultdeps
    PERL_MM_USE_DEFAULT = 1
    SHELL = /bin/bash
    TERM = xterm

Perl special variables (and OS-specific diagnostics, for MSWin32):

    $^X = /home/graham/perls/perl5.18.0-thread/bin/perl
    $UID/$EUID = 1000 / 1000
    $GID = 100 10 100
    $EGID = 100 10 100

Perl module toolchain versions installed:

    Module              Have    
    ------------------- --------
    CPAN                1.9402  
    CPAN::Meta          2.133380
    Cwd                 3.40    
    ExtUtils::CBuilder  0.280212
    ExtUtils::Command   1.18    
    ExtUtils::Install   1.59    
    ExtUtils::MakeMaker 6.87_01 
    ExtUtils::Manifest  1.63    
    ExtUtils::ParseXS   3.22    
    File::Spec          3.40    
    JSON                2.90    
    JSON::PP            2.27203 
    Module::Build       0.4204  
    Module::Signature   n/a     
    Parse::CPAN::Meta   1.4409  
    Test::Harness       3.30    
    Test::More          1.001002
    YAML                0.88    
    YAML::Syck          1.27    
    version             0.9907  


--

Summary of my perl5 (revision 5 version 18 subversion 0) configuration:
   
  Platform:
    osname=linux, osvers=3.11.6-1-arch, archname=x86_64-linux-thread-multi
    uname='linux arch002 3.11.6-1-arch #1 smp preempt fri oct 18 23:22:36 cest 2013 x86_64 gnulinux '
    config_args=''
    hint=recommended, useposix=true, d_sigaction=define
    useithreads=define, usemultiplicity=define
    useperlio=define, d_sfio=undef, uselargefiles=define, usesocks=undef
    use64bitint=define, use64bitall=define, uselongdouble=undef
    usemymalloc=n, bincompat5005=undef
  Compiler:
    cc='cc', ccflags ='-D_REENTRANT -D_GNU_SOURCE -fno-strict-aliasing -pipe -fstack-protector -I/usr/local/include -D_LARGEFILE_SOURCE -D_FILE_OFFSET_BITS=64',
    optimize='-O2',
    cppflags='-D_REENTRANT -D_GNU_SOURCE -fno-strict-aliasing -pipe -fstack-protector -I/usr/local/include'
    ccversion='', gccversion='4.8.2', gccosandvers=''
    intsize=4, longsize=8, ptrsize=8, doublesize=8, byteorder=12345678
    d_longlong=define, longlongsize=8, d_longdbl=define, longdblsize=16
    ivtype='long', ivsize=8, nvtype='double', nvsize=8, Off_t='off_t', lseeksize=8
    alignbytes=8, prototype=define
  Linker and Libraries:
    ld='cc', ldflags =' -fstack-protector -L/usr/local/lib'
    libpth=/usr/local/lib /lib/../lib /usr/lib/../lib /lib /usr/lib /lib64 /usr/lib64
    libs=-lnsl -lgdbm -ldb -ldl -lm -lcrypt -lutil -lpthread -lc -lgdbm_compat
    perllibs=-lnsl -ldl -lm -lcrypt -lutil -lpthread -lc
    libc=/lib/libc-2.18.so, so=so, useshrplib=false, libperl=libperl.a
    gnulibc_version='2.18'
  Dynamic Linking:
    dlsrc=dl_dlopen.xs, dlext=so, d_dlsymun=undef, ccdlflags='-Wl,-E'
    cccdlflags='-fPIC', lddlflags='-shared -O2 -L/usr/local/lib -fstack-protector'


Characteristics of this binary (from libperl): 
  Compile-time options: HAS_TIMES MULTIPLICITY PERLIO_LAYERS
                        PERL_DONT_CREATE_GVSV
                        PERL_HASH_FUNC_ONE_AT_A_TIME_HARD
                        PERL_IMPLICIT_CONTEXT PERL_MALLOC_WRAP
                        PERL_PRESERVE_IVUV PERL_SAWAMPERSAND USE_64_BIT_ALL
                        USE_64_BIT_INT USE_ITHREADS USE_LARGE_FILES
                        USE_LOCALE USE_LOCALE_COLLATE USE_LOCALE_CTYPE
                        USE_LOCALE_NUMERIC USE_PERLIO USE_PERL_ATOF
                        USE_REENTRANT_API
  Built under linux
  Compiled at Dec  6 2013 08:54:47
  %ENV:
    PERL5LIB=""
    PERL5OPT=""
    PERL5_CPANPLUS_IS_RUNNING="3888"
    PERL5_CPAN_IS_RUNNING="3888"
    PERL5_CPAN_IS_RUNNING_IN_RECURSION="497,3888"
    PERL_CR_SMOKER_CURRENT="CatalystX-Crudite-0.20"
    PERL_EXTUTILS_AUTOINSTALL="--defaultdeps"
    PERL_MM_USE_DEFAULT="1"
  @INC:
    /home/graham/perls/perl5.18.0-thread/lib/site_perl/5.18.0/x86_64-linux-thread-multi
    /home/graham/perls/perl5.18.0-thread/lib/site_perl/5.18.0
    /home/graham/perls/perl5.18.0-thread/lib/5.18.0/x86_64-linux-thread-multi
    /home/graham/perls/perl5.18.0-thread/lib/5.18.0
    .