Report for Path-IsDev-0.6.0

Back
From: metabase:user:9762ed18-1c33-11e1-8beb-fb37bdc4c604
Subject: PASS Path-IsDev-0.6.0 v5.18.1 GNU/Linux
Date: 2013-10-14T16:00:52Z

This distribution has been tested as part of the CPAN Testers
project, supporting the Perl programming language.  See
http://wiki.cpantesters.org/ for more information or email
questions to cpan-testers-discuss@perl.org


--
Dear Kent Fredric,

This is a computer-generated report for Path-IsDev-0.6.0
on perl 5.18.1, created by CPAN-Reporter-1.2010.

Thank you for uploading your work to CPAN.  Congratulations!
All tests were successful.

Sections of this report:

    * Tester comments
    * Program output
    * Prerequisites
    * Environment and other context

------------------------------
TESTER COMMENTS
------------------------------

Additional comments from tester:

none provided

------------------------------
PROGRAM OUTPUT
------------------------------

Output from './Build test':

t/00-compile.t ..................... ok
# 
# 
# Generated by Dist::Zilla::Plugin::ReportVersions::Tiny v1.10
# perl: 5.018001 (wanted v5.10.0) on linux from /home/kevin/perl5/perlbrew/perls/perl-5.18.1/bin/perl
# 
# Carp                                          => 1.29       (want any version)
# Class::Tiny                                   => 0.011      (want 0.010)  
# File::Spec                                    => 3.40       (want any version)
# File::Temp                                    => 0.2304     (want any version)
# FindBin                                       => 1.51       (want any version)
# IO::Handle                                    => 1.34       (want any version)
# IPC::Open3                                    => 1.13       (want any version)
# Module::Build                                 => 0.4007     (want 0.4007) 
# Module::Runtime                               => 0.013      (want any version)
# Path::Tiny                                    => 0.043      (want any version)
# Role::Tiny                                    => 1.003002   (want any version)
# Role::Tiny::With                              => <undef>    (want any version)
# Scalar::Util                                  => 1.27       (want any version)
# Sub::Exporter                                 => 0.986      (want any version)
# Test::Fatal                                   => 0.013      (want any version)
# Test::More                                    => 0.98       (want 0.98)   
# strict                                        => 1.07       (want any version)
# warnings                                      => 1.18       (want any version)
# 
# Thanks for using my code.  I hope it works for you.
# If not, please try and include this output in the bug report.
# That will help me reproduce the issue and solve your problem.
# 
t/000-report-versions-tiny.t ....... ok
t/Path-IsDev-Object/_matches.t ..... ok
    # $path_isdev_source = /home/kevin/.cpan/build/Path-IsDev-0.6.0-N74Upy
    # $corpus_Changes_dir = /home/kevin/.cpan/build/Path-IsDev-0.6.0-N74Upy/corpus/Changelog
    # $corpus_Changes_dir/../ = /home/kevin/.cpan/build/Path-IsDev-0.6.0-N74Upy/corpus
t/Path-IsDev-Object/basic.t ........ ok
t/Path-IsDev/is_dev/Changelog.t .... ok
t/Path-IsDev/is_dev/DZil.t ......... ok
t/Path-IsDev/is_dev/DevDir.t ....... ok
t/Path-IsDev/is_dev/META.t ......... ok
t/Path-IsDev/is_dev/MYMETA.t ....... ok
t/Path-IsDev/is_dev/MakeMaker.t .... ok
t/Path-IsDev/is_dev/ModuleBuild.t .. ok
t/Path-IsDev/is_dev/TestDir.t ...... ok
t/basic.t .......................... ok
All tests successful.
Files=13, Tests=63,  3 wallclock secs ( 0.08 usr  0.01 sys +  1.73 cusr  0.29 csys =  2.11 CPU)
Result: PASS

------------------------------
PREREQUISITES
------------------------------

Prerequisite modules loaded:

requires:

    Module           Need    Have    
    ---------------- ------- --------
    Carp             0       1.29    
    Class::Tiny      0.010   0.011   
    Module::Runtime  0       0.013   
    Path::Tiny       0       0.043   
    perl             v5.10.0 5.018001
    Role::Tiny       0       1.003002
    Role::Tiny::With 0       0       
    Scalar::Util     0       1.27    
    strict           0       1.07    
    Sub::Exporter    0       0.986   
    warnings         0       1.18    

build_requires:

    Module           Need    Have    
    ---------------- ------- --------
    File::Spec       0       3.40    
    File::Temp       0       0.2304  
    FindBin          0       1.51    
    IO::Handle       0       1.34    
    IPC::Open3       0       1.13    
    Module::Build    0.4007  0.4007  
    Test::Fatal      0       0.013   
    Test::More       0.98    0.98    

configure_requires:

    Module           Need    Have    
    ---------------- ------- --------
    Module::Build    0.4007  0.4007  


------------------------------
ENVIRONMENT AND OTHER CONTEXT
------------------------------

Environment variables:

    LANG = en_GB.UTF-8
    LANGUAGE = en_GB:en
    LC_TIME = en_DK.utf8
    PATH = /home/kevin/perl5/perlbrew/bin:/home/kevin/perl5/perlbrew/perls/perl-5.18.1/bin:/home/kevin/bin:/usr/lib/lightdm/lightdm:/usr/local/sbin:/usr/local/bin:/usr/sbin:/usr/bin:/sbin:/bin:/usr/games:/usr/local/games:/usr/lib/jvm/java-8-oracle/bin:/usr/lib/jvm/java-8-oracle/db/bin:/usr/lib/jvm/java-8-oracle/jre/bin:/home/kevin/rakudo/rakudo-star-2013.05/install/bin:/home/kevin/rakudo/rakudo-star-2013.05/:/home/kevin/.rvm/bin
    PERL5LIB = 
    PERL5OPT = 
    PERL5_CPANPLUS_IS_RUNNING = 390
    PERL5_CPAN_IS_RUNNING = 390
    PERLBREW_BASHRC_VERSION = 0.66
    PERLBREW_HOME = /home/kevin/.perlbrew
    PERLBREW_MANPATH = /home/kevin/perl5/perlbrew/perls/perl-5.18.1/man
    PERLBREW_PATH = /home/kevin/perl5/perlbrew/bin:/home/kevin/perl5/perlbrew/perls/perl-5.18.1/bin
    PERLBREW_PERL = perl-5.18.1
    PERLBREW_ROOT = /home/kevin/perl5/perlbrew
    PERLBREW_VERSION = 0.66
    SHELL = /bin/bash
    TERM = xterm

Perl special variables (and OS-specific diagnostics, for MSWin32):

    $^X = /home/kevin/perl5/perlbrew/perls/perl-5.18.1/bin/perl
    $UID/$EUID = 1000 / 1000
    $GID = 1000 4 6 20 21 24 25 26 29 30 39 40 44 46 104 105 112 119 122 126 1000 1001
    $EGID = 1000 4 6 20 21 24 25 26 29 30 39 40 44 46 104 105 112 119 122 126 1000 1001

Perl module toolchain versions installed:

    Module              Have    
    ------------------- --------
    CPAN                2.00    
    CPAN::Meta          2.132830
    Cwd                 3.40    
    ExtUtils::CBuilder  0.280210
    ExtUtils::Command   1.17    
    ExtUtils::Install   1.59    
    ExtUtils::MakeMaker 6.66    
    ExtUtils::Manifest  1.63    
    ExtUtils::ParseXS   3.18    
    File::Spec          3.40    
    JSON                2.59    
    JSON::PP            2.27202 
    Module::Build       0.4007  
    Module::Signature   n/a     
    Parse::CPAN::Meta   1.4404  
    Test::Harness       3.29    
    Test::More          0.98    
    YAML                0.84    
    YAML::Syck          n/a     
    version             0.9902  


--

Summary of my perl5 (revision 5 version 18 subversion 1) configuration:
   
  Platform:
    osname=linux, osvers=3.8.0-29-generic, archname=i686-linux-thread-multi
    uname='linux billy 3.8.0-29-generic #42-ubuntu smp tue aug 13 23:12:18 utc 2013 i686 i686 i686 gnulinux '
    config_args='-de -Dprefix=/home/kevin/perl5/perlbrew/perls/perl-5.18.1 -Dusethreads -Aeval:scriptdir=/home/kevin/perl5/perlbrew/perls/perl-5.18.1/bin'
    hint=recommended, useposix=true, d_sigaction=define
    useithreads=define, usemultiplicity=define
    useperlio=define, d_sfio=undef, uselargefiles=define, usesocks=undef
    use64bitint=undef, use64bitall=undef, uselongdouble=undef
    usemymalloc=n, bincompat5005=undef
  Compiler:
    cc='cc', ccflags ='-D_REENTRANT -D_GNU_SOURCE -fno-strict-aliasing -pipe -fstack-protector -I/usr/local/include -D_LARGEFILE_SOURCE -D_FILE_OFFSET_BITS=64',
    optimize='-O2',
    cppflags='-D_REENTRANT -D_GNU_SOURCE -fno-strict-aliasing -pipe -fstack-protector -I/usr/local/include'
    ccversion='', gccversion='4.7.3', gccosandvers=''
    intsize=4, longsize=4, ptrsize=4, doublesize=8, byteorder=1234
    d_longlong=define, longlongsize=8, d_longdbl=define, longdblsize=12
    ivtype='long', ivsize=4, nvtype='double', nvsize=8, Off_t='off_t', lseeksize=8
    alignbytes=4, prototype=define
  Linker and Libraries:
    ld='cc', ldflags =' -fstack-protector -L/usr/local/lib'
    libpth=/usr/local/lib /lib/i386-linux-gnu /lib/../lib /usr/lib/i386-linux-gnu /usr/lib/../lib /lib /usr/lib
    libs=-lnsl -ldl -lm -lcrypt -lutil -lpthread -lc
    perllibs=-lnsl -ldl -lm -lcrypt -lutil -lpthread -lc
    libc=, so=so, useshrplib=false, libperl=libperl.a
    gnulibc_version='2.17'
  Dynamic Linking:
    dlsrc=dl_dlopen.xs, dlext=so, d_dlsymun=undef, ccdlflags='-Wl,-E'
    cccdlflags='-fPIC', lddlflags='-shared -O2 -L/usr/local/lib -fstack-protector'


Characteristics of this binary (from libperl): 
  Compile-time options: HAS_TIMES MULTIPLICITY PERLIO_LAYERS
                        PERL_DONT_CREATE_GVSV
                        PERL_HASH_FUNC_ONE_AT_A_TIME_HARD
                        PERL_IMPLICIT_CONTEXT PERL_MALLOC_WRAP
                        PERL_PRESERVE_IVUV PERL_SAWAMPERSAND USE_ITHREADS
                        USE_LARGE_FILES USE_LOCALE USE_LOCALE_COLLATE
                        USE_LOCALE_CTYPE USE_LOCALE_NUMERIC USE_PERLIO
                        USE_PERL_ATOF USE_REENTRANT_API
  Built under linux
  Compiled at Oct 14 2013 15:36:54
  %ENV:
    PERL5LIB=""
    PERL5OPT=""
    PERL5_CPANPLUS_IS_RUNNING="390"
    PERL5_CPAN_IS_RUNNING="390"
    PERLBREW_BASHRC_VERSION="0.66"
    PERLBREW_HOME="/home/kevin/.perlbrew"
    PERLBREW_MANPATH="/home/kevin/perl5/perlbrew/perls/perl-5.18.1/man"
    PERLBREW_PATH="/home/kevin/perl5/perlbrew/bin:/home/kevin/perl5/perlbrew/perls/perl-5.18.1/bin"
    PERLBREW_PERL="perl-5.18.1"
    PERLBREW_ROOT="/home/kevin/perl5/perlbrew"
    PERLBREW_VERSION="0.66"
  @INC:
    /home/kevin/perl5/perlbrew/perls/perl-5.18.1/lib/site_perl/5.18.1/i686-linux-thread-multi
    /home/kevin/perl5/perlbrew/perls/perl-5.18.1/lib/site_perl/5.18.1
    /home/kevin/perl5/perlbrew/perls/perl-5.18.1/lib/5.18.1/i686-linux-thread-multi
    /home/kevin/perl5/perlbrew/perls/perl-5.18.1/lib/5.18.1
    .