Report for Reaction-0.002005

Back
From: metabase:user:314402c4-2aae-11df-837a-5e0a49663a4f
Subject: PASS Reaction-0.002005 v5.14.4 GNU/Linux
Date: 2014-05-25T17:48:37Z

This distribution has been tested as part of the CPAN Testers
project, supporting the Perl programming language.  See
http://wiki.cpantesters.org/ for more information or email
questions to cpan-testers-discuss@perl.org


--
Dear Justin Hunter,

This is a computer-generated report for Reaction-0.002005
on perl 5.14.4, created by CPAN-Reporter-1.2011.

Thank you for uploading your work to CPAN.  Congratulations!
All tests were successful.

Sections of this report:

    * Tester comments
    * Program output
    * Prerequisites
    * Environment and other context

------------------------------
TESTER COMMENTS
------------------------------

Additional comments from tester:

none provided

------------------------------
PROGRAM OUTPUT
------------------------------

Output from '/usr/bin/make test':

PERL_DL_NONLAZY=1 /bbbike/perl-5.14.4/bin/perl "-MExtUtils::Command::MM" "-MTest::Harness" "-e" "undef *Test::Harness::Switches; test_harness(0, 'inc', 'blib/lib', 'blib/arch')" t/00componentui_compiles.t t/01app.t t/04load_all.t t/05reflect_attr_from.t t/im_dbic.t t/ui_focus_stack.t t/ui_view.t t/ui_viewport.t t/uncheck_bool_field.t
Class::MOP::load_class is deprecated at /opt/perl-5.14.4/lib/site_perl/5.14.4/x86_64-linux/Class/MOP.pm line 73.
	Class::MOP::load_class("ComponentUI::TestModel") called at /tmpfs/.cpan-build/Reaction-0.002005-uHXfQS/blib/lib/Catalyst/Model/Reaction/InterfaceModel/DBIC.pm line 24
	Catalyst::Model::Reaction::InterfaceModel::DBIC::COMPONENT("ComponentUI::Model::TestModel", "ComponentUI", HASH(0x6b9f1a8)) called at /opt/perl-5.14.4/lib/site_perl/5.14.4/Catalyst.pm line 2642
	eval {...} called at /opt/perl-5.14.4/lib/site_perl/5.14.4/Catalyst.pm line 2642
	Catalyst::setup_component("ComponentUI", "ComponentUI::Model::TestModel") called at /opt/perl-5.14.4/lib/site_perl/5.14.4/Catalyst.pm line 2569
	Catalyst::setup_components("ComponentUI") called at /opt/perl-5.14.4/lib/site_perl/5.14.4/Catalyst.pm line 1181
	Catalyst::setup("ComponentUI") called at /tmpfs/.cpan-build/Reaction-0.002005-uHXfQS/blib/lib/ComponentUI.pm line 32
	require ComponentUI.pm called at t/00componentui_compiles.t line 7
	main::BEGIN() called at /tmpfs/.cpan-build/Reaction-0.002005-uHXfQS/blib/lib/ComponentUI.pm line 0
	eval {...} called at /tmpfs/.cpan-build/Reaction-0.002005-uHXfQS/blib/lib/ComponentUI.pm line 0
	eval 'package main;

#line 7 t/00componentui_compiles.t
use ComponentUI @{$args[0]};
1;

;' called at /opt/perl-5.14.4/lib/site_perl/5.14.4/Test/More.pm line 992
	Test::More::_eval("package main;\x{a}\x{a}#line 7 t/00componentui_compiles.t\x{a}use Compone"..., ARRAY(0x2174700)) called at /opt/perl-5.14.4/lib/site_perl/5.14.4/Test/More.pm line 967
	Test::More::use_ok("ComponentUI") called at t/00componentui_compiles.t line 7
Class::MOP::load_class is deprecated at /opt/perl-5.14.4/lib/site_perl/5.14.4/x86_64-linux/Class/MOP.pm line 73.
	Class::MOP::load_class("Reaction::InterfaceModel::Object") called at /tmpfs/.cpan-build/Reaction-0.002005-uHXfQS/blib/lib/Reaction/InterfaceModel/Reflector/DBIC.pm line 149
	Reaction::InterfaceModel::Reflector::DBIC::reflect_schema(Reaction::InterfaceModel::Reflector::DBIC=HASH(0x6d30b08), "model_class", "ComponentUI::TestModel", "schema_class", "RTest::TestDB", "sources", ARRAY(0x6cf2468)) called at /tmpfs/.cpan-build/Reaction-0.002005-uHXfQS/blib/lib/ComponentUI/TestModel.pm line 10
	require ComponentUI/TestModel.pm called at /opt/perl-5.14.4/lib/site_perl/5.14.4/Module/Runtime.pm line 317
	Module::Runtime::require_module("ComponentUI::TestModel") called at /opt/perl-5.14.4/lib/site_perl/5.14.4/Class/Load.pm line 179
	Class::Load::try {...} () called at /opt/perl-5.14.4/lib/site_perl/5.14.4/Try/Tiny.pm line 76
	eval {...} called at /opt/perl-5.14.4/lib/site_perl/5.14.4/Try/Tiny.pm line 72
	Try::Tiny::try(CODE(0x6907290), Try::Tiny::Catch=REF(0x68d4770)) called at /opt/perl-5.14.4/lib/site_perl/5.14.4/Class/Load.pm line 185
	Class::Load::try_load_class("ComponentUI::TestModel", undef) called at /opt/perl-5.14.4/lib/site_perl/5.14.4/Class/Load.pm line 40
	Class::Load::load_class("ComponentUI::TestModel") called at /tmpfs/.cpan-build/Reaction-0.002005-uHXfQS/blib/lib/Catalyst/Model/Reaction/InterfaceModel/DBIC.pm line 24
	Catalyst::Model::Reaction::InterfaceModel::DBIC::COMPONENT("ComponentUI::Model::TestModel", "ComponentUI", HASH(0x6b9f1a8)) called at /opt/perl-5.14.4/lib/site_perl/5.14.4/Catalyst.pm line 2642
	eval {...} called at /opt/perl-5.14.4/lib/site_perl/5.14.4/Catalyst.pm line 2642
	Catalyst::setup_component("ComponentUI", "ComponentUI::Model::TestModel") called at /opt/perl-5.14.4/lib/site_perl/5.14.4/Catalyst.pm line 2569
	Catalyst::setup_components("ComponentUI") called at /opt/perl-5.14.4/lib/site_perl/5.14.4/Catalyst.pm line 1181
	Catalyst::setup("ComponentUI") called at /tmpfs/.cpan-build/Reaction-0.002005-uHXfQS/blib/lib/ComponentUI.pm line 32
	require ComponentUI.pm called at t/00componentui_compiles.t line 7
	main::BEGIN() called at /tmpfs/.cpan-build/Reaction-0.002005-uHXfQS/blib/lib/ComponentUI/TestModel.pm line 0
	eval {...} called at /tmpfs/.cpan-build/Reaction-0.002005-uHXfQS/blib/lib/ComponentUI/TestModel.pm line 0
	eval 'package main;

#line 7 t/00componentui_compiles.t
use ComponentUI @{$args[0]};
1;

;' called at /opt/perl-5.14.4/lib/site_perl/5.14.4/Test/More.pm line 992
	Test::More::_eval("package main;\x{a}\x{a}#line 7 t/00componentui_compiles.t\x{a}use Compone"..., ARRAY(0x2174700)) called at /opt/perl-5.14.4/lib/site_perl/5.14.4/Test/More.pm line 967
	Test::More::use_ok("ComponentUI") called at t/00componentui_compiles.t line 7
Class::MOP::load_class is deprecated at /opt/perl-5.14.4/lib/site_perl/5.14.4/x86_64-linux/Class/MOP.pm line 73.
	Class::MOP::load_class("Reaction::InterfaceModel::Object") called at /tmpfs/.cpan-build/Reaction-0.002005-uHXfQS/blib/lib/Reaction/Class.pm line 123
	Reaction::Class::do_class_sub("Reaction::Class", "ComponentUI::TestModel::Foo", "ComponentUI::TestModel::Foo", "is", "Reaction::InterfaceModel::Object", "which", CODE(0x7012578)) called at /tmpfs/.cpan-build/Reaction-0.002005-uHXfQS/blib/lib/Reaction/Class.pm line 86
	Reaction::Class::("ComponentUI::TestModel::Foo", "is", "Reaction::InterfaceModel::Object", "which", CODE(0x7012578)) called at /tmpfs/.cpan-build/Reaction-0.002005-uHXfQS/blib/lib/ComponentUI/TestModel/Foo.pm line 8
	require ComponentUI/TestModel/Foo.pm called at /opt/perl-5.14.4/lib/site_perl/5.14.4/Module/Runtime.pm line 317
	Module::Runtime::require_module("ComponentUI::TestModel::Foo") called at /opt/perl-5.14.4/lib/site_perl/5.14.4/Class/Load.pm line 179
	Class::Load::try {...} () called at /opt/perl-5.14.4/lib/site_perl/5.14.4/Try/Tiny.pm line 76
	eval {...} called at /opt/perl-5.14.4/lib/site_perl/5.14.4/Try/Tiny.pm line 72
	Try::Tiny::try(CODE(0x6fed638), Try::Tiny::Catch=REF(0x7002a00)) called at /opt/perl-5.14.4/lib/site_perl/5.14.4/Class/Load.pm line 185
	Class::Load::try_load_class("ComponentUI::TestModel::Foo", undef) called at /opt/perl-5.14.4/lib/site_perl/5.14.4/Class/Load.pm line 40
	Class::Load::load_class("ComponentUI::TestModel::Foo") called at /tmpfs/.cpan-build/Reaction-0.002005-uHXfQS/blib/lib/Reaction/InterfaceModel/Reflector/DBIC.pm line 892
	eval {...} called at /tmpfs/.cpan-build/Reaction-0.002005-uHXfQS/blib/lib/Reaction/InterfaceModel/Reflector/DBIC.pm line 892
	Reaction::InterfaceModel::Reflector::DBIC::_maybe_load_class(Reaction::InterfaceModel::Reflector::DBIC=HASH(0x6d30b08), "ComponentUI::TestModel::Foo") called at /tmpfs/.cpan-build/Reaction-0.002005-uHXfQS/blib/lib/Reaction/InterfaceModel/Reflector/DBIC.pm line 876
	Reaction::InterfaceModel::Reflector::DBIC::_load_or_create(Reaction::InterfaceModel::Reflector::DBIC=HASH(0x6d30b08), "ComponentUI::TestModel::Foo", "superclasses", ARRAY(0x6f32360)) called at /tmpfs/.cpan-build/Reaction-0.002005-uHXfQS/blib/lib/Reaction/InterfaceModel/Reflector/DBIC.pm line 448
	Reaction::InterfaceModel::Reflector::DBIC::reflect_source_object(Reaction::InterfaceModel::Reflector::DBIC=HASH(0x6d30b08), "schema_class", "RTest::TestDB", "source_name", "Foo", "source_class", "RTest::TestDB::Foo", "parent_class", "ComponentUI::TestModel", ...) called at /tmpfs/.cpan-build/Reaction-0.002005-uHXfQS/blib/lib/Reaction/InterfaceModel/Reflector/DBIC.pm line 323
	Reaction::InterfaceModel::Reflector::DBIC::reflect_source(Reaction::InterfaceModel::Reflector::DBIC=HASH(0x6d30b08), "source_name", "Foo", "parent_class", "ComponentUI::TestModel", "schema_class", "RTest::TestDB", "source_class", "RTest::TestDB::Foo", ...) called at /tmpfs/.cpan-build/Reaction-0.002005-uHXfQS/blib/lib/Reaction/InterfaceModel/Reflector/DBIC.pm line 185
	Reaction::InterfaceModel::Reflector::DBIC::reflect_schema(Reaction::InterfaceModel::Reflector::DBIC=HASH(0x6d30b08), "model_class", "ComponentUI::TestModel", "schema_class", "RTest::TestDB", "sources", ARRAY(0x6cf2468)) called at /tmpfs/.cpan-build/Reaction-0.002005-uHXfQS/blib/lib/ComponentUI/TestModel.pm line 10
	require ComponentUI/TestModel.pm called at /opt/perl-5.14.4/lib/site_perl/5.14.4/Module/Runtime.pm line 317
	Module::Runtime::require_module("ComponentUI::TestModel") called at /opt/perl-5.14.4/lib/site_perl/5.14.4/Class/Load.pm line 179
	Class::Load::try {...} () called at /opt/perl-5.14.4/lib/site_perl/5.14.4/Try/Tiny.pm line 76
	eval {...} called at /opt/perl-5.14.4/lib/site_perl/5.14.4/Try/Tiny.pm line 72
	Try::Tiny::try(CODE(0x6907290), Try::Tiny::Catch=REF(0x68d4770)) called at /opt/perl-5.14.4/lib/site_perl/5.14.4/Class/Load.pm line 185
	Class::Load::try_load_class("ComponentUI::TestModel", undef) called at /opt/perl-5.14.4/lib/site_perl/5.14.4/Class/Load.pm line 40
	Class::Load::load_class("ComponentUI::TestModel") called at /tmpfs/.cpan-build/Reaction-0.002005-uHXfQS/blib/lib/Catalyst/Model/Reaction/InterfaceModel/DBIC.pm line 24
	Catalyst::Model::Reaction::InterfaceModel::DBIC::COMPONENT("ComponentUI::Model::TestModel", "ComponentUI", HASH(0x6b9f1a8)) called at /opt/perl-5.14.4/lib/site_perl/5.14.4/Catalyst.pm line 2642
	eval {...} called at /opt/perl-5.14.4/lib/site_perl/5.14.4/Catalyst.pm line 2642
	Catalyst::setup_component("ComponentUI", "ComponentUI::Model::TestModel") called at /opt/perl-5.14.4/lib/site_perl/5.14.4/Catalyst.pm line 2569
	Catalyst::setup_components("ComponentUI") called at /opt/perl-5.14.4/lib/site_perl/5.14.4/Catalyst.pm line 1181
	Catalyst::setup("ComponentUI") called at /tmpfs/.cpan-build/Reaction-0.002005-uHXfQS/blib/lib/ComponentUI.pm line 32
	require ComponentUI.pm called at t/00componentui_compiles.t line 7
	main::BEGIN() called at /tmpfs/.cpan-build/Reaction-0.002005-uHXfQS/blib/lib/ComponentUI/TestModel/Foo.pm line 0
	eval {...} called at /tmpfs/.cpan-build/Reaction-0.002005-uHXfQS/blib/lib/ComponentUI/TestModel/Foo.pm line 0
	eval 'package main;

#line 7 t/00componentui_compiles.t
use ComponentUI @{$args[0]};
1;

;' called at /opt/perl-5.14.4/lib/site_perl/5.14.4/Test/More.pm line 992
	Test::More::_eval("package main;\x{a}\x{a}#line 7 t/00componentui_compiles.t\x{a}use Compone"..., ARRAY(0x2174700)) called at /opt/perl-5.14.4/lib/site_perl/5.14.4/Test/More.pm line 967
	Test::More::use_ok("ComponentUI") called at t/00componentui_compiles.t line 7
t/00componentui_compiles.t .. ok
Class::MOP::load_class is deprecated at /opt/perl-5.14.4/lib/site_perl/5.14.4/x86_64-linux/Class/MOP.pm line 73.
	Class::MOP::load_class("ComponentUI::TestModel") called at /tmpfs/.cpan-build/Reaction-0.002005-uHXfQS/blib/lib/Catalyst/Model/Reaction/InterfaceModel/DBIC.pm line 24
	Catalyst::Model::Reaction::InterfaceModel::DBIC::COMPONENT("ComponentUI::Model::TestModel", "ComponentUI", HASH(0x6a57690)) called at /opt/perl-5.14.4/lib/site_perl/5.14.4/Catalyst.pm line 2642
	eval {...} called at /opt/perl-5.14.4/lib/site_perl/5.14.4/Catalyst.pm line 2642
	Catalyst::setup_component("ComponentUI", "ComponentUI::Model::TestModel") called at /opt/perl-5.14.4/lib/site_perl/5.14.4/Catalyst.pm line 2569
	Catalyst::setup_components("ComponentUI") called at /opt/perl-5.14.4/lib/site_perl/5.14.4/Catalyst.pm line 1181
	Catalyst::setup("ComponentUI") called at /tmpfs/.cpan-build/Reaction-0.002005-uHXfQS/blib/lib/ComponentUI.pm line 32
	require ComponentUI.pm called at /opt/perl-5.14.4/lib/site_perl/5.14.4/Module/Runtime.pm line 317
	Module::Runtime::require_module("ComponentUI") called at /opt/perl-5.14.4/lib/site_perl/5.14.4/Class/Load.pm line 179
	Class::Load::try {...} () called at /opt/perl-5.14.4/lib/site_perl/5.14.4/Try/Tiny.pm line 76
	eval {...} called at /opt/perl-5.14.4/lib/site_perl/5.14.4/Try/Tiny.pm line 72
	Try::Tiny::try(CODE(0x2b68000), Try::Tiny::Catch=REF(0x2b68258)) called at /opt/perl-5.14.4/lib/site_perl/5.14.4/Class/Load.pm line 185
	Class::Load::try_load_class("ComponentUI", undef) called at /opt/perl-5.14.4/lib/site_perl/5.14.4/Class/Load.pm line 40
	Class::Load::load_class("ComponentUI") called at /opt/perl-5.14.4/lib/site_perl/5.14.4/Catalyst/Test.pm line 29
	Catalyst::Test::_build_request_export("Catalyst::Test", HASH(0x2049e68)) called at /opt/perl-5.14.4/lib/site_perl/5.14.4/Catalyst/Test.pm line 92
	Catalyst::Test::__ANON__("Catalyst::Test", "all", HASH(0x2049e20), HASH(0x2045450)) called at /opt/perl-5.14.4/lib/site_perl/5.14.4/Sub/Exporter.pm line 108
	Sub::Exporter::_expand_group("Catalyst::Test", HASH(0x2f46200), ARRAY(0x2045468), HASH(0x2045450), HASH(0x2049e98), HASH(0x2045480)) called at /opt/perl-5.14.4/lib/site_perl/5.14.4/Sub/Exporter.pm line 39
	Sub::Exporter::_expand_groups("Catalyst::Test", HASH(0x2f46200), ARRAY(0x2f46338), HASH(0x2045450)) called at /opt/perl-5.14.4/lib/site_perl/5.14.4/Sub/Exporter.pm line 323
	Sub::Exporter::__ANON__("Catalyst::Test", "-all", HASH(0x20453a8)) called at /opt/perl-5.14.4/lib/site_perl/5.14.4/Catalyst/Test.pm line 155
	Catalyst::Test::import("Catalyst::Test", "ComponentUI") called at t/01app.t line 7
	main::BEGIN() called at /tmpfs/.cpan-build/Reaction-0.002005-uHXfQS/blib/lib/ComponentUI.pm line 0
	eval {...} called at /tmpfs/.cpan-build/Reaction-0.002005-uHXfQS/blib/lib/ComponentUI.pm line 0
	eval 'package main;

#line 7 t/01app.t
use Catalyst::Test @{$args[0]};
1;

;' called at /opt/perl-5.14.4/lib/site_perl/5.14.4/Test/More.pm line 992
	Test::More::_eval("package main;\x{a}\x{a}#line 7 t/01app.t\x{a}use Catalyst::Test \@{\$args[0"..., ARRAY(0x1ff9660)) called at /opt/perl-5.14.4/lib/site_perl/5.14.4/Test/More.pm line 967
	Test::More::use_ok("Catalyst::Test", "ComponentUI") called at t/01app.t line 7
	main::BEGIN() called at /tmpfs/.cpan-build/Reaction-0.002005-uHXfQS/blib/lib/ComponentUI.pm line 0
	eval {...} called at /tmpfs/.cpan-build/Reaction-0.002005-uHXfQS/blib/lib/ComponentUI.pm line 0
Class::MOP::load_class is deprecated at /opt/perl-5.14.4/lib/site_perl/5.14.4/x86_64-linux/Class/MOP.pm line 73.
	Class::MOP::load_class("Reaction::InterfaceModel::Object") called at /tmpfs/.cpan-build/Reaction-0.002005-uHXfQS/blib/lib/Reaction/InterfaceModel/Reflector/DBIC.pm line 149
	Reaction::InterfaceModel::Reflector::DBIC::reflect_schema(Reaction::InterfaceModel::Reflector::DBIC=HASH(0x6b07f10), "model_class", "ComponentUI::TestModel", "schema_class", "RTest::TestDB", "sources", ARRAY(0x6bbf778)) called at /tmpfs/.cpan-build/Reaction-0.002005-uHXfQS/blib/lib/ComponentUI/TestModel.pm line 10
	require ComponentUI/TestModel.pm called at /opt/perl-5.14.4/lib/site_perl/5.14.4/Module/Runtime.pm line 317
	Module::Runtime::require_module("ComponentUI::TestModel") called at /opt/perl-5.14.4/lib/site_perl/5.14.4/Class/Load.pm line 179
	Class::Load::try {...} () called at /opt/perl-5.14.4/lib/site_perl/5.14.4/Try/Tiny.pm line 76
	eval {...} called at /opt/perl-5.14.4/lib/site_perl/5.14.4/Try/Tiny.pm line 72
	Try::Tiny::try(CODE(0x68893a0), Try::Tiny::Catch=REF(0x6788040)) called at /opt/perl-5.14.4/lib/site_perl/5.14.4/Class/Load.pm line 185
	Class::Load::try_load_class("ComponentUI::TestModel", undef) called at /opt/perl-5.14.4/lib/site_perl/5.14.4/Class/Load.pm line 40
	Class::Load::load_class("ComponentUI::TestModel") called at /tmpfs/.cpan-build/Reaction-0.002005-uHXfQS/blib/lib/Catalyst/Model/Reaction/InterfaceModel/DBIC.pm line 24
	Catalyst::Model::Reaction::InterfaceModel::DBIC::COMPONENT("ComponentUI::Model::TestModel", "ComponentUI", HASH(0x6a57690)) called at /opt/perl-5.14.4/lib/site_perl/5.14.4/Catalyst.pm line 2642
	eval {...} called at /opt/perl-5.14.4/lib/site_perl/5.14.4/Catalyst.pm line 2642
	Catalyst::setup_component("ComponentUI", "ComponentUI::Model::TestModel") called at /opt/perl-5.14.4/lib/site_perl/5.14.4/Catalyst.pm line 2569
	Catalyst::setup_components("ComponentUI") called at /opt/perl-5.14.4/lib/site_perl/5.14.4/Catalyst.pm line 1181
	Catalyst::setup("ComponentUI") called at /tmpfs/.cpan-build/Reaction-0.002005-uHXfQS/blib/lib/ComponentUI.pm line 32
	require ComponentUI.pm called at /opt/perl-5.14.4/lib/site_perl/5.14.4/Module/Runtime.pm line 317
	Module::Runtime::require_module("ComponentUI") called at /opt/perl-5.14.4/lib/site_perl/5.14.4/Class/Load.pm line 179
	Class::Load::try {...} () called at /opt/perl-5.14.4/lib/site_perl/5.14.4/Try/Tiny.pm line 76
	eval {...} called at /opt/perl-5.14.4/lib/site_perl/5.14.4/Try/Tiny.pm line 72
	Try::Tiny::try(CODE(0x2b68000), Try::Tiny::Catch=REF(0x2b68258)) called at /opt/perl-5.14.4/lib/site_perl/5.14.4/Class/Load.pm line 185
	Class::Load::try_load_class("ComponentUI", undef) called at /opt/perl-5.14.4/lib/site_perl/5.14.4/Class/Load.pm line 40
	Class::Load::load_class("ComponentUI") called at /opt/perl-5.14.4/lib/site_perl/5.14.4/Catalyst/Test.pm line 29
	Catalyst::Test::_build_request_export("Catalyst::Test", HASH(0x2049e68)) called at /opt/perl-5.14.4/lib/site_perl/5.14.4/Catalyst/Test.pm line 92
	Catalyst::Test::__ANON__("Catalyst::Test", "all", HASH(0x2049e20), HASH(0x2045450)) called at /opt/perl-5.14.4/lib/site_perl/5.14.4/Sub/Exporter.pm line 108
	Sub::Exporter::_expand_group("Catalyst::Test", HASH(0x2f46200), ARRAY(0x2045468), HASH(0x2045450), HASH(0x2049e98), HASH(0x2045480)) called at /opt/perl-5.14.4/lib/site_perl/5.14.4/Sub/Exporter.pm line 39
	Sub::Exporter::_expand_groups("Catalyst::Test", HASH(0x2f46200), ARRAY(0x2f46338), HASH(0x2045450)) called at /opt/perl-5.14.4/lib/site_perl/5.14.4/Sub/Exporter.pm line 323
	Sub::Exporter::__ANON__("Catalyst::Test", "-all", HASH(0x20453a8)) called at /opt/perl-5.14.4/lib/site_perl/5.14.4/Catalyst/Test.pm line 155
	Catalyst::Test::import("Catalyst::Test", "ComponentUI") called at t/01app.t line 7
	main::BEGIN() called at /tmpfs/.cpan-build/Reaction-0.002005-uHXfQS/blib/lib/ComponentUI/TestModel.pm line 0
	eval {...} called at /tmpfs/.cpan-build/Reaction-0.002005-uHXfQS/blib/lib/ComponentUI/TestModel.pm line 0
	eval 'package main;

#line 7 t/01app.t
use Catalyst::Test @{$args[0]};
1;

;' called at /opt/perl-5.14.4/lib/site_perl/5.14.4/Test/More.pm line 992
	Test::More::_eval("package main;\x{a}\x{a}#line 7 t/01app.t\x{a}use Catalyst::Test \@{\$args[0"..., ARRAY(0x1ff9660)) called at /opt/perl-5.14.4/lib/site_perl/5.14.4/Test/More.pm line 967
	Test::More::use_ok("Catalyst::Test", "ComponentUI") called at t/01app.t line 7
	main::BEGIN() called at /tmpfs/.cpan-build/Reaction-0.002005-uHXfQS/blib/lib/ComponentUI/TestModel.pm line 0
	eval {...} called at /tmpfs/.cpan-build/Reaction-0.002005-uHXfQS/blib/lib/ComponentUI/TestModel.pm line 0
Class::MOP::load_class is deprecated at /opt/perl-5.14.4/lib/site_perl/5.14.4/x86_64-linux/Class/MOP.pm line 73.
	Class::MOP::load_class("Reaction::InterfaceModel::Object") called at /tmpfs/.cpan-build/Reaction-0.002005-uHXfQS/blib/lib/Reaction/Class.pm line 123
	Reaction::Class::do_class_sub("Reaction::Class", "ComponentUI::TestModel::Foo", "ComponentUI::TestModel::Foo", "is", "Reaction::InterfaceModel::Object", "which", CODE(0x6ec7088)) called at /tmpfs/.cpan-build/Reaction-0.002005-uHXfQS/blib/lib/Reaction/Class.pm line 86
	Reaction::Class::("ComponentUI::TestModel::Foo", "is", "Reaction::InterfaceModel::Object", "which", CODE(0x6ec7088)) called at /tmpfs/.cpan-build/Reaction-0.002005-uHXfQS/blib/lib/ComponentUI/TestModel/Foo.pm line 8
	require ComponentUI/TestModel/Foo.pm called at /opt/perl-5.14.4/lib/site_perl/5.14.4/Module/Runtime.pm line 317
	Module::Runtime::require_module("ComponentUI::TestModel::Foo") called at /opt/perl-5.14.4/lib/site_perl/5.14.4/Class/Load.pm line 179
	Class::Load::try {...} () called at /opt/perl-5.14.4/lib/site_perl/5.14.4/Try/Tiny.pm line 76
	eval {...} called at /opt/perl-5.14.4/lib/site_perl/5.14.4/Try/Tiny.pm line 72
	Try::Tiny::try(CODE(0x6e9bcc8), Try::Tiny::Catch=REF(0x6e9f7b8)) called at /opt/perl-5.14.4/lib/site_perl/5.14.4/Class/Load.pm line 185
	Class::Load::try_load_class("ComponentUI::TestModel::Foo", undef) called at /opt/perl-5.14.4/lib/site_perl/5.14.4/Class/Load.pm line 40
	Class::Load::load_class("ComponentUI::TestModel::Foo") called at /tmpfs/.cpan-build/Reaction-0.002005-uHXfQS/blib/lib/Reaction/InterfaceModel/Reflector/DBIC.pm line 892
	eval {...} called at /tmpfs/.cpan-build/Reaction-0.002005-uHXfQS/blib/lib/Reaction/InterfaceModel/Reflector/DBIC.pm line 892
	Reaction::InterfaceModel::Reflector::DBIC::_maybe_load_class(Reaction::InterfaceModel::Reflector::DBIC=HASH(0x6b07f10), "ComponentUI::TestModel::Foo") called at /tmpfs/.cpan-build/Reaction-0.002005-uHXfQS/blib/lib/Reaction/InterfaceModel/Reflector/DBIC.pm line 876
	Reaction::InterfaceModel::Reflector::DBIC::_load_or_create(Reaction::InterfaceModel::Reflector::DBIC=HASH(0x6b07f10), "ComponentUI::TestModel::Foo", "superclasses", ARRAY(0x6de9810)) called at /tmpfs/.cpan-build/Reaction-0.002005-uHXfQS/blib/lib/Reaction/InterfaceModel/Reflector/DBIC.pm line 448
	Reaction::InterfaceModel::Reflector::DBIC::reflect_source_object(Reaction::InterfaceModel::Reflector::DBIC=HASH(0x6b07f10), "schema_class", "RTest::TestDB", "source_name", "Foo", "source_class", "RTest::TestDB::Foo", "parent_class", "ComponentUI::TestModel", ...) called at /tmpfs/.cpan-build/Reaction-0.002005-uHXfQS/blib/lib/Reaction/InterfaceModel/Reflector/DBIC.pm line 323
	Reaction::InterfaceModel::Reflector::DBIC::reflect_source(Reaction::InterfaceModel::Reflector::DBIC=HASH(0x6b07f10), "source_name", "Foo", "parent_class", "ComponentUI::TestModel", "schema_class", "RTest::TestDB", "source_class", "RTest::TestDB::Foo", ...) called at /tmpfs/.cpan-build/Reaction-0.002005-uHXfQS/blib/lib/Reaction/InterfaceModel/Reflector/DBIC.pm line 185
	Reaction::InterfaceModel::Reflector::DBIC::reflect_schema(Reaction::InterfaceModel::Reflector::DBIC=HASH(0x6b07f10), "model_class", "ComponentUI::TestModel", "schema_class", "RTest::TestDB", "sources", ARRAY(0x6bbf778)) called at /tmpfs/.cpan-build/Reaction-0.002005-uHXfQS/blib/lib/ComponentUI/TestModel.pm line 10
	require ComponentUI/TestModel.pm called at /opt/perl-5.14.4/lib/site_perl/5.14.4/Module/Runtime.pm line 317
	Module::Runtime::require_module("ComponentUI::TestModel") called at /opt/perl-5.14.4/lib/site_perl/5.14.4/Class/Load.pm line 179
	Class::Load::try {...} () called at /opt/perl-5.14.4/lib/site_perl/5.14.4/Try/Tiny.pm line 76
	eval {...} called at /opt/perl-5.14.4/lib/site_perl/5.14.4/Try/Tiny.pm line 72
	Try::Tiny::try(CODE(0x68893a0), Try::Tiny::Catch=REF(0x6788040)) called at /opt/perl-5.14.4/lib/site_perl/5.14.4/Class/Load.pm line 185
	Class::Load::try_load_class("ComponentUI::TestModel", undef) called at /opt/perl-5.14.4/lib/site_perl/5.14.4/Class/Load.pm line 40
	Class::Load::load_class("ComponentUI::TestModel") called at /tmpfs/.cpan-build/Reaction-0.002005-uHXfQS/blib/lib/Catalyst/Model/Reaction/InterfaceModel/DBIC.pm line 24
	Catalyst::Model::Reaction::InterfaceModel::DBIC::COMPONENT("ComponentUI::Model::TestModel", "ComponentUI", HASH(0x6a57690)) called at /opt/perl-5.14.4/lib/site_perl/5.14.4/Catalyst.pm line 2642
	eval {...} called at /opt/perl-5.14.4/lib/site_perl/5.14.4/Catalyst.pm line 2642
	Catalyst::setup_component("ComponentUI", "ComponentUI::Model::TestModel") called at /opt/perl-5.14.4/lib/site_perl/5.14.4/Catalyst.pm line 2569
	Catalyst::setup_components("ComponentUI") called at /opt/perl-5.14.4/lib/site_perl/5.14.4/Catalyst.pm line 1181
	Catalyst::setup("ComponentUI") called at /tmpfs/.cpan-build/Reaction-0.002005-uHXfQS/blib/lib/ComponentUI.pm line 32
	require ComponentUI.pm called at /opt/perl-5.14.4/lib/site_perl/5.14.4/Module/Runtime.pm line 317
	Module::Runtime::require_module("ComponentUI") called at /opt/perl-5.14.4/lib/site_perl/5.14.4/Class/Load.pm line 179
	Class::Load::try {...} () called at /opt/perl-5.14.4/lib/site_perl/5.14.4/Try/Tiny.pm line 76
	eval {...} called at /opt/perl-5.14.4/lib/site_perl/5.14.4/Try/Tiny.pm line 72
	Try::Tiny::try(CODE(0x2b68000), Try::Tiny::Catch=REF(0x2b68258)) called at /opt/perl-5.14.4/lib/site_perl/5.14.4/Class/Load.pm line 185
	Class::Load::try_load_class("ComponentUI", undef) called at /opt/perl-5.14.4/lib/site_perl/5.14.4/Class/Load.pm line 40
	Class::Load::load_class("ComponentUI") called at /opt/perl-5.14.4/lib/site_perl/5.14.4/Catalyst/Test.pm line 29
	Catalyst::Test::_build_request_export("Catalyst::Test", HASH(0x2049e68)) called at /opt/perl-5.14.4/lib/site_perl/5.14.4/Catalyst/Test.pm line 92
	Catalyst::Test::__ANON__("Catalyst::Test", "all", HASH(0x2049e20), HASH(0x2045450)) called at /opt/perl-5.14.4/lib/site_perl/5.14.4/Sub/Exporter.pm line 108
	Sub::Exporter::_expand_group("Catalyst::Test", HASH(0x2f46200), ARRAY(0x2045468), HASH(0x2045450), HASH(0x2049e98), HASH(0x2045480)) called at /opt/perl-5.14.4/lib/site_perl/5.14.4/Sub/Exporter.pm line 39
	Sub::Exporter::_expand_groups("Catalyst::Test", HASH(0x2f46200), ARRAY(0x2f46338), HASH(0x2045450)) called at /opt/perl-5.14.4/lib/site_perl/5.14.4/Sub/Exporter.pm line 323
	Sub::Exporter::__ANON__("Catalyst::Test", "-all", HASH(0x20453a8)) called at /opt/perl-5.14.4/lib/site_perl/5.14.4/Catalyst/Test.pm line 155
	Catalyst::Test::import("Catalyst::Test", "ComponentUI") called at t/01app.t line 7
	main::BEGIN() called at /tmpfs/.cpan-build/Reaction-0.002005-uHXfQS/blib/lib/ComponentUI/TestModel/Foo.pm line 0
	eval {...} called at /tmpfs/.cpan-build/Reaction-0.002005-uHXfQS/blib/lib/ComponentUI/TestModel/Foo.pm line 0
	eval 'package main;

#line 7 t/01app.t
use Catalyst::Test @{$args[0]};
1;

;' called at /opt/perl-5.14.4/lib/site_perl/5.14.4/Test/More.pm line 992
	Test::More::_eval("package main;\x{a}\x{a}#line 7 t/01app.t\x{a}use Catalyst::Test \@{\$args[0"..., ARRAY(0x1ff9660)) called at /opt/perl-5.14.4/lib/site_perl/5.14.4/Test/More.pm line 967
	Test::More::use_ok("Catalyst::Test", "ComponentUI") called at t/01app.t line 7
	main::BEGIN() called at /tmpfs/.cpan-build/Reaction-0.002005-uHXfQS/blib/lib/ComponentUI/TestModel/Foo.pm line 0
	eval {...} called at /tmpfs/.cpan-build/Reaction-0.002005-uHXfQS/blib/lib/ComponentUI/TestModel/Foo.pm line 0
Class::MOP::load_class is deprecated at /opt/perl-5.14.4/lib/site_perl/5.14.4/x86_64-linux/Class/MOP.pm line 73.
	Class::MOP::load_class("ComponentUI::RenderingContext::Site") called at /tmpfs/.cpan-build/Reaction-0.002005-uHXfQS/blib/lib/Reaction/UI/View.pm line 125
	eval {...} called at /tmpfs/.cpan-build/Reaction-0.002005-uHXfQS/blib/lib/Reaction/UI/View.pm line 125
	Reaction::UI::View::find_related_class(ComponentUI::View::Site=HASH(0x5f77a98), "RenderingContext") called at /tmpfs/.cpan-build/Reaction-0.002005-uHXfQS/blib/lib/Reaction/UI/View.pm line 43
	Reaction::UI::View::_build_rendering_context_class(ComponentUI::View::Site=HASH(0x5f77a98)) called at reader Reaction::UI::View::rendering_context_class (defined at /tmpfs/.cpan-build/Reaction-0.002005-uHXfQS/blib/lib/Reaction/UI/View.pm line 29) line 7
	Reaction::UI::View::rendering_context_class(ComponentUI::View::Site=HASH(0x5f77a98)) called at /tmpfs/.cpan-build/Reaction-0.002005-uHXfQS/blib/lib/Reaction/UI/View.pm line 134
	Reaction::UI::View::create_rendering_context(ComponentUI::View::Site=HASH(0x5f77a98)) called at /tmpfs/.cpan-build/Reaction-0.002005-uHXfQS/blib/lib/Reaction/UI/View.pm line 60
	Reaction::UI::View::render_window(ComponentUI::View::Site=HASH(0x5f77a98), Reaction::UI::Window=HASH(0x71b61f0)) called at /tmpfs/.cpan-build/Reaction-0.002005-uHXfQS/blib/lib/Reaction/UI/Window.pm line 74
	Reaction::UI::Window::flush_view(Reaction::UI::Window=HASH(0x71b61f0)) called at /tmpfs/.cpan-build/Reaction-0.002005-uHXfQS/blib/lib/Reaction/UI/Window.pm line 36
	Reaction::UI::Window::flush(Reaction::UI::Window=HASH(0x71b61f0)) called at /tmpfs/.cpan-build/Reaction-0.002005-uHXfQS/blib/lib/Reaction/UI/Controller/Root.pm line 38
	Reaction::UI::Controller::Root::end(ComponentUI::Controller::Root=HASH(0x71ae4e8), ComponentUI=HASH(0x716c928)) called at /opt/perl-5.14.4/lib/site_perl/5.14.4/Catalyst/Action.pm line 65
	Catalyst::Action::execute(Catalyst::Action=HASH(0x70a49b0), ComponentUI::Controller::Root=HASH(0x71ae4e8), ComponentUI=HASH(0x716c928)) called at /opt/perl-5.14.4/lib/site_perl/5.14.4/Catalyst.pm line 1734
	eval {...} called at /opt/perl-5.14.4/lib/site_perl/5.14.4/Catalyst.pm line 1734
	Catalyst::execute(ComponentUI=HASH(0x716c928), "ComponentUI::Controller::Root", Catalyst::Action=HASH(0x70a49b0)) called at /opt/perl-5.14.4/lib/site_perl/5.14.4/Catalyst/Action.pm line 60
	Catalyst::Action::dispatch(Catalyst::Action=HASH(0x70a49b0), ComponentUI=HASH(0x716c928)) called at /opt/perl-5.14.4/lib/site_perl/5.14.4/Catalyst/Controller.pm line 174
	Catalyst::Controller::_END(ComponentUI::Controller::Root=HASH(0x71ae4e8), ComponentUI=HASH(0x716c928)) called at /opt/perl-5.14.4/lib/site_perl/5.14.4/Catalyst/Action.pm line 65
	Catalyst::Action::execute(Catalyst::Action=HASH(0x70a4b30), ComponentUI::Controller::Root=HASH(0x71ae4e8), ComponentUI=HASH(0x716c928)) called at /opt/perl-5.14.4/lib/site_perl/5.14.4/Catalyst.pm line 1734
	eval {...} called at /opt/perl-5.14.4/lib/site_perl/5.14.4/Catalyst.pm line 1734
	Catalyst::execute(ComponentUI=HASH(0x716c928), "ComponentUI::Controller::Root", Catalyst::Action=HASH(0x70a4b30)) called at /opt/perl-5.14.4/lib/site_perl/5.14.4/Catalyst/Action.pm line 60
	Catalyst::Action::dispatch(Catalyst::Action=HASH(0x70a4b30), ComponentUI=HASH(0x716c928)) called at /opt/perl-5.14.4/lib/site_perl/5.14.4/Catalyst/Dispatcher.pm line 258
	Catalyst::Dispatcher::_do_forward(Catalyst::Dispatcher=HASH(0x38fd918), "forward", ComponentUI=HASH(0x716c928), "_END") called at /opt/perl-5.14.4/lib/site_perl/5.14.4/Catalyst/Dispatcher.pm line 238
	Catalyst::Dispatcher::forward(Catalyst::Dispatcher=HASH(0x38fd918), ComponentUI=HASH(0x716c928), "_END") called at /opt/perl-5.14.4/lib/site_perl/5.14.4/Catalyst.pm line 397
	Catalyst::forward(ComponentUI=HASH(0x716c928), "_END") called at /opt/perl-5.14.4/lib/site_perl/5.14.4/Catalyst/Controller.pm line 138
	Catalyst::Controller::_DISPATCH(ComponentUI::Controller::Root=HASH(0x71ae4e8), ComponentUI=HASH(0x716c928)) called at /opt/perl-5.14.4/lib/site_perl/5.14.4/Catalyst/Action.pm line 65
	Catalyst::Action::execute(Catalyst::Action=HASH(0x70a4848), ComponentUI::Controller::Root=HASH(0x71ae4e8), ComponentUI=HASH(0x716c928)) called at /opt/perl-5.14.4/lib/site_perl/5.14.4/Catalyst.pm line 1734
	eval {...} called at /opt/perl-5.14.4/lib/site_perl/5.14.4/Catalyst.pm line 1734
	Catalyst::execute(ComponentUI=HASH(0x716c928), "ComponentUI::Controller::Root", Catalyst::Action=HASH(0x70a4848)) called at /opt/perl-5.14.4/lib/site_perl/5.14.4/Catalyst/Action.pm line 60
	Catalyst::Action::dispatch(Catalyst::Action=HASH(0x70a4848), ComponentUI=HASH(0x716c928)) called at /opt/perl-5.14.4/lib/site_perl/5.14.4/Catalyst/Dispatcher.pm line 258
	Catalyst::Dispatcher::_do_forward(Catalyst::Dispatcher=HASH(0x38fd918), "forward", ComponentUI=HASH(0x716c928), "//_DISPATCH") called at /opt/perl-5.14.4/lib/site_perl/5.14.4/Catalyst/Dispatcher.pm line 238
	Catalyst::Dispatcher::forward(Catalyst::Dispatcher=HASH(0x38fd918), ComponentUI=HASH(0x716c928), "//_DISPATCH") called at /opt/perl-5.14.4/lib/site_perl/5.14.4/Catalyst.pm line 397
	Catalyst::forward(ComponentUI=HASH(0x716c928), "//_DISPATCH") called at /opt/perl-5.14.4/lib/site_perl/5.14.4/Catalyst/Dispatcher.pm line 106
	Catalyst::Dispatcher::dispatch(Catalyst::Dispatcher=HASH(0x38fd918), ComponentUI=HASH(0x716c928)) called at /opt/perl-5.14.4/lib/site_perl/5.14.4/Catalyst.pm line 1680
	Catalyst::dispatch(ComponentUI=HASH(0x716c928)) called at /opt/perl-5.14.4/lib/site_perl/5.14.4/Catalyst/Plugin/Static/Simple.pm line 77
	Class::MOP::Class:::around(CODE(0x376d620), ComponentUI=HASH(0x716c928)) called at /opt/perl-5.14.4/lib/site_perl/5.14.4/x86_64-linux/Class/MOP/Method/Wrapped.pm line 163
	Class::MOP::Method::Wrapped::__ANON__(ComponentUI=HASH(0x716c928)) called at /opt/perl-5.14.4/lib/site_perl/5.14.4/x86_64-linux/Class/MOP/Method/Wrapped.pm line 92
	ComponentUI::dispatch(ComponentUI=HASH(0x716c928)) called at /opt/perl-5.14.4/lib/site_perl/5.14.4/Catalyst.pm line 2019
	Catalyst::try {...} () called at /opt/perl-5.14.4/lib/site_perl/5.14.4/Try/Tiny.pm line 81
	eval {...} called at /opt/perl-5.14.4/lib/site_perl/5.14.4/Try/Tiny.pm line 72
	Try::Tiny::try(CODE(0x716c250), Try::Tiny::Catch=REF(0x716c0b8)) called at /opt/perl-5.14.4/lib/site_perl/5.14.4/Catalyst.pm line 2028
	Catalyst::handle_request("ComponentUI", "env", HASH(0x71a8e40), "response_cb", CODE(0x716c118)) called at /opt/perl-5.14.4/lib/site_perl/5.14.4/Catalyst/Engine.pm line 797
	Catalyst::Engine::__ANON__(CODE(0x716c118)) called at /opt/perl-5.14.4/lib/site_perl/5.14.4/Plack/Middleware/HTTPExceptions.pm line 32
	Plack::Middleware::HTTPExceptions::try {...} () called at /opt/perl-5.14.4/lib/site_perl/5.14.4/Try/Tiny.pm line 81
	eval {...} called at /opt/perl-5.14.4/lib/site_perl/5.14.4/Try/Tiny.pm line 72
	Try::Tiny::try(CODE(0x716bef0), Try::Tiny::Catch=REF(0x7144b90)) called at /opt/perl-5.14.4/lib/site_perl/5.14.4/Plack/Middleware/HTTPExceptions.pm line 41
	Plack::Middleware::HTTPExceptions::__ANON__(CODE(0x716bdb8)) called at /opt/perl-5.14.4/lib/site_perl/5.14.4/Plack/Util.pm line 301
	Plack::Util::__ANON__(CODE(0x716bc80)) called at /opt/perl-5.14.4/lib/site_perl/5.14.4/Plack/Util.pm line 301
	Plack::Util::__ANON__(CODE(0x716bb48)) called at /opt/perl-5.14.4/lib/site_perl/5.14.4/Plack/Util.pm line 301
	Plack::Util::__ANON__(CODE(0x716baa0)) called at /opt/perl-5.14.4/lib/site_perl/5.14.4/HTTP/Message/PSGI.pm line 100
	HTTP::Message::PSGI::res_from_psgi(CODE(0x71449f8)) called at /opt/perl-5.14.4/lib/site_perl/5.14.4/HTTP/Message/PSGI.pm line 155
	HTTP::Response::from_psgi("HTTP::Response", CODE(0x71449f8)) called at /opt/perl-5.14.4/lib/site_perl/5.14.4/Plack/Test/MockHTTP.pm line 24
	Plack::Test::MockHTTP::try {...} () called at /opt/perl-5.14.4/lib/site_perl/5.14.4/Try/Tiny.pm line 76
	eval {...} called at /opt/perl-5.14.4/lib/site_perl/5.14.4/Try/Tiny.pm line 72
	Try::Tiny::try(CODE(0x1ee1680), Try::Tiny::Catch=REF(0x703d800)) called at /opt/perl-5.14.4/lib/site_perl/5.14.4/Plack/Test/MockHTTP.pm line 27
	Plack::Test::MockHTTP::request(Plack::Test::MockHTTP=HASH(0x714e2e8), HTTP::Request=HASH(0x714dda8)) called at /opt/perl-5.14.4/lib/site_perl/5.14.4/Plack/Test.pm line 38
	Plack::Test::__ANON__(HTTP::Request=HASH(0x714dda8)) called at /opt/perl-5.14.4/lib/site_perl/5.14.4/Catalyst/Test.pm line 281
	Catalyst::Test::__ANON__(CODE(0x714e108)) called at /opt/perl-5.14.4/lib/site_perl/5.14.4/Plack/Test.pm line 38
	Plack::Test::test_psgi("app", CODE(0x70c5428), "mangle_response", CODE(0x2f3a658), "app", CODE(0x714dee0), "client", CODE(0x714dfb8)) called at /opt/perl-5.14.4/lib/site_perl/5.14.4/Catalyst/Test.pm line 284
	Catalyst::Test::_request(HASH(0x70c5680), "/") called at /opt/perl-5.14.4/lib/site_perl/5.14.4/Catalyst/Test.pm line 327
	Catalyst::Test::_local_request("ComponentUI", "/") called at /opt/perl-5.14.4/lib/site_perl/5.14.4/Catalyst/Test.pm line 32
	Catalyst::Test::__ANON__("/") called at t/01app.t line 10
Class::MOP::is_class_loaded is deprecated at /opt/perl-5.14.4/lib/site_perl/5.14.4/x86_64-linux/Class/MOP.pm line 91.
	Class::MOP::is_class_loaded("ComponentUI::UI::Widget::SiteLayout") called at /tmpfs/.cpan-build/Reaction-0.002005-uHXfQS/blib/lib/Reaction/UI/Skin.pm line 178
	Reaction::UI::Skin::widget_class_for(Reaction::UI::Skin=HASH(0x71c1588), Reaction::UI::LayoutSet::TT=HASH(0x722d100)) called at /tmpfs/.cpan-build/Reaction-0.002005-uHXfQS/blib/lib/Reaction/UI/LayoutSet.pm line 28
	Reaction::UI::LayoutSet::BUILD(Reaction::UI::LayoutSet::TT=HASH(0x722d100), HASH(0x722d070)) called at constructor Reaction::UI::LayoutSet::TT::new (defined at /tmpfs/.cpan-build/Reaction-0.002005-uHXfQS/blib/lib/Reaction/UI/LayoutSet/TT.pm line 43) line 69
	Reaction::UI::LayoutSet::TT::new("Reaction::UI::LayoutSet::TT", "name", "site_layout", "skin", Reaction::UI::Skin=HASH(0x71c1588), "tt_object", Template=HASH(0x613c710), "source_file", Path::Class::File=HASH(0x722c830), ...) called at /tmpfs/.cpan-build/Reaction-0.002005-uHXfQS/blib/lib/Reaction/UI/Skin.pm line 114
	Reaction::UI::Skin::_create_layout_set(Reaction::UI::Skin=HASH(0x71c1588), "site_layout", ARRAY(0x71c8808), Reaction::UI::Skin=HASH(0x71c1588)) called at /tmpfs/.cpan-build/Reaction-0.002005-uHXfQS/blib/lib/Reaction/UI/Skin.pm line 110
	Reaction::UI::Skin::create_layout_set(Reaction::UI::Skin=HASH(0x71c1588), "site_layout") called at /tmpfs/.cpan-build/Reaction-0.002005-uHXfQS/blib/lib/Reaction/UI/LayoutSet.pm line 83
	Reaction::UI::LayoutSet::_load_file(Reaction::UI::LayoutSet::TT=HASH(0x721b650), Path::Class::File=HASH(0x71d8a50), HASH(0x721b590)) called at /tmpfs/.cpan-build/Reaction-0.002005-uHXfQS/blib/lib/Reaction/UI/LayoutSet.pm line 27
	Reaction::UI::LayoutSet::BUILD(Reaction::UI::LayoutSet::TT=HASH(0x721b650), HASH(0x721b590)) called at constructor Reaction::UI::LayoutSet::TT::new (defined at /tmpfs/.cpan-build/Reaction-0.002005-uHXfQS/blib/lib/Reaction/UI/LayoutSet/TT.pm line 43) line 69
	Reaction::UI::LayoutSet::TT::new("Reaction::UI::LayoutSet::TT", "name", "site_layout", "skin", Reaction::UI::Skin=HASH(0x71bcbf8), "next_skin", Reaction::UI::Skin=HASH(0x71c1588), "tt_object", Template=HASH(0x613c710), ...) called at /tmpfs/.cpan-build/Reaction-0.002005-uHXfQS/blib/lib/Reaction/UI/Skin.pm line 114
	Reaction::UI::Skin::_create_layout_set(Reaction::UI::Skin=HASH(0x71bcbf8), "site_layout", ARRAY(0x71d8ca8), Reaction::UI::Skin=HASH(0x71bcbf8)) called at /tmpfs/.cpan-build/Reaction-0.002005-uHXfQS/blib/lib/Reaction/UI/Skin.pm line 110
	Reaction::UI::Skin::create_layout_set(Reaction::UI::Skin=HASH(0x71bcbf8), "site_layout") called at /tmpfs/.cpan-build/Reaction-0.002005-uHXfQS/blib/lib/Reaction/UI/LayoutSet.pm line 83
	Reaction::UI::LayoutSet::_load_file(Reaction::UI::LayoutSet::TT=HASH(0x71c9b60), Path::Class::File=HASH(0x71bc460), HASH(0x71d36c0)) called at /tmpfs/.cpan-build/Reaction-0.002005-uHXfQS/blib/lib/Reaction/UI/LayoutSet.pm line 27
	Reaction::UI::LayoutSet::BUILD(Reaction::UI::LayoutSet::TT=HASH(0x71c9b60), HASH(0x71d36c0)) called at constructor Reaction::UI::LayoutSet::TT::new (defined at /tmpfs/.cpan-build/Reaction-0.002005-uHXfQS/blib/lib/Reaction/UI/LayoutSet/TT.pm line 43) line 69
	Reaction::UI::LayoutSet::TT::new("Reaction::UI::LayoutSet::TT", "name", "site_layout", "skin", Reaction::UI::Skin=HASH(0x71c9a40), "next_skin", Reaction::UI::Skin=HASH(0x71bcbf8), "tt_object", Template=HASH(0x613c710), ...) called at /tmpfs/.cpan-build/Reaction-0.002005-uHXfQS/blib/lib/Reaction/UI/Skin.pm line 114
	Reaction::UI::Skin::_create_layout_set(Reaction::UI::Skin=HASH(0x71c9a40), "site_layout", ARRAY(0x71b6d90), Reaction::UI::Skin=HASH(0x71c9a40)) called at /tmpfs/.cpan-build/Reaction-0.002005-uHXfQS/blib/lib/Reaction/UI/Skin.pm line 110
	Reaction::UI::Skin::create_layout_set(Reaction::UI::Skin=HASH(0x71c9a40), "site_layout") called at /opt/perl-5.14.4/lib/site_perl/5.14.4/x86_64-linux/Moose/Meta/Method/Delegation.pm line 113
	Reaction::UI::View::create_layout_set(ComponentUI::View::Site=HASH(0x5f77a98), "site_layout") called at /tmpfs/.cpan-build/Reaction-0.002005-uHXfQS/blib/lib/Reaction/UI/View.pm line 99
	Reaction::UI::View::layout_set_for(ComponentUI::View::Site=HASH(0x5f77a98), Reaction::UI::ViewPort::SiteLayout=HASH(0x71b6760)) called at /tmpfs/.cpan-build/Reaction-0.002005-uHXfQS/blib/lib/Reaction/UI/View.pm line 78
	Reaction::UI::View::render_viewport_args(ComponentUI::View::Site=HASH(0x5f77a98), Reaction::UI::ViewPort::SiteLayout=HASH(0x71b6760)) called at /tmpfs/.cpan-build/Reaction-0.002005-uHXfQS/blib/lib/Reaction/UI/View.pm line 61
	Reaction::UI::View::render_window(ComponentUI::View::Site=HASH(0x5f77a98), Reaction::UI::Window=HASH(0x71b61f0)) called at /tmpfs/.cpan-build/Reaction-0.002005-uHXfQS/blib/lib/Reaction/UI/Window.pm line 74
	Reaction::UI::Window::flush_view(Reaction::UI::Window=HASH(0x71b61f0)) called at /tmpfs/.cpan-build/Reaction-0.002005-uHXfQS/blib/lib/Reaction/UI/Window.pm line 36
	Reaction::UI::Window::flush(Reaction::UI::Window=HASH(0x71b61f0)) called at /tmpfs/.cpan-build/Reaction-0.002005-uHXfQS/blib/lib/Reaction/UI/Controller/Root.pm line 38
	Reaction::UI::Controller::Root::end(ComponentUI::Controller::Root=HASH(0x71ae4e8), ComponentUI=HASH(0x716c928)) called at /opt/perl-5.14.4/lib/site_perl/5.14.4/Catalyst/Action.pm line 65
	Catalyst::Action::execute(Catalyst::Action=HASH(0x70a49b0), ComponentUI::Controller::Root=HASH(0x71ae4e8), ComponentUI=HASH(0x716c928)) called at /opt/perl-5.14.4/lib/site_perl/5.14.4/Catalyst.pm line 1734
	eval {...} called at /opt/perl-5.14.4/lib/site_perl/5.14.4/Catalyst.pm line 1734
	Catalyst::execute(ComponentUI=HASH(0x716c928), "ComponentUI::Controller::Root", Catalyst::Action=HASH(0x70a49b0)) called at /opt/perl-5.14.4/lib/site_perl/5.14.4/Catalyst/Action.pm line 60
	Catalyst::Action::dispatch(Catalyst::Action=HASH(0x70a49b0), ComponentUI=HASH(0x716c928)) called at /opt/perl-5.14.4/lib/site_perl/5.14.4/Catalyst/Controller.pm line 174
	Catalyst::Controller::_END(ComponentUI::Controller::Root=HASH(0x71ae4e8), ComponentUI=HASH(0x716c928)) called at /opt/perl-5.14.4/lib/site_perl/5.14.4/Catalyst/Action.pm line 65
	Catalyst::Action::execute(Catalyst::Action=HASH(0x70a4b30), ComponentUI::Controller::Root=HASH(0x71ae4e8), ComponentUI=HASH(0x716c928)) called at /opt/perl-5.14.4/lib/site_perl/5.14.4/Catalyst.pm line 1734
	eval {...} called at /opt/perl-5.14.4/lib/site_perl/5.14.4/Catalyst.pm line 1734
	Catalyst::execute(ComponentUI=HASH(0x716c928), "ComponentUI::Controller::Root", Catalyst::Action=HASH(0x70a4b30)) called at /opt/perl-5.14.4/lib/site_perl/5.14.4/Catalyst/Action.pm line 60
	Catalyst::Action::dispatch(Catalyst::Action=HASH(0x70a4b30), ComponentUI=HASH(0x716c928)) called at /opt/perl-5.14.4/lib/site_perl/5.14.4/Catalyst/Dispatcher.pm line 258
	Catalyst::Dispatcher::_do_forward(Catalyst::Dispatcher=HASH(0x38fd918), "forward", ComponentUI=HASH(0x716c928), "_END") called at /opt/perl-5.14.4/lib/site_perl/5.14.4/Catalyst/Dispatcher.pm line 238
	Catalyst::Dispatcher::forward(Catalyst::Dispatcher=HASH(0x38fd918), ComponentUI=HASH(0x716c928), "_END") called at /opt/perl-5.14.4/lib/site_perl/5.14.4/Catalyst.pm line 397
	Catalyst::forward(ComponentUI=HASH(0x716c928), "_END") called at /opt/perl-5.14.4/lib/site_perl/5.14.4/Catalyst/Controller.pm line 138
	Catalyst::Controller::_DISPATCH(ComponentUI::Controller::Root=HASH(0x71ae4e8), ComponentUI=HASH(0x716c928)) called at /opt/perl-5.14.4/lib/site_perl/5.14.4/Catalyst/Action.pm line 65
	Catalyst::Action::execute(Catalyst::Action=HASH(0x70a4848), ComponentUI::Controller::Root=HASH(0x71ae4e8), ComponentUI=HASH(0x716c928)) called at /opt/perl-5.14.4/lib/site_perl/5.14.4/Catalyst.pm line 1734
	eval {...} called at /opt/perl-5.14.4/lib/site_perl/5.14.4/Catalyst.pm line 1734
	Catalyst::execute(ComponentUI=HASH(0x716c928), "ComponentUI::Controller::Root", Catalyst::Action=HASH(0x70a4848)) called at /opt/perl-5.14.4/lib/site_perl/5.14.4/Catalyst/Action.pm line 60
	Catalyst::Action::dispatch(Catalyst::Action=HASH(0x70a4848), ComponentUI=HASH(0x716c928)) called at /opt/perl-5.14.4/lib/site_perl/5.14.4/Catalyst/Dispatcher.pm line 258
	Catalyst::Dispatcher::_do_forward(Catalyst::Dispatcher=HASH(0x38fd918), "forward", ComponentUI=HASH(0x716c928), "//_DISPATCH") called at /opt/perl-5.14.4/lib/site_perl/5.14.4/Catalyst/Dispatcher.pm line 238
	Catalyst::Dispatcher::forward(Catalyst::Dispatcher=HASH(0x38fd918), ComponentUI=HASH(0x716c928), "//_DISPATCH") called at /opt/perl-5.14.4/lib/site_perl/5.14.4/Catalyst.pm line 397
	Catalyst::forward(ComponentUI=HASH(0x716c928), "//_DISPATCH") called at /opt/perl-5.14.4/lib/site_perl/5.14.4/Catalyst/Dispatcher.pm line 106
	Catalyst::Dispatcher::dispatch(Catalyst::Dispatcher=HASH(0x38fd918), ComponentUI=HASH(0x716c928)) called at /opt/perl-5.14.4/lib/site_perl/5.14.4/Catalyst.pm line 1680
	Catalyst::dispatch(ComponentUI=HASH(0x716c928)) called at /opt/perl-5.14.4/lib/site_perl/5.14.4/Catalyst/Plugin/Static/Simple.pm line 77
	Class::MOP::Class:::around(CODE(0x376d620), ComponentUI=HASH(0x716c928)) called at /opt/perl-5.14.4/lib/site_perl/5.14.4/x86_64-linux/Class/MOP/Method/Wrapped.pm line 163
	Class::MOP::Method::Wrapped::__ANON__(ComponentUI=HASH(0x716c928)) called at /opt/perl-5.14.4/lib/site_perl/5.14.4/x86_64-linux/Class/MOP/Method/Wrapped.pm line 92
	ComponentUI::dispatch(ComponentUI=HASH(0x716c928)) called at /opt/perl-5.14.4/lib/site_perl/5.14.4/Catalyst.pm line 2019
	Catalyst::try {...} () called at /opt/perl-5.14.4/lib/site_perl/5.14.4/Try/Tiny.pm line 81
	eval {...} called at /opt/perl-5.14.4/lib/site_perl/5.14.4/Try/Tiny.pm line 72
	Try::Tiny::try(CODE(0x716c250), Try::Tiny::Catch=REF(0x716c0b8)) called at /opt/perl-5.14.4/lib/site_perl/5.14.4/Catalyst.pm line 2028
	Catalyst::handle_request("ComponentUI", "env", HASH(0x71a8e40), "response_cb", CODE(0x716c118)) called at /opt/perl-5.14.4/lib/site_perl/5.14.4/Catalyst/Engine.pm line 797
	Catalyst::Engine::__ANON__(CODE(0x716c118)) called at /opt/perl-5.14.4/lib/site_perl/5.14.4/Plack/Middleware/HTTPExceptions.pm line 32
	Plack::Middleware::HTTPExceptions::try {...} () called at /opt/perl-5.14.4/lib/site_perl/5.14.4/Try/Tiny.pm line 81
	eval {...} called at /opt/perl-5.14.4/lib/site_perl/5.14.4/Try/Tiny.pm line 72
	Try::Tiny::try(CODE(0x716bef0), Try::Tiny::Catch=REF(0x7144b90)) called at /opt/perl-5.14.4/lib/site_perl/5.14.4/Plack/Middleware/HTTPExceptions.pm line 41
	Plack::Middleware::HTTPExceptions::__ANON__(CODE(0x716bdb8)) called at /opt/perl-5.14.4/lib/site_perl/5.14.4/Plack/Util.pm line 301
	Plack::Util::__ANON__(CODE(0x716bc80)) called at /opt/perl-5.14.4/lib/site_perl/5.14.4/Plack/Util.pm line 301
	Plack::Util::__ANON__(CODE(0x716bb48)) called at /opt/perl-5.14.4/lib/site_perl/5.14.4/Plack/Util.pm line 301
	Plack::Util::__ANON__(CODE(0x716baa0)) called at /opt/perl-5.14.4/lib/site_perl/5.14.4/HTTP/Message/PSGI.pm line 100
	HTTP::Message::PSGI::res_from_psgi(CODE(0x71449f8)) called at /opt/perl-5.14.4/lib/site_perl/5.14.4/HTTP/Message/PSGI.pm line 155
	HTTP::Response::from_psgi("HTTP::Response", CODE(0x71449f8)) called at /opt/perl-5.14.4/lib/site_perl/5.14.4/Plack/Test/MockHTTP.pm line 24
	Plack::Test::MockHTTP::try {...} () called at /opt/perl-5.14.4/lib/site_perl/5.14.4/Try/Tiny.pm line 76
	eval {...} called at /opt/perl-5.14.4/lib/site_perl/5.14.4/Try/Tiny.pm line 72
	Try::Tiny::try(CODE(0x1ee1680), Try::Tiny::Catch=REF(0x703d800)) called at /opt/perl-5.14.4/lib/site_perl/5.14.4/Plack/Test/MockHTTP.pm line 27
	Plack::Test::MockHTTP::request(Plack::Test::MockHTTP=HASH(0x714e2e8), HTTP::Request=HASH(0x714dda8)) called at /opt/perl-5.14.4/lib/site_perl/5.14.4/Plack/Test.pm line 38
	Plack::Test::__ANON__(HTTP::Request=HASH(0x714dda8)) called at /opt/perl-5.14.4/lib/site_perl/5.14.4/Catalyst/Test.pm line 281
	Catalyst::Test::__ANON__(CODE(0x714e108)) called at /opt/perl-5.14.4/lib/site_perl/5.14.4/Plack/Test.pm line 38
	Plack::Test::test_psgi("app", CODE(0x70c5428), "mangle_response", CODE(0x2f3a658), "app", CODE(0x714dee0), "client", CODE(0x714dfb8)) called at /opt/perl-5.14.4/lib/site_perl/5.14.4/Catalyst/Test.pm line 284
	Catalyst::Test::_request(HASH(0x70c5680), "/") called at /opt/perl-5.14.4/lib/site_perl/5.14.4/Catalyst/Test.pm line 327
	Catalyst::Test::_local_request("ComponentUI", "/") called at /opt/perl-5.14.4/lib/site_perl/5.14.4/Catalyst/Test.pm line 32
	Catalyst::Test::__ANON__("/") called at t/01app.t line 10
Class::MOP::load_class is deprecated at /opt/perl-5.14.4/lib/site_perl/5.14.4/x86_64-linux/Class/MOP.pm line 73.
	Class::MOP::load_class("Reaction::UI::Widget::SiteLayout") called at /tmpfs/.cpan-build/Reaction-0.002005-uHXfQS/blib/lib/Reaction/UI/Skin.pm line 181
	eval {...} called at /tmpfs/.cpan-build/Reaction-0.002005-uHXfQS/blib/lib/Reaction/UI/Skin.pm line 181
	Reaction::UI::Skin::widget_class_for(Reaction::UI::Skin=HASH(0x71c1588), Reaction::UI::LayoutSet::TT=HASH(0x722d100)) called at /tmpfs/.cpan-build/Reaction-0.002005-uHXfQS/blib/lib/Reaction/UI/LayoutSet.pm line 28
	Reaction::UI::LayoutSet::BUILD(Reaction::UI::LayoutSet::TT=HASH(0x722d100), HASH(0x722d070)) called at constructor Reaction::UI::LayoutSet::TT::new (defined at /tmpfs/.cpan-build/Reaction-0.002005-uHXfQS/blib/lib/Reaction/UI/LayoutSet/TT.pm line 43) line 69
	Reaction::UI::LayoutSet::TT::new("Reaction::UI::LayoutSet::TT", "name", "site_layout", "skin", Reaction::UI::Skin=HASH(0x71c1588), "tt_object", Template=HASH(0x613c710), "source_file", Path::Class::File=HASH(0x722c830), ...) called at /tmpfs/.cpan-build/Reaction-0.002005-uHXfQS/blib/lib/Reaction/UI/Skin.pm line 114
	Reaction::UI::Skin::_create_layout_set(Reaction::UI::Skin=HASH(0x71c1588), "site_layout", ARRAY(0x71c8808), Reaction::UI::Skin=HASH(0x71c1588)) called at /tmpfs/.cpan-build/Reaction-0.002005-uHXfQS/blib/lib/Reaction/UI/Skin.pm line 110
	Reaction::UI::Skin::create_layout_set(Reaction::UI::Skin=HASH(0x71c1588), "site_layout") called at /tmpfs/.cpan-build/Reaction-0.002005-uHXfQS/blib/lib/Reaction/UI/LayoutSet.pm line 83
	Reaction::UI::LayoutSet::_load_file(Reaction::UI::LayoutSet::TT=HASH(0x721b650), Path::Class::File=HASH(0x71d8a50), HASH(0x721b590)) called at /tmpfs/.cpan-build/Reaction-0.002005-uHXfQS/blib/lib/Reaction/UI/LayoutSet.pm line 27
	Reaction::UI::LayoutSet::BUILD(Reaction::UI::LayoutSet::TT=HASH(0x721b650), HASH(0x721b590)) called at constructor Reaction::UI::LayoutSet::TT::new (defined at /tmpfs/.cpan-build/Reaction-0.002005-uHXfQS/blib/lib/Reaction/UI/LayoutSet/TT.pm line 43) line 69
	Reaction::UI::LayoutSet::TT::new("Reaction::UI::LayoutSet::TT", "name", "site_layout", "skin", Reaction::UI::Skin=HASH(0x71bcbf8), "next_skin", Reaction::UI::Skin=HASH(0x71c1588), "tt_object", Template=HASH(0x613c710), ...) called at /tmpfs/.cpan-build/Reaction-0.002005-uHXfQS/blib/lib/Reaction/UI/Skin.pm line 114
	Reaction::UI::Skin::_create_layout_set(Reaction::UI::Skin=HASH(0x71bcbf8), "site_layout", ARRAY(0x71d8ca8), Reaction::UI::Skin=HASH(0x71bcbf8)) called at /tmpfs/.cpan-build/Reaction-0.002005-uHXfQS/blib/lib/Reaction/UI/Skin.pm line 110
	Reaction::UI::Skin::create_layout_set(Reaction::UI::Skin=HASH(0x71bcbf8), "site_layout") called at /tmpfs/.cpan-build/Reaction-0.002005-uHXfQS/blib/lib/Reaction/UI/LayoutSet.pm line 83
	Reaction::UI::LayoutSet::_load_file(Reaction::UI::LayoutSet::TT=HASH(0x71c9b60), Path::Class::File=HASH(0x71bc460), HASH(0x71d36c0)) called at /tmpfs/.cpan-build/Reaction-0.002005-uHXfQS/blib/lib/Reaction/UI/LayoutSet.pm line 27
	Reaction::UI::LayoutSet::BUILD(Reaction::UI::LayoutSet::TT=HASH(0x71c9b60), HASH(0x71d36c0)) called at constructor Reaction::UI::LayoutSet::TT::new (defined at /tmpfs/.cpan-build/Reaction-0.002005-uHXfQS/blib/lib/Reaction/UI/LayoutSet/TT.pm line 43) line 69
	Reaction::UI::LayoutSet::TT::new("Reaction::UI::LayoutSet::TT", "name", "site_layout", "skin", Reaction::UI::Skin=HASH(0x71c9a40), "next_skin", Reaction::UI::Skin=HASH(0x71bcbf8), "tt_object", Template=HASH(0x613c710), ...) called at /tmpfs/.cpan-build/Reaction-0.002005-uHXfQS/blib/lib/Reaction/UI/Skin.pm line 114
	Reaction::UI::Skin::_create_layout_set(Reaction::UI::Skin=HASH(0x71c9a40), "site_layout", ARRAY(0x71b6d90), Reaction::UI::Skin=HASH(0x71c9a40)) called at /tmpfs/.cpan-build/Reaction-0.002005-uHXfQS/blib/lib/Reaction/UI/Skin.pm line 110
	Reaction::UI::Skin::create_layout_set(Reaction::UI::Skin=HASH(0x71c9a40), "site_layout") called at /opt/perl-5.14.4/lib/site_perl/5.14.4/x86_64-linux/Moose/Meta/Method/Delegation.pm line 113
	Reaction::UI::View::create_layout_set(ComponentUI::View::Site=HASH(0x5f77a98), "site_layout") called at /tmpfs/.cpan-build/Reaction-0.002005-uHXfQS/blib/lib/Reaction/UI/View.pm line 99
	Reaction::UI::View::layout_set_for(ComponentUI::View::Site=HASH(0x5f77a98), Reaction::UI::ViewPort::SiteLayout=HASH(0x71b6760)) called at /tmpfs/.cpan-build/Reaction-0.002005-uHXfQS/blib/lib/Reaction/UI/View.pm line 78
	Reaction::UI::View::render_viewport_args(ComponentUI::View::Site=HASH(0x5f77a98), Reaction::UI::ViewPort::SiteLayout=HASH(0x71b6760)) called at /tmpfs/.cpan-build/Reaction-0.002005-uHXfQS/blib/lib/Reaction/UI/View.pm line 61
	Reaction::UI::View::render_window(ComponentUI::View::Site=HASH(0x5f77a98), Reaction::UI::Window=HASH(0x71b61f0)) called at /tmpfs/.cpan-build/Reaction-0.002005-uHXfQS/blib/lib/Reaction/UI/Window.pm line 74
	Reaction::UI::Window::flush_view(Reaction::UI::Window=HASH(0x71b61f0)) called at /tmpfs/.cpan-build/Reaction-0.002005-uHXfQS/blib/lib/Reaction/UI/Window.pm line 36
	Reaction::UI::Window::flush(Reaction::UI::Window=HASH(0x71b61f0)) called at /tmpfs/.cpan-build/Reaction-0.002005-uHXfQS/blib/lib/Reaction/UI/Controller/Root.pm line 38
	Reaction::UI::Controller::Root::end(ComponentUI::Controller::Root=HASH(0x71ae4e8), ComponentUI=HASH(0x716c928)) called at /opt/perl-5.14.4/lib/site_perl/5.14.4/Catalyst/Action.pm line 65
	Catalyst::Action::execute(Catalyst::Action=HASH(0x70a49b0), ComponentUI::Controller::Root=HASH(0x71ae4e8), ComponentUI=HASH(0x716c928)) called at /opt/perl-5.14.4/lib/site_perl/5.14.4/Catalyst.pm line 1734
	eval {...} called at /opt/perl-5.14.4/lib/site_perl/5.14.4/Catalyst.pm line 1734
	Catalyst::execute(ComponentUI=HASH(0x716c928), "ComponentUI::Controller::Root", Catalyst::Action=HASH(0x70a49b0)) called at /opt/perl-5.14.4/lib/site_perl/5.14.4/Catalyst/Action.pm line 60
	Catalyst::Action::dispatch(Catalyst::Action=HASH(0x70a49b0), ComponentUI=HASH(0x716c928)) called at /opt/perl-5.14.4/lib/site_perl/5.14.4/Catalyst/Controller.pm line 174
	Catalyst::Controller::_END(ComponentUI::Controller::Root=HASH(0x71ae4e8), ComponentUI=HASH(0x716c928)) called at /opt/perl-5.14.4/lib/site_perl/5.14.4/Catalyst/Action.pm line 65
	Catalyst::Action::execute(Catalyst::Action=HASH(0x70a4b30), ComponentUI::Controller::Root=HASH(0x71ae4e8), ComponentUI=HASH(0x716c928)) called at /opt/perl-5.14.4/lib/site_perl/5.14.4/Catalyst.pm line 1734
	eval {...} called at /opt/perl-5.14.4/lib/site_perl/5.14.4/Catalyst.pm line 1734
	Catalyst::execute(ComponentUI=HASH(0x716c928), "ComponentUI::Controller::Root", Catalyst::Action=HASH(0x70a4b30)) called at /opt/perl-5.14.4/lib/site_perl/5.14.4/Catalyst/Action.pm line 60
	Catalyst::Action::dispatch(Catalyst::Action=HASH(0x70a4b30), ComponentUI=HASH(0x716c928)) called at /opt/perl-5.14.4/lib/site_perl/5.14.4/Catalyst/Dispatcher.pm line 258
	Catalyst::Dispatcher::_do_forward(Catalyst::Dispatcher=HASH(0x38fd918), "forward", ComponentUI=HASH(0x716c928), "_END") called at /opt/perl-5.14.4/lib/site_perl/5.14.4/Catalyst/Dispatcher.pm line 238
	Catalyst::Dispatcher::forward(Catalyst::Dispatcher=HASH(0x38fd918), ComponentUI=HASH(0x716c928), "_END") called at /opt/perl-5.14.4/lib/site_perl/5.14.4/Catalyst.pm line 397
	Catalyst::forward(ComponentUI=HASH(0x716c928), "_END") called at /opt/perl-5.14.4/lib/site_perl/5.14.4/Catalyst/Controller.pm line 138
	Catalyst::Controller::_DISPATCH(ComponentUI::Controller::Root=HASH(0x71ae4e8), ComponentUI=HASH(0x716c928)) called at /opt/perl-5.14.4/lib/site_perl/5.14.4/Catalyst/Action.pm line 65
	Catalyst::Action::execute(Catalyst::Action=HASH(0x70a4848), ComponentUI::Controller::Root=HASH(0x71ae4e8), ComponentUI=HASH(0x716c928)) called at /opt/perl-5.14.4/lib/site_perl/5.14.4/Catalyst.pm line 1734
	eval {...} called at /opt/perl-5.14.4/lib/site_perl/5.14.4/Catalyst.pm line 1734
	Catalyst::execute(ComponentUI=HASH(0x716c928), "ComponentUI::Controller::Root", Catalyst::Action=HASH(0x70a4848)) called at /opt/perl-5.14.4/lib/site_perl/5.14.4/Catalyst/Action.pm line 60
	Catalyst::Action::dispatch(Catalyst::Action=HASH(0x70a4848), ComponentUI=HASH(0x716c928)) called at /opt/perl-5.14.4/lib/site_perl/5.14.4/Catalyst/Dispatcher.pm line 258
	Catalyst::Dispatcher::_do_forward(Catalyst::Dispatcher=HASH(0x38fd918), "forward", ComponentUI=HASH(0x716c928), "//_DISPATCH") called at /opt/perl-5.14.4/lib/site_perl/5.14.4/Catalyst/Dispatcher.pm line 238
	Catalyst::Dispatcher::forward(Catalyst::Dispatcher=HASH(0x38fd918), ComponentUI=HASH(0x716c928), "//_DISPATCH") called at /opt/perl-5.14.4/lib/site_perl/5.14.4/Catalyst.pm line 397
	Catalyst::forward(ComponentUI=HASH(0x716c928), "//_DISPATCH") called at /opt/perl-5.14.4/lib/site_perl/5.14.4/Catalyst/Dispatcher.pm line 106
	Catalyst::Dispatcher::dispatch(Catalyst::Dispatcher=HASH(0x38fd918), ComponentUI=HASH(0x716c928)) called at /opt/perl-5.14.4/lib/site_perl/5.14.4/Catalyst.pm line 1680
	Catalyst::dispatch(ComponentUI=HASH(0x716c928)) called at /opt/perl-5.14.4/lib/site_perl/5.14.4/Catalyst/Plugin/Static/Simple.pm line 77
	Class::MOP::Class:::around(CODE(0x376d620), ComponentUI=HASH(0x716c928)) called at /opt/perl-5.14.4/lib/site_perl/5.14.4/x86_64-linux/Class/MOP/Method/Wrapped.pm line 163
	Class::MOP::Method::Wrapped::__ANON__(ComponentUI=HASH(0x716c928)) called at /opt/perl-5.14.4/lib/site_perl/5.14.4/x86_64-linux/Class/MOP/Method/Wrapped.pm line 92
	ComponentUI::dispatch(ComponentUI=HASH(0x716c928)) called at /opt/perl-5.14.4/lib/site_perl/5.14.4/Catalyst.pm line 2019
	Catalyst::try {...} () called at /opt/perl-5.14.4/lib/site_perl/5.14.4/Try/Tiny.pm line 81
	eval {...} called at /opt/perl-5.14.4/lib/site_perl/5.14.4/Try/Tiny.pm line 72
	Try::Tiny::try(CODE(0x716c250), Try::Tiny::Catch=REF(0x716c0b8)) called at /opt/perl-5.14.4/lib/site_perl/5.14.4/Catalyst.pm line 2028
	Catalyst::handle_request("ComponentUI", "env", HASH(0x71a8e40), "response_cb", CODE(0x716c118)) called at /opt/perl-5.14.4/lib/site_perl/5.14.4/Catalyst/Engine.pm line 797
	Catalyst::Engine::__ANON__(CODE(0x716c118)) called at /opt/perl-5.14.4/lib/site_perl/5.14.4/Plack/Middleware/HTTPExceptions.pm line 32
	Plack::Middleware::HTTPExceptions::try {...} () called at /opt/perl-5.14.4/lib/site_perl/5.14.4/Try/Tiny.pm line 81
	eval {...} called at /opt/perl-5.14.4/lib/site_perl/5.14.4/Try/Tiny.pm line 72
	Try::Tiny::try(CODE(0x716bef0), Try::Tiny::Catch=REF(0x7144b90)) called at /opt/perl-5.14.4/lib/site_perl/5.14.4/Plack/Middleware/HTTPExceptions.pm line 41
	Plack::Middleware::HTTPExceptions::__ANON__(CODE(0x716bdb8)) called at /opt/perl-5.14.4/lib/site_perl/5.14.4/Plack/Util.pm line 301
	Plack::Util::__ANON__(CODE(0x716bc80)) called at /opt/perl-5.14.4/lib/site_perl/5.14.4/Plack/Util.pm line 301
	Plack::Util::__ANON__(CODE(0x716bb48)) called at /opt/perl-5.14.4/lib/site_perl/5.14.4/Plack/Util.pm line 301
	Plack::Util::__ANON__(CODE(0x716baa0)) called at /opt/perl-5.14.4/lib/site_perl/5.14.4/HTTP/Message/PSGI.pm line 100
	HTTP::Message::PSGI::res_from_psgi(CODE(0x71449f8)) called at /opt/perl-5.14.4/lib/site_perl/5.14.4/HTTP/Message/PSGI.pm line 155
	HTTP::Response::from_psgi("HTTP::Response", CODE(0x71449f8)) called at /opt/perl-5.14.4/lib/site_perl/5.14.4/Plack/Test/MockHTTP.pm line 24
	Plack::Test::MockHTTP::try {...} () called at /opt/perl-5.14.4/lib/site_perl/5.14.4/Try/Tiny.pm line 76
	eval {...} called at /opt/perl-5.14.4/lib/site_perl/5.14.4/Try/Tiny.pm line 72
	Try::Tiny::try(CODE(0x1ee1680), Try::Tiny::Catch=REF(0x703d800)) called at /opt/perl-5.14.4/lib/site_perl/5.14.4/Plack/Test/MockHTTP.pm line 27
	Plack::Test::MockHTTP::request(Plack::Test::MockHTTP=HASH(0x714e2e8), HTTP::Request=HASH(0x714dda8)) called at /opt/perl-5.14.4/lib/site_perl/5.14.4/Plack/Test.pm line 38
	Plack::Test::__ANON__(HTTP::Request=HASH(0x714dda8)) called at /opt/perl-5.14.4/lib/site_perl/5.14.4/Catalyst/Test.pm line 281
	Catalyst::Test::__ANON__(CODE(0x714e108)) called at /opt/perl-5.14.4/lib/site_perl/5.14.4/Plack/Test.pm line 38
	Plack::Test::test_psgi("app", CODE(0x70c5428), "mangle_response", CODE(0x2f3a658), "app", CODE(0x714dee0), "client", CODE(0x714dfb8)) called at /opt/perl-5.14.4/lib/site_perl/5.14.4/Catalyst/Test.pm line 284
	Catalyst::Test::_request(HASH(0x70c5680), "/") called at /opt/perl-5.14.4/lib/site_perl/5.14.4/Catalyst/Test.pm line 327
	Catalyst::Test::_local_request("ComponentUI", "/") called at /opt/perl-5.14.4/lib/site_perl/5.14.4/Catalyst/Test.pm line 32
	Catalyst::Test::__ANON__("/") called at t/01app.t line 10
[debug] remote
t/01app.t ................... ok
t/04load_all.t .............. ok
t/05reflect_attr_from.t ..... ok
Class::MOP::load_class is deprecated at /opt/perl-5.14.4/lib/site_perl/5.14.4/x86_64-linux/Class/MOP.pm line 73.
	Class::MOP::load_class("Reaction::InterfaceModel::Object") called at /tmpfs/.cpan-build/Reaction-0.002005-uHXfQS/blib/lib/Reaction/InterfaceModel/Reflector/DBIC.pm line 149
	Reaction::InterfaceModel::Reflector::DBIC::reflect_schema(Reaction::InterfaceModel::Reflector::DBIC=HASH(0x2d34bb0), "model_class", "ComponentUI::TestModel", "schema_class", "RTest::TestDB", "sources", ARRAY(0x3744c20)) called at /tmpfs/.cpan-build/Reaction-0.002005-uHXfQS/blib/lib/ComponentUI/TestModel.pm line 10
	require ComponentUI/TestModel.pm called at t/lib/RTest/InterfaceModel/Reflector/DBIC.pm line 6
	RTest::InterfaceModel::Reflector::DBIC::BEGIN() called at /tmpfs/.cpan-build/Reaction-0.002005-uHXfQS/blib/lib/ComponentUI/TestModel.pm line 0
	eval {...} called at /tmpfs/.cpan-build/Reaction-0.002005-uHXfQS/blib/lib/ComponentUI/TestModel.pm line 0
	require RTest/InterfaceModel/Reflector/DBIC.pm called at t/im_dbic.t line 7
	main::BEGIN() called at /tmpfs/.cpan-build/Reaction-0.002005-uHXfQS/blib/lib/ComponentUI/TestModel.pm line 0
	eval {...} called at /tmpfs/.cpan-build/Reaction-0.002005-uHXfQS/blib/lib/ComponentUI/TestModel.pm line 0
Class::MOP::load_class is deprecated at /opt/perl-5.14.4/lib/site_perl/5.14.4/x86_64-linux/Class/MOP.pm line 73.
	Class::MOP::load_class("Reaction::InterfaceModel::Object") called at /tmpfs/.cpan-build/Reaction-0.002005-uHXfQS/blib/lib/Reaction/Class.pm line 123
	Reaction::Class::do_class_sub("Reaction::Class", "ComponentUI::TestModel::Foo", "ComponentUI::TestModel::Foo", "is", "Reaction::InterfaceModel::Object", "which", CODE(0x3f75700)) called at /tmpfs/.cpan-build/Reaction-0.002005-uHXfQS/blib/lib/Reaction/Class.pm line 86
	Reaction::Class::("ComponentUI::TestModel::Foo", "is", "Reaction::InterfaceModel::Object", "which", CODE(0x3f75700)) called at /tmpfs/.cpan-build/Reaction-0.002005-uHXfQS/blib/lib/ComponentUI/TestModel/Foo.pm line 8
	require ComponentUI/TestModel/Foo.pm called at /opt/perl-5.14.4/lib/site_perl/5.14.4/Module/Runtime.pm line 317
	Module::Runtime::require_module("ComponentUI::TestModel::Foo") called at /opt/perl-5.14.4/lib/site_perl/5.14.4/Class/Load.pm line 179
	Class::Load::try {...} () called at /opt/perl-5.14.4/lib/site_perl/5.14.4/Try/Tiny.pm line 76
	eval {...} called at /opt/perl-5.14.4/lib/site_perl/5.14.4/Try/Tiny.pm line 72
	Try::Tiny::try(CODE(0x3f4c850), Try::Tiny::Catch=REF(0x3f52c50)) called at /opt/perl-5.14.4/lib/site_perl/5.14.4/Class/Load.pm line 185
	Class::Load::try_load_class("ComponentUI::TestModel::Foo", undef) called at /opt/perl-5.14.4/lib/site_perl/5.14.4/Class/Load.pm line 40
	Class::Load::load_class("ComponentUI::TestModel::Foo") called at /tmpfs/.cpan-build/Reaction-0.002005-uHXfQS/blib/lib/Reaction/InterfaceModel/Reflector/DBIC.pm line 892
	eval {...} called at /tmpfs/.cpan-build/Reaction-0.002005-uHXfQS/blib/lib/Reaction/InterfaceModel/Reflector/DBIC.pm line 892
	Reaction::InterfaceModel::Reflector::DBIC::_maybe_load_class(Reaction::InterfaceModel::Reflector::DBIC=HASH(0x2d34bb0), "ComponentUI::TestModel::Foo") called at /tmpfs/.cpan-build/Reaction-0.002005-uHXfQS/blib/lib/Reaction/InterfaceModel/Reflector/DBIC.pm line 876
	Reaction::InterfaceModel::Reflector::DBIC::_load_or_create(Reaction::InterfaceModel::Reflector::DBIC=HASH(0x2d34bb0), "ComponentUI::TestModel::Foo", "superclasses", ARRAY(0x3e9bba8)) called at /tmpfs/.cpan-build/Reaction-0.002005-uHXfQS/blib/lib/Reaction/InterfaceModel/Reflector/DBIC.pm line 448
	Reaction::InterfaceModel::Reflector::DBIC::reflect_source_object(Reaction::InterfaceModel::Reflector::DBIC=HASH(0x2d34bb0), "schema_class", "RTest::TestDB", "source_name", "Foo", "source_class", "RTest::TestDB::Foo", "parent_class", "ComponentUI::TestModel", ...) called at /tmpfs/.cpan-build/Reaction-0.002005-uHXfQS/blib/lib/Reaction/InterfaceModel/Reflector/DBIC.pm line 323
	Reaction::InterfaceModel::Reflector::DBIC::reflect_source(Reaction::InterfaceModel::Reflector::DBIC=HASH(0x2d34bb0), "source_name", "Foo", "parent_class", "ComponentUI::TestModel", "schema_class", "RTest::TestDB", "source_class", "RTest::TestDB::Foo", ...) called at /tmpfs/.cpan-build/Reaction-0.002005-uHXfQS/blib/lib/Reaction/InterfaceModel/Reflector/DBIC.pm line 185
	Reaction::InterfaceModel::Reflector::DBIC::reflect_schema(Reaction::InterfaceModel::Reflector::DBIC=HASH(0x2d34bb0), "model_class", "ComponentUI::TestModel", "schema_class", "RTest::TestDB", "sources", ARRAY(0x3744c20)) called at /tmpfs/.cpan-build/Reaction-0.002005-uHXfQS/blib/lib/ComponentUI/TestModel.pm line 10
	require ComponentUI/TestModel.pm called at t/lib/RTest/InterfaceModel/Reflector/DBIC.pm line 6
	RTest::InterfaceModel::Reflector::DBIC::BEGIN() called at /tmpfs/.cpan-build/Reaction-0.002005-uHXfQS/blib/lib/ComponentUI/TestModel/Foo.pm line 0
	eval {...} called at /tmpfs/.cpan-build/Reaction-0.002005-uHXfQS/blib/lib/ComponentUI/TestModel/Foo.pm line 0
	require RTest/InterfaceModel/Reflector/DBIC.pm called at t/im_dbic.t line 7
	main::BEGIN() called at /tmpfs/.cpan-build/Reaction-0.002005-uHXfQS/blib/lib/ComponentUI/TestModel/Foo.pm line 0
	eval {...} called at /tmpfs/.cpan-build/Reaction-0.002005-uHXfQS/blib/lib/ComponentUI/TestModel/Foo.pm line 0
Class::MOP::is_class_loaded is deprecated at /opt/perl-5.14.4/lib/site_perl/5.14.4/x86_64-linux/Class/MOP.pm line 91.
	Class::MOP::is_class_loaded("RTest::TestIM::Foo") called at t/lib/RTest/InterfaceModel/Reflector/DBIC.pm line 74
	RTest::InterfaceModel::Reflector::DBIC::test_reflect_schema(RTest::InterfaceModel::Reflector::DBIC=HASH(0x41279d8)) called at /opt/perl-5.14.4/lib/site_perl/5.14.4/Test/Class.pm line 290
	eval {...} called at /opt/perl-5.14.4/lib/site_perl/5.14.4/Test/Class.pm line 290
	Test::Class::_run_method(RTest::InterfaceModel::Reflector::DBIC=HASH(0x41279d8), "test_reflect_schema", ARRAY(0x213e050)) called at /opt/perl-5.14.4/lib/site_perl/5.14.4/Test/Class.pm line 392
	Test::Class::runtests("Test::Class", RTest::InterfaceModel::Reflector::DBIC=HASH(0x41279d8)) called at t/im_dbic.t line 10
t/im_dbic.t ................. ok
t/ui_focus_stack.t .......... ok
t/ui_view.t ................. ok
t/ui_viewport.t ............. ok
Class::MOP::load_class is deprecated at /opt/perl-5.14.4/lib/site_perl/5.14.4/x86_64-linux/Class/MOP.pm line 73.
	Class::MOP::load_class("ComponentUI::TestModel") called at /tmpfs/.cpan-build/Reaction-0.002005-uHXfQS/blib/lib/Catalyst/Model/Reaction/InterfaceModel/DBIC.pm line 24
	Catalyst::Model::Reaction::InterfaceModel::DBIC::COMPONENT("ComponentUI::Model::TestModel", "ComponentUI", HASH(0x64322b8)) called at /opt/perl-5.14.4/lib/site_perl/5.14.4/Catalyst.pm line 2642
	eval {...} called at /opt/perl-5.14.4/lib/site_perl/5.14.4/Catalyst.pm line 2642
	Catalyst::setup_component("ComponentUI", "ComponentUI::Model::TestModel") called at /opt/perl-5.14.4/lib/site_perl/5.14.4/Catalyst.pm line 2569
	Catalyst::setup_components("ComponentUI") called at /opt/perl-5.14.4/lib/site_perl/5.14.4/Catalyst.pm line 1181
	Catalyst::setup("ComponentUI") called at /tmpfs/.cpan-build/Reaction-0.002005-uHXfQS/blib/lib/ComponentUI.pm line 32
	require ComponentUI.pm called at /opt/perl-5.14.4/lib/site_perl/5.14.4/Module/Runtime.pm line 317
	Module::Runtime::require_module("ComponentUI") called at /opt/perl-5.14.4/lib/site_perl/5.14.4/Class/Load.pm line 179
	Class::Load::try {...} () called at /opt/perl-5.14.4/lib/site_perl/5.14.4/Try/Tiny.pm line 76
	eval {...} called at /opt/perl-5.14.4/lib/site_perl/5.14.4/Try/Tiny.pm line 72
	Try::Tiny::try(CODE(0x29dbdb8), Try::Tiny::Catch=REF(0x2a02770)) called at /opt/perl-5.14.4/lib/site_perl/5.14.4/Class/Load.pm line 185
	Class::Load::try_load_class("ComponentUI", undef) called at /opt/perl-5.14.4/lib/site_perl/5.14.4/Class/Load.pm line 40
	Class::Load::load_class("ComponentUI") called at /opt/perl-5.14.4/lib/site_perl/5.14.4/Test/WWW/Mechanize/Catalyst.pm line 245
	Test::WWW::Mechanize::Catalyst::import("Test::WWW::Mechanize::Catalyst", "ComponentUI") called at t/uncheck_bool_field.t line 6
	main::BEGIN() called at /tmpfs/.cpan-build/Reaction-0.002005-uHXfQS/blib/lib/ComponentUI.pm line 0
	eval {...} called at /tmpfs/.cpan-build/Reaction-0.002005-uHXfQS/blib/lib/ComponentUI.pm line 0
Class::MOP::load_class is deprecated at /opt/perl-5.14.4/lib/site_perl/5.14.4/x86_64-linux/Class/MOP.pm line 73.
	Class::MOP::load_class("Reaction::InterfaceModel::Object") called at /tmpfs/.cpan-build/Reaction-0.002005-uHXfQS/blib/lib/Reaction/InterfaceModel/Reflector/DBIC.pm line 149
	Reaction::InterfaceModel::Reflector::DBIC::reflect_schema(Reaction::InterfaceModel::Reflector::DBIC=HASH(0x65c8828), "model_class", "ComponentUI::TestModel", "schema_class", "RTest::TestDB", "sources", ARRAY(0x6589058)) called at /tmpfs/.cpan-build/Reaction-0.002005-uHXfQS/blib/lib/ComponentUI/TestModel.pm line 10
	require ComponentUI/TestModel.pm called at /opt/perl-5.14.4/lib/site_perl/5.14.4/Module/Runtime.pm line 317
	Module::Runtime::require_module("ComponentUI::TestModel") called at /opt/perl-5.14.4/lib/site_perl/5.14.4/Class/Load.pm line 179
	Class::Load::try {...} () called at /opt/perl-5.14.4/lib/site_perl/5.14.4/Try/Tiny.pm line 76
	eval {...} called at /opt/perl-5.14.4/lib/site_perl/5.14.4/Try/Tiny.pm line 72
	Try::Tiny::try(CODE(0x6266ef0), Try::Tiny::Catch=REF(0x6168160)) called at /opt/perl-5.14.4/lib/site_perl/5.14.4/Class/Load.pm line 185
	Class::Load::try_load_class("ComponentUI::TestModel", undef) called at /opt/perl-5.14.4/lib/site_perl/5.14.4/Class/Load.pm line 40
	Class::Load::load_class("ComponentUI::TestModel") called at /tmpfs/.cpan-build/Reaction-0.002005-uHXfQS/blib/lib/Catalyst/Model/Reaction/InterfaceModel/DBIC.pm line 24
	Catalyst::Model::Reaction::InterfaceModel::DBIC::COMPONENT("ComponentUI::Model::TestModel", "ComponentUI", HASH(0x64322b8)) called at /opt/perl-5.14.4/lib/site_perl/5.14.4/Catalyst.pm line 2642
	eval {...} called at /opt/perl-5.14.4/lib/site_perl/5.14.4/Catalyst.pm line 2642
	Catalyst::setup_component("ComponentUI", "ComponentUI::Model::TestModel") called at /opt/perl-5.14.4/lib/site_perl/5.14.4/Catalyst.pm line 2569
	Catalyst::setup_components("ComponentUI") called at /opt/perl-5.14.4/lib/site_perl/5.14.4/Catalyst.pm line 1181
	Catalyst::setup("ComponentUI") called at /tmpfs/.cpan-build/Reaction-0.002005-uHXfQS/blib/lib/ComponentUI.pm line 32
	require ComponentUI.pm called at /opt/perl-5.14.4/lib/site_perl/5.14.4/Module/Runtime.pm line 317
	Module::Runtime::require_module("ComponentUI") called at /opt/perl-5.14.4/lib/site_perl/5.14.4/Class/Load.pm line 179
	Class::Load::try {...} () called at /opt/perl-5.14.4/lib/site_perl/5.14.4/Try/Tiny.pm line 76
	eval {...} called at /opt/perl-5.14.4/lib/site_perl/5.14.4/Try/Tiny.pm line 72
	Try::Tiny::try(CODE(0x29dbdb8), Try::Tiny::Catch=REF(0x2a02770)) called at /opt/perl-5.14.4/lib/site_perl/5.14.4/Class/Load.pm line 185
	Class::Load::try_load_class("ComponentUI", undef) called at /opt/perl-5.14.4/lib/site_perl/5.14.4/Class/Load.pm line 40
	Class::Load::load_class("ComponentUI") called at /opt/perl-5.14.4/lib/site_perl/5.14.4/Test/WWW/Mechanize/Catalyst.pm line 245
	Test::WWW::Mechanize::Catalyst::import("Test::WWW::Mechanize::Catalyst", "ComponentUI") called at t/uncheck_bool_field.t line 6
	main::BEGIN() called at /tmpfs/.cpan-build/Reaction-0.002005-uHXfQS/blib/lib/ComponentUI/TestModel.pm line 0
	eval {...} called at /tmpfs/.cpan-build/Reaction-0.002005-uHXfQS/blib/lib/ComponentUI/TestModel.pm line 0
Class::MOP::load_class is deprecated at /opt/perl-5.14.4/lib/site_perl/5.14.4/x86_64-linux/Class/MOP.pm line 73.
	Class::MOP::load_class("Reaction::InterfaceModel::Object") called at /tmpfs/.cpan-build/Reaction-0.002005-uHXfQS/blib/lib/Reaction/Class.pm line 123
	Reaction::Class::do_class_sub("Reaction::Class", "ComponentUI::TestModel::Foo", "ComponentUI::TestModel::Foo", "is", "Reaction::InterfaceModel::Object", "which", CODE(0x68ab428)) called at /tmpfs/.cpan-build/Reaction-0.002005-uHXfQS/blib/lib/Reaction/Class.pm line 86
	Reaction::Class::("ComponentUI::TestModel::Foo", "is", "Reaction::InterfaceModel::Object", "which", CODE(0x68ab428)) called at /tmpfs/.cpan-build/Reaction-0.002005-uHXfQS/blib/lib/ComponentUI/TestModel/Foo.pm line 8
	require ComponentUI/TestModel/Foo.pm called at /opt/perl-5.14.4/lib/site_perl/5.14.4/Module/Runtime.pm line 317
	Module::Runtime::require_module("ComponentUI::TestModel::Foo") called at /opt/perl-5.14.4/lib/site_perl/5.14.4/Class/Load.pm line 179
	Class::Load::try {...} () called at /opt/perl-5.14.4/lib/site_perl/5.14.4/Try/Tiny.pm line 76
	eval {...} called at /opt/perl-5.14.4/lib/site_perl/5.14.4/Try/Tiny.pm line 72
	Try::Tiny::try(CODE(0x6881b38), Try::Tiny::Catch=REF(0x6899790)) called at /opt/perl-5.14.4/lib/site_perl/5.14.4/Class/Load.pm line 185
	Class::Load::try_load_class("ComponentUI::TestModel::Foo", undef) called at /opt/perl-5.14.4/lib/site_perl/5.14.4/Class/Load.pm line 40
	Class::Load::load_class("ComponentUI::TestModel::Foo") called at /tmpfs/.cpan-build/Reaction-0.002005-uHXfQS/blib/lib/Reaction/InterfaceModel/Reflector/DBIC.pm line 892
	eval {...} called at /tmpfs/.cpan-build/Reaction-0.002005-uHXfQS/blib/lib/Reaction/InterfaceModel/Reflector/DBIC.pm line 892
	Reaction::InterfaceModel::Reflector::DBIC::_maybe_load_class(Reaction::InterfaceModel::Reflector::DBIC=HASH(0x65c8828), "ComponentUI::TestModel::Foo") called at /tmpfs/.cpan-build/Reaction-0.002005-uHXfQS/blib/lib/Reaction/InterfaceModel/Reflector/DBIC.pm line 876
	Reaction::InterfaceModel::Reflector::DBIC::_load_or_create(Reaction::InterfaceModel::Reflector::DBIC=HASH(0x65c8828), "ComponentUI::TestModel::Foo", "superclasses", ARRAY(0x67caf60)) called at /tmpfs/.cpan-build/Reaction-0.002005-uHXfQS/blib/lib/Reaction/InterfaceModel/Reflector/DBIC.pm line 448
	Reaction::InterfaceModel::Reflector::DBIC::reflect_source_object(Reaction::InterfaceModel::Reflector::DBIC=HASH(0x65c8828), "schema_class", "RTest::TestDB", "source_name", "Foo", "source_class", "RTest::TestDB::Foo", "parent_class", "ComponentUI::TestModel", ...) called at /tmpfs/.cpan-build/Reaction-0.002005-uHXfQS/blib/lib/Reaction/InterfaceModel/Reflector/DBIC.pm line 323
	Reaction::InterfaceModel::Reflector::DBIC::reflect_source(Reaction::InterfaceModel::Reflector::DBIC=HASH(0x65c8828), "source_name", "Foo", "parent_class", "ComponentUI::TestModel", "schema_class", "RTest::TestDB", "source_class", "RTest::TestDB::Foo", ...) called at /tmpfs/.cpan-build/Reaction-0.002005-uHXfQS/blib/lib/Reaction/InterfaceModel/Reflector/DBIC.pm line 185
	Reaction::InterfaceModel::Reflector::DBIC::reflect_schema(Reaction::InterfaceModel::Reflector::DBIC=HASH(0x65c8828), "model_class", "ComponentUI::TestModel", "schema_class", "RTest::TestDB", "sources", ARRAY(0x6589058)) called at /tmpfs/.cpan-build/Reaction-0.002005-uHXfQS/blib/lib/ComponentUI/TestModel.pm line 10
	require ComponentUI/TestModel.pm called at /opt/perl-5.14.4/lib/site_perl/5.14.4/Module/Runtime.pm line 317
	Module::Runtime::require_module("ComponentUI::TestModel") called at /opt/perl-5.14.4/lib/site_perl/5.14.4/Class/Load.pm line 179
	Class::Load::try {...} () called at /opt/perl-5.14.4/lib/site_perl/5.14.4/Try/Tiny.pm line 76
	eval {...} called at /opt/perl-5.14.4/lib/site_perl/5.14.4/Try/Tiny.pm line 72
	Try::Tiny::try(CODE(0x6266ef0), Try::Tiny::Catch=REF(0x6168160)) called at /opt/perl-5.14.4/lib/site_perl/5.14.4/Class/Load.pm line 185
	Class::Load::try_load_class("ComponentUI::TestModel", undef) called at /opt/perl-5.14.4/lib/site_perl/5.14.4/Class/Load.pm line 40
	Class::Load::load_class("ComponentUI::TestModel") called at /tmpfs/.cpan-build/Reaction-0.002005-uHXfQS/blib/lib/Catalyst/Model/Reaction/InterfaceModel/DBIC.pm line 24
	Catalyst::Model::Reaction::InterfaceModel::DBIC::COMPONENT("ComponentUI::Model::TestModel", "ComponentUI", HASH(0x64322b8)) called at /opt/perl-5.14.4/lib/site_perl/5.14.4/Catalyst.pm line 2642
	eval {...} called at /opt/perl-5.14.4/lib/site_perl/5.14.4/Catalyst.pm line 2642
	Catalyst::setup_component("ComponentUI", "ComponentUI::Model::TestModel") called at /opt/perl-5.14.4/lib/site_perl/5.14.4/Catalyst.pm line 2569
	Catalyst::setup_components("ComponentUI") called at /opt/perl-5.14.4/lib/site_perl/5.14.4/Catalyst.pm line 1181
	Catalyst::setup("ComponentUI") called at /tmpfs/.cpan-build/Reaction-0.002005-uHXfQS/blib/lib/ComponentUI.pm line 32
	require ComponentUI.pm called at /opt/perl-5.14.4/lib/site_perl/5.14.4/Module/Runtime.pm line 317
	Module::Runtime::require_module("ComponentUI") called at /opt/perl-5.14.4/lib/site_perl/5.14.4/Class/Load.pm line 179
	Class::Load::try {...} () called at /opt/perl-5.14.4/lib/site_perl/5.14.4/Try/Tiny.pm line 76
	eval {...} called at /opt/perl-5.14.4/lib/site_perl/5.14.4/Try/Tiny.pm line 72
	Try::Tiny::try(CODE(0x29dbdb8), Try::Tiny::Catch=REF(0x2a02770)) called at /opt/perl-5.14.4/lib/site_perl/5.14.4/Class/Load.pm line 185
	Class::Load::try_load_class("ComponentUI", undef) called at /opt/perl-5.14.4/lib/site_perl/5.14.4/Class/Load.pm line 40
	Class::Load::load_class("ComponentUI") called at /opt/perl-5.14.4/lib/site_perl/5.14.4/Test/WWW/Mechanize/Catalyst.pm line 245
	Test::WWW::Mechanize::Catalyst::import("Test::WWW::Mechanize::Catalyst", "ComponentUI") called at t/uncheck_bool_field.t line 6
	main::BEGIN() called at /tmpfs/.cpan-build/Reaction-0.002005-uHXfQS/blib/lib/ComponentUI/TestModel/Foo.pm line 0
	eval {...} called at /tmpfs/.cpan-build/Reaction-0.002005-uHXfQS/blib/lib/ComponentUI/TestModel/Foo.pm line 0
Class::MOP::load_class is deprecated at /opt/perl-5.14.4/lib/site_perl/5.14.4/x86_64-linux/Class/MOP.pm line 73.
	Class::MOP::load_class("ComponentUI::RenderingContext::Site") called at /tmpfs/.cpan-build/Reaction-0.002005-uHXfQS/blib/lib/Reaction/UI/View.pm line 125
	eval {...} called at /tmpfs/.cpan-build/Reaction-0.002005-uHXfQS/blib/lib/Reaction/UI/View.pm line 125
	Reaction::UI::View::find_related_class(ComponentUI::View::Site=HASH(0x5958988), "RenderingContext") called at /tmpfs/.cpan-build/Reaction-0.002005-uHXfQS/blib/lib/Reaction/UI/View.pm line 43
	Reaction::UI::View::_build_rendering_context_class(ComponentUI::View::Site=HASH(0x5958988)) called at reader Reaction::UI::View::rendering_context_class (defined at /tmpfs/.cpan-build/Reaction-0.002005-uHXfQS/blib/lib/Reaction/UI/View.pm line 29) line 7
	Reaction::UI::View::rendering_context_class(ComponentUI::View::Site=HASH(0x5958988)) called at /tmpfs/.cpan-build/Reaction-0.002005-uHXfQS/blib/lib/Reaction/UI/View.pm line 134
	Reaction::UI::View::create_rendering_context(ComponentUI::View::Site=HASH(0x5958988)) called at /tmpfs/.cpan-build/Reaction-0.002005-uHXfQS/blib/lib/Reaction/UI/View.pm line 60
	Reaction::UI::View::render_window(ComponentUI::View::Site=HASH(0x5958988), Reaction::UI::Window=HASH(0x6c2aca8)) called at /tmpfs/.cpan-build/Reaction-0.002005-uHXfQS/blib/lib/Reaction/UI/Window.pm line 74
	Reaction::UI::Window::flush_view(Reaction::UI::Window=HASH(0x6c2aca8)) called at /tmpfs/.cpan-build/Reaction-0.002005-uHXfQS/blib/lib/Reaction/UI/Window.pm line 36
	Reaction::UI::Window::flush(Reaction::UI::Window=HASH(0x6c2aca8)) called at /tmpfs/.cpan-build/Reaction-0.002005-uHXfQS/blib/lib/Reaction/UI/Controller/Root.pm line 38
	Reaction::UI::Controller::Root::end(ComponentUI::Controller::Root=HASH(0x6c2ad80), ComponentUI=HASH(0x6c04b60)) called at /opt/perl-5.14.4/lib/site_perl/5.14.4/Catalyst/Action.pm line 65
	Catalyst::Action::execute(Catalyst::Action=HASH(0x6a80ca0), ComponentUI::Controller::Root=HASH(0x6c2ad80), ComponentUI=HASH(0x6c04b60)) called at /opt/perl-5.14.4/lib/site_perl/5.14.4/Catalyst.pm line 1734
	eval {...} called at /opt/perl-5.14.4/lib/site_perl/5.14.4/Catalyst.pm line 1734
	Catalyst::execute(ComponentUI=HASH(0x6c04b60), "ComponentUI::Controller::Root", Catalyst::Action=HASH(0x6a80ca0)) called at /opt/perl-5.14.4/lib/site_perl/5.14.4/Catalyst/Action.pm line 60
	Catalyst::Action::dispatch(Catalyst::Action=HASH(0x6a80ca0), ComponentUI=HASH(0x6c04b60)) called at /opt/perl-5.14.4/lib/site_perl/5.14.4/Catalyst/Controller.pm line 174
	Catalyst::Controller::_END(ComponentUI::Controller::TestModel::Baz=HASH(0x6bf86d8), ComponentUI=HASH(0x6c04b60)) called at /opt/perl-5.14.4/lib/site_perl/5.14.4/Catalyst/Action.pm line 65
	Catalyst::Action::execute(Catalyst::Action=HASH(0x6a12a58), ComponentUI::Controller::TestModel::Baz=HASH(0x6bf86d8), ComponentUI=HASH(0x6c04b60)) called at /opt/perl-5.14.4/lib/site_perl/5.14.4/Catalyst.pm line 1734
	eval {...} called at /opt/perl-5.14.4/lib/site_perl/5.14.4/Catalyst.pm line 1734
	Catalyst::execute(ComponentUI=HASH(0x6c04b60), "ComponentUI::Controller::TestModel::Baz", Catalyst::Action=HASH(0x6a12a58)) called at /opt/perl-5.14.4/lib/site_perl/5.14.4/Catalyst/Action.pm line 60
	Catalyst::Action::dispatch(Catalyst::Action=HASH(0x6a12a58), ComponentUI=HASH(0x6c04b60)) called at /opt/perl-5.14.4/lib/site_perl/5.14.4/Catalyst/Dispatcher.pm line 258
	Catalyst::Dispatcher::_do_forward(Catalyst::Dispatcher=HASH(0x328df38), "forward", ComponentUI=HASH(0x6c04b60), "_END") called at /opt/perl-5.14.4/lib/site_perl/5.14.4/Catalyst/Dispatcher.pm line 238
	Catalyst::Dispatcher::forward(Catalyst::Dispatcher=HASH(0x328df38), ComponentUI=HASH(0x6c04b60), "_END") called at /opt/perl-5.14.4/lib/site_perl/5.14.4/Catalyst.pm line 397
	Catalyst::forward(ComponentUI=HASH(0x6c04b60), "_END") called at /opt/perl-5.14.4/lib/site_perl/5.14.4/Catalyst/Controller.pm line 138
	Catalyst::Controller::_DISPATCH(ComponentUI::Controller::TestModel::Baz=HASH(0x6bf86d8), ComponentUI=HASH(0x6c04b60)) called at /opt/perl-5.14.4/lib/site_perl/5.14.4/Catalyst/Action.pm line 65
	Catalyst::Action::execute(Catalyst::Action=HASH(0x6a03618), ComponentUI::Controller::TestModel::Baz=HASH(0x6bf86d8), ComponentUI=HASH(0x6c04b60)) called at /opt/perl-5.14.4/lib/site_perl/5.14.4/Catalyst.pm line 1734
	eval {...} called at /opt/perl-5.14.4/lib/site_perl/5.14.4/Catalyst.pm line 1734
	Catalyst::execute(ComponentUI=HASH(0x6c04b60), "ComponentUI::Controller::TestModel::Baz", Catalyst::Action=HASH(0x6a03618)) called at /opt/perl-5.14.4/lib/site_perl/5.14.4/Catalyst/Action.pm line 60
	Catalyst::Action::dispatch(Catalyst::Action=HASH(0x6a03618), ComponentUI=HASH(0x6c04b60)) called at /opt/perl-5.14.4/lib/site_perl/5.14.4/Catalyst/Dispatcher.pm line 258
	Catalyst::Dispatcher::_do_forward(Catalyst::Dispatcher=HASH(0x328df38), "forward", ComponentUI=HASH(0x6c04b60), "/testmodel/baz/_DISPATCH") called at /opt/perl-5.14.4/lib/site_perl/5.14.4/Catalyst/Dispatcher.pm line 238
	Catalyst::Dispatcher::forward(Catalyst::Dispatcher=HASH(0x328df38), ComponentUI=HASH(0x6c04b60), "/testmodel/baz/_DISPATCH") called at /opt/perl-5.14.4/lib/site_perl/5.14.4/Catalyst.pm line 397
	Catalyst::forward(ComponentUI=HASH(0x6c04b60), "/testmodel/baz/_DISPATCH") called at /opt/perl-5.14.4/lib/site_perl/5.14.4/Catalyst/Dispatcher.pm line 106
	Catalyst::Dispatcher::dispatch(Catalyst::Dispatcher=HASH(0x328df38), ComponentUI=HASH(0x6c04b60)) called at /opt/perl-5.14.4/lib/site_perl/5.14.4/Catalyst.pm line 1680
	Catalyst::dispatch(ComponentUI=HASH(0x6c04b60)) called at /opt/perl-5.14.4/lib/site_perl/5.14.4/Catalyst/Plugin/Static/Simple.pm line 77
	Class::MOP::Class:::around(CODE(0x31d8878), ComponentUI=HASH(0x6c04b60)) called at /opt/perl-5.14.4/lib/site_perl/5.14.4/x86_64-linux/Class/MOP/Method/Wrapped.pm line 163
	Class::MOP::Method::Wrapped::__ANON__(ComponentUI=HASH(0x6c04b60)) called at /opt/perl-5.14.4/lib/site_perl/5.14.4/x86_64-linux/Class/MOP/Method/Wrapped.pm line 92
	ComponentUI::dispatch(ComponentUI=HASH(0x6c04b60)) called at /opt/perl-5.14.4/lib/site_perl/5.14.4/Catalyst.pm line 2019
	Catalyst::try {...} () called at /opt/perl-5.14.4/lib/site_perl/5.14.4/Try/Tiny.pm line 81
	eval {...} called at /opt/perl-5.14.4/lib/site_perl/5.14.4/Try/Tiny.pm line 72
	Try::Tiny::try(CODE(0x6c04488), Try::Tiny::Catch=REF(0x6c03658)) called at /opt/perl-5.14.4/lib/site_perl/5.14.4/Catalyst.pm line 2028
	Catalyst::handle_request("ComponentUI", "env", HASH(0x6c1f6c0), "response_cb", CODE(0x6c04350)) called at /opt/perl-5.14.4/lib/site_perl/5.14.4/Catalyst/Engine.pm line 797
	Catalyst::Engine::__ANON__(CODE(0x6c04350)) called at /opt/perl-5.14.4/lib/site_perl/5.14.4/Plack/Middleware/HTTPExceptions.pm line 32
	Plack::Middleware::HTTPExceptions::try {...} () called at /opt/perl-5.14.4/lib/site_perl/5.14.4/Try/Tiny.pm line 81
	eval {...} called at /opt/perl-5.14.4/lib/site_perl/5.14.4/Try/Tiny.pm line 72
	Try::Tiny::try(CODE(0x6c03490), Try::Tiny::Catch=REF(0x6c02938)) called at /opt/perl-5.14.4/lib/site_perl/5.14.4/Plack/Middleware/HTTPExceptions.pm line 41
	Plack::Middleware::HTTPExceptions::__ANON__(CODE(0x6c03358)) called at /opt/perl-5.14.4/lib/site_perl/5.14.4/Plack/Util.pm line 301
	Plack::Util::__ANON__(CODE(0x6c03220)) called at /opt/perl-5.14.4/lib/site_perl/5.14.4/Plack/Util.pm line 301
	Plack::Util::__ANON__(CODE(0x6c030e8)) called at /opt/perl-5.14.4/lib/site_perl/5.14.4/Plack/Util.pm line 301
	Plack::Util::__ANON__(CODE(0x6c03040)) called at /opt/perl-5.14.4/lib/site_perl/5.14.4/HTTP/Message/PSGI.pm line 100
	HTTP::Message::PSGI::res_from_psgi(CODE(0x6c027a0)) called at /opt/perl-5.14.4/lib/site_perl/5.14.4/HTTP/Message/PSGI.pm line 155
	HTTP::Response::from_psgi("HTTP::Response", CODE(0x6c027a0)) called at /opt/perl-5.14.4/lib/site_perl/5.14.4/Plack/Test/MockHTTP.pm line 24
	Plack::Test::MockHTTP::try {...} () called at /opt/perl-5.14.4/lib/site_perl/5.14.4/Try/Tiny.pm line 76
	eval {...} called at /opt/perl-5.14.4/lib/site_perl/5.14.4/Try/Tiny.pm line 72
	Try::Tiny::try(CODE(0x6b97478), Try::Tiny::Catch=REF(0x6a1bf60)) called at /opt/perl-5.14.4/lib/site_perl/5.14.4/Plack/Test/MockHTTP.pm line 27
	Plack::Test::MockHTTP::request(Plack::Test::MockHTTP=HASH(0x6beed40), HTTP::Request=HASH(0x6bb5290)) called at /opt/perl-5.14.4/lib/site_perl/5.14.4/Plack/Test.pm line 38
	Plack::Test::__ANON__(HTTP::Request=HASH(0x6bb5290)) called at /opt/perl-5.14.4/lib/site_perl/5.14.4/Catalyst/Test.pm line 281
	Catalyst::Test::__ANON__(CODE(0x6beeb60)) called at /opt/perl-5.14.4/lib/site_perl/5.14.4/Plack/Test.pm line 38
	Plack::Test::test_psgi("app", CODE(0x6bee698), "mangle_response", CODE(0x29e62b8), "app", CODE(0x6bee938), "client", CODE(0x6beea10)) called at /opt/perl-5.14.4/lib/site_perl/5.14.4/Catalyst/Test.pm line 284
	Catalyst::Test::_request(HASH(0x6bee8f0), HTTP::Request=HASH(0x6bb5290)) called at /opt/perl-5.14.4/lib/site_perl/5.14.4/Catalyst/Test.pm line 327
	Catalyst::Test::_local_request("ComponentUI", HTTP::Request=HASH(0x6bb5290)) called at /opt/perl-5.14.4/lib/site_perl/5.14.4/Test/WWW/Mechanize/Catalyst.pm line 174
	Test::WWW::Mechanize::Catalyst::_do_catalyst_request(Test::WWW::Mechanize::Catalyst=HASH(0x6b15d00), HTTP::Request=HASH(0x6bb5290)) called at /opt/perl-5.14.4/lib/site_perl/5.14.4/Test/WWW/Mechanize/Catalyst.pm line 78
	Test::WWW::Mechanize::Catalyst::_make_request(Test::WWW::Mechanize::Catalyst=HASH(0x6b15d00), HTTP::Request=HASH(0x6bb5290)) called at /opt/perl-5.14.4/lib/site_perl/5.14.4/WWW/Mechanize.pm line 2312
	WWW::Mechanize::request(Test::WWW::Mechanize::Catalyst=HASH(0x6b15d00), HTTP::Request=HASH(0x6bb5290)) called at /opt/perl-5.14.4/lib/site_perl/5.14.4/LWP/UserAgent.pm line 411
	LWP::UserAgent::get(Test::WWW::Mechanize::Catalyst=HASH(0x6b15d00), "http://localhost/testmodel/baz/id/1/update") called at /opt/perl-5.14.4/lib/site_perl/5.14.4/WWW/Mechanize.pm line 407
	WWW::Mechanize::get(Test::WWW::Mechanize::Catalyst=HASH(0x6b15d00), "http://localhost/testmodel/baz/id/1/update") called at /opt/perl-5.14.4/lib/site_perl/5.14.4/Test/WWW/Mechanize.pm line 159
	Test::WWW::Mechanize::get_ok(Test::WWW::Mechanize::Catalyst=HASH(0x6b15d00), "http://localhost/testmodel/baz/id/1/update") called at t/uncheck_bool_field.t line 9
Class::MOP::is_class_loaded is deprecated at /opt/perl-5.14.4/lib/site_perl/5.14.4/x86_64-linux/Class/MOP.pm line 91.
	Class::MOP::is_class_loaded("ComponentUI::UI::Widget::SiteLayout") called at /tmpfs/.cpan-build/Reaction-0.002005-uHXfQS/blib/lib/Reaction/UI/Skin.pm line 178
	Reaction::UI::Skin::widget_class_for(Reaction::UI::Skin=HASH(0x6f572b0), Reaction::UI::LayoutSet::TT=HASH(0x6fac948)) called at /tmpfs/.cpan-build/Reaction-0.002005-uHXfQS/blib/lib/Reaction/UI/LayoutSet.pm line 28
	Reaction::UI::LayoutSet::BUILD(Reaction::UI::LayoutSet::TT=HASH(0x6fac948), HASH(0x6fac8b8)) called at constructor Reaction::UI::LayoutSet::TT::new (defined at /tmpfs/.cpan-build/Reaction-0.002005-uHXfQS/blib/lib/Reaction/UI/LayoutSet/TT.pm line 43) line 69
	Reaction::UI::LayoutSet::TT::new("Reaction::UI::LayoutSet::TT", "name", "site_layout", "skin", Reaction::UI::Skin=HASH(0x6f572b0), "tt_object", Template=HASH(0x5b17a98), "source_file", Path::Class::File=HASH(0x6fbde40), ...) called at /tmpfs/.cpan-build/Reaction-0.002005-uHXfQS/blib/lib/Reaction/UI/Skin.pm line 114
	Reaction::UI::Skin::_create_layout_set(Reaction::UI::Skin=HASH(0x6f572b0), "site_layout", ARRAY(0x6f5cae8), Reaction::UI::Skin=HASH(0x6f572b0)) called at /tmpfs/.cpan-build/Reaction-0.002005-uHXfQS/blib/lib/Reaction/UI/Skin.pm line 110
	Reaction::UI::Skin::create_layout_set(Reaction::UI::Skin=HASH(0x6f572b0), "site_layout") called at /tmpfs/.cpan-build/Reaction-0.002005-uHXfQS/blib/lib/Reaction/UI/LayoutSet.pm line 83
	Reaction::UI::LayoutSet::_load_file(Reaction::UI::LayoutSet::TT=HASH(0x6fab6e8), Path::Class::File=HASH(0x6f6b9c0), HASH(0x6fab628)) called at /tmpfs/.cpan-build/Reaction-0.002005-uHXfQS/blib/lib/Reaction/UI/LayoutSet.pm line 27
	Reaction::UI::LayoutSet::BUILD(Reaction::UI::LayoutSet::TT=HASH(0x6fab6e8), HASH(0x6fab628)) called at constructor Reaction::UI::LayoutSet::TT::new (defined at /tmpfs/.cpan-build/Reaction-0.002005-uHXfQS/blib/lib/Reaction/UI/LayoutSet/TT.pm line 43) line 69
	Reaction::UI::LayoutSet::TT::new("Reaction::UI::LayoutSet::TT", "name", "site_layout", "skin", Reaction::UI::Skin=HASH(0x6f5d070), "next_skin", Reaction::UI::Skin=HASH(0x6f572b0), "tt_object", Template=HASH(0x5b17a98), ...) called at /tmpfs/.cpan-build/Reaction-0.002005-uHXfQS/blib/lib/Reaction/UI/Skin.pm line 114
	Reaction::UI::Skin::_create_layout_set(Reaction::UI::Skin=HASH(0x6f5d070), "site_layout", ARRAY(0x6f6bc18), Reaction::UI::Skin=HASH(0x6f5d070)) called at /tmpfs/.cpan-build/Reaction-0.002005-uHXfQS/blib/lib/Reaction/UI/Skin.pm line 110
	Reaction::UI::Skin::create_layout_set(Reaction::UI::Skin=HASH(0x6f5d070), "site_layout") called at /tmpfs/.cpan-build/Reaction-0.002005-uHXfQS/blib/lib/Reaction/UI/LayoutSet.pm line 83
	Reaction::UI::LayoutSet::_load_file(Reaction::UI::LayoutSet::TT=HASH(0x6f5d238), Path::Class::File=HASH(0x6f94d30), HASH(0x6f95a50)) called at /tmpfs/.cpan-build/Reaction-0.002005-uHXfQS/blib/lib/Reaction/UI/LayoutSet.pm line 27
	Reaction::UI::LayoutSet::BUILD(Reaction::UI::LayoutSet::TT=HASH(0x6f5d238), HASH(0x6f95a50)) called at constructor Reaction::UI::LayoutSet::TT::new (defined at /tmpfs/.cpan-build/Reaction-0.002005-uHXfQS/blib/lib/Reaction/UI/LayoutSet/TT.pm line 43) line 69
	Reaction::UI::LayoutSet::TT::new("Reaction::UI::LayoutSet::TT", "name", "site_layout", "skin", Reaction::UI::Skin=HASH(0x6f5cda0), "next_skin", Reaction::UI::Skin=HASH(0x6f5d070), "tt_object", Template=HASH(0x5b17a98), ...) called at /tmpfs/.cpan-build/Reaction-0.002005-uHXfQS/blib/lib/Reaction/UI/Skin.pm line 114
	Reaction::UI::Skin::_create_layout_set(Reaction::UI::Skin=HASH(0x6f5cda0), "site_layout", ARRAY(0x6f4df88), Reaction::UI::Skin=HASH(0x6f5cda0)) called at /tmpfs/.cpan-build/Reaction-0.002005-uHXfQS/blib/lib/Reaction/UI/Skin.pm line 110
	Reaction::UI::Skin::create_layout_set(Reaction::UI::Skin=HASH(0x6f5cda0), "site_layout") called at /opt/perl-5.14.4/lib/site_perl/5.14.4/x86_64-linux/Moose/Meta/Method/Delegation.pm line 113
	Reaction::UI::View::create_layout_set(ComponentUI::View::Site=HASH(0x5958988), "site_layout") called at /tmpfs/.cpan-build/Reaction-0.002005-uHXfQS/blib/lib/Reaction/UI/View.pm line 99
	Reaction::UI::View::layout_set_for(ComponentUI::View::Site=HASH(0x5958988), Reaction::UI::ViewPort::SiteLayout=HASH(0x6c2bf70)) called at /tmpfs/.cpan-build/Reaction-0.002005-uHXfQS/blib/lib/Reaction/UI/View.pm line 78
	Reaction::UI::View::render_viewport_args(ComponentUI::View::Site=HASH(0x5958988), Reaction::UI::ViewPort::SiteLayout=HASH(0x6c2bf70)) called at /tmpfs/.cpan-build/Reaction-0.002005-uHXfQS/blib/lib/Reaction/UI/View.pm line 61
	Reaction::UI::View::render_window(ComponentUI::View::Site=HASH(0x5958988), Reaction::UI::Window=HASH(0x6c2aca8)) called at /tmpfs/.cpan-build/Reaction-0.002005-uHXfQS/blib/lib/Reaction/UI/Window.pm line 74
	Reaction::UI::Window::flush_view(Reaction::UI::Window=HASH(0x6c2aca8)) called at /tmpfs/.cpan-build/Reaction-0.002005-uHXfQS/blib/lib/Reaction/UI/Window.pm line 36
	Reaction::UI::Window::flush(Reaction::UI::Window=HASH(0x6c2aca8)) called at /tmpfs/.cpan-build/Reaction-0.002005-uHXfQS/blib/lib/Reaction/UI/Controller/Root.pm line 38
	Reaction::UI::Controller::Root::end(ComponentUI::Controller::Root=HASH(0x6c2ad80), ComponentUI=HASH(0x6c04b60)) called at /opt/perl-5.14.4/lib/site_perl/5.14.4/Catalyst/Action.pm line 65
	Catalyst::Action::execute(Catalyst::Action=HASH(0x6a80ca0), ComponentUI::Controller::Root=HASH(0x6c2ad80), ComponentUI=HASH(0x6c04b60)) called at /opt/perl-5.14.4/lib/site_perl/5.14.4/Catalyst.pm line 1734
	eval {...} called at /opt/perl-5.14.4/lib/site_perl/5.14.4/Catalyst.pm line 1734
	Catalyst::execute(ComponentUI=HASH(0x6c04b60), "ComponentUI::Controller::Root", Catalyst::Action=HASH(0x6a80ca0)) called at /opt/perl-5.14.4/lib/site_perl/5.14.4/Catalyst/Action.pm line 60
	Catalyst::Action::dispatch(Catalyst::Action=HASH(0x6a80ca0), ComponentUI=HASH(0x6c04b60)) called at /opt/perl-5.14.4/lib/site_perl/5.14.4/Catalyst/Controller.pm line 174
	Catalyst::Controller::_END(ComponentUI::Controller::TestModel::Baz=HASH(0x6bf86d8), ComponentUI=HASH(0x6c04b60)) called at /opt/perl-5.14.4/lib/site_perl/5.14.4/Catalyst/Action.pm line 65
	Catalyst::Action::execute(Catalyst::Action=HASH(0x6a12a58), ComponentUI::Controller::TestModel::Baz=HASH(0x6bf86d8), ComponentUI=HASH(0x6c04b60)) called at /opt/perl-5.14.4/lib/site_perl/5.14.4/Catalyst.pm line 1734
	eval {...} called at /opt/perl-5.14.4/lib/site_perl/5.14.4/Catalyst.pm line 1734
	Catalyst::execute(ComponentUI=HASH(0x6c04b60), "ComponentUI::Controller::TestModel::Baz", Catalyst::Action=HASH(0x6a12a58)) called at /opt/perl-5.14.4/lib/site_perl/5.14.4/Catalyst/Action.pm line 60
	Catalyst::Action::dispatch(Catalyst::Action=HASH(0x6a12a58), ComponentUI=HASH(0x6c04b60)) called at /opt/perl-5.14.4/lib/site_perl/5.14.4/Catalyst/Dispatcher.pm line 258
	Catalyst::Dispatcher::_do_forward(Catalyst::Dispatcher=HASH(0x328df38), "forward", ComponentUI=HASH(0x6c04b60), "_END") called at /opt/perl-5.14.4/lib/site_perl/5.14.4/Catalyst/Dispatcher.pm line 238
	Catalyst::Dispatcher::forward(Catalyst::Dispatcher=HASH(0x328df38), ComponentUI=HASH(0x6c04b60), "_END") called at /opt/perl-5.14.4/lib/site_perl/5.14.4/Catalyst.pm line 397
	Catalyst::forward(ComponentUI=HASH(0x6c04b60), "_END") called at /opt/perl-5.14.4/lib/site_perl/5.14.4/Catalyst/Controller.pm line 138
	Catalyst::Controller::_DISPATCH(ComponentUI::Controller::TestModel::Baz=HASH(0x6bf86d8), ComponentUI=HASH(0x6c04b60)) called at /opt/perl-5.14.4/lib/site_perl/5.14.4/Catalyst/Action.pm line 65
	Catalyst::Action::execute(Catalyst::Action=HASH(0x6a03618), ComponentUI::Controller::TestModel::Baz=HASH(0x6bf86d8), ComponentUI=HASH(0x6c04b60)) called at /opt/perl-5.14.4/lib/site_perl/5.14.4/Catalyst.pm line 1734
	eval {...} called at /opt/perl-5.14.4/lib/site_perl/5.14.4/Catalyst.pm line 1734
	Catalyst::execute(ComponentUI=HASH(0x6c04b60), "ComponentUI::Controller::TestModel::Baz", Catalyst::Action=HASH(0x6a03618)) called at /opt/perl-5.14.4/lib/site_perl/5.14.4/Catalyst/Action.pm line 60
	Catalyst::Action::dispatch(Catalyst::Action=HASH(0x6a03618), ComponentUI=HASH(0x6c04b60)) called at /opt/perl-5.14.4/lib/site_perl/5.14.4/Catalyst/Dispatcher.pm line 258
	Catalyst::Dispatcher::_do_forward(Catalyst::Dispatcher=HASH(0x328df38), "forward", ComponentUI=HASH(0x6c04b60), "/testmodel/baz/_DISPATCH") called at /opt/perl-5.14.4/lib/site_perl/5.14.4/Catalyst/Dispatcher.pm line 238
	Catalyst::Dispatcher::forward(Catalyst::Dispatcher=HASH(0x328df38), ComponentUI=HASH(0x6c04b60), "/testmodel/baz/_DISPATCH") called at /opt/perl-5.14.4/lib/site_perl/5.14.4/Catalyst.pm line 397
	Catalyst::forward(ComponentUI=HASH(0x6c04b60), "/testmodel/baz/_DISPATCH") called at /opt/perl-5.14.4/lib/site_perl/5.14.4/Catalyst/Dispatcher.pm line 106
	Catalyst::Dispatcher::dispatch(Catalyst::Dispatcher=HASH(0x328df38), ComponentUI=HASH(0x6c04b60)) called at /opt/perl-5.14.4/lib/site_perl/5.14.4/Catalyst.pm line 1680
	Catalyst::dispatch(ComponentUI=HASH(0x6c04b60)) called at /opt/perl-5.14.4/lib/site_perl/5.14.4/Catalyst/Plugin/Static/Simple.pm line 77
	Class::MOP::Class:::around(CODE(0x31d8878), ComponentUI=HASH(0x6c04b60)) called at /opt/perl-5.14.4/lib/site_perl/5.14.4/x86_64-linux/Class/MOP/Method/Wrapped.pm line 163
	Class::MOP::Method::Wrapped::__ANON__(ComponentUI=HASH(0x6c04b60)) called at /opt/perl-5.14.4/lib/site_perl/5.14.4/x86_64-linux/Class/MOP/Method/Wrapped.pm line 92
	ComponentUI::dispatch(ComponentUI=HASH(0x6c04b60)) called at /opt/perl-5.14.4/lib/site_perl/5.14.4/Catalyst.pm line 2019
	Catalyst::try {...} () called at /opt/perl-5.14.4/lib/site_perl/5.14.4/Try/Tiny.pm line 81
	eval {...} called at /opt/perl-5.14.4/lib/site_perl/5.14.4/Try/Tiny.pm line 72
	Try::Tiny::try(CODE(0x6c04488), Try::Tiny::Catch=REF(0x6c03658)) called at /opt/perl-5.14.4/lib/site_perl/5.14.4/Catalyst.pm line 2028
	Catalyst::handle_request("ComponentUI", "env", HASH(0x6c1f6c0), "response_cb", CODE(0x6c04350)) called at /opt/perl-5.14.4/lib/site_perl/5.14.4/Catalyst/Engine.pm line 797
	Catalyst::Engine::__ANON__(CODE(0x6c04350)) called at /opt/perl-5.14.4/lib/site_perl/5.14.4/Plack/Middleware/HTTPExceptions.pm line 32
	Plack::Middleware::HTTPExceptions::try {...} () called at /opt/perl-5.14.4/lib/site_perl/5.14.4/Try/Tiny.pm line 81
	eval {...} called at /opt/perl-5.14.4/lib/site_perl/5.14.4/Try/Tiny.pm line 72
	Try::Tiny::try(CODE(0x6c03490), Try::Tiny::Catch=REF(0x6c02938)) called at /opt/perl-5.14.4/lib/site_perl/5.14.4/Plack/Middleware/HTTPExceptions.pm line 41
	Plack::Middleware::HTTPExceptions::__ANON__(CODE(0x6c03358)) called at /opt/perl-5.14.4/lib/site_perl/5.14.4/Plack/Util.pm line 301
	Plack::Util::__ANON__(CODE(0x6c03220)) called at /opt/perl-5.14.4/lib/site_perl/5.14.4/Plack/Util.pm line 301
	Plack::Util::__ANON__(CODE(0x6c030e8)) called at /opt/perl-5.14.4/lib/site_perl/5.14.4/Plack/Util.pm line 301
	Plack::Util::__ANON__(CODE(0x6c03040)) called at /opt/perl-5.14.4/lib/site_perl/5.14.4/HTTP/Message/PSGI.pm line 100
	HTTP::Message::PSGI::res_from_psgi(CODE(0x6c027a0)) called at /opt/perl-5.14.4/lib/site_perl/5.14.4/HTTP/Message/PSGI.pm line 155
	HTTP::Response::from_psgi("HTTP::Response", CODE(0x6c027a0)) called at /opt/perl-5.14.4/lib/site_perl/5.14.4/Plack/Test/MockHTTP.pm line 24
	Plack::Test::MockHTTP::try {...} () called at /opt/perl-5.14.4/lib/site_perl/5.14.4/Try/Tiny.pm line 76
	eval {...} called at /opt/perl-5.14.4/lib/site_perl/5.14.4/Try/Tiny.pm line 72
	Try::Tiny::try(CODE(0x6b97478), Try::Tiny::Catch=REF(0x6a1bf60)) called at /opt/perl-5.14.4/lib/site_perl/5.14.4/Plack/Test/MockHTTP.pm line 27
	Plack::Test::MockHTTP::request(Plack::Test::MockHTTP=HASH(0x6beed40), HTTP::Request=HASH(0x6bb5290)) called at /opt/perl-5.14.4/lib/site_perl/5.14.4/Plack/Test.pm line 38
	Plack::Test::__ANON__(HTTP::Request=HASH(0x6bb5290)) called at /opt/perl-5.14.4/lib/site_perl/5.14.4/Catalyst/Test.pm line 281
	Catalyst::Test::__ANON__(CODE(0x6beeb60)) called at /opt/perl-5.14.4/lib/site_perl/5.14.4/Plack/Test.pm line 38
	Plack::Test::test_psgi("app", CODE(0x6bee698), "mangle_response", CODE(0x29e62b8), "app", CODE(0x6bee938), "client", CODE(0x6beea10)) called at /opt/perl-5.14.4/lib/site_perl/5.14.4/Catalyst/Test.pm line 284
	Catalyst::Test::_request(HASH(0x6bee8f0), HTTP::Request=HASH(0x6bb5290)) called at /opt/perl-5.14.4/lib/site_perl/5.14.4/Catalyst/Test.pm line 327
	Catalyst::Test::_local_request("ComponentUI", HTTP::Request=HASH(0x6bb5290)) called at /opt/perl-5.14.4/lib/site_perl/5.14.4/Test/WWW/Mechanize/Catalyst.pm line 174
	Test::WWW::Mechanize::Catalyst::_do_catalyst_request(Test::WWW::Mechanize::Catalyst=HASH(0x6b15d00), HTTP::Request=HASH(0x6bb5290)) called at /opt/perl-5.14.4/lib/site_perl/5.14.4/Test/WWW/Mechanize/Catalyst.pm line 78
	Test::WWW::Mechanize::Catalyst::_make_request(Test::WWW::Mechanize::Catalyst=HASH(0x6b15d00), HTTP::Request=HASH(0x6bb5290)) called at /opt/perl-5.14.4/lib/site_perl/5.14.4/WWW/Mechanize.pm line 2312
	WWW::Mechanize::request(Test::WWW::Mechanize::Catalyst=HASH(0x6b15d00), HTTP::Request=HASH(0x6bb5290)) called at /opt/perl-5.14.4/lib/site_perl/5.14.4/LWP/UserAgent.pm line 411
	LWP::UserAgent::get(Test::WWW::Mechanize::Catalyst=HASH(0x6b15d00), "http://localhost/testmodel/baz/id/1/update") called at /opt/perl-5.14.4/lib/site_perl/5.14.4/WWW/Mechanize.pm line 407
	WWW::Mechanize::get(Test::WWW::Mechanize::Catalyst=HASH(0x6b15d00), "http://localhost/testmodel/baz/id/1/update") called at /opt/perl-5.14.4/lib/site_perl/5.14.4/Test/WWW/Mechanize.pm line 159
	Test::WWW::Mechanize::get_ok(Test::WWW::Mechanize::Catalyst=HASH(0x6b15d00), "http://localhost/testmodel/baz/id/1/update") called at t/uncheck_bool_field.t line 9
Class::MOP::load_class is deprecated at /opt/perl-5.14.4/lib/site_perl/5.14.4/x86_64-linux/Class/MOP.pm line 73.
	Class::MOP::load_class("Reaction::UI::Widget::SiteLayout") called at /tmpfs/.cpan-build/Reaction-0.002005-uHXfQS/blib/lib/Reaction/UI/Skin.pm line 181
	eval {...} called at /tmpfs/.cpan-build/Reaction-0.002005-uHXfQS/blib/lib/Reaction/UI/Skin.pm line 181
	Reaction::UI::Skin::widget_class_for(Reaction::UI::Skin=HASH(0x6f572b0), Reaction::UI::LayoutSet::TT=HASH(0x6fac948)) called at /tmpfs/.cpan-build/Reaction-0.002005-uHXfQS/blib/lib/Reaction/UI/LayoutSet.pm line 28
	Reaction::UI::LayoutSet::BUILD(Reaction::UI::LayoutSet::TT=HASH(0x6fac948), HASH(0x6fac8b8)) called at constructor Reaction::UI::LayoutSet::TT::new (defined at /tmpfs/.cpan-build/Reaction-0.002005-uHXfQS/blib/lib/Reaction/UI/LayoutSet/TT.pm line 43) line 69
	Reaction::UI::LayoutSet::TT::new("Reaction::UI::LayoutSet::TT", "name", "site_layout", "skin", Reaction::UI::Skin=HASH(0x6f572b0), "tt_object", Template=HASH(0x5b17a98), "source_file", Path::Class::File=HASH(0x6fbde40), ...) called at /tmpfs/.cpan-build/Reaction-0.002005-uHXfQS/blib/lib/Reaction/UI/Skin.pm line 114
	Reaction::UI::Skin::_create_layout_set(Reaction::UI::Skin=HASH(0x6f572b0), "site_layout", ARRAY(0x6f5cae8), Reaction::UI::Skin=HASH(0x6f572b0)) called at /tmpfs/.cpan-build/Reaction-0.002005-uHXfQS/blib/lib/Reaction/UI/Skin.pm line 110
	Reaction::UI::Skin::create_layout_set(Reaction::UI::Skin=HASH(0x6f572b0), "site_layout") called at /tmpfs/.cpan-build/Reaction-0.002005-uHXfQS/blib/lib/Reaction/UI/LayoutSet.pm line 83
	Reaction::UI::LayoutSet::_load_file(Reaction::UI::LayoutSet::TT=HASH(0x6fab6e8), Path::Class::File=HASH(0x6f6b9c0), HASH(0x6fab628)) called at /tmpfs/.cpan-build/Reaction-0.002005-uHXfQS/blib/lib/Reaction/UI/LayoutSet.pm line 27
	Reaction::UI::LayoutSet::BUILD(Reaction::UI::LayoutSet::TT=HASH(0x6fab6e8), HASH(0x6fab628)) called at constructor Reaction::UI::LayoutSet::TT::new (defined at /tmpfs/.cpan-build/Reaction-0.002005-uHXfQS/blib/lib/Reaction/UI/LayoutSet/TT.pm line 43) line 69
	Reaction::UI::LayoutSet::TT::new("Reaction::UI::LayoutSet::TT", "name", "site_layout", "skin", Reaction::UI::Skin=HASH(0x6f5d070), "next_skin", Reaction::UI::Skin=HASH(0x6f572b0), "tt_object", Template=HASH(0x5b17a98), ...) called at /tmpfs/.cpan-build/Reaction-0.002005-uHXfQS/blib/lib/Reaction/UI/Skin.pm line 114
	Reaction::UI::Skin::_create_layout_set(Reaction::UI::Skin=HASH(0x6f5d070), "site_layout", ARRAY(0x6f6bc18), Reaction::UI::Skin=HASH(0x6f5d070)) called at /tmpfs/.cpan-build/Reaction-0.002005-uHXfQS/blib/lib/Reaction/UI/Skin.pm line 110
	Reaction::UI::Skin::create_layout_set(Reaction::UI::Skin=HASH(0x6f5d070), "site_layout") called at /tmpfs/.cpan-build/Reaction-0.002005-uHXfQS/blib/lib/Reaction/UI/LayoutSet.pm line 83
	Reaction::UI::LayoutSet::_load_file(Reaction::UI::LayoutSet::TT=HASH(0x6f5d238), Path::Class::File=HASH(0x6f94d30), HASH(0x6f95a50)) called at /tmpfs/.cpan-build/Reaction-0.002005-uHXfQS/blib/lib/Reaction/UI/LayoutSet.pm line 27
	Reaction::UI::LayoutSet::BUILD(Reaction::UI::LayoutSet::TT=HASH(0x6f5d238), HASH(0x6f95a50)) called at constructor Reaction::UI::LayoutSet::TT::new (defined at /tmpfs/.cpan-build/Reaction-0.002005-uHXfQS/blib/lib/Reaction/UI/LayoutSet/TT.pm line 43) line 69
	Reaction::UI::LayoutSet::TT::new("Reaction::UI::LayoutSet::TT", "name", "site_layout", "skin", Reaction::UI::Skin=HASH(0x6f5cda0), "next_skin", Reaction::UI::Skin=HASH(0x6f5d070), "tt_object", Template=HASH(0x5b17a98), ...) called at /tmpfs/.cpan-build/Reaction-0.002005-uHXfQS/blib/lib/Reaction/UI/Skin.pm line 114
	Reaction::UI::Skin::_create_layout_set(Reaction::UI::Skin=HASH(0x6f5cda0), "site_layout", ARRAY(0x6f4df88), Reaction::UI::Skin=HASH(0x6f5cda0)) called at /tmpfs/.cpan-build/Reaction-0.002005-uHXfQS/blib/lib/Reaction/UI/Skin.pm line 110
	Reaction::UI::Skin::create_layout_set(Reaction::UI::Skin=HASH(0x6f5cda0), "site_layout") called at /opt/perl-5.14.4/lib/site_perl/5.14.4/x86_64-linux/Moose/Meta/Method/Delegation.pm line 113
	Reaction::UI::View::create_layout_set(ComponentUI::View::Site=HASH(0x5958988), "site_layout") called at /tmpfs/.cpan-build/Reaction-0.002005-uHXfQS/blib/lib/Reaction/UI/View.pm line 99
	Reaction::UI::View::layout_set_for(ComponentUI::View::Site=HASH(0x5958988), Reaction::UI::ViewPort::SiteLayout=HASH(0x6c2bf70)) called at /tmpfs/.cpan-build/Reaction-0.002005-uHXfQS/blib/lib/Reaction/UI/View.pm line 78
	Reaction::UI::View::render_viewport_args(ComponentUI::View::Site=HASH(0x5958988), Reaction::UI::ViewPort::SiteLayout=HASH(0x6c2bf70)) called at /tmpfs/.cpan-build/Reaction-0.002005-uHXfQS/blib/lib/Reaction/UI/View.pm line 61
	Reaction::UI::View::render_window(ComponentUI::View::Site=HASH(0x5958988), Reaction::UI::Window=HASH(0x6c2aca8)) called at /tmpfs/.cpan-build/Reaction-0.002005-uHXfQS/blib/lib/Reaction/UI/Window.pm line 74
	Reaction::UI::Window::flush_view(Reaction::UI::Window=HASH(0x6c2aca8)) called at /tmpfs/.cpan-build/Reaction-0.002005-uHXfQS/blib/lib/Reaction/UI/Window.pm line 36
	Reaction::UI::Window::flush(Reaction::UI::Window=HASH(0x6c2aca8)) called at /tmpfs/.cpan-build/Reaction-0.002005-uHXfQS/blib/lib/Reaction/UI/Controller/Root.pm line 38
	Reaction::UI::Controller::Root::end(ComponentUI::Controller::Root=HASH(0x6c2ad80), ComponentUI=HASH(0x6c04b60)) called at /opt/perl-5.14.4/lib/site_perl/5.14.4/Catalyst/Action.pm line 65
	Catalyst::Action::execute(Catalyst::Action=HASH(0x6a80ca0), ComponentUI::Controller::Root=HASH(0x6c2ad80), ComponentUI=HASH(0x6c04b60)) called at /opt/perl-5.14.4/lib/site_perl/5.14.4/Catalyst.pm line 1734
	eval {...} called at /opt/perl-5.14.4/lib/site_perl/5.14.4/Catalyst.pm line 1734
	Catalyst::execute(ComponentUI=HASH(0x6c04b60), "ComponentUI::Controller::Root", Catalyst::Action=HASH(0x6a80ca0)) called at /opt/perl-5.14.4/lib/site_perl/5.14.4/Catalyst/Action.pm line 60
	Catalyst::Action::dispatch(Catalyst::Action=HASH(0x6a80ca0), ComponentUI=HASH(0x6c04b60)) called at /opt/perl-5.14.4/lib/site_perl/5.14.4/Catalyst/Controller.pm line 174
	Catalyst::Controller::_END(ComponentUI::Controller::TestModel::Baz=HASH(0x6bf86d8), ComponentUI=HASH(0x6c04b60)) called at /opt/perl-5.14.4/lib/site_perl/5.14.4/Catalyst/Action.pm line 65
	Catalyst::Action::execute(Catalyst::Action=HASH(0x6a12a58), ComponentUI::Controller::TestModel::Baz=HASH(0x6bf86d8), ComponentUI=HASH(0x6c04b60)) called at /opt/perl-5.14.4/lib/site_perl/5.14.4/Catalyst.pm line 1734
	eval {...} called at /opt/perl-5.14.4/lib/site_perl/5.14.4/Catalyst.pm line 1734
	Catalyst::execute(ComponentUI=HASH(0x6c04b60), "ComponentUI::Controller::TestModel::Baz", Catalyst::Action=HASH(0x6a12a58)) called at /opt/perl-5.14.4/lib/site_perl/5.14.4/Catalyst/Action.pm line 60
	Catalyst::Action::dispatch(Catalyst::Action=HASH(0x6a12a58), ComponentUI=HASH(0x6c04b60)) called at /opt/perl-5.14.4/lib/site_perl/5.14.4/Catalyst/Dispatcher.pm line 258
	Catalyst::Dispatcher::_do_forward(Catalyst::Dispatcher=HASH(0x328df38), "forward", ComponentUI=HASH(0x6c04b60), "_END") called at /opt/perl-5.14.4/lib/site_perl/5.14.4/Catalyst/Dispatcher.pm line 238
	Catalyst::Dispatcher::forward(Catalyst::Dispatcher=HASH(0x328df38), ComponentUI=HASH(0x6c04b60), "_END") called at /opt/perl-5.14.4/lib/site_perl/5.14.4/Catalyst.pm line 397
	Catalyst::forward(ComponentUI=HASH(0x6c04b60), "_END") called at /opt/perl-5.14.4/lib/site_perl/5.14.4/Catalyst/Controller.pm line 138
	Catalyst::Controller::_DISPATCH(ComponentUI::Controller::TestModel::Baz=HASH(0x6bf86d8), ComponentUI=HASH(0x6c04b60)) called at /opt/perl-5.14.4/lib/site_perl/5.14.4/Catalyst/Action.pm line 65
	Catalyst::Action::execute(Catalyst::Action=HASH(0x6a03618), ComponentUI::Controller::TestModel::Baz=HASH(0x6bf86d8), ComponentUI=HASH(0x6c04b60)) called at /opt/perl-5.14.4/lib/site_perl/5.14.4/Catalyst.pm line 1734
	eval {...} called at /opt/perl-5.14.4/lib/site_perl/5.14.4/Catalyst.pm line 1734
	Catalyst::execute(ComponentUI=HASH(0x6c04b60), "ComponentUI::Controller::TestModel::Baz", Catalyst::Action=HASH(0x6a03618)) called at /opt/perl-5.14.4/lib/site_perl/5.14.4/Catalyst/Action.pm line 60
	Catalyst::Action::dispatch(Catalyst::Action=HASH(0x6a03618), ComponentUI=HASH(0x6c04b60)) called at /opt/perl-5.14.4/lib/site_perl/5.14.4/Catalyst/Dispatcher.pm line 258
	Catalyst::Dispatcher::_do_forward(Catalyst::Dispatcher=HASH(0x328df38), "forward", ComponentUI=HASH(0x6c04b60), "/testmodel/baz/_DISPATCH") called at /opt/perl-5.14.4/lib/site_perl/5.14.4/Catalyst/Dispatcher.pm line 238
	Catalyst::Dispatcher::forward(Catalyst::Dispatcher=HASH(0x328df38), ComponentUI=HASH(0x6c04b60), "/testmodel/baz/_DISPATCH") called at /opt/perl-5.14.4/lib/site_perl/5.14.4/Catalyst.pm line 397
	Catalyst::forward(ComponentUI=HASH(0x6c04b60), "/testmodel/baz/_DISPATCH") called at /opt/perl-5.14.4/lib/site_perl/5.14.4/Catalyst/Dispatcher.pm line 106
	Catalyst::Dispatcher::dispatch(Catalyst::Dispatcher=HASH(0x328df38), ComponentUI=HASH(0x6c04b60)) called at /opt/perl-5.14.4/lib/site_perl/5.14.4/Catalyst.pm line 1680
	Catalyst::dispatch(ComponentUI=HASH(0x6c04b60)) called at /opt/perl-5.14.4/lib/site_perl/5.14.4/Catalyst/Plugin/Static/Simple.pm line 77
	Class::MOP::Class:::around(CODE(0x31d8878), ComponentUI=HASH(0x6c04b60)) called at /opt/perl-5.14.4/lib/site_perl/5.14.4/x86_64-linux/Class/MOP/Method/Wrapped.pm line 163
	Class::MOP::Method::Wrapped::__ANON__(ComponentUI=HASH(0x6c04b60)) called at /opt/perl-5.14.4/lib/site_perl/5.14.4/x86_64-linux/Class/MOP/Method/Wrapped.pm line 92
	ComponentUI::dispatch(ComponentUI=HASH(0x6c04b60)) called at /opt/perl-5.14.4/lib/site_perl/5.14.4/Catalyst.pm line 2019
	Catalyst::try {...} () called at /opt/perl-5.14.4/lib/site_perl/5.14.4/Try/Tiny.pm line 81
	eval {...} called at /opt/perl-5.14.4/lib/site_perl/5.14.4/Try/Tiny.pm line 72
	Try::Tiny::try(CODE(0x6c04488), Try::Tiny::Catch=REF(0x6c03658)) called at /opt/perl-5.14.4/lib/site_perl/5.14.4/Catalyst.pm line 2028
	Catalyst::handle_request("ComponentUI", "env", HASH(0x6c1f6c0), "response_cb", CODE(0x6c04350)) called at /opt/perl-5.14.4/lib/site_perl/5.14.4/Catalyst/Engine.pm line 797
	Catalyst::Engine::__ANON__(CODE(0x6c04350)) called at /opt/perl-5.14.4/lib/site_perl/5.14.4/Plack/Middleware/HTTPExceptions.pm line 32
	Plack::Middleware::HTTPExceptions::try {...} () called at /opt/perl-5.14.4/lib/site_perl/5.14.4/Try/Tiny.pm line 81
	eval {...} called at /opt/perl-5.14.4/lib/site_perl/5.14.4/Try/Tiny.pm line 72
	Try::Tiny::try(CODE(0x6c03490), Try::Tiny::Catch=REF(0x6c02938)) called at /opt/perl-5.14.4/lib/site_perl/5.14.4/Plack/Middleware/HTTPExceptions.pm line 41
	Plack::Middleware::HTTPExceptions::__ANON__(CODE(0x6c03358)) called at /opt/perl-5.14.4/lib/site_perl/5.14.4/Plack/Util.pm line 301
	Plack::Util::__ANON__(CODE(0x6c03220)) called at /opt/perl-5.14.4/lib/site_perl/5.14.4/Plack/Util.pm line 301
	Plack::Util::__ANON__(CODE(0x6c030e8)) called at /opt/perl-5.14.4/lib/site_perl/5.14.4/Plack/Util.pm line 301
	Plack::Util::__ANON__(CODE(0x6c03040)) called at /opt/perl-5.14.4/lib/site_perl/5.14.4/HTTP/Message/PSGI.pm line 100
	HTTP::Message::PSGI::res_from_psgi(CODE(0x6c027a0)) called at /opt/perl-5.14.4/lib/site_perl/5.14.4/HTTP/Message/PSGI.pm line 155
	HTTP::Response::from_psgi("HTTP::Response", CODE(0x6c027a0)) called at /opt/perl-5.14.4/lib/site_perl/5.14.4/Plack/Test/MockHTTP.pm line 24
	Plack::Test::MockHTTP::try {...} () called at /opt/perl-5.14.4/lib/site_perl/5.14.4/Try/Tiny.pm line 76
	eval {...} called at /opt/perl-5.14.4/lib/site_perl/5.14.4/Try/Tiny.pm line 72
	Try::Tiny::try(CODE(0x6b97478), Try::Tiny::Catch=REF(0x6a1bf60)) called at /opt/perl-5.14.4/lib/site_perl/5.14.4/Plack/Test/MockHTTP.pm line 27
	Plack::Test::MockHTTP::request(Plack::Test::MockHTTP=HASH(0x6beed40), HTTP::Request=HASH(0x6bb5290)) called at /opt/perl-5.14.4/lib/site_perl/5.14.4/Plack/Test.pm line 38
	Plack::Test::__ANON__(HTTP::Request=HASH(0x6bb5290)) called at /opt/perl-5.14.4/lib/site_perl/5.14.4/Catalyst/Test.pm line 281
	Catalyst::Test::__ANON__(CODE(0x6beeb60)) called at /opt/perl-5.14.4/lib/site_perl/5.14.4/Plack/Test.pm line 38
	Plack::Test::test_psgi("app", CODE(0x6bee698), "mangle_response", CODE(0x29e62b8), "app", CODE(0x6bee938), "client", CODE(0x6beea10)) called at /opt/perl-5.14.4/lib/site_perl/5.14.4/Catalyst/Test.pm line 284
	Catalyst::Test::_request(HASH(0x6bee8f0), HTTP::Request=HASH(0x6bb5290)) called at /opt/perl-5.14.4/lib/site_perl/5.14.4/Catalyst/Test.pm line 327
	Catalyst::Test::_local_request("ComponentUI", HTTP::Request=HASH(0x6bb5290)) called at /opt/perl-5.14.4/lib/site_perl/5.14.4/Test/WWW/Mechanize/Catalyst.pm line 174
	Test::WWW::Mechanize::Catalyst::_do_catalyst_request(Test::WWW::Mechanize::Catalyst=HASH(0x6b15d00), HTTP::Request=HASH(0x6bb5290)) called at /opt/perl-5.14.4/lib/site_perl/5.14.4/Test/WWW/Mechanize/Catalyst.pm line 78
	Test::WWW::Mechanize::Catalyst::_make_request(Test::WWW::Mechanize::Catalyst=HASH(0x6b15d00), HTTP::Request=HASH(0x6bb5290)) called at /opt/perl-5.14.4/lib/site_perl/5.14.4/WWW/Mechanize.pm line 2312
	WWW::Mechanize::request(Test::WWW::Mechanize::Catalyst=HASH(0x6b15d00), HTTP::Request=HASH(0x6bb5290)) called at /opt/perl-5.14.4/lib/site_perl/5.14.4/LWP/UserAgent.pm line 411
	LWP::UserAgent::get(Test::WWW::Mechanize::Catalyst=HASH(0x6b15d00), "http://localhost/testmodel/baz/id/1/update") called at /opt/perl-5.14.4/lib/site_perl/5.14.4/WWW/Mechanize.pm line 407
	WWW::Mechanize::get(Test::WWW::Mechanize::Catalyst=HASH(0x6b15d00), "http://localhost/testmodel/baz/id/1/update") called at /opt/perl-5.14.4/lib/site_perl/5.14.4/Test/WWW/Mechanize.pm line 159
	Test::WWW::Mechanize::get_ok(Test::WWW::Mechanize::Catalyst=HASH(0x6b15d00), "http://localhost/testmodel/baz/id/1/update") called at t/uncheck_bool_field.t line 9
t/uncheck_bool_field.t ...... ok
All tests successful.
Files=9, Tests=604, 13 wallclock secs ( 0.05 usr  0.06 sys + 10.83 cusr  0.88 csys = 11.82 CPU)
Result: PASS

------------------------------
PREREQUISITES
------------------------------

Prerequisite modules loaded:

requires:

    Module                                  Need      Have     
    --------------------------------------- --------- ---------
    aliased                                 0.22      0.31     
    Catalyst                                5.80002   5.90064  
    Catalyst::Component::ACCEPT_CONTEXT     0.05      0.07     
    Catalyst::Component::InstancePerContext 0.001001  0.001001 
    Catalyst::Model::DBIC::Schema           0.23      0.63     
    Catalyst::Plugin::ConfigLoader          0.23      0.34     
    Catalyst::Plugin::I18N                  0.09      0.10     
    Catalyst::Plugin::Static::Simple        0.21      0.31     
    Catalyst::View::TT                      0.29      0.41     
    Class::MOP                              0.81      2.1206   
    Config::General                         2.42      2.56     
    Crypt::Eksblowfish::Bcrypt              0.005     0.009    
    DateTime                                0.47      1.10     
    DateTime::Event::Recurrence             0.16      0.16     
    DateTime::Span                          0         0        
    DBIx::Class                             0.08100   0.08270  
    DBIx::Class::IntrospectableM2M          0.001001  0.001001 
    Devel::Declare                          0.005000  0.006016 
    Email::Valid                            0.181     1.193    
    ExtUtils::MakeMaker                     6.11      6.98     
    File::ShareDir                          1.00      1.102    
    File::Spec                              3.29      3.47     
    JSON                                    0         2.90     
    metaclass                               0.81      2.1206   
    Method::Signatures::Simple              0.03      1.07     
    Moose                                   0.74      2.1206   
    MooseX::MethodAttributes                0.18      0.29     
    MooseX::Role::Parameterized             0.24      1.02     
    MooseX::Types                           0.10      0.44     
    MooseX::Types::Common                   0.001000  0.001012 
    MooseX::Types::DateTime                 0.03      0.10     
    MooseX::Types::URI                      0.02      0.05     
    namespace::clean                        0.11      0.25     
    Path::Class::Dir                        0         0.33     
    Path::Class::File                       0         0.33     
    perl                                    5.008001  5.014004 
    Scalar::Util                            1.19      1.38     
    signatures                              0.05      0.09     
    SQL::Translator                         0.11002   0.11018  
    Sub::Exporter                           0.982     0.987    
    Sub::Name                               0.04      0.05     
    Template                                2.20      2.25     
    Test::Class                             0.31      0.42     
    Test::Memory::Cycle                     1.04      1.04     
    Test::WWW::Mechanize::Catalyst          0.51      0.59     
    Time::ParseDate                         2006.0814 2013.1113
    URI                                     1.37      1.60     

build_requires:

    Module                                  Need      Have     
    --------------------------------------- --------- ---------
    ExtUtils::MakeMaker                     6.42      6.98     
    SQL::Translator                         0.11002   0.11018  
    Test::Class                             0.31      0.42     
    Test::Memory::Cycle                     1.04      1.04     
    Test::WWW::Mechanize::Catalyst          0.51      0.59     

configure_requires:

    Module                                  Need      Have     
    --------------------------------------- --------- ---------
    ExtUtils::MakeMaker                     6.42      6.98     


------------------------------
ENVIRONMENT AND OTHER CONTEXT
------------------------------

Environment variables:

    DBIC_NO_WARN_BAD_PERL = 1
    LANG = C
    PATH = /usr/local/bin:/usr/bin:/bin:/usr/local/sbin:/usr/sbin:/sbin:/home/eserte/bin/linux-gnu:/home/eserte/bin/sh:/home/eserte/bin:/usr/games:/home/eserte/devel:/home/eserte/src/srezic-misc/scripts
    PERL5LIB = 
    PERL5OPT = 
    PERL5_CPANPLUS_IS_RUNNING = 9207
    PERL5_CPAN_IS_RUNNING = 9207
    PERL5_CPAN_IS_RUNNING_IN_RECURSION = 31068,9207
    PERLDOC = -MPod::Perldoc::ToTextOverstrike
    PERL_BATCH = yes
    PERL_CPAN_REPORTER_CONFIG = /var/tmp/cpansmoker-1001/v4mqFW9ppP_config.ini
    PERL_EXTUTILS_AUTOINSTALL = --defaultdeps
    PERL_HTML_DISPLAY_CLASS = HTML::Display::Mozilla
    SHELL = /bin/zsh
    TERM = screen
    TMPDIR = /var/tmp/cpansmoker-1001

Perl special variables (and OS-specific diagnostics, for MSWin32):

    $^X = /bbbike/perl-5.14.4/bin/perl
    $UID/$EUID = 1001 / 1001
    $GID = 1001 109 1001
    $EGID = 1001 109 1001

Perl module toolchain versions installed:

    Module              Have     
    ------------------- ---------
    CPAN                1.9600_01
    CPAN::Meta          2.141170 
    Cwd                 3.47     
    ExtUtils::CBuilder  0.280216 
    ExtUtils::Command   1.17     
    ExtUtils::Install   1.56     
    ExtUtils::MakeMaker 6.98     
    ExtUtils::Manifest  1.60     
    ExtUtils::ParseXS   3.24     
    File::Spec          3.47     
    JSON                2.90     
    JSON::PP            2.27203  
    Module::Build       0.4205   
    Module::Signature   0.73     
    Parse::CPAN::Meta   1.4414   
    Test::Harness       3.30     
    Test::More          1.001003 
    YAML                0.90     
    YAML::Syck          1.27     
    version             0.9908   


--

Summary of my perl5 (revision 5 version 14 subversion 4) configuration:
   
  Platform:
    osname=linux, osvers=3.2.0-4-amd64, archname=x86_64-linux
    uname='linux eserte 3.2.0-4-amd64 #1 smp debian 3.2.57-3 x86_64 gnulinux '
    config_args='-ds -e -Dprefix=/opt/perl-5.14.4'
    hint=recommended, useposix=true, d_sigaction=define
    useithreads=undef, usemultiplicity=undef
    useperlio=define, d_sfio=undef, uselargefiles=define, usesocks=undef
    use64bitint=define, use64bitall=define, uselongdouble=undef
    usemymalloc=n, bincompat5005=undef
  Compiler:
    cc='cc', ccflags ='-fno-strict-aliasing -pipe -fstack-protector -I/usr/local/include -D_LARGEFILE_SOURCE -D_FILE_OFFSET_BITS=64',
    optimize='-O2',
    cppflags='-fno-strict-aliasing -pipe -fstack-protector -I/usr/local/include'
    ccversion='', gccversion='4.7.2', gccosandvers=''
    intsize=4, longsize=8, ptrsize=8, doublesize=8, byteorder=12345678
    d_longlong=define, longlongsize=8, d_longdbl=define, longdblsize=16
    ivtype='long', ivsize=8, nvtype='double', nvsize=8, Off_t='off_t', lseeksize=8
    alignbytes=8, prototype=define
  Linker and Libraries:
    ld='cc', ldflags =' -fstack-protector -L/usr/local/lib'
    libpth=/usr/local/lib /lib/x86_64-linux-gnu /lib/../lib /usr/lib/x86_64-linux-gnu /usr/lib/../lib /lib /usr/lib
    libs=-lnsl -ldb -ldl -lm -lcrypt -lutil -lc
    perllibs=-lnsl -ldl -lm -lcrypt -lutil -lc
    libc=, so=so, useshrplib=false, libperl=libperl.a
    gnulibc_version='2.13'
  Dynamic Linking:
    dlsrc=dl_dlopen.xs, dlext=so, d_dlsymun=undef, ccdlflags='-Wl,-E'
    cccdlflags='-fPIC', lddlflags='-shared -O2 -L/usr/local/lib -fstack-protector'


Characteristics of this binary (from libperl): 
  Compile-time options: PERL_DONT_CREATE_GVSV PERL_MALLOC_WRAP
                        PERL_PRESERVE_IVUV USE_64_BIT_ALL USE_64_BIT_INT
                        USE_LARGE_FILES USE_PERLIO USE_PERL_ATOF
  Built under linux
  Compiled at May 15 2014 16:40:06
  %ENV:
    PERL5LIB=""
    PERL5OPT=""
    PERL5_CPANPLUS_IS_RUNNING="9207"
    PERL5_CPAN_IS_RUNNING="9207"
    PERL5_CPAN_IS_RUNNING_IN_RECURSION="31068,9207"
    PERLDOC="-MPod::Perldoc::ToTextOverstrike"
    PERL_BATCH="yes"
    PERL_CPAN_REPORTER_CONFIG="/var/tmp/cpansmoker-1001/v4mqFW9ppP_config.ini"
    PERL_EXTUTILS_AUTOINSTALL="--defaultdeps"
    PERL_HTML_DISPLAY_CLASS="HTML::Display::Mozilla"
  @INC:
    /opt/perl-5.14.4/lib/site_perl/5.14.4/x86_64-linux
    /opt/perl-5.14.4/lib/site_perl/5.14.4
    /opt/perl-5.14.4/lib/5.14.4/x86_64-linux
    /opt/perl-5.14.4/lib/5.14.4
    .