Log-Log4perl v1.57 Perl 5 v5.37.4 x86_64-linux-multi

Status
Pass
From
Andreas J. König (ANDK)
Dist
Log-Log4perl v1.57
Platform
Perl 5 v5.37.4 x86_64-linux-multi
Date
2022-11-28 14:20:25
ID
cceb16e2-6f27-11ed-9054-00dba04ca71f
This distribution has been tested as part of the CPAN Testers
project, supporting the Perl programming language.  See
http://wiki.cpantesters.org/ for more information or email
questions to cpan-testers-discuss@perl.org


--
Dear Ed J,

This is a computer-generated report for Log-Log4perl-1.57
on perl 5.37.4, created by CPAN-Reporter-1.2018.

Thank you for uploading your work to CPAN.  Congratulations!
All tests were successful.

Sections of this report:

    * Tester comments
    * Program output
    * Prerequisites
    * Environment and other context

------------------------------
TESTER COMMENTS
------------------------------

Additional comments from tester:

this report is from an automated smoke testing program
and was not reviewed by a human for accuracy

------------------------------
PROGRAM OUTPUT
------------------------------

Output from '/usr/bin/make test':

PERL_DL_NONLAZY=1 "/home/sand/src/perl/repoperls/installed-perls/host/k93msid/v5.37.4/4da5/bin/perl" "-MExtUtils::Command::MM" "-MTest::Harness" "-e" "undef *Test::Harness::Switches; test_harness(0, 'blib/lib', 'blib/arch')" t/*.t
t/001Level.t .............. ok
t/002Logger.t ............. ok
t/003Layout-Rr.t .......... ok
t/003Layout.t ............. ok
t/004Config.t ............. ok
t/005Config-Perl.t ........ ok
t/006Config-Java.t ........ ok
t/007LogPrio.t ............ ok
t/008ConfCat.t ............ ok
t/009Deuce.t .............. ok
t/010JConsole.t ........... ok
t/011JFile.t .............. ok
t/012Deeper.t ............. ok
t/013Bench.t .............. skipped: set $ENV{LOG4PERL_BENCH} to a true value to run benchmarks, skipping...
t/014ConfErrs.t ........... ok
t/015fltmsg.t ............. ok
t/016Export.t ............. ok
t/017Watch.t .............. ok
t/018Init.t ............... ok
t/019Warn.t ............... ok
t/020Easy.t ............... ok
t/020Easy2.t .............. ok
t/021AppThres.t ........... ok
t/022Wrap.t ............... ok
t/023Date.t ............... ok
t/024WarnDieCarp.t ........ ok
t/025CustLevels.t ......... ok
t/026FileApp.t ............ ok
t/027Watch2.t ............. ok
t/027Watch3.t ............. ok
t/027Watch4.t ............. ok
t/028Additivity.t ......... ok
t/029SysWide.t ............ ok
t/030LDLevel.t ............ ok
t/031NDC.t ................ ok
t/032JRollFile.t .......... ok
t/033UsrCspec.t ........... ok
t/034DBI.t ................ ok
t/035JDBCAppender.t ....... ok
t/036JSyslog.t ............ ok
t/037JWin32Event.t ........ skipped: only with Log::Dispatch::Win32EventLog
t/038XML-DOM1.t ........... ok
t/039XML-DOM2.t ........... ok
t/040Filter.t ............. ok
t/041SafeEval.t ........... ok
t/042SyncApp.t ............ skipped: - only with L4P_ALL_TESTS
t/043VarSubst.t ........... ok
t/044XML-Filter.t ......... ok
t/045Composite.t .......... ok
t/046RRDs.t ............... skipped: (RRDs not installed)
t/048lwp.t ................ skipped: Only with 2.0 < LWP::UserAgent < 5.822
t/049Unhide.t ............. ok
t/050Buffer.t ............. ok
t/051Extra.t .............. ok
t/052Utf8.t ............... ok
t/053Resurrect.t .......... ok
t/054Subclass.t ........... ok
t/055AppDestroy.t ......... ok
t/056SyncApp2.t ........... skipped: - only with L4P_ALL_TESTS
t/057MsgChomp.t ........... ok
t/058Warnings.t ........... ok
t/059Wrapper.t ............ ok
t/060Initialized.t ........ ok
t/061Multiline.t .......... ok
t/062InitHash.t ........... ok
t/063LoggerRemove.t ....... ok
t/064RealClass.t .......... ok
t/065Undef.t .............. ok
t/066SQLite.t ............. ok
t/067Exception.t .......... ok
t/068MultilineIndented.t .. ok
t/069MoreMultiline.t ...... ok
t/070UTCDate.t ............ ok
All tests successful.
Files=73, Tests=765, 42 wallclock secs ( 0.26 usr  0.13 sys +  9.31 cusr  1.97 csys = 11.67 CPU)
Result: PASS

------------------------------
PREREQUISITES
------------------------------

Prerequisite modules loaded:

requires:

    Module                    Need  Have    
    ------------------------- ----- --------
    File::Path                2.07  2.18    
    File::Spec                0.82  3.87    
    perl                      5.006 5.037004

build_requires:

    Module                    Need  Have    
    ------------------------- ----- --------
    ExtUtils::MakeMaker       0     7.64    
    Test::More                0.88  1.302191

configure_requires:

    Module                    Need  Have    
    ------------------------- ----- --------
    ExtUtils::MakeMaker       0     7.64    

opt_requires:

    Module                    Need  Have    
    ------------------------- ----- --------
    DBD::CSV                  0.33  0.59    
    DBD::SQLite               0     1.70    
    DBI                       1.607 1.643   
    Log::Dispatch             0     2.70    
    Log::Dispatch::FileRotate 1.10  1.38    
    SQL::Statement            1.20  1.414   
    XML::DOM                  1.29  1.46    


------------------------------
ENVIRONMENT AND OTHER CONTEXT
------------------------------

Environment variables:

    AUTOMATED_TESTING = 1
    LANG = en_US.UTF-8
    LANGUAGE = en_US:en
    PATH = /home/sand/bin:/usr/local/bin:/usr/bin:/bin:/usr/games:/usr/local/perl/bin:/usr/X11/bin:/sbin:/usr/sbin
    PERL5LIB = 
    PERL5OPT = 
    PERL5_CPANPLUS_IS_RUNNING = 3903105
    PERL5_CPAN_IS_RUNNING = 3903105
    PERL_CANARY_STABILITY_NOPROMPT = 1
    PERL_MM_USE_DEFAULT = 1
    PERL_USE_UNSAFE_INC = 1
    SHELL = /usr/bin/zsh
    TERM = screen

Perl special variables (and OS-specific diagnostics, for MSWin32):

    $^X = /home/sand/src/perl/repoperls/installed-perls/host/k93msid/v5.37.4/4da5/bin/perl
    $UID/$EUID = 1005 / 1005
    $GID = 1005 1005
    $EGID = 1005 1005

Perl module toolchain versions installed:

    Module              Have    
    ------------------- --------
    CPAN                2.34    
    CPAN::Meta          2.150010
    Cwd                 3.86    
    ExtUtils::CBuilder  0.280237
    ExtUtils::Command   7.64    
    ExtUtils::Install   2.20    
    ExtUtils::MakeMaker 7.64    
    ExtUtils::Manifest  1.73    
    ExtUtils::ParseXS   3.46    
    File::Spec          3.87    
    JSON                4.09    
    JSON::PP            4.11    
    Module::Build       0.4231  
    Module::Signature   0.88    
    Parse::CPAN::Meta   2.150010
    Test::Harness       3.44    
    Test::More          1.302191
    YAML                1.30    
    YAML::Syck          1.34    
    version             0.9929  


--

Summary of my perl5 (revision 5 version 37 subversion 4) configuration:
  Commit id: f2582f5b18658f945a763f2edc110cdc7c5220e7
  Platform:
    osname=linux
    osvers=5.19.0-1-amd64
    archname=x86_64-linux-multi
    uname='linux k93msid 5.19.0-1-amd64 #1 smp preempt_dynamic debian 5.19.6-1 (2022-09-01) x86_64 gnulinux '
    config_args='-Dprefix=/home/sand/src/perl/repoperls/installed-perls/host/k93msid/v5.37.4/4da5 -Dmyhostname=k93msid -Dinstallusrbinperl=n -Uversiononly -Dusedevel -des -Ui_db -Dlibswanted=cl pthread socket inet nsl gdbm dbm malloc dl ld sun m crypt sec util c cposix posix ucb BSD gdbm_compat -Uuseithreads -Uuselongdouble -DEBUGGING=both -Dusemultiplicity'
    hint=recommended
    useposix=true
    d_sigaction=define
    useithreads=undef
    usemultiplicity=define
    use64bitint=define
    use64bitall=define
    uselongdouble=undef
    usemymalloc=n
    default_inc_excludes_dot=define
  Compiler:
    cc='cc'
    ccflags ='-fwrapv -DDEBUGGING -fno-strict-aliasing -pipe -fstack-protector-strong -I/usr/local/include -D_LARGEFILE_SOURCE -D_FILE_OFFSET_BITS=64 -D_FORTIFY_SOURCE=2'
    optimize='-O2 -g'
    cppflags='-fwrapv -DDEBUGGING -fno-strict-aliasing -pipe -fstack-protector-strong -I/usr/local/include'
    ccversion=''
    gccversion='12.2.0'
    gccosandvers=''
    intsize=4
    longsize=8
    ptrsize=8
    doublesize=8
    byteorder=12345678
    doublekind=3
    d_longlong=define
    longlongsize=8
    d_longdbl=define
    longdblsize=16
    longdblkind=3
    ivtype='long'
    ivsize=8
    nvtype='double'
    nvsize=8
    Off_t='off_t'
    lseeksize=8
    alignbytes=8
    prototype=define
  Linker and Libraries:
    ld='cc'
    ldflags =' -fstack-protector-strong -L/usr/local/lib'
    libpth=/usr/local/lib /usr/lib/x86_64-linux-gnu /usr/lib /usr/lib64
    libs=-lpthread -lnsl -ldl -lm -lcrypt -lutil -lc
    perllibs=-lpthread -lnsl -ldl -lm -lcrypt -lutil -lc
    libc=/lib/x86_64-linux-gnu/libc.so.6
    so=so
    useshrplib=false
    libperl=libperl.a
    gnulibc_version='2.34'
  Dynamic Linking:
    dlsrc=dl_dlopen.xs
    dlext=so
    d_dlsymun=undef
    ccdlflags='-Wl,-E'
    cccdlflags='-fPIC'
    lddlflags='-shared -O2 -g -L/usr/local/lib -fstack-protector-strong'


Characteristics of this binary (from libperl): 
  Compile-time options:
    DEBUGGING
    HAS_TIMES
    MULTIPLICITY
    PERLIO_LAYERS
    PERL_COPY_ON_WRITE
    PERL_DONT_CREATE_GVSV
    PERL_HASH_FUNC_SIPHASH13
    PERL_HASH_USE_SBOX32
    PERL_MALLOC_WRAP
    PERL_OP_PARENT
    PERL_PRESERVE_IVUV
    PERL_TRACK_MEMPOOL
    PERL_USE_DEVEL
    PERL_USE_SAFE_PUTENV
    USE_64_BIT_ALL
    USE_64_BIT_INT
    USE_LARGE_FILES
    USE_LOCALE
    USE_LOCALE_COLLATE
    USE_LOCALE_CTYPE
    USE_LOCALE_NUMERIC
    USE_LOCALE_TIME
    USE_PERLIO
    USE_PERL_ATOF
  Built under linux
  Compiled at Sep 22 2022 10:58:33
  %ENV:
    PERL5LIB=""
    PERL5OPT=""
    PERL5_CPANPLUS_IS_RUNNING="3903105"
    PERL5_CPAN_IS_RUNNING="3903105"
    PERL_CANARY_STABILITY_NOPROMPT="1"
    PERL_MM_USE_DEFAULT="1"
    PERL_USE_UNSAFE_INC="1"
  @INC:
    /home/sand/src/perl/repoperls/installed-perls/host/k93msid/v5.37.4/4da5/lib/site_perl/5.37.4/x86_64-linux-multi
    /home/sand/src/perl/repoperls/installed-perls/host/k93msid/v5.37.4/4da5/lib/site_perl/5.37.4
    /home/sand/src/perl/repoperls/installed-perls/host/k93msid/v5.37.4/4da5/lib/5.37.4/x86_64-linux-multi
    /home/sand/src/perl/repoperls/installed-perls/host/k93msid/v5.37.4/4da5/lib/5.37.4
    .