Back
From: metabase:user:bf1535d6-401c-11e4-815a-01c22faf0adc
Subject: PASS Data-GUID-0.048 v5.20.1 Mac OS X
Date: 2014-09-19T16:48:36Z
This distribution has been tested as part of the CPAN Testers
project, supporting the Perl programming language. See
http://wiki.cpantesters.org/ for more information or email
questions to cpan-testers-discuss@perl.org
--
Dear RJBS,
This is a computer-generated report for Data-GUID-0.048
on perl 5.20.1, created by App::cpanminus::reporter 0.11 (1.7009).
Thank you for uploading your work to CPAN. Congratulations!
All tests were successful.
Sections of this report:
* Tester comments
* Program output
* Prerequisites
* Environment and other context
------------------------------
TESTER COMMENTS
------------------------------
Additional comments from tester:
none provided
------------------------------
PROGRAM OUTPUT
------------------------------
Output from '':
Building and testing Data-GUID-0.048
cp lib/Data/GUID.pm blib/lib/Data/GUID.pm
Manifying blib/man3/Data::GUID.3
PERL_DL_NONLAZY=1 /Users/jmprellezo/perl5/perlbrew/perls/perl-5.20.1/bin/perl "-MExtUtils::Command::MM" "-MTest::Harness" "-e" "undef *Test::Harness::Switches; test_harness(0, 'blib/lib', 'blib/arch')" t/*.t
# Testing Data::GUID 0.048
t/00-load.t ................... ok
#
#
# Generated by Dist::Zilla::Plugin::ReportVersions::Tiny v1.10
# perl: 5.020001 (wanted any version) on darwin from /Users/jmprellezo/perl5/perlbrew/perls/perl-5.20.1/bin/perl
#
# Carp => 1.3301 (want any version)
# Data::UUID => 1.219 (want 1.148)
# ExtUtils::MakeMaker => 6.98 (want 6.30)
# Sub::Exporter => 0.987 (want 0.90)
# Sub::Install => 0.928 (want 0.03)
# Test::More => 1.001006 (want 0.96)
# bytes => 1.04 (want any version)
# overload => 1.22 (want any version)
# strict => 1.08 (want any version)
# warnings => 1.23 (want any version)
#
# Thanks for using my code. I hope it works for you.
# If not, please try and include this output in the bug report.
# That will help me reproduce the issue and solve your problem.
#
t/000-report-versions-tiny.t .. ok
t/basic.t ..................... ok
t/import.t .................... ok
t/multipass_from.t ............ ok
All tests successful.
Files=5, Tests=96, 0 wallclock secs ( 0.04 usr 0.02 sys + 0.27 cusr 0.03 csys = 0.36 CPU)
Result: PASS
------------------------------
PREREQUISITES
------------------------------
Prerequisite modules loaded:
No requirements found
------------------------------
ENVIRONMENT AND OTHER CONTEXT
------------------------------
Environment variables:
LANG = es_ES.UTF-8
PATH = /Users/jmprellezo/.rvm/gems/ruby-2.1.2/bin:/Users/jmprellezo/.rvm/gems/ruby-2.1.2@global/bin:/Users/jmprellezo/.rvm/rubies/ruby-2.1.2/bin:/Users/jmprellezo/.pyenv/shims:/Users/jmprellezo/perl5/perlbrew/bin:/Users/jmprellezo/perl5/perlbrew/perls/perl-5.20.1/bin:/usr/bin:/bin:/usr/sbin:/sbin:/usr/local/bin:/Users/jmprellezo/.rvm/bin
PERLBREW_BASHRC_VERSION = 0.71
PERLBREW_HOME = /Users/jmprellezo/.perlbrew
PERLBREW_MANPATH = /Users/jmprellezo/perl5/perlbrew/perls/perl-5.20.1/man
PERLBREW_PATH = /Users/jmprellezo/perl5/perlbrew/bin:/Users/jmprellezo/perl5/perlbrew/perls/perl-5.20.1/bin
PERLBREW_PERL = perl-5.20.1
PERLBREW_ROOT = /Users/jmprellezo/perl5/perlbrew
PERLBREW_VERSION = 0.71
SHELL = /bin/bash
TERM = xterm-256color
TMPDIR = /var/folders/cl/zx_qjlbd2pv35q4krt84stgc0000gn/T/
Perl special variables (and OS-specific diagnostics, for MSWin32):
EGID = 20 20 401 12 61 79 80 81 98 33 100 204 398 399
EUID = 501
EXECUTABLE_NAME = /Users/jmprellezo/perl5/perlbrew/perls/perl-5.20.1/bin/perl
GID = 20 20 401 12 61 79 80 81 98 33 100 204 398 399
UID = 501
Perl module toolchain versions installed:
Module Have
------------------- --------
CPAN 2.05
CPAN::Meta 2.142060
Cwd 3.48
ExtUtils::CBuilder 0.280217
ExtUtils::Command 1.18
ExtUtils::Install 1.67
ExtUtils::MakeMaker 6.98
ExtUtils::Manifest 1.63
ExtUtils::ParseXS 3.24
File::Spec 3.48
JSON 2.90
JSON::PP 2.27203
Module::Build 0.4210
Module::Signature n/a
Parse::CPAN::Meta 1.4414
Test::Harness 3.30
Test::More 1.001006
YAML n/a
YAML::Syck n/a
version 0.9909
--
Summary of my perl5 (revision 5 version 20 subversion 1) configuration:
Platform:
osname=darwin, osvers=13.3.0, archname=darwin-2level
uname='darwin macbook-pro-de-jose.local 13.3.0 darwin kernel version 13.3.0: tue jun 3 21:27:35 pdt 2014; root:xnu-2422.110.17~1release_x86_64 x86_64 '
config_args='-de -Dprefix=/Users/jmprellezo/perl5/perlbrew/perls/perl-5.20.1 -Aeval:scriptdir=/Users/jmprellezo/perl5/perlbrew/perls/perl-5.20.1/bin'
hint=recommended, useposix=true, d_sigaction=define
useithreads=undef, usemultiplicity=undef
use64bitint=define, use64bitall=define, uselongdouble=undef
usemymalloc=n, bincompat5005=undef
Compiler:
cc='cc', ccflags ='-fno-common -DPERL_DARWIN -fno-strict-aliasing -pipe -fstack-protector',
optimize='-O3',
cppflags='-fno-common -DPERL_DARWIN -fno-strict-aliasing -pipe -fstack-protector'
ccversion='', gccversion='4.2.1 Compatible Apple LLVM 5.1 (clang-503.0.40)', gccosandvers=''
intsize=4, longsize=8, ptrsize=8, doublesize=8, byteorder=12345678
d_longlong=define, longlongsize=8, d_longdbl=define, longdblsize=16
ivtype='long', ivsize=8, nvtype='double', nvsize=8, Off_t='off_t', lseeksize=8
alignbytes=8, prototype=define
Linker and Libraries:
ld='env MACOSX_DEPLOYMENT_TARGET=10.3 cc', ldflags =' -fstack-protector'
libpth=/Library/Developer/CommandLineTools/usr/bin/../lib/clang/5.1/lib /Library/Developer/CommandLineTools/usr/lib /usr/lib
libs=-ldbm -ldl -lm -lutil -lc
perllibs=-ldl -lm -lutil -lc
libc=, so=dylib, useshrplib=false, libperl=libperl.a
gnulibc_version=''
Dynamic Linking:
dlsrc=dl_dlopen.xs, dlext=bundle, d_dlsymun=undef, ccdlflags=' '
cccdlflags=' ', lddlflags=' -bundle -undefined dynamic_lookup -fstack-protector'
Characteristics of this binary (from libperl):
Compile-time options: HAS_TIMES PERLIO_LAYERS PERL_DONT_CREATE_GVSV
PERL_HASH_FUNC_ONE_AT_A_TIME_HARD PERL_MALLOC_WRAP
PERL_NEW_COPY_ON_WRITE PERL_PRESERVE_IVUV
USE_64_BIT_ALL USE_64_BIT_INT USE_LARGE_FILES
USE_LOCALE USE_LOCALE_COLLATE USE_LOCALE_CTYPE
USE_LOCALE_NUMERIC USE_PERLIO USE_PERL_ATOF
Built under darwin
Compiled at Sep 17 2014 20:29:55
%ENV:
PERLBREW_BASHRC_VERSION="0.71"
PERLBREW_HOME="/Users/jmprellezo/.perlbrew"
PERLBREW_MANPATH="/Users/jmprellezo/perl5/perlbrew/perls/perl-5.20.1/man"
PERLBREW_PATH="/Users/jmprellezo/perl5/perlbrew/bin:/Users/jmprellezo/perl5/perlbrew/perls/perl-5.20.1/bin"
PERLBREW_PERL="perl-5.20.1"
PERLBREW_ROOT="/Users/jmprellezo/perl5/perlbrew"
PERLBREW_VERSION="0.71"
@INC:
/Users/jmprellezo/perl5/perlbrew/perls/perl-5.20.1/lib/site_perl/5.20.1/darwin-2level
/Users/jmprellezo/perl5/perlbrew/perls/perl-5.20.1/lib/site_perl/5.20.1
/Users/jmprellezo/perl5/perlbrew/perls/perl-5.20.1/lib/5.20.1/darwin-2level
/Users/jmprellezo/perl5/perlbrew/perls/perl-5.20.1/lib/5.20.1
.