App-perlmv v0.609 Perl 5 v5.39.9 x86_64-linux-thread-multi-ld

Status
Pass
From
Andreas J. K├Ânig (ANDK)
Dist
App-perlmv v0.609
Platform
Perl 5 v5.39.9 x86_64-linux-thread-multi-ld
Date
2024-03-23T18:11:41
ID
ccd731a6-e940-11ee-98b3-50b208639cae
This distribution has been tested as part of the CPAN Testers
project, supporting the Perl programming language.  See
http://wiki.cpantesters.org/ for more information or email
questions to cpan-testers-discuss@perl.org


--
Dear perlancar,

This is a computer-generated report for App-perlmv-0.609
on perl 5.39.9, created by CPAN-Reporter-1.2019.

Thank you for uploading your work to CPAN.  Congratulations!
All tests were successful.

Sections of this report:

    * Tester comments
    * Program output
    * Prerequisites
    * Environment and other context

------------------------------
TESTER COMMENTS
------------------------------

Additional comments from tester:

this report is from an automated smoke testing program
and was not reviewed by a human for accuracy

------------------------------
PROGRAM OUTPUT
------------------------------

Output from '/usr/bin/make test':

PERL_DL_NONLAZY=1 "/tmp/basesmoker-reloperl-Ksjm/bin/perl" "-MExtUtils::Command::MM" "-MTest::Harness" "-e" "undef *Test::Harness::Switches; test_harness(0, 'blib/lib', 'blib/arch')" t/*.t
t/00-compile.t ........................... ok
t/author-critic.t ........................ skipped: these tests are for testing by the author
t/author-pod-coverage.t .................. skipped: these tests are for testing by the author
t/author-pod-syntax.t .................... skipped: these tests are for testing by the author
t/cp.t ................................... ok
t/ln.t ................................... ok
t/ln_s.t ................................. ok
t/mv.t ................................... ok
t/recursive.t ............................ skipped: TODO
t/release-rinci.t ........................ skipped: these tests are for release candidate testing
ERROR: rename failed `a` -> `b/c/d`: No such file or directory
ERROR: rename failed `a` -> `b/c/d`: No such file or directory
t/rename.t ............................... ok
t/scriptlets.t ........................... ok
t/std_scriptlets-dedup-space.t ........... ok
t/std_scriptlets-keep-one-ext.t .......... ok
t/std_scriptlets-pinyin.t ................ ok
t/std_scriptlets-remove-all-ext.t ........ ok
t/std_scriptlets-remove-common-prefix.t .. ok
t/std_scriptlets-remove-common-suffix.t .. ok
t/std_scriptlets-remove-ext.t ............ ok
t/std_scriptlets-to-number-ext.t ......... ok
t/std_scriptlets-to-number.t ............. ok
t/std_scriptlets-to-timestamp-ext.t ...... ok
t/std_scriptlets-to-timestamp.t .......... ok
t/std_scriptlets-trim.t .................. ok
t/std_scriptlets-unaccent.t .............. ok
All tests successful.
Files=25, Tests=86,  5 wallclock secs ( 0.09 usr  0.03 sys +  3.71 cusr  0.79 csys =  4.62 CPU)
Result: PASS

------------------------------
PREREQUISITES
------------------------------

Prerequisite modules loaded:

requires:

    Module                   Need     Have    
    ------------------------ -------- --------
    Complete::File           0.440    0.443   
    Complete::Util           0.616    0.620   
    Cwd                      0        3.90    
    Exporter                 5.57     5.78    
    File::Copy               0        2.41    
    File::Find               0        1.44    
    File::Path               2.07     2.18    
    File::Slurper            0        0.014   
    File::Spec               0        3.90    
    File::Util::Test         0.628    0.631   
    Getopt::Long::Complete   0        0.317   
    Module::List::Tiny       0        0.004003
    perl                     5.010001 5.039009
    strict                   0        1.13    
    vars                     0        1.05    
    warnings                 0        1.68    

build_requires:

    Module                   Need     Have    
    ------------------------ -------- --------
    ExtUtils::MakeMaker      0        7.70    
    File::Spec               0        3.90    
    File::Temp               0.2307   0.2311  
    FindBin                  0        1.54    
    IO::Handle               0        1.55    
    IPC::Open3               0        1.22    
    Test::Exception          0        0.43    
    Test::More               0.98     1.302198
    Test::Needs              0        0.002010

configure_requires:

    Module                   Need     Have    
    ------------------------ -------- --------
    ExtUtils::MakeMaker      0        7.70    

opt_requires:

    Module                   Need     Have    
    ------------------------ -------- --------
    File::HomeDir            0        1.006   
  ! Lingua::Han::PinYin      0        n/a     
  ! Text::Unaccent::PurePerl 0        n/a     


------------------------------
ENVIRONMENT AND OTHER CONTEXT
------------------------------

Environment variables:

    AUTOMATED_TESTING = 1
    LANG = en_US.UTF-8
    LC_ADDRESS = de_DE.UTF-8
    LC_IDENTIFICATION = de_DE.UTF-8
    LC_MEASUREMENT = de_DE.UTF-8
    LC_MONETARY = de_DE.UTF-8
    LC_NAME = de_DE.UTF-8
    LC_NUMERIC = de_DE.UTF-8
    LC_PAPER = de_DE.UTF-8
    LC_TELEPHONE = de_DE.UTF-8
    LC_TIME = de_DE.UTF-8
    PATH = /home/sand/bin:/usr/local/bin:/usr/local/sbin:/usr/sbin:/usr/bin:/sbin:/bin:/usr/games:/usr/local/games:/snap/bin:/usr/local/perl/bin:/usr/X11/bin
    PERL = /tmp/basesmoker-reloperl-Ksjm/bin/perl
    PERL5LIB = /tmp/loop_over_bdir-1950-ABUgTA/triceps-2.1.0-0/blib/arch:/tmp/loop_over_bdir-1950-ABUgTA/triceps-2.1.0-0/blib/lib:/tmp/loop_over_bdir-1950-ABUgTA/HTML-Menu-TreeView-1.22-0/blib/arch:/tmp/loop_over_bdir-1950-ABUgTA/HTML-Menu-TreeView-1.22-0/blib/lib:/tmp/loop_over_bdir-1950-ABUgTA/Dpkg-1.22.6-0/blib/arch:/tmp/loop_over_bdir-1950-ABUgTA/Dpkg-1.22.6-0/blib/lib:/tmp/loop_over_bdir-1950-ABUgTA/CORBA-Python-2.66-0/blib/arch:/tmp/loop_over_bdir-1950-ABUgTA/CORBA-Python-2.66-0/blib/lib
    PERL5OPT = 
    PERL5_CPANPLUS_IS_RUNNING = 1958
    PERL5_CPAN_IS_RUNNING = 1958
    PERL_CANARY_STABILITY_NOPROMPT = 1
    PERL_MM_USE_DEFAULT = 1
    PERL_USE_UNSAFE_INC = 1
    SHELL = /usr/bin/zsh
    TERM = screen

Perl special variables (and OS-specific diagnostics, for MSWin32):

    $^X = /tmp/basesmoker-reloperl-Ksjm/bin/perl
    $UID/$EUID = 1005 / 1005
    $GID = 1005 1005
    $EGID = 1005 1005

Perl module toolchain versions installed:

    Module              Have    
    ------------------- --------
    CPAN                2.36    
    CPAN::Meta          2.150010
    Cwd                 3.90    
    ExtUtils::CBuilder  0.280240
    ExtUtils::Command   7.70    
    ExtUtils::Install   2.22    
    ExtUtils::MakeMaker 7.70    
    ExtUtils::Manifest  1.75    
    ExtUtils::ParseXS   3.51    
    File::Spec          3.90    
    JSON                4.10    
    JSON::PP            4.16    
    Module::Build       0.4234  
    Module::Signature   0.88    
    Parse::CPAN::Meta   2.150010
    Test2               1.302198
    Test::Harness       3.48    
    Test::More          1.302198
    YAML                1.31    
    YAML::Syck          1.34    
    version             0.9930  


--

Summary of my perl5 (revision 5 version 39 subversion 9) configuration:
  Commit id: 824a7e0bf8052e62e6913c5fb807a6a8331a2d81
  Platform:
    osname=linux
    osvers=6.5.0-25-generic
    archname=x86_64-linux-thread-multi-ld
    uname='linux k93jammy 6.5.0-25-generic #25~22.04.1-ubuntu smp preempt_dynamic tue feb 20 16:09:15 utc 2 x86_64 x86_64 x86_64 gnulinux '
    config_args='-Dprefix=/home/sand/src/perl/repoperls/installed-perls/host/k93jammy/v5.39.9/322f -Dmyhostname=k93jammy -Dinstallusrbinperl=n -Uversiononly -Dusedevel -des -Ui_db -Dlibswanted=cl pthread socket inet nsl gdbm dbm malloc dl ld sun m crypt sec util c cposix posix ucb BSD gdbm_compat -Duseithreads -Duselongdouble -DEBUGGING=-g'
    hint=recommended
    useposix=true
    d_sigaction=define
    useithreads=define
    usemultiplicity=define
    use64bitint=define
    use64bitall=define
    uselongdouble=define
    usemymalloc=n
    default_inc_excludes_dot=define
  Compiler:
    cc='cc'
    ccflags ='-D_REENTRANT -D_GNU_SOURCE -fwrapv -fno-strict-aliasing -pipe -fstack-protector-strong -I/usr/local/include -D_LARGEFILE_SOURCE -D_FILE_OFFSET_BITS=64'
    optimize='-O2 -g'
    cppflags='-D_REENTRANT -D_GNU_SOURCE -fwrapv -fno-strict-aliasing -pipe -fstack-protector-strong -I/usr/local/include'
    ccversion=''
    gccversion='11.4.0'
    gccosandvers=''
    intsize=4
    longsize=8
    ptrsize=8
    doublesize=8
    byteorder=12345678
    doublekind=3
    d_longlong=define
    longlongsize=8
    d_longdbl=define
    longdblsize=16
    longdblkind=3
    ivtype='long'
    ivsize=8
    nvtype='long double'
    nvsize=16
    Off_t='off_t'
    lseeksize=8
    alignbytes=16
    prototype=define
  Linker and Libraries:
    ld='cc'
    ldflags =' -fstack-protector-strong -L/usr/local/lib'
    libpth=/usr/local/lib /usr/lib/x86_64-linux-gnu /usr/lib /usr/lib64
    libs=-lpthread -lnsl -ldl -lm -lcrypt -lutil -lc
    perllibs=-lpthread -lnsl -ldl -lm -lcrypt -lutil -lc
    libc=/lib/x86_64-linux-gnu/libc.so.6
    so=so
    useshrplib=false
    libperl=libperl.a
    gnulibc_version='2.35'
  Dynamic Linking:
    dlsrc=dl_dlopen.xs
    dlext=so
    d_dlsymun=undef
    ccdlflags='-Wl,-E'
    cccdlflags='-fPIC'
    lddlflags='-shared -O2 -g -L/usr/local/lib -fstack-protector-strong'


Characteristics of this binary (from libperl): 
  Compile-time options:
    HAS_LONG_DOUBLE
    HAS_STRTOLD
    HAS_TIMES
    MULTIPLICITY
    PERLIO_LAYERS
    PERL_COPY_ON_WRITE
    PERL_DONT_CREATE_GVSV
    PERL_HASH_FUNC_SIPHASH13
    PERL_HASH_USE_SBOX32
    PERL_MALLOC_WRAP
    PERL_OP_PARENT
    PERL_PRESERVE_IVUV
    PERL_USE_DEVEL
    PERL_USE_SAFE_PUTENV
    USE_64_BIT_ALL
    USE_64_BIT_INT
    USE_ITHREADS
    USE_LARGE_FILES
    USE_LOCALE
    USE_LOCALE_COLLATE
    USE_LOCALE_CTYPE
    USE_LOCALE_NUMERIC
    USE_LOCALE_TIME
    USE_LONG_DOUBLE
    USE_PERLIO
    USE_PERL_ATOF
    USE_REENTRANT_API
    USE_THREAD_SAFE_LOCALE
  Built under linux
  Compiled at Mar 21 2024 04:30:26
  %ENV:
    PERL="/tmp/basesmoker-reloperl-Ksjm/bin/perl"
    PERL5LIB="/tmp/loop_over_bdir-1950-ABUgTA/triceps-2.1.0-0/blib/arch:/tmp/loop_over_bdir-1950-ABUgTA/triceps-2.1.0-0/blib/lib:/tmp/loop_over_bdir-1950-ABUgTA/HTML-Menu-TreeView-1.22-0/blib/arch:/tmp/loop_over_bdir-1950-ABUgTA/HTML-Menu-TreeView-1.22-0/blib/lib:/tmp/loop_over_bdir-1950-ABUgTA/Dpkg-1.22.6-0/blib/arch:/tmp/loop_over_bdir-1950-ABUgTA/Dpkg-1.22.6-0/blib/lib:/tmp/loop_over_bdir-1950-ABUgTA/CORBA-Python-2.66-0/blib/arch:/tmp/loop_over_bdir-1950-ABUgTA/CORBA-Python-2.66-0/blib/lib"
    PERL5OPT=""
    PERL5_CPANPLUS_IS_RUNNING="1958"
    PERL5_CPAN_IS_RUNNING="1958"
    PERL_CANARY_STABILITY_NOPROMPT="1"
    PERL_MM_USE_DEFAULT="1"
    PERL_USE_UNSAFE_INC="1"
  @INC:
    /tmp/loop_over_bdir-1950-ABUgTA/triceps-2.1.0-0/blib/arch
    /tmp/loop_over_bdir-1950-ABUgTA/triceps-2.1.0-0/blib/lib
    /tmp/loop_over_bdir-1950-ABUgTA/HTML-Menu-TreeView-1.22-0/blib/arch
    /tmp/loop_over_bdir-1950-ABUgTA/HTML-Menu-TreeView-1.22-0/blib/lib
    /tmp/loop_over_bdir-1950-ABUgTA/Dpkg-1.22.6-0/blib/arch
    /tmp/loop_over_bdir-1950-ABUgTA/Dpkg-1.22.6-0/blib/lib
    /tmp/loop_over_bdir-1950-ABUgTA/CORBA-Python-2.66-0/blib/arch
    /tmp/loop_over_bdir-1950-ABUgTA/CORBA-Python-2.66-0/blib/lib
    /home/sand/src/perl/repoperls/installed-perls/host/k93jammy/v5.39.9/322f/lib/site_perl/5.39.9/x86_64-linux-thread-multi-ld
    /home/sand/src/perl/repoperls/installed-perls/host/k93jammy/v5.39.9/322f/lib/site_perl/5.39.9
    /home/sand/src/perl/repoperls/installed-perls/host/k93jammy/v5.39.9/322f/lib/5.39.9/x86_64-linux-thread-multi-ld
    /home/sand/src/perl/repoperls/installed-perls/host/k93jammy/v5.39.9/322f/lib/5.39.9
    .