MooseX-RelClassTypes v0.03 Perl 5 v5.20.3 OpenBSD.amd64-openbsd-multi

Status
Pass
From
Nigel Horne
Dist
MooseX-RelClassTypes v0.03
Platform
Perl 5 v5.20.3 OpenBSD.amd64-openbsd-multi
Date
2018-05-02 17:11:06
ID
cccdcf8c-4e2b-11e8-9da6-f703c768dc7a
This distribution has been tested as part of the CPAN Testers
project, supporting the Perl programming language.  See
http://wiki.cpantesters.org/ for more information or email
questions to cpan-testers-discuss@perl.org


--
Dear Tom Gracey,

This is a computer-generated report for MooseX-RelClassTypes-0.03
on perl 5.20.3, created by CPAN-Reporter-1.2018.

Thank you for uploading your work to CPAN.  Congratulations!
All tests were successful.

Sections of this report:

    * Tester comments
    * Program output
    * Prerequisites
    * Environment and other context

------------------------------
TESTER COMMENTS
------------------------------

Additional comments from tester:

this report is from an automated smoke testing program
and was not reviewed by a human for accuracy

------------------------------
PROGRAM OUTPUT
------------------------------

Output from '/usr/bin/make test':

PERL_DL_NONLAZY=1 "/home/njh/perl5/perlbrew/perls/perl-5.20.3-multi/bin/perl5.20.3" "-MExtUtils::Command::MM" "-MTest::Harness" "-e" "undef *Test::Harness::Switches; test_harness(0, 'blib/lib', 'blib/arch')" t/*.t
You are overwriting a accessor (parent_rel_pack) for the parent_rel_pack attribute (defined at t/00_set_isa.t line 23) with a new accessor method for the parent_rel_pack attribute (defined at t/00_set_isa.t line 23) at /home/njh/perl5/perlbrew/perls/perl-5.20.3-multi/lib/site_perl/5.20.3/OpenBSD.amd64-openbsd-multi/Moose/Meta/Attribute.pm line 1094.
	Moose::Meta::Attribute::_process_accessors(Moose::Meta::Attribute=HASH(0x2851f1a5e38), "accessor", "parent_rel_pack", undef) called at /home/njh/perl5/perlbrew/perls/perl-5.20.3-multi/lib/site_perl/5.20.3/OpenBSD.amd64-openbsd-multi/Class/MOP/Attribute.pm line 446
	Class::MOP::Attribute::install_accessors(Moose::Meta::Attribute=HASH(0x2851f1a5e38)) called at /home/njh/perl5/perlbrew/perls/perl-5.20.3-multi/lib/site_perl/5.20.3/OpenBSD.amd64-openbsd-multi/Moose/Meta/Attribute.pm line 1014
	Moose::Meta::Attribute::install_accessors(Moose::Meta::Attribute=HASH(0x2851f1a5e38)) called at /tmp/build/MooseX-RelClassTypes-0.03-3/blib/lib/MooseX/RelClassTypes.pm line 76
	Class::MOP::Class:::before("Child") called at /home/njh/perl5/perlbrew/perls/perl-5.20.3-multi/lib/site_perl/5.20.3/OpenBSD.amd64-openbsd-multi/Class/MOP/Method/Wrapped.pm line 43
	Child::_wrapped_BUILDARGS("Child") called at /home/njh/perl5/perlbrew/perls/perl-5.20.3-multi/lib/site_perl/5.20.3/OpenBSD.amd64-openbsd-multi/Class/MOP/Method/Wrapped.pm line 95
	Child::BUILDARGS("Child") called at /home/njh/perl5/perlbrew/perls/perl-5.20.3-multi/lib/site_perl/5.20.3/OpenBSD.amd64-openbsd-multi/Moose/Object.pm line 22
	Moose::Object::new("Child") called at t/00_set_isa.t line 99
You are overwriting a accessor (child_rel_pack) for the child_rel_pack attribute (defined at t/00_set_isa.t line 45) with a new accessor method for the child_rel_pack attribute (defined at t/00_set_isa.t line 45) at /home/njh/perl5/perlbrew/perls/perl-5.20.3-multi/lib/site_perl/5.20.3/OpenBSD.amd64-openbsd-multi/Moose/Meta/Attribute.pm line 1094.
	Moose::Meta::Attribute::_process_accessors(Moose::Meta::Attribute=HASH(0x2852f326a30), "accessor", "child_rel_pack", undef) called at /home/njh/perl5/perlbrew/perls/perl-5.20.3-multi/lib/site_perl/5.20.3/OpenBSD.amd64-openbsd-multi/Class/MOP/Attribute.pm line 446
	Class::MOP::Attribute::install_accessors(Moose::Meta::Attribute=HASH(0x2852f326a30)) called at /home/njh/perl5/perlbrew/perls/perl-5.20.3-multi/lib/site_perl/5.20.3/OpenBSD.amd64-openbsd-multi/Moose/Meta/Attribute.pm line 1014
	Moose::Meta::Attribute::install_accessors(Moose::Meta::Attribute=HASH(0x2852f326a30)) called at /tmp/build/MooseX-RelClassTypes-0.03-3/blib/lib/MooseX/RelClassTypes.pm line 76
	Class::MOP::Class:::before("Child") called at /home/njh/perl5/perlbrew/perls/perl-5.20.3-multi/lib/site_perl/5.20.3/OpenBSD.amd64-openbsd-multi/Class/MOP/Method/Wrapped.pm line 43
	Child::_wrapped_BUILDARGS("Child") called at /home/njh/perl5/perlbrew/perls/perl-5.20.3-multi/lib/site_perl/5.20.3/OpenBSD.amd64-openbsd-multi/Class/MOP/Method/Wrapped.pm line 95
	Child::BUILDARGS("Child") called at /home/njh/perl5/perlbrew/perls/perl-5.20.3-multi/lib/site_perl/5.20.3/OpenBSD.amd64-openbsd-multi/Moose/Object.pm line 22
	Moose::Object::new("Child") called at t/00_set_isa.t line 99
You are overwriting a accessor (parent_rel_pack) for the parent_rel_pack attribute (defined at t/00_set_isa.t line 23) with a new accessor method for the parent_rel_pack attribute (defined at t/00_set_isa.t line 23) at /home/njh/perl5/perlbrew/perls/perl-5.20.3-multi/lib/site_perl/5.20.3/OpenBSD.amd64-openbsd-multi/Moose/Meta/Attribute.pm line 1094.
	Moose::Meta::Attribute::_process_accessors(Moose::Meta::Attribute=HASH(0x2851f1a5e38), "accessor", "parent_rel_pack", undef) called at /home/njh/perl5/perlbrew/perls/perl-5.20.3-multi/lib/site_perl/5.20.3/OpenBSD.amd64-openbsd-multi/Class/MOP/Attribute.pm line 446
	Class::MOP::Attribute::install_accessors(Moose::Meta::Attribute=HASH(0x2851f1a5e38)) called at /home/njh/perl5/perlbrew/perls/perl-5.20.3-multi/lib/site_perl/5.20.3/OpenBSD.amd64-openbsd-multi/Moose/Meta/Attribute.pm line 1014
	Moose::Meta::Attribute::install_accessors(Moose::Meta::Attribute=HASH(0x2851f1a5e38)) called at /tmp/build/MooseX-RelClassTypes-0.03-3/blib/lib/MooseX/RelClassTypes.pm line 76
	Class::MOP::Class:::before("Child") called at /home/njh/perl5/perlbrew/perls/perl-5.20.3-multi/lib/site_perl/5.20.3/OpenBSD.amd64-openbsd-multi/Class/MOP/Method/Wrapped.pm line 43
	Parent::_wrapped_BUILDARGS("Child") called at /home/njh/perl5/perlbrew/perls/perl-5.20.3-multi/lib/site_perl/5.20.3/OpenBSD.amd64-openbsd-multi/Class/MOP/Method/Wrapped.pm line 95
	Parent::BUILDARGS("Child") called at /home/njh/perl5/perlbrew/perls/perl-5.20.3-multi/lib/site_perl/5.20.3/OpenBSD.amd64-openbsd-multi/Class/MOP/Method/Wrapped.pm line 44
	Child::_wrapped_BUILDARGS("Child") called at /home/njh/perl5/perlbrew/perls/perl-5.20.3-multi/lib/site_perl/5.20.3/OpenBSD.amd64-openbsd-multi/Class/MOP/Method/Wrapped.pm line 95
	Child::BUILDARGS("Child") called at /home/njh/perl5/perlbrew/perls/perl-5.20.3-multi/lib/site_perl/5.20.3/OpenBSD.amd64-openbsd-multi/Moose/Object.pm line 22
	Moose::Object::new("Child") called at t/00_set_isa.t line 99
You are overwriting a accessor (child_rel_pack) for the child_rel_pack attribute (defined at t/00_set_isa.t line 45) with a new accessor method for the child_rel_pack attribute (defined at t/00_set_isa.t line 45) at /home/njh/perl5/perlbrew/perls/perl-5.20.3-multi/lib/site_perl/5.20.3/OpenBSD.amd64-openbsd-multi/Moose/Meta/Attribute.pm line 1094.
	Moose::Meta::Attribute::_process_accessors(Moose::Meta::Attribute=HASH(0x2852f326a30), "accessor", "child_rel_pack", undef) called at /home/njh/perl5/perlbrew/perls/perl-5.20.3-multi/lib/site_perl/5.20.3/OpenBSD.amd64-openbsd-multi/Class/MOP/Attribute.pm line 446
	Class::MOP::Attribute::install_accessors(Moose::Meta::Attribute=HASH(0x2852f326a30)) called at /home/njh/perl5/perlbrew/perls/perl-5.20.3-multi/lib/site_perl/5.20.3/OpenBSD.amd64-openbsd-multi/Moose/Meta/Attribute.pm line 1014
	Moose::Meta::Attribute::install_accessors(Moose::Meta::Attribute=HASH(0x2852f326a30)) called at /tmp/build/MooseX-RelClassTypes-0.03-3/blib/lib/MooseX/RelClassTypes.pm line 76
	Class::MOP::Class:::before("Child") called at /home/njh/perl5/perlbrew/perls/perl-5.20.3-multi/lib/site_perl/5.20.3/OpenBSD.amd64-openbsd-multi/Class/MOP/Method/Wrapped.pm line 43
	Parent::_wrapped_BUILDARGS("Child") called at /home/njh/perl5/perlbrew/perls/perl-5.20.3-multi/lib/site_perl/5.20.3/OpenBSD.amd64-openbsd-multi/Class/MOP/Method/Wrapped.pm line 95
	Parent::BUILDARGS("Child") called at /home/njh/perl5/perlbrew/perls/perl-5.20.3-multi/lib/site_perl/5.20.3/OpenBSD.amd64-openbsd-multi/Class/MOP/Method/Wrapped.pm line 44
	Child::_wrapped_BUILDARGS("Child") called at /home/njh/perl5/perlbrew/perls/perl-5.20.3-multi/lib/site_perl/5.20.3/OpenBSD.amd64-openbsd-multi/Class/MOP/Method/Wrapped.pm line 95
	Child::BUILDARGS("Child") called at /home/njh/perl5/perlbrew/perls/perl-5.20.3-multi/lib/site_perl/5.20.3/OpenBSD.amd64-openbsd-multi/Moose/Object.pm line 22
	Moose::Object::new("Child") called at t/00_set_isa.t line 99
t/00_set_isa.t ....... ok
You are overwriting a reader (rel_pack) for the rel_pack attribute (defined at t/01_auto_default.t line 54) with a new reader method for the rel_pack attribute (defined at t/01_auto_default.t line 54) at /home/njh/perl5/perlbrew/perls/perl-5.20.3-multi/lib/site_perl/5.20.3/OpenBSD.amd64-openbsd-multi/Moose/Meta/Attribute.pm line 1094.
	Moose::Meta::Attribute::_process_accessors(Moose::Meta::Attribute=HASH(0x1ef7f08f4dc0), "reader", "rel_pack", undef) called at /home/njh/perl5/perlbrew/perls/perl-5.20.3-multi/lib/site_perl/5.20.3/OpenBSD.amd64-openbsd-multi/Class/MOP/Attribute.pm line 450
	Class::MOP::Attribute::install_accessors(Moose::Meta::Attribute=HASH(0x1ef7f08f4dc0)) called at /home/njh/perl5/perlbrew/perls/perl-5.20.3-multi/lib/site_perl/5.20.3/OpenBSD.amd64-openbsd-multi/Moose/Meta/Attribute.pm line 1014
	Moose::Meta::Attribute::install_accessors(Moose::Meta::Attribute=HASH(0x1ef7f08f4dc0)) called at /tmp/build/MooseX-RelClassTypes-0.03-3/blib/lib/MooseX/RelClassTypes.pm line 76
	Class::MOP::Class:::before("TestAD::WithAuto_NoDefault_WithBuilder") called at /home/njh/perl5/perlbrew/perls/perl-5.20.3-multi/lib/site_perl/5.20.3/OpenBSD.amd64-openbsd-multi/Class/MOP/Method/Wrapped.pm line 43
	TestAD::WithAuto_NoDefault_WithBuilder::_wrapped_BUILDARGS("TestAD::WithAuto_NoDefault_WithBuilder") called at /home/njh/perl5/perlbrew/perls/perl-5.20.3-multi/lib/site_perl/5.20.3/OpenBSD.amd64-openbsd-multi/Class/MOP/Method/Wrapped.pm line 95
	TestAD::WithAuto_NoDefault_WithBuilder::BUILDARGS("TestAD::WithAuto_NoDefault_WithBuilder") called at /home/njh/perl5/perlbrew/perls/perl-5.20.3-multi/lib/site_perl/5.20.3/OpenBSD.amd64-openbsd-multi/Moose/Object.pm line 22
	Moose::Object::new("TestAD::WithAuto_NoDefault_WithBuilder") called at t/01_auto_default.t line 143
You are overwriting a reader (rel_pack) for the rel_pack attribute (defined at t/01_auto_default.t line 37) with a new reader method for the rel_pack attribute (defined at t/01_auto_default.t line 37) at /home/njh/perl5/perlbrew/perls/perl-5.20.3-multi/lib/site_perl/5.20.3/OpenBSD.amd64-openbsd-multi/Moose/Meta/Attribute.pm line 1094.
	Moose::Meta::Attribute::_process_accessors(Moose::Meta::Attribute=HASH(0x1ef7bb17cdc0), "reader", "rel_pack", undef) called at /home/njh/perl5/perlbrew/perls/perl-5.20.3-multi/lib/site_perl/5.20.3/OpenBSD.amd64-openbsd-multi/Class/MOP/Attribute.pm line 450
	Class::MOP::Attribute::install_accessors(Moose::Meta::Attribute=HASH(0x1ef7bb17cdc0)) called at /home/njh/perl5/perlbrew/perls/perl-5.20.3-multi/lib/site_perl/5.20.3/OpenBSD.amd64-openbsd-multi/Moose/Meta/Attribute.pm line 1014
	Moose::Meta::Attribute::install_accessors(Moose::Meta::Attribute=HASH(0x1ef7bb17cdc0)) called at /tmp/build/MooseX-RelClassTypes-0.03-3/blib/lib/MooseX/RelClassTypes.pm line 76
	Class::MOP::Class:::before("TestAD::NoAuto_WithDefault_NoBuilder") called at /home/njh/perl5/perlbrew/perls/perl-5.20.3-multi/lib/site_perl/5.20.3/OpenBSD.amd64-openbsd-multi/Class/MOP/Method/Wrapped.pm line 43
	TestAD::NoAuto_WithDefault_NoBuilder::_wrapped_BUILDARGS("TestAD::NoAuto_WithDefault_NoBuilder") called at /home/njh/perl5/perlbrew/perls/perl-5.20.3-multi/lib/site_perl/5.20.3/OpenBSD.amd64-openbsd-multi/Class/MOP/Method/Wrapped.pm line 95
	TestAD::NoAuto_WithDefault_NoBuilder::BUILDARGS("TestAD::NoAuto_WithDefault_NoBuilder") called at /home/njh/perl5/perlbrew/perls/perl-5.20.3-multi/lib/site_perl/5.20.3/OpenBSD.amd64-openbsd-multi/Moose/Object.pm line 22
	Moose::Object::new("TestAD::NoAuto_WithDefault_NoBuilder") called at t/01_auto_default.t line 143
You are overwriting a reader (rel_pack) for the rel_pack attribute (defined at t/01_auto_default.t line 71) with a new reader method for the rel_pack attribute (defined at t/01_auto_default.t line 71) at /home/njh/perl5/perlbrew/perls/perl-5.20.3-multi/lib/site_perl/5.20.3/OpenBSD.amd64-openbsd-multi/Moose/Meta/Attribute.pm line 1094.
	Moose::Meta::Attribute::_process_accessors(Moose::Meta::Attribute=HASH(0x1ef7ed0d7df0), "reader", "rel_pack", undef) called at /home/njh/perl5/perlbrew/perls/perl-5.20.3-multi/lib/site_perl/5.20.3/OpenBSD.amd64-openbsd-multi/Class/MOP/Attribute.pm line 450
	Class::MOP::Attribute::install_accessors(Moose::Meta::Attribute=HASH(0x1ef7ed0d7df0)) called at /home/njh/perl5/perlbrew/perls/perl-5.20.3-multi/lib/site_perl/5.20.3/OpenBSD.amd64-openbsd-multi/Moose/Meta/Attribute.pm line 1014
	Moose::Meta::Attribute::install_accessors(Moose::Meta::Attribute=HASH(0x1ef7ed0d7df0)) called at /tmp/build/MooseX-RelClassTypes-0.03-3/blib/lib/MooseX/RelClassTypes.pm line 76
	Class::MOP::Class:::before("TestAD::WithAuto_WithDefault_NoBuilder") called at /home/njh/perl5/perlbrew/perls/perl-5.20.3-multi/lib/site_perl/5.20.3/OpenBSD.amd64-openbsd-multi/Class/MOP/Method/Wrapped.pm line 43
	TestAD::WithAuto_WithDefault_NoBuilder::_wrapped_BUILDARGS("TestAD::WithAuto_WithDefault_NoBuilder") called at /home/njh/perl5/perlbrew/perls/perl-5.20.3-multi/lib/site_perl/5.20.3/OpenBSD.amd64-openbsd-multi/Class/MOP/Method/Wrapped.pm line 95
	TestAD::WithAuto_WithDefault_NoBuilder::BUILDARGS("TestAD::WithAuto_WithDefault_NoBuilder") called at /home/njh/perl5/perlbrew/perls/perl-5.20.3-multi/lib/site_perl/5.20.3/OpenBSD.amd64-openbsd-multi/Moose/Object.pm line 22
	Moose::Object::new("TestAD::WithAuto_WithDefault_NoBuilder") called at t/01_auto_default.t line 143
You are overwriting a reader (rel_pack) for the rel_pack attribute (defined at t/01_auto_default.t line 11) with a new reader method for the rel_pack attribute (defined at t/01_auto_default.t line 11) at /home/njh/perl5/perlbrew/perls/perl-5.20.3-multi/lib/site_perl/5.20.3/OpenBSD.amd64-openbsd-multi/Moose/Meta/Attribute.pm line 1094.
	Moose::Meta::Attribute::_process_accessors(Moose::Meta::Attribute=HASH(0x1ef7ca0a5e50), "reader", "rel_pack", undef) called at /home/njh/perl5/perlbrew/perls/perl-5.20.3-multi/lib/site_perl/5.20.3/OpenBSD.amd64-openbsd-multi/Class/MOP/Attribute.pm line 450
	Class::MOP::Attribute::install_accessors(Moose::Meta::Attribute=HASH(0x1ef7ca0a5e50)) called at /home/njh/perl5/perlbrew/perls/perl-5.20.3-multi/lib/site_perl/5.20.3/OpenBSD.amd64-openbsd-multi/Moose/Meta/Attribute.pm line 1014
	Moose::Meta::Attribute::install_accessors(Moose::Meta::Attribute=HASH(0x1ef7ca0a5e50)) called at /tmp/build/MooseX-RelClassTypes-0.03-3/blib/lib/MooseX/RelClassTypes.pm line 76
	Class::MOP::Class:::before("TestAD::NoAuto_NoDefault_NoBuilder") called at /home/njh/perl5/perlbrew/perls/perl-5.20.3-multi/lib/site_perl/5.20.3/OpenBSD.amd64-openbsd-multi/Class/MOP/Method/Wrapped.pm line 43
	TestAD::NoAuto_NoDefault_NoBuilder::_wrapped_BUILDARGS("TestAD::NoAuto_NoDefault_NoBuilder") called at /home/njh/perl5/perlbrew/perls/perl-5.20.3-multi/lib/site_perl/5.20.3/OpenBSD.amd64-openbsd-multi/Class/MOP/Method/Wrapped.pm line 95
	TestAD::NoAuto_NoDefault_NoBuilder::BUILDARGS("TestAD::NoAuto_NoDefault_NoBuilder") called at /home/njh/perl5/perlbrew/perls/perl-5.20.3-multi/lib/site_perl/5.20.3/OpenBSD.amd64-openbsd-multi/Moose/Object.pm line 22
	Moose::Object::new("TestAD::NoAuto_NoDefault_NoBuilder") called at t/01_auto_default.t line 143
You are overwriting a reader (rel_pack) for the rel_pack attribute (defined at t/01_auto_default.t line 45) with a new reader method for the rel_pack attribute (defined at t/01_auto_default.t line 45) at /home/njh/perl5/perlbrew/perls/perl-5.20.3-multi/lib/site_perl/5.20.3/OpenBSD.amd64-openbsd-multi/Moose/Meta/Attribute.pm line 1094.
	Moose::Meta::Attribute::_process_accessors(Moose::Meta::Attribute=HASH(0x1ef81dbe6c88), "reader", "rel_pack", undef) called at /home/njh/perl5/perlbrew/perls/perl-5.20.3-multi/lib/site_perl/5.20.3/OpenBSD.amd64-openbsd-multi/Class/MOP/Attribute.pm line 450
	Class::MOP::Attribute::install_accessors(Moose::Meta::Attribute=HASH(0x1ef81dbe6c88)) called at /home/njh/perl5/perlbrew/perls/perl-5.20.3-multi/lib/site_perl/5.20.3/OpenBSD.amd64-openbsd-multi/Moose/Meta/Attribute.pm line 1014
	Moose::Meta::Attribute::install_accessors(Moose::Meta::Attribute=HASH(0x1ef81dbe6c88)) called at /tmp/build/MooseX-RelClassTypes-0.03-3/blib/lib/MooseX/RelClassTypes.pm line 76
	Class::MOP::Class:::before("TestAD::WithAuto_NoDefault_NoBuilder") called at /home/njh/perl5/perlbrew/perls/perl-5.20.3-multi/lib/site_perl/5.20.3/OpenBSD.amd64-openbsd-multi/Class/MOP/Method/Wrapped.pm line 43
	TestAD::WithAuto_NoDefault_NoBuilder::_wrapped_BUILDARGS("TestAD::WithAuto_NoDefault_NoBuilder") called at /home/njh/perl5/perlbrew/perls/perl-5.20.3-multi/lib/site_perl/5.20.3/OpenBSD.amd64-openbsd-multi/Class/MOP/Method/Wrapped.pm line 95
	TestAD::WithAuto_NoDefault_NoBuilder::BUILDARGS("TestAD::WithAuto_NoDefault_NoBuilder") called at /home/njh/perl5/perlbrew/perls/perl-5.20.3-multi/lib/site_perl/5.20.3/OpenBSD.amd64-openbsd-multi/Moose/Object.pm line 22
	Moose::Object::new("TestAD::WithAuto_NoDefault_NoBuilder") called at t/01_auto_default.t line 143
You are overwriting a reader (rel_pack) for the rel_pack attribute (defined at t/01_auto_default.t line 20) with a new reader method for the rel_pack attribute (defined at t/01_auto_default.t line 20) at /home/njh/perl5/perlbrew/perls/perl-5.20.3-multi/lib/site_perl/5.20.3/OpenBSD.amd64-openbsd-multi/Moose/Meta/Attribute.pm line 1094.
	Moose::Meta::Attribute::_process_accessors(Moose::Meta::Attribute=HASH(0x1ef78a48dd90), "reader", "rel_pack", undef) called at /home/njh/perl5/perlbrew/perls/perl-5.20.3-multi/lib/site_perl/5.20.3/OpenBSD.amd64-openbsd-multi/Class/MOP/Attribute.pm line 450
	Class::MOP::Attribute::install_accessors(Moose::Meta::Attribute=HASH(0x1ef78a48dd90)) called at /home/njh/perl5/perlbrew/perls/perl-5.20.3-multi/lib/site_perl/5.20.3/OpenBSD.amd64-openbsd-multi/Moose/Meta/Attribute.pm line 1014
	Moose::Meta::Attribute::install_accessors(Moose::Meta::Attribute=HASH(0x1ef78a48dd90)) called at /tmp/build/MooseX-RelClassTypes-0.03-3/blib/lib/MooseX/RelClassTypes.pm line 76
	Class::MOP::Class:::before("TestAD::NoAuto_NoDefault_WithBuilder") called at /home/njh/perl5/perlbrew/perls/perl-5.20.3-multi/lib/site_perl/5.20.3/OpenBSD.amd64-openbsd-multi/Class/MOP/Method/Wrapped.pm line 43
	TestAD::NoAuto_NoDefault_WithBuilder::_wrapped_BUILDARGS("TestAD::NoAuto_NoDefault_WithBuilder") called at /home/njh/perl5/perlbrew/perls/perl-5.20.3-multi/lib/site_perl/5.20.3/OpenBSD.amd64-openbsd-multi/Class/MOP/Method/Wrapped.pm line 95
	TestAD::NoAuto_NoDefault_WithBuilder::BUILDARGS("TestAD::NoAuto_NoDefault_WithBuilder") called at /home/njh/perl5/perlbrew/perls/perl-5.20.3-multi/lib/site_perl/5.20.3/OpenBSD.amd64-openbsd-multi/Moose/Object.pm line 22
	Moose::Object::new("TestAD::NoAuto_NoDefault_WithBuilder") called at t/01_auto_default.t line 143
t/01_auto_default.t .. ok
You are overwriting a reader (alt_pack) for the alt_pack attribute (defined at t/02_parser.t line 24) with a new reader method for the alt_pack attribute (defined at t/02_parser.t line 24) at /home/njh/perl5/perlbrew/perls/perl-5.20.3-multi/lib/site_perl/5.20.3/OpenBSD.amd64-openbsd-multi/Moose/Meta/Attribute.pm line 1094.
	Moose::Meta::Attribute::_process_accessors(Moose::Meta::Attribute=HASH(0xd4595c9d7c0), "reader", "alt_pack", undef) called at /home/njh/perl5/perlbrew/perls/perl-5.20.3-multi/lib/site_perl/5.20.3/OpenBSD.amd64-openbsd-multi/Class/MOP/Attribute.pm line 450
	Class::MOP::Attribute::install_accessors(Moose::Meta::Attribute=HASH(0xd4595c9d7c0)) called at /home/njh/perl5/perlbrew/perls/perl-5.20.3-multi/lib/site_perl/5.20.3/OpenBSD.amd64-openbsd-multi/Moose/Meta/Attribute.pm line 1014
	Moose::Meta::Attribute::install_accessors(Moose::Meta::Attribute=HASH(0xd4595c9d7c0)) called at /tmp/build/MooseX-RelClassTypes-0.03-3/blib/lib/MooseX/RelClassTypes.pm line 76
	Class::MOP::Class:::before("TestParser::AngleBK") called at /home/njh/perl5/perlbrew/perls/perl-5.20.3-multi/lib/site_perl/5.20.3/OpenBSD.amd64-openbsd-multi/Class/MOP/Method/Wrapped.pm line 43
	TestParser::AngleBK::_wrapped_BUILDARGS("TestParser::AngleBK") called at /home/njh/perl5/perlbrew/perls/perl-5.20.3-multi/lib/site_perl/5.20.3/OpenBSD.amd64-openbsd-multi/Class/MOP/Method/Wrapped.pm line 95
	TestParser::AngleBK::BUILDARGS("TestParser::AngleBK") called at /home/njh/perl5/perlbrew/perls/perl-5.20.3-multi/lib/site_perl/5.20.3/OpenBSD.amd64-openbsd-multi/Moose/Object.pm line 22
	Moose::Object::new("TestParser::AngleBK") called at t/02_parser.t line 87
You are overwriting a reader (rel_pack) for the rel_pack attribute (defined at t/02_parser.t line 19) with a new reader method for the rel_pack attribute (defined at t/02_parser.t line 19) at /home/njh/perl5/perlbrew/perls/perl-5.20.3-multi/lib/site_perl/5.20.3/OpenBSD.amd64-openbsd-multi/Moose/Meta/Attribute.pm line 1094.
	Moose::Meta::Attribute::_process_accessors(Moose::Meta::Attribute=HASH(0xd4595c9d0d0), "reader", "rel_pack", undef) called at /home/njh/perl5/perlbrew/perls/perl-5.20.3-multi/lib/site_perl/5.20.3/OpenBSD.amd64-openbsd-multi/Class/MOP/Attribute.pm line 450
	Class::MOP::Attribute::install_accessors(Moose::Meta::Attribute=HASH(0xd4595c9d0d0)) called at /home/njh/perl5/perlbrew/perls/perl-5.20.3-multi/lib/site_perl/5.20.3/OpenBSD.amd64-openbsd-multi/Moose/Meta/Attribute.pm line 1014
	Moose::Meta::Attribute::install_accessors(Moose::Meta::Attribute=HASH(0xd4595c9d0d0)) called at /tmp/build/MooseX-RelClassTypes-0.03-3/blib/lib/MooseX/RelClassTypes.pm line 76
	Class::MOP::Class:::before("TestParser::AngleBK") called at /home/njh/perl5/perlbrew/perls/perl-5.20.3-multi/lib/site_perl/5.20.3/OpenBSD.amd64-openbsd-multi/Class/MOP/Method/Wrapped.pm line 43
	TestParser::AngleBK::_wrapped_BUILDARGS("TestParser::AngleBK") called at /home/njh/perl5/perlbrew/perls/perl-5.20.3-multi/lib/site_perl/5.20.3/OpenBSD.amd64-openbsd-multi/Class/MOP/Method/Wrapped.pm line 95
	TestParser::AngleBK::BUILDARGS("TestParser::AngleBK") called at /home/njh/perl5/perlbrew/perls/perl-5.20.3-multi/lib/site_perl/5.20.3/OpenBSD.amd64-openbsd-multi/Moose/Object.pm line 22
	Moose::Object::new("TestParser::AngleBK") called at t/02_parser.t line 87
You are overwriting a reader (alt_pack) for the alt_pack attribute (defined at t/02_parser.t line 47) with a new reader method for the alt_pack attribute (defined at t/02_parser.t line 47) at /home/njh/perl5/perlbrew/perls/perl-5.20.3-multi/lib/site_perl/5.20.3/OpenBSD.amd64-openbsd-multi/Moose/Meta/Attribute.pm line 1094.
	Moose::Meta::Attribute::_process_accessors(Moose::Meta::Attribute=HASH(0xd450484a820), "reader", "alt_pack", undef) called at /home/njh/perl5/perlbrew/perls/perl-5.20.3-multi/lib/site_perl/5.20.3/OpenBSD.amd64-openbsd-multi/Class/MOP/Attribute.pm line 450
	Class::MOP::Attribute::install_accessors(Moose::Meta::Attribute=HASH(0xd450484a820)) called at /home/njh/perl5/perlbrew/perls/perl-5.20.3-multi/lib/site_perl/5.20.3/OpenBSD.amd64-openbsd-multi/Moose/Meta/Attribute.pm line 1014
	Moose::Meta::Attribute::install_accessors(Moose::Meta::Attribute=HASH(0xd450484a820)) called at /tmp/build/MooseX-RelClassTypes-0.03-3/blib/lib/MooseX/RelClassTypes.pm line 76
	Class::MOP::Class:::before("TestParser::RoundBK") called at /home/njh/perl5/perlbrew/perls/perl-5.20.3-multi/lib/site_perl/5.20.3/OpenBSD.amd64-openbsd-multi/Class/MOP/Method/Wrapped.pm line 43
	TestParser::RoundBK::_wrapped_BUILDARGS("TestParser::RoundBK") called at /home/njh/perl5/perlbrew/perls/perl-5.20.3-multi/lib/site_perl/5.20.3/OpenBSD.amd64-openbsd-multi/Class/MOP/Method/Wrapped.pm line 95
	TestParser::RoundBK::BUILDARGS("TestParser::RoundBK") called at /home/njh/perl5/perlbrew/perls/perl-5.20.3-multi/lib/site_perl/5.20.3/OpenBSD.amd64-openbsd-multi/Moose/Object.pm line 22
	Moose::Object::new("TestParser::RoundBK") called at t/02_parser.t line 87
You are overwriting a reader (rel_pack) for the rel_pack attribute (defined at t/02_parser.t line 42) with a new reader method for the rel_pack attribute (defined at t/02_parser.t line 42) at /home/njh/perl5/perlbrew/perls/perl-5.20.3-multi/lib/site_perl/5.20.3/OpenBSD.amd64-openbsd-multi/Moose/Meta/Attribute.pm line 1094.
	Moose::Meta::Attribute::_process_accessors(Moose::Meta::Attribute=HASH(0xd450484a1a8), "reader", "rel_pack", undef) called at /home/njh/perl5/perlbrew/perls/perl-5.20.3-multi/lib/site_perl/5.20.3/OpenBSD.amd64-openbsd-multi/Class/MOP/Attribute.pm line 450
	Class::MOP::Attribute::install_accessors(Moose::Meta::Attribute=HASH(0xd450484a1a8)) called at /home/njh/perl5/perlbrew/perls/perl-5.20.3-multi/lib/site_perl/5.20.3/OpenBSD.amd64-openbsd-multi/Moose/Meta/Attribute.pm line 1014
	Moose::Meta::Attribute::install_accessors(Moose::Meta::Attribute=HASH(0xd450484a1a8)) called at /tmp/build/MooseX-RelClassTypes-0.03-3/blib/lib/MooseX/RelClassTypes.pm line 76
	Class::MOP::Class:::before("TestParser::RoundBK") called at /home/njh/perl5/perlbrew/perls/perl-5.20.3-multi/lib/site_perl/5.20.3/OpenBSD.amd64-openbsd-multi/Class/MOP/Method/Wrapped.pm line 43
	TestParser::RoundBK::_wrapped_BUILDARGS("TestParser::RoundBK") called at /home/njh/perl5/perlbrew/perls/perl-5.20.3-multi/lib/site_perl/5.20.3/OpenBSD.amd64-openbsd-multi/Class/MOP/Method/Wrapped.pm line 95
	TestParser::RoundBK::BUILDARGS("TestParser::RoundBK") called at /home/njh/perl5/perlbrew/perls/perl-5.20.3-multi/lib/site_perl/5.20.3/OpenBSD.amd64-openbsd-multi/Moose/Object.pm line 22
	Moose::Object::new("TestParser::RoundBK") called at t/02_parser.t line 87
t/02_parser.t ........ ok
You are overwriting a accessor (child_rel_pack) for the child_rel_pack attribute (defined at t/03_lazy.t line 32) with a new accessor method for the child_rel_pack attribute (defined at t/03_lazy.t line 32) at /home/njh/perl5/perlbrew/perls/perl-5.20.3-multi/lib/site_perl/5.20.3/OpenBSD.amd64-openbsd-multi/Moose/Meta/Attribute.pm line 1094.
	Moose::Meta::Attribute::_process_accessors(Moose::Meta::Attribute=HASH(0x6abd464088), "accessor", "child_rel_pack", undef) called at /home/njh/perl5/perlbrew/perls/perl-5.20.3-multi/lib/site_perl/5.20.3/OpenBSD.amd64-openbsd-multi/Class/MOP/Attribute.pm line 446
	Class::MOP::Attribute::install_accessors(Moose::Meta::Attribute=HASH(0x6abd464088)) called at /home/njh/perl5/perlbrew/perls/perl-5.20.3-multi/lib/site_perl/5.20.3/OpenBSD.amd64-openbsd-multi/Moose/Meta/Attribute.pm line 1014
	Moose::Meta::Attribute::install_accessors(Moose::Meta::Attribute=HASH(0x6abd464088)) called at /tmp/build/MooseX-RelClassTypes-0.03-3/blib/lib/MooseX/RelClassTypes.pm line 76
	Class::MOP::Class:::before("LazyParent::Child") called at /home/njh/perl5/perlbrew/perls/perl-5.20.3-multi/lib/site_perl/5.20.3/OpenBSD.amd64-openbsd-multi/Class/MOP/Method/Wrapped.pm line 43
	LazyParent::Child::_wrapped_BUILDARGS("LazyParent::Child") called at /home/njh/perl5/perlbrew/perls/perl-5.20.3-multi/lib/site_perl/5.20.3/OpenBSD.amd64-openbsd-multi/Class/MOP/Method/Wrapped.pm line 95
	LazyParent::Child::BUILDARGS("LazyParent::Child") called at /home/njh/perl5/perlbrew/perls/perl-5.20.3-multi/lib/site_perl/5.20.3/OpenBSD.amd64-openbsd-multi/Moose/Object.pm line 22
	Moose::Object::new("LazyParent::Child") called at t/03_lazy.t line 248
You are overwriting a accessor (parent_rel_pack) for the parent_rel_pack attribute (defined at t/03_lazy.t line 22) with a new accessor method for the parent_rel_pack attribute (defined at t/03_lazy.t line 22) at /home/njh/perl5/perlbrew/perls/perl-5.20.3-multi/lib/site_perl/5.20.3/OpenBSD.amd64-openbsd-multi/Moose/Meta/Attribute.pm line 1094.
	Moose::Meta::Attribute::_process_accessors(Moose::Meta::Attribute=HASH(0x6ac5906df0), "accessor", "parent_rel_pack", undef) called at /home/njh/perl5/perlbrew/perls/perl-5.20.3-multi/lib/site_perl/5.20.3/OpenBSD.amd64-openbsd-multi/Class/MOP/Attribute.pm line 446
	Class::MOP::Attribute::install_accessors(Moose::Meta::Attribute=HASH(0x6ac5906df0)) called at /home/njh/perl5/perlbrew/perls/perl-5.20.3-multi/lib/site_perl/5.20.3/OpenBSD.amd64-openbsd-multi/Moose/Meta/Attribute.pm line 1014
	Moose::Meta::Attribute::install_accessors(Moose::Meta::Attribute=HASH(0x6ac5906df0)) called at /tmp/build/MooseX-RelClassTypes-0.03-3/blib/lib/MooseX/RelClassTypes.pm line 76
	Class::MOP::Class:::before("LazyParent::Child") called at /home/njh/perl5/perlbrew/perls/perl-5.20.3-multi/lib/site_perl/5.20.3/OpenBSD.amd64-openbsd-multi/Class/MOP/Method/Wrapped.pm line 43
	LazyParent::Child::_wrapped_BUILDARGS("LazyParent::Child") called at /home/njh/perl5/perlbrew/perls/perl-5.20.3-multi/lib/site_perl/5.20.3/OpenBSD.amd64-openbsd-multi/Class/MOP/Method/Wrapped.pm line 95
	LazyParent::Child::BUILDARGS("LazyParent::Child") called at /home/njh/perl5/perlbrew/perls/perl-5.20.3-multi/lib/site_perl/5.20.3/OpenBSD.amd64-openbsd-multi/Moose/Object.pm line 22
	Moose::Object::new("LazyParent::Child") called at t/03_lazy.t line 248
You are overwriting a accessor (child_rel_pack) for the child_rel_pack attribute (defined at t/03_lazy.t line 32) with a new accessor method for the child_rel_pack attribute (defined at t/03_lazy.t line 32) at /home/njh/perl5/perlbrew/perls/perl-5.20.3-multi/lib/site_perl/5.20.3/OpenBSD.amd64-openbsd-multi/Moose/Meta/Attribute.pm line 1094.
	Moose::Meta::Attribute::_process_accessors(Moose::Meta::Attribute=HASH(0x6abd464088), "accessor", "child_rel_pack", undef) called at /home/njh/perl5/perlbrew/perls/perl-5.20.3-multi/lib/site_perl/5.20.3/OpenBSD.amd64-openbsd-multi/Class/MOP/Attribute.pm line 446
	Class::MOP::Attribute::install_accessors(Moose::Meta::Attribute=HASH(0x6abd464088)) called at /home/njh/perl5/perlbrew/perls/perl-5.20.3-multi/lib/site_perl/5.20.3/OpenBSD.amd64-openbsd-multi/Moose/Meta/Attribute.pm line 1014
	Moose::Meta::Attribute::install_accessors(Moose::Meta::Attribute=HASH(0x6abd464088)) called at /tmp/build/MooseX-RelClassTypes-0.03-3/blib/lib/MooseX/RelClassTypes.pm line 76
	Class::MOP::Class:::before("LazyParent::Child") called at /home/njh/perl5/perlbrew/perls/perl-5.20.3-multi/lib/site_perl/5.20.3/OpenBSD.amd64-openbsd-multi/Class/MOP/Method/Wrapped.pm line 43
	LazyParent::Parent::_wrapped_BUILDARGS("LazyParent::Child") called at /home/njh/perl5/perlbrew/perls/perl-5.20.3-multi/lib/site_perl/5.20.3/OpenBSD.amd64-openbsd-multi/Class/MOP/Method/Wrapped.pm line 95
	LazyParent::Parent::BUILDARGS("LazyParent::Child") called at /home/njh/perl5/perlbrew/perls/perl-5.20.3-multi/lib/site_perl/5.20.3/OpenBSD.amd64-openbsd-multi/Class/MOP/Method/Wrapped.pm line 44
	LazyParent::Child::_wrapped_BUILDARGS("LazyParent::Child") called at /home/njh/perl5/perlbrew/perls/perl-5.20.3-multi/lib/site_perl/5.20.3/OpenBSD.amd64-openbsd-multi/Class/MOP/Method/Wrapped.pm line 95
	LazyParent::Child::BUILDARGS("LazyParent::Child") called at /home/njh/perl5/perlbrew/perls/perl-5.20.3-multi/lib/site_perl/5.20.3/OpenBSD.amd64-openbsd-multi/Moose/Object.pm line 22
	Moose::Object::new("LazyParent::Child") called at t/03_lazy.t line 248
You are overwriting a accessor (parent_rel_pack) for the parent_rel_pack attribute (defined at t/03_lazy.t line 22) with a new accessor method for the parent_rel_pack attribute (defined at t/03_lazy.t line 22) at /home/njh/perl5/perlbrew/perls/perl-5.20.3-multi/lib/site_perl/5.20.3/OpenBSD.amd64-openbsd-multi/Moose/Meta/Attribute.pm line 1094.
	Moose::Meta::Attribute::_process_accessors(Moose::Meta::Attribute=HASH(0x6ac5906df0), "accessor", "parent_rel_pack", undef) called at /home/njh/perl5/perlbrew/perls/perl-5.20.3-multi/lib/site_perl/5.20.3/OpenBSD.amd64-openbsd-multi/Class/MOP/Attribute.pm line 446
	Class::MOP::Attribute::install_accessors(Moose::Meta::Attribute=HASH(0x6ac5906df0)) called at /home/njh/perl5/perlbrew/perls/perl-5.20.3-multi/lib/site_perl/5.20.3/OpenBSD.amd64-openbsd-multi/Moose/Meta/Attribute.pm line 1014
	Moose::Meta::Attribute::install_accessors(Moose::Meta::Attribute=HASH(0x6ac5906df0)) called at /tmp/build/MooseX-RelClassTypes-0.03-3/blib/lib/MooseX/RelClassTypes.pm line 76
	Class::MOP::Class:::before("LazyParent::Child") called at /home/njh/perl5/perlbrew/perls/perl-5.20.3-multi/lib/site_perl/5.20.3/OpenBSD.amd64-openbsd-multi/Class/MOP/Method/Wrapped.pm line 43
	LazyParent::Parent::_wrapped_BUILDARGS("LazyParent::Child") called at /home/njh/perl5/perlbrew/perls/perl-5.20.3-multi/lib/site_perl/5.20.3/OpenBSD.amd64-openbsd-multi/Class/MOP/Method/Wrapped.pm line 95
	LazyParent::Parent::BUILDARGS("LazyParent::Child") called at /home/njh/perl5/perlbrew/perls/perl-5.20.3-multi/lib/site_perl/5.20.3/OpenBSD.amd64-openbsd-multi/Class/MOP/Method/Wrapped.pm line 44
	LazyParent::Child::_wrapped_BUILDARGS("LazyParent::Child") called at /home/njh/perl5/perlbrew/perls/perl-5.20.3-multi/lib/site_perl/5.20.3/OpenBSD.amd64-openbsd-multi/Class/MOP/Method/Wrapped.pm line 95
	LazyParent::Child::BUILDARGS("LazyParent::Child") called at /home/njh/perl5/perlbrew/perls/perl-5.20.3-multi/lib/site_perl/5.20.3/OpenBSD.amd64-openbsd-multi/Moose/Object.pm line 22
	Moose::Object::new("LazyParent::Child") called at t/03_lazy.t line 248
You are overwriting a accessor (child_rel_pack) for the child_rel_pack attribute (defined at t/03_lazy.t line 86) with a new accessor method for the child_rel_pack attribute (defined at t/03_lazy.t line 86) at /home/njh/perl5/perlbrew/perls/perl-5.20.3-multi/lib/site_perl/5.20.3/OpenBSD.amd64-openbsd-multi/Moose/Meta/Attribute.pm line 1094.
	Moose::Meta::Attribute::_process_accessors(Moose::Meta::Attribute=HASH(0x6b4f8f95b0), "accessor", "child_rel_pack", undef) called at /home/njh/perl5/perlbrew/perls/perl-5.20.3-multi/lib/site_perl/5.20.3/OpenBSD.amd64-openbsd-multi/Class/MOP/Attribute.pm line 446
	Class::MOP::Attribute::install_accessors(Moose::Meta::Attribute=HASH(0x6b4f8f95b0)) called at /home/njh/perl5/perlbrew/perls/perl-5.20.3-multi/lib/site_perl/5.20.3/OpenBSD.amd64-openbsd-multi/Moose/Meta/Attribute.pm line 1014
	Moose::Meta::Attribute::install_accessors(Moose::Meta::Attribute=HASH(0x6b4f8f95b0)) called at /tmp/build/MooseX-RelClassTypes-0.03-3/blib/lib/MooseX/RelClassTypes.pm line 76
	Class::MOP::Class:::before("LazyChild::Child") called at /home/njh/perl5/perlbrew/perls/perl-5.20.3-multi/lib/site_perl/5.20.3/OpenBSD.amd64-openbsd-multi/Class/MOP/Method/Wrapped.pm line 43
	LazyChild::Child::_wrapped_BUILDARGS("LazyChild::Child") called at /home/njh/perl5/perlbrew/perls/perl-5.20.3-multi/lib/site_perl/5.20.3/OpenBSD.amd64-openbsd-multi/Class/MOP/Method/Wrapped.pm line 95
	LazyChild::Child::BUILDARGS("LazyChild::Child") called at /home/njh/perl5/perlbrew/perls/perl-5.20.3-multi/lib/site_perl/5.20.3/OpenBSD.amd64-openbsd-multi/Moose/Object.pm line 22
	Moose::Object::new("LazyChild::Child") called at t/03_lazy.t line 248
You are overwriting a accessor (parent_rel_pack) for the parent_rel_pack attribute (defined at t/03_lazy.t line 66) with a new accessor method for the parent_rel_pack attribute (defined at t/03_lazy.t line 66) at /home/njh/perl5/perlbrew/perls/perl-5.20.3-multi/lib/site_perl/5.20.3/OpenBSD.amd64-openbsd-multi/Moose/Meta/Attribute.pm line 1094.
	Moose::Meta::Attribute::_process_accessors(Moose::Meta::Attribute=HASH(0x6ab862d178), "accessor", "parent_rel_pack", undef) called at /home/njh/perl5/perlbrew/perls/perl-5.20.3-multi/lib/site_perl/5.20.3/OpenBSD.amd64-openbsd-multi/Class/MOP/Attribute.pm line 446
	Class::MOP::Attribute::install_accessors(Moose::Meta::Attribute=HASH(0x6ab862d178)) called at /home/njh/perl5/perlbrew/perls/perl-5.20.3-multi/lib/site_perl/5.20.3/OpenBSD.amd64-openbsd-multi/Moose/Meta/Attribute.pm line 1014
	Moose::Meta::Attribute::install_accessors(Moose::Meta::Attribute=HASH(0x6ab862d178)) called at /tmp/build/MooseX-RelClassTypes-0.03-3/blib/lib/MooseX/RelClassTypes.pm line 76
	Class::MOP::Class:::before("LazyChild::Child") called at /home/njh/perl5/perlbrew/perls/perl-5.20.3-multi/lib/site_perl/5.20.3/OpenBSD.amd64-openbsd-multi/Class/MOP/Method/Wrapped.pm line 43
	LazyChild::Child::_wrapped_BUILDARGS("LazyChild::Child") called at /home/njh/perl5/perlbrew/perls/perl-5.20.3-multi/lib/site_perl/5.20.3/OpenBSD.amd64-openbsd-multi/Class/MOP/Method/Wrapped.pm line 95
	LazyChild::Child::BUILDARGS("LazyChild::Child") called at /home/njh/perl5/perlbrew/perls/perl-5.20.3-multi/lib/site_perl/5.20.3/OpenBSD.amd64-openbsd-multi/Moose/Object.pm line 22
	Moose::Object::new("LazyChild::Child") called at t/03_lazy.t line 248
You are overwriting a accessor (child_rel_pack) for the child_rel_pack attribute (defined at t/03_lazy.t line 86) with a new accessor method for the child_rel_pack attribute (defined at t/03_lazy.t line 86) at /home/njh/perl5/perlbrew/perls/perl-5.20.3-multi/lib/site_perl/5.20.3/OpenBSD.amd64-openbsd-multi/Moose/Meta/Attribute.pm line 1094.
	Moose::Meta::Attribute::_process_accessors(Moose::Meta::Attribute=HASH(0x6b4f8f95b0), "accessor", "child_rel_pack", undef) called at /home/njh/perl5/perlbrew/perls/perl-5.20.3-multi/lib/site_perl/5.20.3/OpenBSD.amd64-openbsd-multi/Class/MOP/Attribute.pm line 446
	Class::MOP::Attribute::install_accessors(Moose::Meta::Attribute=HASH(0x6b4f8f95b0)) called at /home/njh/perl5/perlbrew/perls/perl-5.20.3-multi/lib/site_perl/5.20.3/OpenBSD.amd64-openbsd-multi/Moose/Meta/Attribute.pm line 1014
	Moose::Meta::Attribute::install_accessors(Moose::Meta::Attribute=HASH(0x6b4f8f95b0)) called at /tmp/build/MooseX-RelClassTypes-0.03-3/blib/lib/MooseX/RelClassTypes.pm line 76
	Class::MOP::Class:::before("LazyChild::Child") called at /home/njh/perl5/perlbrew/perls/perl-5.20.3-multi/lib/site_perl/5.20.3/OpenBSD.amd64-openbsd-multi/Class/MOP/Method/Wrapped.pm line 43
	LazyChild::Parent::_wrapped_BUILDARGS("LazyChild::Child") called at /home/njh/perl5/perlbrew/perls/perl-5.20.3-multi/lib/site_perl/5.20.3/OpenBSD.amd64-openbsd-multi/Class/MOP/Method/Wrapped.pm line 95
	LazyChild::Parent::BUILDARGS("LazyChild::Child") called at /home/njh/perl5/perlbrew/perls/perl-5.20.3-multi/lib/site_perl/5.20.3/OpenBSD.amd64-openbsd-multi/Class/MOP/Method/Wrapped.pm line 44
	LazyChild::Child::_wrapped_BUILDARGS("LazyChild::Child") called at /home/njh/perl5/perlbrew/perls/perl-5.20.3-multi/lib/site_perl/5.20.3/OpenBSD.amd64-openbsd-multi/Class/MOP/Method/Wrapped.pm line 95
	LazyChild::Child::BUILDARGS("LazyChild::Child") called at /home/njh/perl5/perlbrew/perls/perl-5.20.3-multi/lib/site_perl/5.20.3/OpenBSD.amd64-openbsd-multi/Moose/Object.pm line 22
	Moose::Object::new("LazyChild::Child") called at t/03_lazy.t line 248
You are overwriting a accessor (parent_rel_pack) for the parent_rel_pack attribute (defined at t/03_lazy.t line 66) with a new accessor method for the parent_rel_pack attribute (defined at t/03_lazy.t line 66) at /home/njh/perl5/perlbrew/perls/perl-5.20.3-multi/lib/site_perl/5.20.3/OpenBSD.amd64-openbsd-multi/Moose/Meta/Attribute.pm line 1094.
	Moose::Meta::Attribute::_process_accessors(Moose::Meta::Attribute=HASH(0x6ab862d178), "accessor", "parent_rel_pack", undef) called at /home/njh/perl5/perlbrew/perls/perl-5.20.3-multi/lib/site_perl/5.20.3/OpenBSD.amd64-openbsd-multi/Class/MOP/Attribute.pm line 446
	Class::MOP::Attribute::install_accessors(Moose::Meta::Attribute=HASH(0x6ab862d178)) called at /home/njh/perl5/perlbrew/perls/perl-5.20.3-multi/lib/site_perl/5.20.3/OpenBSD.amd64-openbsd-multi/Moose/Meta/Attribute.pm line 1014
	Moose::Meta::Attribute::install_accessors(Moose::Meta::Attribute=HASH(0x6ab862d178)) called at /tmp/build/MooseX-RelClassTypes-0.03-3/blib/lib/MooseX/RelClassTypes.pm line 76
	Class::MOP::Class:::before("LazyChild::Child") called at /home/njh/perl5/perlbrew/perls/perl-5.20.3-multi/lib/site_perl/5.20.3/OpenBSD.amd64-openbsd-multi/Class/MOP/Method/Wrapped.pm line 43
	LazyChild::Parent::_wrapped_BUILDARGS("LazyChild::Child") called at /home/njh/perl5/perlbrew/perls/perl-5.20.3-multi/lib/site_perl/5.20.3/OpenBSD.amd64-openbsd-multi/Class/MOP/Method/Wrapped.pm line 95
	LazyChild::Parent::BUILDARGS("LazyChild::Child") called at /home/njh/perl5/perlbrew/perls/perl-5.20.3-multi/lib/site_perl/5.20.3/OpenBSD.amd64-openbsd-multi/Class/MOP/Method/Wrapped.pm line 44
	LazyChild::Child::_wrapped_BUILDARGS("LazyChild::Child") called at /home/njh/perl5/perlbrew/perls/perl-5.20.3-multi/lib/site_perl/5.20.3/OpenBSD.amd64-openbsd-multi/Class/MOP/Method/Wrapped.pm line 95
	LazyChild::Child::BUILDARGS("LazyChild::Child") called at /home/njh/perl5/perlbrew/perls/perl-5.20.3-multi/lib/site_perl/5.20.3/OpenBSD.amd64-openbsd-multi/Moose/Object.pm line 22
	Moose::Object::new("LazyChild::Child") called at t/03_lazy.t line 248
You are overwriting a accessor (child_rel_pack) for the child_rel_pack attribute (defined at t/03_lazy.t line 129) with a new accessor method for the child_rel_pack attribute (defined at t/03_lazy.t line 129) at /home/njh/perl5/perlbrew/perls/perl-5.20.3-multi/lib/site_perl/5.20.3/OpenBSD.amd64-openbsd-multi/Moose/Meta/Attribute.pm line 1094.
	Moose::Meta::Attribute::_process_accessors(Moose::Meta::Attribute=HASH(0x6ab6f63880), "accessor", "child_rel_pack", undef) called at /home/njh/perl5/perlbrew/perls/perl-5.20.3-multi/lib/site_perl/5.20.3/OpenBSD.amd64-openbsd-multi/Class/MOP/Attribute.pm line 446
	Class::MOP::Attribute::install_accessors(Moose::Meta::Attribute=HASH(0x6ab6f63880)) called at /home/njh/perl5/perlbrew/perls/perl-5.20.3-multi/lib/site_perl/5.20.3/OpenBSD.amd64-openbsd-multi/Moose/Meta/Attribute.pm line 1014
	Moose::Meta::Attribute::install_accessors(Moose::Meta::Attribute=HASH(0x6ab6f63880)) called at /tmp/build/MooseX-RelClassTypes-0.03-3/blib/lib/MooseX/RelClassTypes.pm line 76
	Class::MOP::Class:::before("LazyParam::Child") called at /home/njh/perl5/perlbrew/perls/perl-5.20.3-multi/lib/site_perl/5.20.3/OpenBSD.amd64-openbsd-multi/Class/MOP/Method/Wrapped.pm line 43
	LazyParam::Child::_wrapped_BUILDARGS("LazyParam::Child") called at /home/njh/perl5/perlbrew/perls/perl-5.20.3-multi/lib/site_perl/5.20.3/OpenBSD.amd64-openbsd-multi/Class/MOP/Method/Wrapped.pm line 95
	LazyParam::Child::BUILDARGS("LazyParam::Child") called at /home/njh/perl5/perlbrew/perls/perl-5.20.3-multi/lib/site_perl/5.20.3/OpenBSD.amd64-openbsd-multi/Moose/Object.pm line 22
	Moose::Object::new("LazyParam::Child") called at t/03_lazy.t line 248
You are overwriting a accessor (parent_rel_pack) for the parent_rel_pack attribute (defined at t/03_lazy.t line 117) with a new accessor method for the parent_rel_pack attribute (defined at t/03_lazy.t line 117) at /home/njh/perl5/perlbrew/perls/perl-5.20.3-multi/lib/site_perl/5.20.3/OpenBSD.amd64-openbsd-multi/Moose/Meta/Attribute.pm line 1094.
	Moose::Meta::Attribute::_process_accessors(Moose::Meta::Attribute=HASH(0x6ae2db46d0), "accessor", "parent_rel_pack", undef) called at /home/njh/perl5/perlbrew/perls/perl-5.20.3-multi/lib/site_perl/5.20.3/OpenBSD.amd64-openbsd-multi/Class/MOP/Attribute.pm line 446
	Class::MOP::Attribute::install_accessors(Moose::Meta::Attribute=HASH(0x6ae2db46d0)) called at /home/njh/perl5/perlbrew/perls/perl-5.20.3-multi/lib/site_perl/5.20.3/OpenBSD.amd64-openbsd-multi/Moose/Meta/Attribute.pm line 1014
	Moose::Meta::Attribute::install_accessors(Moose::Meta::Attribute=HASH(0x6ae2db46d0)) called at /tmp/build/MooseX-RelClassTypes-0.03-3/blib/lib/MooseX/RelClassTypes.pm line 76
	Class::MOP::Class:::before("LazyParam::Child") called at /home/njh/perl5/perlbrew/perls/perl-5.20.3-multi/lib/site_perl/5.20.3/OpenBSD.amd64-openbsd-multi/Class/MOP/Method/Wrapped.pm line 43
	LazyParam::Child::_wrapped_BUILDARGS("LazyParam::Child") called at /home/njh/perl5/perlbrew/perls/perl-5.20.3-multi/lib/site_perl/5.20.3/OpenBSD.amd64-openbsd-multi/Class/MOP/Method/Wrapped.pm line 95
	LazyParam::Child::BUILDARGS("LazyParam::Child") called at /home/njh/perl5/perlbrew/perls/perl-5.20.3-multi/lib/site_perl/5.20.3/OpenBSD.amd64-openbsd-multi/Moose/Object.pm line 22
	Moose::Object::new("LazyParam::Child") called at t/03_lazy.t line 248
You are overwriting a accessor (child_rel_pack) for the child_rel_pack attribute (defined at t/03_lazy.t line 129) with a new accessor method for the child_rel_pack attribute (defined at t/03_lazy.t line 129) at /home/njh/perl5/perlbrew/perls/perl-5.20.3-multi/lib/site_perl/5.20.3/OpenBSD.amd64-openbsd-multi/Moose/Meta/Attribute.pm line 1094.
	Moose::Meta::Attribute::_process_accessors(Moose::Meta::Attribute=HASH(0x6ab6f63880), "accessor", "child_rel_pack", undef) called at /home/njh/perl5/perlbrew/perls/perl-5.20.3-multi/lib/site_perl/5.20.3/OpenBSD.amd64-openbsd-multi/Class/MOP/Attribute.pm line 446
	Class::MOP::Attribute::install_accessors(Moose::Meta::Attribute=HASH(0x6ab6f63880)) called at /home/njh/perl5/perlbrew/perls/perl-5.20.3-multi/lib/site_perl/5.20.3/OpenBSD.amd64-openbsd-multi/Moose/Meta/Attribute.pm line 1014
	Moose::Meta::Attribute::install_accessors(Moose::Meta::Attribute=HASH(0x6ab6f63880)) called at /tmp/build/MooseX-RelClassTypes-0.03-3/blib/lib/MooseX/RelClassTypes.pm line 76
	Class::MOP::Class:::before("LazyParam::Child") called at /home/njh/perl5/perlbrew/perls/perl-5.20.3-multi/lib/site_perl/5.20.3/OpenBSD.amd64-openbsd-multi/Class/MOP/Method/Wrapped.pm line 43
	LazyParam::Parent::_wrapped_BUILDARGS("LazyParam::Child") called at /home/njh/perl5/perlbrew/perls/perl-5.20.3-multi/lib/site_perl/5.20.3/OpenBSD.amd64-openbsd-multi/Class/MOP/Method/Wrapped.pm line 95
	LazyParam::Parent::BUILDARGS("LazyParam::Child") called at /home/njh/perl5/perlbrew/perls/perl-5.20.3-multi/lib/site_perl/5.20.3/OpenBSD.amd64-openbsd-multi/Class/MOP/Method/Wrapped.pm line 44
	LazyParam::Child::_wrapped_BUILDARGS("LazyParam::Child") called at /home/njh/perl5/perlbrew/perls/perl-5.20.3-multi/lib/site_perl/5.20.3/OpenBSD.amd64-openbsd-multi/Class/MOP/Method/Wrapped.pm line 95
	LazyParam::Child::BUILDARGS("LazyParam::Child") called at /home/njh/perl5/perlbrew/perls/perl-5.20.3-multi/lib/site_perl/5.20.3/OpenBSD.amd64-openbsd-multi/Moose/Object.pm line 22
	Moose::Object::new("LazyParam::Child") called at t/03_lazy.t line 248
You are overwriting a accessor (parent_rel_pack) for the parent_rel_pack attribute (defined at t/03_lazy.t line 117) with a new accessor method for the parent_rel_pack attribute (defined at t/03_lazy.t line 117) at /home/njh/perl5/perlbrew/perls/perl-5.20.3-multi/lib/site_perl/5.20.3/OpenBSD.amd64-openbsd-multi/Moose/Meta/Attribute.pm line 1094.
	Moose::Meta::Attribute::_process_accessors(Moose::Meta::Attribute=HASH(0x6ae2db46d0), "accessor", "parent_rel_pack", undef) called at /home/njh/perl5/perlbrew/perls/perl-5.20.3-multi/lib/site_perl/5.20.3/OpenBSD.amd64-openbsd-multi/Class/MOP/Attribute.pm line 446
	Class::MOP::Attribute::install_accessors(Moose::Meta::Attribute=HASH(0x6ae2db46d0)) called at /home/njh/perl5/perlbrew/perls/perl-5.20.3-multi/lib/site_perl/5.20.3/OpenBSD.amd64-openbsd-multi/Moose/Meta/Attribute.pm line 1014
	Moose::Meta::Attribute::install_accessors(Moose::Meta::Attribute=HASH(0x6ae2db46d0)) called at /tmp/build/MooseX-RelClassTypes-0.03-3/blib/lib/MooseX/RelClassTypes.pm line 76
	Class::MOP::Class:::before("LazyParam::Child") called at /home/njh/perl5/perlbrew/perls/perl-5.20.3-multi/lib/site_perl/5.20.3/OpenBSD.amd64-openbsd-multi/Class/MOP/Method/Wrapped.pm line 43
	LazyParam::Parent::_wrapped_BUILDARGS("LazyParam::Child") called at /home/njh/perl5/perlbrew/perls/perl-5.20.3-multi/lib/site_perl/5.20.3/OpenBSD.amd64-openbsd-multi/Class/MOP/Method/Wrapped.pm line 95
	LazyParam::Parent::BUILDARGS("LazyParam::Child") called at /home/njh/perl5/perlbrew/perls/perl-5.20.3-multi/lib/site_perl/5.20.3/OpenBSD.amd64-openbsd-multi/Class/MOP/Method/Wrapped.pm line 44
	LazyParam::Child::_wrapped_BUILDARGS("LazyParam::Child") called at /home/njh/perl5/perlbrew/perls/perl-5.20.3-multi/lib/site_perl/5.20.3/OpenBSD.amd64-openbsd-multi/Class/MOP/Method/Wrapped.pm line 95
	LazyParam::Child::BUILDARGS("LazyParam::Child") called at /home/njh/perl5/perlbrew/perls/perl-5.20.3-multi/lib/site_perl/5.20.3/OpenBSD.amd64-openbsd-multi/Moose/Object.pm line 22
	Moose::Object::new("LazyParam::Child") called at t/03_lazy.t line 248
You are overwriting a accessor (parent_rel_pack) for the parent_rel_pack attribute (defined at t/03_lazy.t line 177) with a new accessor method for the parent_rel_pack attribute (defined at t/03_lazy.t line 177) at /home/njh/perl5/perlbrew/perls/perl-5.20.3-multi/lib/site_perl/5.20.3/OpenBSD.amd64-openbsd-multi/Moose/Meta/Attribute.pm line 1094.
	Moose::Meta::Attribute::_process_accessors(Moose::Meta::Attribute=HASH(0x6b5011f250), "accessor", "parent_rel_pack", undef) called at /home/njh/perl5/perlbrew/perls/perl-5.20.3-multi/lib/site_perl/5.20.3/OpenBSD.amd64-openbsd-multi/Class/MOP/Attribute.pm line 446
	Class::MOP::Attribute::install_accessors(Moose::Meta::Attribute=HASH(0x6b5011f250)) called at /home/njh/perl5/perlbrew/perls/perl-5.20.3-multi/lib/site_perl/5.20.3/OpenBSD.amd64-openbsd-multi/Moose/Meta/Attribute.pm line 1014
	Moose::Meta::Attribute::install_accessors(Moose::Meta::Attribute=HASH(0x6b5011f250)) called at /tmp/build/MooseX-RelClassTypes-0.03-3/blib/lib/MooseX/RelClassTypes.pm line 76
	Class::MOP::Class:::before("LazyAll::Child") called at /home/njh/perl5/perlbrew/perls/perl-5.20.3-multi/lib/site_perl/5.20.3/OpenBSD.amd64-openbsd-multi/Class/MOP/Method/Wrapped.pm line 43
	LazyAll::Child::_wrapped_BUILDARGS("LazyAll::Child") called at /home/njh/perl5/perlbrew/perls/perl-5.20.3-multi/lib/site_perl/5.20.3/OpenBSD.amd64-openbsd-multi/Class/MOP/Method/Wrapped.pm line 95
	LazyAll::Child::BUILDARGS("LazyAll::Child") called at /home/njh/perl5/perlbrew/perls/perl-5.20.3-multi/lib/site_perl/5.20.3/OpenBSD.amd64-openbsd-multi/Moose/Object.pm line 22
	Moose::Object::new("LazyAll::Child") called at t/03_lazy.t line 248
You are overwriting a accessor (child_rel_pack) for the child_rel_pack attribute (defined at t/03_lazy.t line 194) with a new accessor method for the child_rel_pack attribute (defined at t/03_lazy.t line 194) at /home/njh/perl5/perlbrew/perls/perl-5.20.3-multi/lib/site_perl/5.20.3/OpenBSD.amd64-openbsd-multi/Moose/Meta/Attribute.pm line 1094.
	Moose::Meta::Attribute::_process_accessors(Moose::Meta::Attribute=HASH(0x6aba6c16b8), "accessor", "child_rel_pack", undef) called at /home/njh/perl5/perlbrew/perls/perl-5.20.3-multi/lib/site_perl/5.20.3/OpenBSD.amd64-openbsd-multi/Class/MOP/Attribute.pm line 446
	Class::MOP::Attribute::install_accessors(Moose::Meta::Attribute=HASH(0x6aba6c16b8)) called at /home/njh/perl5/perlbrew/perls/perl-5.20.3-multi/lib/site_perl/5.20.3/OpenBSD.amd64-openbsd-multi/Moose/Meta/Attribute.pm line 1014
	Moose::Meta::Attribute::install_accessors(Moose::Meta::Attribute=HASH(0x6aba6c16b8)) called at /tmp/build/MooseX-RelClassTypes-0.03-3/blib/lib/MooseX/RelClassTypes.pm line 76
	Class::MOP::Class:::before("LazyAll::Child") called at /home/njh/perl5/perlbrew/perls/perl-5.20.3-multi/lib/site_perl/5.20.3/OpenBSD.amd64-openbsd-multi/Class/MOP/Method/Wrapped.pm line 43
	LazyAll::Child::_wrapped_BUILDARGS("LazyAll::Child") called at /home/njh/perl5/perlbrew/perls/perl-5.20.3-multi/lib/site_perl/5.20.3/OpenBSD.amd64-openbsd-multi/Class/MOP/Method/Wrapped.pm line 95
	LazyAll::Child::BUILDARGS("LazyAll::Child") called at /home/njh/perl5/perlbrew/perls/perl-5.20.3-multi/lib/site_perl/5.20.3/OpenBSD.amd64-openbsd-multi/Moose/Object.pm line 22
	Moose::Object::new("LazyAll::Child") called at t/03_lazy.t line 248
You are overwriting a accessor (parent_rel_pack) for the parent_rel_pack attribute (defined at t/03_lazy.t line 177) with a new accessor method for the parent_rel_pack attribute (defined at t/03_lazy.t line 177) at /home/njh/perl5/perlbrew/perls/perl-5.20.3-multi/lib/site_perl/5.20.3/OpenBSD.amd64-openbsd-multi/Moose/Meta/Attribute.pm line 1094.
	Moose::Meta::Attribute::_process_accessors(Moose::Meta::Attribute=HASH(0x6b5011f250), "accessor", "parent_rel_pack", undef) called at /home/njh/perl5/perlbrew/perls/perl-5.20.3-multi/lib/site_perl/5.20.3/OpenBSD.amd64-openbsd-multi/Class/MOP/Attribute.pm line 446
	Class::MOP::Attribute::install_accessors(Moose::Meta::Attribute=HASH(0x6b5011f250)) called at /home/njh/perl5/perlbrew/perls/perl-5.20.3-multi/lib/site_perl/5.20.3/OpenBSD.amd64-openbsd-multi/Moose/Meta/Attribute.pm line 1014
	Moose::Meta::Attribute::install_accessors(Moose::Meta::Attribute=HASH(0x6b5011f250)) called at /tmp/build/MooseX-RelClassTypes-0.03-3/blib/lib/MooseX/RelClassTypes.pm line 76
	Class::MOP::Class:::before("LazyAll::Child") called at /home/njh/perl5/perlbrew/perls/perl-5.20.3-multi/lib/site_perl/5.20.3/OpenBSD.amd64-openbsd-multi/Class/MOP/Method/Wrapped.pm line 43
	LazyAll::Parent::_wrapped_BUILDARGS("LazyAll::Child") called at /home/njh/perl5/perlbrew/perls/perl-5.20.3-multi/lib/site_perl/5.20.3/OpenBSD.amd64-openbsd-multi/Class/MOP/Method/Wrapped.pm line 95
	LazyAll::Parent::BUILDARGS("LazyAll::Child") called at /home/njh/perl5/perlbrew/perls/perl-5.20.3-multi/lib/site_perl/5.20.3/OpenBSD.amd64-openbsd-multi/Class/MOP/Method/Wrapped.pm line 44
	LazyAll::Child::_wrapped_BUILDARGS("LazyAll::Child") called at /home/njh/perl5/perlbrew/perls/perl-5.20.3-multi/lib/site_perl/5.20.3/OpenBSD.amd64-openbsd-multi/Class/MOP/Method/Wrapped.pm line 95
	LazyAll::Child::BUILDARGS("LazyAll::Child") called at /home/njh/perl5/perlbrew/perls/perl-5.20.3-multi/lib/site_perl/5.20.3/OpenBSD.amd64-openbsd-multi/Moose/Object.pm line 22
	Moose::Object::new("LazyAll::Child") called at t/03_lazy.t line 248
You are overwriting a accessor (child_rel_pack) for the child_rel_pack attribute (defined at t/03_lazy.t line 194) with a new accessor method for the child_rel_pack attribute (defined at t/03_lazy.t line 194) at /home/njh/perl5/perlbrew/perls/perl-5.20.3-multi/lib/site_perl/5.20.3/OpenBSD.amd64-openbsd-multi/Moose/Meta/Attribute.pm line 1094.
	Moose::Meta::Attribute::_process_accessors(Moose::Meta::Attribute=HASH(0x6aba6c16b8), "accessor", "child_rel_pack", undef) called at /home/njh/perl5/perlbrew/perls/perl-5.20.3-multi/lib/site_perl/5.20.3/OpenBSD.amd64-openbsd-multi/Class/MOP/Attribute.pm line 446
	Class::MOP::Attribute::install_accessors(Moose::Meta::Attribute=HASH(0x6aba6c16b8)) called at /home/njh/perl5/perlbrew/perls/perl-5.20.3-multi/lib/site_perl/5.20.3/OpenBSD.amd64-openbsd-multi/Moose/Meta/Attribute.pm line 1014
	Moose::Meta::Attribute::install_accessors(Moose::Meta::Attribute=HASH(0x6aba6c16b8)) called at /tmp/build/MooseX-RelClassTypes-0.03-3/blib/lib/MooseX/RelClassTypes.pm line 76
	Class::MOP::Class:::before("LazyAll::Child") called at /home/njh/perl5/perlbrew/perls/perl-5.20.3-multi/lib/site_perl/5.20.3/OpenBSD.amd64-openbsd-multi/Class/MOP/Method/Wrapped.pm line 43
	LazyAll::Parent::_wrapped_BUILDARGS("LazyAll::Child") called at /home/njh/perl5/perlbrew/perls/perl-5.20.3-multi/lib/site_perl/5.20.3/OpenBSD.amd64-openbsd-multi/Class/MOP/Method/Wrapped.pm line 95
	LazyAll::Parent::BUILDARGS("LazyAll::Child") called at /home/njh/perl5/perlbrew/perls/perl-5.20.3-multi/lib/site_perl/5.20.3/OpenBSD.amd64-openbsd-multi/Class/MOP/Method/Wrapped.pm line 44
	LazyAll::Child::_wrapped_BUILDARGS("LazyAll::Child") called at /home/njh/perl5/perlbrew/perls/perl-5.20.3-multi/lib/site_perl/5.20.3/OpenBSD.amd64-openbsd-multi/Class/MOP/Method/Wrapped.pm line 95
	LazyAll::Child::BUILDARGS("LazyAll::Child") called at /home/njh/perl5/perlbrew/perls/perl-5.20.3-multi/lib/site_perl/5.20.3/OpenBSD.amd64-openbsd-multi/Moose/Object.pm line 22
	Moose::Object::new("LazyAll::Child") called at t/03_lazy.t line 248
t/03_lazy.t .......... ok
All tests successful.
Files=4, Tests=56, 14 wallclock secs ( 0.13 usr  0.07 sys +  7.74 cusr  1.47 csys =  9.41 CPU)
Result: PASS

------------------------------
PREREQUISITES
------------------------------

Prerequisite modules loaded:

requires:

    Module                      Need Have    
    --------------------------- ---- --------
    Carp                        0    1.3301  
    Clone                       0    0.39    
    Module::Runtime             0    0.016   
    Moose                       0    2.2010  
    MooseX::Role::Parameterized 0    1.10    

build_requires:

    Module                      Need Have    
    --------------------------- ---- --------
    ExtUtils::MakeMaker         0    7.30    
    Test::More                  0    1.302130

configure_requires:

    Module                      Need Have    
    --------------------------- ---- --------
    ExtUtils::MakeMaker         0    7.30    


------------------------------
ENVIRONMENT AND OTHER CONTEXT
------------------------------

Environment variables:

    AUTOMATED_TESTING = 1
    PATH = /home/njh/perl5/perlbrew/bin:/home/njh/perl5/perlbrew/perls/perl-5.20.3-multi/bin:src/njh/smoker/bin:/usr/bin:/bin:/usr/sbin:/sbin:/usr/X11R6/bin:/usr/local/bin:/usr/local/sbin
    PERL5LIB = /tmp/build/Log-ger-Manual-0.023.001-3/blib/arch:/tmp/build/Log-ger-Manual-0.023.001-3/blib/lib:/tmp/build/ExtUtils-ModuleMaker-0.57-3/blib/arch:/tmp/build/ExtUtils-ModuleMaker-0.57-3/blib/lib:/tmp/build/File-Path-2.15-3/blib/arch:/tmp/build/File-Path-2.15-3/blib/lib:/tmp/build/File-Copy-Recursive-Reduced-0.006-3/blib/arch:/tmp/build/File-Copy-Recursive-Reduced-0.006-3/blib/lib
    PERL5OPT = 
    PERL5_CPANPLUS_IS_RUNNING = 21926
    PERL5_CPAN_IS_RUNNING = 21926
    PERLBREW_HOME = /home/njh/.perlbrew
    PERLBREW_MANPATH = /home/njh/perl5/perlbrew/perls/perl-5.20.3-multi/man
    PERLBREW_PATH = /home/njh/perl5/perlbrew/bin:/home/njh/perl5/perlbrew/perls/perl-5.20.3-multi/bin
    PERLBREW_PERL = perl-5.20.3-multi
    PERLBREW_ROOT = /home/njh/perl5/perlbrew
    PERLBREW_SHELLRC_VERSION = 0.82
    PERLBREW_VERSION = 0.82
    SHELL = /bin/sh
    TMPDIR = /tmp/testwrapper.64155

Perl special variables (and OS-specific diagnostics, for MSWin32):

    $^X = /home/njh/perl5/perlbrew/perls/perl-5.20.3-multi/bin/perl5.20.3
    $UID/$EUID = 1000 / 1000
    $GID = 1000 1000 0
    $EGID = 1000 1000 0

Perl module toolchain versions installed:

    Module              Have    
    ------------------- --------
    CPAN                2.16    
    CPAN::Meta          2.143240
    Cwd                 3.62    
    ExtUtils::CBuilder  0.280217
    ExtUtils::Command   7.30    
    ExtUtils::Install   2.06    
    ExtUtils::MakeMaker 7.30    
    ExtUtils::Manifest  1.70    
    ExtUtils::ParseXS   3.24    
    File::Spec          3.62    
    JSON                2.97001 
    JSON::PP            2.97001 
    Module::Build       0.4224  
    Module::Signature   n/a     
    Parse::CPAN::Meta   1.4414  
    Test::Harness       3.39    
    Test::More          1.302130
    YAML                1.24    
    YAML::Syck          1.30    
    version             0.9909  


--

Summary of my perl5 (revision 5 version 20 subversion 3) configuration:
   
  Platform:
    osname=openbsd, osvers=6.2, archname=OpenBSD.amd64-openbsd-multi
    uname='openbsd netgate1.bandsman.co.uk 6.2 generic.mp#2 amd64 '
    config_args='-de -Dprefix=/home/njh/perl5/perlbrew/perls/perl-5.20.3-multi -Dusedevel -Dusemultiplicity -Accflags= -Aeval:scriptdir=/home/njh/perl5/perlbrew/perls/perl-5.20.3-multi/bin'
    hint=recommended, useposix=true, d_sigaction=define
    useithreads=undef, usemultiplicity=define
    use64bitint=define, use64bitall=define, uselongdouble=undef
    usemymalloc=n, bincompat5005=undef
  Compiler:
    cc='cc', ccflags ='-fno-strict-aliasing -pipe -fstack-protector -I/usr/local/include',
    optimize='-O2',
    cppflags='-fno-strict-aliasing -pipe -fstack-protector -I/usr/local/include'
    ccversion='', gccversion='4.2.1 Compatible OpenBSD Clang 4.0.0 (tags/RELEASE_400/final)', gccosandvers=''
    intsize=4, longsize=8, ptrsize=8, doublesize=8, byteorder=12345678
    d_longlong=define, longlongsize=8, d_longdbl=define, longdblsize=16
    ivtype='long', ivsize=8, nvtype='double', nvsize=8, Off_t='off_t', lseeksize=8
    alignbytes=8, prototype=define
  Linker and Libraries:
    ld='cc', ldflags ='-Wl,-E  -fstack-protector -L/usr/local/lib'
    libpth=/usr/lib /usr/local/lib
    libs=-lpthread -lm -lutil -lc
    perllibs=-lpthread -lm -lutil -lc
    libc=/usr/lib/libc.so.90.0, so=so, useshrplib=false, libperl=libperl.a
    gnulibc_version=''
  Dynamic Linking:
    dlsrc=dl_dlopen.xs, dlext=so, d_dlsymun=undef, ccdlflags=' '
    cccdlflags='-DPIC -fPIC ', lddlflags='-shared -fPIC  -L/usr/local/lib -fstack-protector'


Characteristics of this binary (from libperl): 
  Compile-time options: HAS_TIMES MULTIPLICITY PERLIO_LAYERS
                        PERL_DONT_CREATE_GVSV
                        PERL_HASH_FUNC_ONE_AT_A_TIME_HARD
                        PERL_IMPLICIT_CONTEXT PERL_MALLOC_WRAP
                        PERL_NEW_COPY_ON_WRITE PERL_PRESERVE_IVUV
                        PERL_USE_DEVEL USE_64_BIT_ALL USE_64_BIT_INT
                        USE_LARGE_FILES USE_LOCALE USE_LOCALE_COLLATE
                        USE_LOCALE_CTYPE USE_LOCALE_NUMERIC USE_PERLIO
                        USE_PERL_ATOF
  Locally applied patches:
	Devel::PatchPerl 1.48
  Built under openbsd
  Compiled at Jan 21 2018 05:07:46
  %ENV:
    PERL5LIB="/tmp/build/Log-ger-Manual-0.023.001-3/blib/arch:/tmp/build/Log-ger-Manual-0.023.001-3/blib/lib:/tmp/build/ExtUtils-ModuleMaker-0.57-3/blib/arch:/tmp/build/ExtUtils-ModuleMaker-0.57-3/blib/lib:/tmp/build/File-Path-2.15-3/blib/arch:/tmp/build/File-Path-2.15-3/blib/lib:/tmp/build/File-Copy-Recursive-Reduced-0.006-3/blib/arch:/tmp/build/File-Copy-Recursive-Reduced-0.006-3/blib/lib"
    PERL5OPT=""
    PERL5_CPANPLUS_IS_RUNNING="21926"
    PERL5_CPAN_IS_RUNNING="21926"
    PERLBREW_HOME="/home/njh/.perlbrew"
    PERLBREW_MANPATH="/home/njh/perl5/perlbrew/perls/perl-5.20.3-multi/man"
    PERLBREW_PATH="/home/njh/perl5/perlbrew/bin:/home/njh/perl5/perlbrew/perls/perl-5.20.3-multi/bin"
    PERLBREW_PERL="perl-5.20.3-multi"
    PERLBREW_ROOT="/home/njh/perl5/perlbrew"
    PERLBREW_SHELLRC_VERSION="0.82"
    PERLBREW_VERSION="0.82"
  @INC:
    /tmp/build/Log-ger-Manual-0.023.001-3/blib/arch
    /tmp/build/Log-ger-Manual-0.023.001-3/blib/lib
    /tmp/build/ExtUtils-ModuleMaker-0.57-3/blib/arch
    /tmp/build/ExtUtils-ModuleMaker-0.57-3/blib/lib
    /tmp/build/File-Path-2.15-3/blib/arch
    /tmp/build/File-Path-2.15-3/blib/lib
    /tmp/build/File-Copy-Recursive-Reduced-0.006-3/blib/arch
    /tmp/build/File-Copy-Recursive-Reduced-0.006-3/blib/lib
    /home/njh/perl5/perlbrew/perls/perl-5.20.3-multi/lib/site_perl/5.20.3/OpenBSD.amd64-openbsd-multi
    /home/njh/perl5/perlbrew/perls/perl-5.20.3-multi/lib/site_perl/5.20.3
    /home/njh/perl5/perlbrew/perls/perl-5.20.3-multi/lib/5.20.3/OpenBSD.amd64-openbsd-multi
    /home/njh/perl5/perlbrew/perls/perl-5.20.3-multi/lib/5.20.3
    .