Git-Glog v0.01 Perl 5 v5.20.3 x86_64-linux-thread-multi-ld

Status
Pass
From
Andreas J. König (ANDK)
Dist
Git-Glog v0.01
Platform
Perl 5 v5.20.3 x86_64-linux-thread-multi-ld
Date
2017-09-23 21:54:40
ID
ccb7b59c-a0a9-11e7-8dac-5df6dbf82935
This distribution has been tested as part of the CPAN Testers
project, supporting the Perl programming language.  See
http://wiki.cpantesters.org/ for more information or email
questions to cpan-testers-discuss@perl.org


--
Dear Colin Kennedy,

This is a computer-generated report for Git-Glog-0.01
on perl 5.20.3, created by CPAN-Reporter-1.2018.

Thank you for uploading your work to CPAN.  Congratulations!
All tests were successful.

Sections of this report:

    * Tester comments
    * Program output
    * Prerequisites
    * Environment and other context

------------------------------
TESTER COMMENTS
------------------------------

Additional comments from tester:

this report is from an automated smoke testing program
and was not reviewed by a human for accuracy

------------------------------
PROGRAM OUTPUT
------------------------------

Output from './Build test':

# Testing Git::Glog 0.01, Perl 5.020003, /home/sand/src/perl/repoperls/installed-perls/host/k93msid/v5.20.3/5ea4/bin/perl
t/00-load.t .. ok
t/01-os.t .... ok
t/pod.t ...... ok
All tests successful.
Files=3, Tests=4,  1 wallclock secs ( 0.02 usr  0.04 sys +  0.21 cusr  0.04 csys =  0.31 CPU)
Result: PASS

------------------------------
PREREQUISITES
------------------------------

Prerequisite modules loaded:

requires:

    Module              Need  Have    
    ------------------- ----- --------
    Compress::Zlib      0     2.074   
    Digest::MD5         0     2.53    
    Getopt::Long        0     2.5     
    Image::Term256Color 0.03  0.05    
    LWP::UserAgent      0     6.26    
    perl                5.008 5.020003
    Pod::Usage          0     1.63    

build_requires:

    Module              Need  Have    
    ------------------- ----- --------
    Test::More          0     1.302096

configure_requires:

    Module              Need  Have    
    ------------------- ----- --------
    Module::Build       0.38  0.4224  


------------------------------
ENVIRONMENT AND OTHER CONTEXT
------------------------------

Environment variables:

    AUTOMATED_TESTING = 1
    LANG = en_US.UTF-8
    PATH = /home/sand/bin:/usr/local/bin:/usr/bin:/bin:/usr/games:/usr/local/perl/bin:/usr/X11/bin:/sbin:/usr/sbin
    PERL5LIB = /tmp/loop_over_bdir-9336-ixDiTF/Image-Term256Color-0.05-0/blib/arch:/tmp/loop_over_bdir-9336-ixDiTF/Image-Term256Color-0.05-0/blib/lib:/tmp/loop_over_bdir-9336-ixDiTF/Term-ExtendedColor-0.224-0/blib/arch:/tmp/loop_over_bdir-9336-ixDiTF/Term-ExtendedColor-0.224-0/blib/lib:/tmp/loop_over_bdir-9336-ixDiTF/GD-2.66-0/blib/arch:/tmp/loop_over_bdir-9336-ixDiTF/GD-2.66-0/blib/lib
    PERL5OPT = 
    PERL5_CPANPLUS_IS_RUNNING = 9363
    PERL5_CPAN_IS_RUNNING = 9363
    PERL5_CPAN_IS_RUNNING_IN_RECURSION = 5668,9363
    PERL_CANARY_STABILITY_NOPROMPT = 1
    PERL_MM_USE_DEFAULT = 1
    PERL_USE_UNSAFE_INC = 1
    SHELL = /usr/bin/zsh
    TERM = screen

Perl special variables (and OS-specific diagnostics, for MSWin32):

    $^X = /home/sand/src/perl/repoperls/installed-perls/host/k93msid/v5.20.3/5ea4/bin/perl
    $UID/$EUID = 1005 / 1005
    $GID = 1005 1005
    $EGID = 1005 1005

Perl module toolchain versions installed:

    Module              Have    
    ------------------- --------
    CPAN                2.18    
    CPAN::Meta          2.150010
    Cwd                 3.62    
    ExtUtils::CBuilder  0.280226
    ExtUtils::Command   7.30    
    ExtUtils::Install   2.06    
    ExtUtils::MakeMaker 7.30    
    ExtUtils::Manifest  1.70    
    ExtUtils::ParseXS   3.35    
    File::Spec          3.62    
    JSON                2.94    
    JSON::PP            2.94    
    Module::Build       0.4224  
    Module::Signature   0.81    
    Parse::CPAN::Meta   2.150010
    Test::Harness       3.39    
    Test::More          1.302096
    YAML                1.23    
    YAML::Syck          1.30    
    version             0.9909  


--

Summary of my perl5 (revision 5 version 20 subversion 3) configuration:
  Derived from: b67331aafd6eff33e3fd904c45e811f69cbfb0b2
  Platform:
    osname=linux, osvers=4.9.0-2-amd64, archname=x86_64-linux-thread-multi-ld
    uname='linux k93msid 4.9.0-2-amd64 #1 smp debian 4.9.18-1 (2017-03-30) x86_64 gnulinux '
    config_args='-Dprefix=/home/sand/src/perl/repoperls/installed-perls/host/k93msid/v5.20.3/5ea4 -Dmyhostname=k93msid -Dinstallusrbinperl=n -Uversiononly -Dusedevel -des -Ui_db -Dlibswanted=cl pthread socket inet nsl gdbm dbm malloc dl ld sun m crypt sec util c cposix posix ucb BSD gdbm_compat -Duseithreads -Duselongdouble -DDEBUGGING=-g'
    hint=recommended, useposix=true, d_sigaction=define
    useithreads=define, usemultiplicity=define
    use64bitint=define, use64bitall=define, uselongdouble=define
    usemymalloc=n, bincompat5005=undef
  Compiler:
    cc='cc', ccflags ='-D_REENTRANT -D_GNU_SOURCE -fwrapv -fno-strict-aliasing -pipe -fstack-protector -I/usr/local/include -D_LARGEFILE_SOURCE -D_FILE_OFFSET_BITS=64',
    optimize='-O2 -g',
    cppflags='-D_REENTRANT -D_GNU_SOURCE -fwrapv -fno-strict-aliasing -pipe -fstack-protector -I/usr/local/include'
    ccversion='', gccversion='6.3.0 20170406', gccosandvers=''
    intsize=4, longsize=8, ptrsize=8, doublesize=8, byteorder=12345678
    d_longlong=define, longlongsize=8, d_longdbl=define, longdblsize=16
    ivtype='long', ivsize=8, nvtype='long double', nvsize=16, Off_t='off_t', lseeksize=8
    alignbytes=16, prototype=define
  Linker and Libraries:
    ld='cc', ldflags =' -fstack-protector -L/usr/local/lib'
    libpth=/usr/local/lib /usr/lib/gcc/x86_64-linux-gnu/6/include-fixed /usr/include/x86_64-linux-gnu /usr/lib /lib/x86_64-linux-gnu /lib/../lib /usr/lib/x86_64-linux-gnu /usr/lib/../lib /lib
    libs=-lpthread -lnsl -ldl -lm -lcrypt -lutil -lc
    perllibs=-lpthread -lnsl -ldl -lm -lcrypt -lutil -lc
    libc=libc-2.24.so, so=so, useshrplib=false, libperl=libperl.a
    gnulibc_version='2.24'
  Dynamic Linking:
    dlsrc=dl_dlopen.xs, dlext=so, d_dlsymun=undef, ccdlflags='-Wl,-E'
    cccdlflags='-fPIC', lddlflags='-shared -O2 -g -L/usr/local/lib -fstack-protector'


Characteristics of this binary (from libperl): 
  Compile-time options: HAS_TIMES MULTIPLICITY PERLIO_LAYERS
                        PERL_DONT_CREATE_GVSV
                        PERL_HASH_FUNC_ONE_AT_A_TIME_HARD
                        PERL_IMPLICIT_CONTEXT PERL_MALLOC_WRAP
                        PERL_NEW_COPY_ON_WRITE PERL_PRESERVE_IVUV
                        PERL_USE_DEVEL USE_64_BIT_ALL USE_64_BIT_INT
                        USE_ITHREADS USE_LARGE_FILES USE_LOCALE
                        USE_LOCALE_COLLATE USE_LOCALE_CTYPE
                        USE_LOCALE_NUMERIC USE_LONG_DOUBLE USE_PERLIO
                        USE_PERL_ATOF USE_REENTRANT_API
  Locally applied patches:
	uncommitted-changes
  Built under linux
  Compiled at Aug 26 2017 02:06:06
  %ENV:
    PERL5LIB="/tmp/loop_over_bdir-9336-ixDiTF/Image-Term256Color-0.05-0/blib/arch:/tmp/loop_over_bdir-9336-ixDiTF/Image-Term256Color-0.05-0/blib/lib:/tmp/loop_over_bdir-9336-ixDiTF/Term-ExtendedColor-0.224-0/blib/arch:/tmp/loop_over_bdir-9336-ixDiTF/Term-ExtendedColor-0.224-0/blib/lib:/tmp/loop_over_bdir-9336-ixDiTF/GD-2.66-0/blib/arch:/tmp/loop_over_bdir-9336-ixDiTF/GD-2.66-0/blib/lib"
    PERL5OPT=""
    PERL5_CPANPLUS_IS_RUNNING="9363"
    PERL5_CPAN_IS_RUNNING="9363"
    PERL5_CPAN_IS_RUNNING_IN_RECURSION="5668,9363"
    PERL_CANARY_STABILITY_NOPROMPT="1"
    PERL_MM_USE_DEFAULT="1"
    PERL_USE_UNSAFE_INC="1"
  @INC:
    /tmp/loop_over_bdir-9336-ixDiTF/Image-Term256Color-0.05-0/blib/arch
    /tmp/loop_over_bdir-9336-ixDiTF/Image-Term256Color-0.05-0/blib/lib
    /tmp/loop_over_bdir-9336-ixDiTF/Term-ExtendedColor-0.224-0/blib/arch
    /tmp/loop_over_bdir-9336-ixDiTF/Term-ExtendedColor-0.224-0/blib/lib
    /tmp/loop_over_bdir-9336-ixDiTF/GD-2.66-0/blib/arch
    /tmp/loop_over_bdir-9336-ixDiTF/GD-2.66-0/blib/lib
    /home/sand/src/perl/repoperls/installed-perls/host/k93msid/v5.20.3/5ea4/lib/site_perl/5.20.3/x86_64-linux-thread-multi-ld
    /home/sand/src/perl/repoperls/installed-perls/host/k93msid/v5.20.3/5ea4/lib/site_perl/5.20.3
    /home/sand/src/perl/repoperls/installed-perls/host/k93msid/v5.20.3/5ea4/lib/5.20.3/x86_64-linux-thread-multi-ld
    /home/sand/src/perl/repoperls/installed-perls/host/k93msid/v5.20.3/5ea4/lib/5.20.3
    .