Module-Install v1.21 Perl 5 v5.41.11 amd64-midnightbsd

Status
Pass
From
Carlos Guevara
Dist
Module-Install v1.21
Platform
Perl 5 v5.41.11 amd64-midnightbsd
Date
2025-03-24 08:48:47
ID
cca7148c-088c-11f0-8f84-e87d76d0c544
This distribution has been tested as part of the CPAN Testers
project, supporting the Perl programming language.  See
http://wiki.cpantesters.org/ for more information or email
questions to cpan-testers-discuss@perl.org


--
Dear Karen Etheridge,

This is a computer-generated report for Module-Install-1.21
on perl 5.41.11, created by CPAN-Reporter-1.2020.

Thank you for uploading your work to CPAN.  Congratulations!
All tests were successful.

Sections of this report:

    * Tester comments
    * Program output
    * Prerequisites
    * Environment and other context

------------------------------
TESTER COMMENTS
------------------------------

Additional comments from tester:

this report is from an automated smoke testing program
and was not reviewed by a human for accuracy

------------------------------
PROGRAM OUTPUT
------------------------------

Output from '/usr/bin/make test':

PERL_DL_NONLAZY=1 "/usr/home/cpan/bin/perl/bin/perl5.41.11" "-MExtUtils::Command::MM" "-MTest::Harness" "-e" "undef *Test::Harness::Switches; test_harness(0, 'inc', 'blib/lib', 'blib/arch')" t/*.t t/recursive/*.t
t/01_compile.t .......................... ok
t/02_mymeta.t ........................... skipped: New EU::MM has own MYMETA support
t/03_autoinstall.t ...................... skipped: Skipping dangerous test
t/04_version.t .......................... ok
t/05_share.t ............................ ok
t/06_ppport.t ........................... ok
t/07_perl_version.t ..................... ok
t/09_read.t ............................. ok
t/10_test.t ............................. ok
t/11_extraction.t ....................... ok
t/12_eumm_params.t ...................... ok
t/13_author_tests.t ..................... ok
t/13_author_tests_ext.t ................. skipped: requires Module::Install::AuthorTests
t/13_author_tests_ext2.t ................ skipped: requires Module::Install::ExtraTests 0.007
t/14_auto_include_deps_with_version.t ... skipped: your perl is new enough to have File::Spec 3.30 in core
t/15_wrong_usage.t ...................... ok
t/16_require.t .......................... ok
t/17_sign.t ............................. ok
t/18_all_from.t ......................... ok
t/19_authors.t .......................... ok
t/20_authors_with_special_characters.t .. ok
t/21_makemaker_args.t ................... ok
Use of uninitialized value $cmd in substitution (s///) at /home/cpan/bin/perl/lib/5.41.11/ExtUtils/MM_Any.pm line 348.
Use of uninitialized value $mandir in pattern match (m//) at /home/cpan/bin/perl/lib/5.41.11/ExtUtils/MM_Unix.pm line 1560.
Use of uninitialized value $mandir in pattern match (m//) at /home/cpan/bin/perl/lib/5.41.11/ExtUtils/MM_Unix.pm line 1560.
Use of uninitialized value $mandir in pattern match (m//) at /home/cpan/bin/perl/lib/5.41.11/ExtUtils/MM_Unix.pm line 1560.
Use of uninitialized value $mandir in pattern match (m//) at /home/cpan/bin/perl/lib/5.41.11/ExtUtils/MM_Unix.pm line 1560.
Use of uninitialized value $mandir in pattern match (m//) at /home/cpan/bin/perl/lib/5.41.11/ExtUtils/MM_Unix.pm line 1560.
Use of uninitialized value $mandir in pattern match (m//) at /home/cpan/bin/perl/lib/5.41.11/ExtUtils/MM_Unix.pm line 1560.
Use of uninitialized value $mandir in pattern match (m//) at /home/cpan/bin/perl/lib/5.41.11/ExtUtils/MM_Unix.pm line 1560.
Use of uninitialized value $mandir in pattern match (m//) at /home/cpan/bin/perl/lib/5.41.11/ExtUtils/MM_Unix.pm line 1560.
Use of uninitialized value $mandir in pattern match (m//) at /home/cpan/bin/perl/lib/5.41.11/ExtUtils/MM_Unix.pm line 1560.
Use of uninitialized value $cmd in substitution (s///) at /home/cpan/bin/perl/lib/5.41.11/ExtUtils/MM_Any.pm line 348.
Use of uninitialized value $mandir in pattern match (m//) at /home/cpan/bin/perl/lib/5.41.11/ExtUtils/MM_Unix.pm line 1560.
Use of uninitialized value $mandir in pattern match (m//) at /home/cpan/bin/perl/lib/5.41.11/ExtUtils/MM_Unix.pm line 1560.
Use of uninitialized value $mandir in pattern match (m//) at /home/cpan/bin/perl/lib/5.41.11/ExtUtils/MM_Unix.pm line 1560.
Use of uninitialized value $mandir in pattern match (m//) at /home/cpan/bin/perl/lib/5.41.11/ExtUtils/MM_Unix.pm line 1560.
Use of uninitialized value $mandir in pattern match (m//) at /home/cpan/bin/perl/lib/5.41.11/ExtUtils/MM_Unix.pm line 1560.
Use of uninitialized value $mandir in pattern match (m//) at /home/cpan/bin/perl/lib/5.41.11/ExtUtils/MM_Unix.pm line 1560.
Use of uninitialized value $mandir in pattern match (m//) at /home/cpan/bin/perl/lib/5.41.11/ExtUtils/MM_Unix.pm line 1560.
Use of uninitialized value $mandir in pattern match (m//) at /home/cpan/bin/perl/lib/5.41.11/ExtUtils/MM_Unix.pm line 1560.
Use of uninitialized value $mandir in pattern match (m//) at /home/cpan/bin/perl/lib/5.41.11/ExtUtils/MM_Unix.pm line 1560.
Use of uninitialized value $cmd in substitution (s///) at /home/cpan/bin/perl/lib/5.41.11/ExtUtils/MM_Any.pm line 348.
Use of uninitialized value $mandir in pattern match (m//) at /home/cpan/bin/perl/lib/5.41.11/ExtUtils/MM_Unix.pm line 1560.
Use of uninitialized value $mandir in pattern match (m//) at /home/cpan/bin/perl/lib/5.41.11/ExtUtils/MM_Unix.pm line 1560.
Use of uninitialized value $mandir in pattern match (m//) at /home/cpan/bin/perl/lib/5.41.11/ExtUtils/MM_Unix.pm line 1560.
Use of uninitialized value $mandir in pattern match (m//) at /home/cpan/bin/perl/lib/5.41.11/ExtUtils/MM_Unix.pm line 1560.
Use of uninitialized value $mandir in pattern match (m//) at /home/cpan/bin/perl/lib/5.41.11/ExtUtils/MM_Unix.pm line 1560.
Use of uninitialized value $mandir in pattern match (m//) at /home/cpan/bin/perl/lib/5.41.11/ExtUtils/MM_Unix.pm line 1560.
Use of uninitialized value $mandir in pattern match (m//) at /home/cpan/bin/perl/lib/5.41.11/ExtUtils/MM_Unix.pm line 1560.
Use of uninitialized value $mandir in pattern match (m//) at /home/cpan/bin/perl/lib/5.41.11/ExtUtils/MM_Unix.pm line 1560.
Use of uninitialized value $mandir in pattern match (m//) at /home/cpan/bin/perl/lib/5.41.11/ExtUtils/MM_Unix.pm line 1560.
Use of uninitialized value $cmd in substitution (s///) at /home/cpan/bin/perl/lib/5.41.11/ExtUtils/MM_Any.pm line 348.
Use of uninitialized value $mandir in pattern match (m//) at /home/cpan/bin/perl/lib/5.41.11/ExtUtils/MM_Unix.pm line 1560.
Use of uninitialized value $mandir in pattern match (m//) at /home/cpan/bin/perl/lib/5.41.11/ExtUtils/MM_Unix.pm line 1560.
Use of uninitialized value $mandir in pattern match (m//) at /home/cpan/bin/perl/lib/5.41.11/ExtUtils/MM_Unix.pm line 1560.
Use of uninitialized value $mandir in pattern match (m//) at /home/cpan/bin/perl/lib/5.41.11/ExtUtils/MM_Unix.pm line 1560.
Use of uninitialized value $mandir in pattern match (m//) at /home/cpan/bin/perl/lib/5.41.11/ExtUtils/MM_Unix.pm line 1560.
Use of uninitialized value $mandir in pattern match (m//) at /home/cpan/bin/perl/lib/5.41.11/ExtUtils/MM_Unix.pm line 1560.
Use of uninitialized value $mandir in pattern match (m//) at /home/cpan/bin/perl/lib/5.41.11/ExtUtils/MM_Unix.pm line 1560.
Use of uninitialized value $mandir in pattern match (m//) at /home/cpan/bin/perl/lib/5.41.11/ExtUtils/MM_Unix.pm line 1560.
Use of uninitialized value $mandir in pattern match (m//) at /home/cpan/bin/perl/lib/5.41.11/ExtUtils/MM_Unix.pm line 1560.
old INSTALLDIRS (probably set by makemaker_args) is overriden by installdirs
Use of uninitialized value $cmd in substitution (s///) at /home/cpan/bin/perl/lib/5.41.11/ExtUtils/MM_Any.pm line 348.
Use of uninitialized value $mandir in pattern match (m//) at /home/cpan/bin/perl/lib/5.41.11/ExtUtils/MM_Unix.pm line 1560.
Use of uninitialized value $mandir in pattern match (m//) at /home/cpan/bin/perl/lib/5.41.11/ExtUtils/MM_Unix.pm line 1560.
Use of uninitialized value $mandir in pattern match (m//) at /home/cpan/bin/perl/lib/5.41.11/ExtUtils/MM_Unix.pm line 1560.
Use of uninitialized value $mandir in pattern match (m//) at /home/cpan/bin/perl/lib/5.41.11/ExtUtils/MM_Unix.pm line 1560.
Use of uninitialized value $mandir in pattern match (m//) at /home/cpan/bin/perl/lib/5.41.11/ExtUtils/MM_Unix.pm line 1560.
Use of uninitialized value $mandir in pattern match (m//) at /home/cpan/bin/perl/lib/5.41.11/ExtUtils/MM_Unix.pm line 1560.
Use of uninitialized value $mandir in pattern match (m//) at /home/cpan/bin/perl/lib/5.41.11/ExtUtils/MM_Unix.pm line 1560.
Use of uninitialized value $mandir in pattern match (m//) at /home/cpan/bin/perl/lib/5.41.11/ExtUtils/MM_Unix.pm line 1560.
Use of uninitialized value $mandir in pattern match (m//) at /home/cpan/bin/perl/lib/5.41.11/ExtUtils/MM_Unix.pm line 1560.
Use of uninitialized value $cmd in substitution (s///) at /home/cpan/bin/perl/lib/5.41.11/ExtUtils/MM_Any.pm line 348.
Use of uninitialized value $mandir in pattern match (m//) at /home/cpan/bin/perl/lib/5.41.11/ExtUtils/MM_Unix.pm line 1560.
Use of uninitialized value $mandir in pattern match (m//) at /home/cpan/bin/perl/lib/5.41.11/ExtUtils/MM_Unix.pm line 1560.
Use of uninitialized value $mandir in pattern match (m//) at /home/cpan/bin/perl/lib/5.41.11/ExtUtils/MM_Unix.pm line 1560.
Use of uninitialized value $mandir in pattern match (m//) at /home/cpan/bin/perl/lib/5.41.11/ExtUtils/MM_Unix.pm line 1560.
Use of uninitialized value $mandir in pattern match (m//) at /home/cpan/bin/perl/lib/5.41.11/ExtUtils/MM_Unix.pm line 1560.
Use of uninitialized value $mandir in pattern match (m//) at /home/cpan/bin/perl/lib/5.41.11/ExtUtils/MM_Unix.pm line 1560.
Use of uninitialized value $mandir in pattern match (m//) at /home/cpan/bin/perl/lib/5.41.11/ExtUtils/MM_Unix.pm line 1560.
Use of uninitialized value $mandir in pattern match (m//) at /home/cpan/bin/perl/lib/5.41.11/ExtUtils/MM_Unix.pm line 1560.
Use of uninitialized value $mandir in pattern match (m//) at /home/cpan/bin/perl/lib/5.41.11/ExtUtils/MM_Unix.pm line 1560.
t/22_installdirs.t ...................... ok
t/23_pl_files.t ......................... ok
t/24_multiple_license_blocks.t .......... ok
t/25_perl_version_from.t ................ ok
t/26_unknown_func.t ..................... ok
Warning: prerequisite Test::More 9999 not found. We have 1.302209.
t/27_build_requires_and_include.t ....... ok
t/28_makemaker_args.t ................... ok
t/29_requires_from.t .................... ok
t/30_build_subdirs.t .................... ok
t/31_add_metadata.t ..................... ok
t/32_module_name.t ...................... ok
t/33_copy.t ............................. ok
t/34_readwrite.t ........................ ok
t/recursive/test.t ...................... ok
All tests successful.
Files=36, Tests=547, 13 wallclock secs ( 0.12 usr  0.02 sys + 11.05 cusr  2.10 csys = 13.30 CPU)
Result: PASS

------------------------------
PREREQUISITES
------------------------------

Prerequisite modules loaded:

requires:

    Module              Need   Have      
    ------------------- ------ ----------
    Devel::PPPort       3.16   3.73      
    ExtUtils::Install   1.52   2.22      
    ExtUtils::MakeMaker 6.59   7.72      
    ExtUtils::ParseXS   2.19   3.57      
    File::Path          0      2.18      
    File::Remove        1.42   1.61      
    File::Spec          3.28   3.93      
    Module::Build       0.29   0.4234    
    Module::CoreList    2.17   5.20250321
    Module::ScanDeps    1.09   1.37      
    Parse::CPAN::Meta   1.4413 2.150010  
    perl                5.006  5.041011  
    YAML::Tiny          1.38   1.76      

build_requires:

    Module              Need   Have      
    ------------------- ------ ----------
    autodie             0      2.37      
    ExtUtils::MakeMaker 6.59   7.72      
    Test::Harness       3.13   3.50      
    Test::More          0.86   1.302209  
    YAML::Tiny          1.33   1.76      

configure_requires:

    Module              Need   Have      
    ------------------- ------ ----------
    ExtUtils::MakeMaker 6.59   7.72      
    YAML::Tiny          1.33   1.76      


------------------------------
ENVIRONMENT AND OTHER CONTEXT
------------------------------

Environment variables:

    AUTOMATED_TESTING = 1
    DATE_MANIP_TEST_DM5 = 1
    LC_ALL = C
    NONINTERACTIVE_TESTING = 1
    NO_NETWORK_TESTING = 1
    PATH = /home/cpan/bin/perl/bin:/home/cpan/bin:/sbin:/bin:/usr/sbin:/usr/bin:/usr/games:/usr/local/sbin:/usr/local/bin:/home/cpan/bin
    PERL5LIB = 
    PERL5OPT = 
    PERL5_CPANPLUS_IS_RUNNING = 45181
    PERL5_CPAN_IS_RUNNING = 45181
    PERL_MM_USE_DEFAULT = 1
    PERL_USE_UNSAFE_INC = 1
    SHELL = /usr/local/bin/bash
    TERM = screen
    TMPDIR = /home/cpan/tmp

Perl special variables (and OS-specific diagnostics, for MSWin32):

    $^X = /usr/home/cpan/bin/perl/bin/perl5.41.11
    $UID/$EUID = 1002 / 1002
    $GID = 1002 1002
    $EGID = 1002 1002

Perl module toolchain versions installed:

    Module              Have    
    ------------------- --------
    CPAN                2.38    
    CPAN::Meta          2.150010
    Cwd                 3.92    
    ExtUtils::CBuilder  0.280240
    ExtUtils::Command   7.72    
    ExtUtils::Install   2.22    
    ExtUtils::MakeMaker 7.72    
    ExtUtils::Manifest  1.75    
    ExtUtils::ParseXS   3.57    
    File::Spec          3.93    
    JSON                4.10    
    JSON::PP            4.16    
    Module::Build       0.4234  
    Module::Signature   0.89    
    Parse::CPAN::Meta   2.150010
    Test2               1.302209
    Test::Harness       3.50    
    Test::More          1.302209
    YAML                1.31    
    YAML::Syck          1.34    
    version             0.9933  


--

Summary of my perl5 (revision 5 version 41 subversion 11) configuration:
  Commit id: f81d6dc0beb3612e548d19e563c4259843986324
  Platform:
    osname=midnightbsd
    osvers=3.2.1
    archname=amd64-midnightbsd
    uname='midnightbsd cjg-midnightbsd3 3.2.1 midnightbsd 3.2.1 #15n13132-0869ed7092(stable3.2)-dirty: wed nov 6 12:53:25 est 2024 root@m3264:usrobjusrsrcamd64.amd64sysgeneric amd64 '
    config_args='-des -Dprefix=/home/cpan/bin/perl -Dscriptdir=/home/cpan/bin/perl/bin -Dusedevel -Duse64bitall'
    hint=recommended
    useposix=true
    d_sigaction=define
    useithreads=undef
    usemultiplicity=undef
    use64bitint=define
    use64bitall=define
    uselongdouble=undef
    usemymalloc=n
    default_inc_excludes_dot=define
  Compiler:
    cc='cc'
    ccflags ='-DHAS_FPSETMASK -DHAS_FLOATINGPOINT_H -fno-strict-aliasing -pipe -fstack-protector-strong -I/usr/local/include'
    optimize='-O'
    cppflags='-DHAS_FPSETMASK -DHAS_FLOATINGPOINT_H -fno-strict-aliasing -pipe -fstack-protector-strong -I/usr/local/include'
    ccversion=''
    gccversion='MidnightBSD Clang 13.0.0 (git@github.com:llvm/llvm-project.git llvmorg-13.0.0-0-gd7b669b3a303)'
    gccosandvers=''
    intsize=4
    longsize=8
    ptrsize=8
    doublesize=8
    byteorder=12345678
    doublekind=3
    d_longlong=define
    longlongsize=8
    d_longdbl=define
    longdblsize=16
    longdblkind=3
    ivtype='long'
    ivsize=8
    nvtype='double'
    nvsize=8
    Off_t='off_t'
    lseeksize=8
    alignbytes=8
    prototype=define
  Linker and Libraries:
    ld='cc'
    ldflags ='-Wl,-E  -fstack-protector-strong -L/usr/local/lib'
    libpth=/usr/lib /usr/local/lib /usr/lib/clang/13.0.0/lib
    libs=-lpthread -lgdbm -ldl -lm -lcrypt -lutil -lc
    perllibs=-lpthread -ldl -lm -lcrypt -lutil -lc
    libc=
    so=so
    useshrplib=false
    libperl=libperl.a
    gnulibc_version=''
  Dynamic Linking:
    dlsrc=dl_dlopen.xs
    dlext=so
    d_dlsymun=undef
    ccdlflags=' '
    cccdlflags='-DPIC -fPIC'
    lddlflags='-shared  -L/usr/local/lib -fstack-protector-strong'


Characteristics of this binary (from libperl): 
  Compile-time options:
    HAS_LONG_DOUBLE
    HAS_STRTOLD
    HAS_TIMES
    PERLIO_LAYERS
    PERL_COPY_ON_WRITE
    PERL_DONT_CREATE_GVSV
    PERL_HASH_FUNC_SIPHASH13
    PERL_HASH_USE_SBOX32
    PERL_MALLOC_WRAP
    PERL_OP_PARENT
    PERL_PRESERVE_IVUV
    PERL_USE_DEVEL
    PERL_USE_SAFE_PUTENV
    USE_64_BIT_ALL
    USE_64_BIT_INT
    USE_LARGE_FILES
    USE_LOCALE
    USE_LOCALE_COLLATE
    USE_LOCALE_CTYPE
    USE_LOCALE_NUMERIC
    USE_LOCALE_TIME
    USE_PERLIO
    USE_PERL_ATOF
  Built under midnightbsd
  Compiled at Mar 24 2025 02:25:35
  %ENV:
    PERL5LIB=""
    PERL5OPT=""
    PERL5_CPANPLUS_IS_RUNNING="45181"
    PERL5_CPAN_IS_RUNNING="45181"
    PERL_MM_USE_DEFAULT="1"
    PERL_USE_UNSAFE_INC="1"
  @INC:
    /home/cpan/bin/perl/lib/site_perl/5.41.11/amd64-midnightbsd
    /home/cpan/bin/perl/lib/site_perl/5.41.11
    /home/cpan/bin/perl/lib/5.41.11/amd64-midnightbsd
    /home/cpan/bin/perl/lib/5.41.11
    .