Report for Catalyst-Devel-1.33

Back
From: metabase:user:322078bc-2aae-11df-837a-5e0a49663a4f
Subject: PASS Catalyst-Devel-1.33 v5.14.0 GNU/Linux
Date: 2011-05-27T15:27:14Z

This distribution has been tested as part of the CPAN Testers
project, supporting the Perl programming language.  See
http://wiki.cpantesters.org/ for more information or email
questions to cpan-testers-discuss@perl.org


--

Dear FLORA,

This is a computer-generated error report created automatically by
CPANPLUS, version 0.9105. Testers personal comments may appear
at the end of this report.

MAKE TEST passed: PERL_DL_NONLAZY=1 /opt/perl-5.14.0/bin/perl "-MExtUtils::Command::MM" "-e" "test_harness(0, 'inc', 'blib/lib', 'blib/arch')" t/01use.t t/back_compat.t t/generated_app.t t/get_sharedir_file.t t/optional_http-server-restart.t t/render_file_contents.t t/render_share_dir_file.t
t/01use.t ......................... ok
t/back_compat.t ................... ok
# Generated app is in /tmp/q7txT1ZgMT
# Installed app is in /tmp/xab3b0KSqn
t/generated_app.t ................. ok
t/get_sharedir_file.t ............. ok
t/optional_http-server-restart.t .. skipped: set TEST_HTTP to enable this test
t/render_file_contents.t .......... ok
t/render_share_dir_file.t ......... ok
All tests successful.
Files=7, Tests=89, 11 wallclock secs ( 0.06 usr  0.03 sys +  9.13 cusr  2.02 csys = 11.24 CPU)
Result: PASS

[MSG] [Fri May 27 15:27:14 2011] Sending test report for 'Catalyst-Devel-1.33'

This report was machine-generated by CPANPLUS::Dist::YACSmoke 0.62.

------------------------------
ENVIRONMENT AND OTHER CONTEXT
------------------------------

Environment variables:

    AUTOMATED_TESTING = 1
    PATH = /usr/local/sbin:/usr/local/bin:/usr/sbin:/usr/bin:/sbin:/bin
    PERL5LIB = :/opt/perl-5.14.0/.cpanplus/5.14.0/build/Catalyst-Devel-1.33/blib/lib:/opt/perl-5.14.0/.cpanplus/5.14.0/build/Catalyst-Devel-1.33/blib/arch
    PERL5_CPANPLUS_IS_RUNNING = 21773
    PERL5_CPANPLUS_IS_VERSION = 0.9105
    PERL_EXTUTILS_AUTOINSTALL = --defaultdeps
    PERL_MM_USE_DEFAULT = 1
    SHELL = /bin/bash
    TERM = screen

Perl special variables (and OS-specific diagnostics, for MSWin32):

    Perl: $^X = /opt/perl-5.14.0/bin/perl
    UID:  $<  = 0
    EUID: $>  = 0
    GID:  $(  = 0 0
    EGID: $)  = 0 0


-------------------------------


--

Summary of my perl5 (revision 5 version 14 subversion 0) configuration:
   
  Platform:
    osname=linux, osvers=2.6.32.16-linode28, archname=i686-linux
    uname='linux cabbage 2.6.32.16-linode28 #1 smp sun jul 25 21:32:42 utc 2010 i686 gnulinux '
    config_args='-des -Dprefix=/opt/perl-5.14.0'
    hint=recommended, useposix=true, d_sigaction=define
    useithreads=undef, usemultiplicity=undef
    useperlio=define, d_sfio=undef, uselargefiles=define, usesocks=undef
    use64bitint=undef, use64bitall=undef, uselongdouble=undef
    usemymalloc=n, bincompat5005=undef
  Compiler:
    cc='cc', ccflags ='-fno-strict-aliasing -pipe -fstack-protector -I/usr/local/include -D_LARGEFILE_SOURCE -D_FILE_OFFSET_BITS=64',
    optimize='-O2',
    cppflags='-fno-strict-aliasing -pipe -fstack-protector -I/usr/local/include'
    ccversion='', gccversion='4.4.1', gccosandvers=''
    intsize=4, longsize=4, ptrsize=4, doublesize=8, byteorder=1234
    d_longlong=define, longlongsize=8, d_longdbl=define, longdblsize=12
    ivtype='long', ivsize=4, nvtype='double', nvsize=8, Off_t='off_t', lseeksize=8
    alignbytes=4, prototype=define
  Linker and Libraries:
    ld='cc', ldflags =' -fstack-protector -L/usr/local/lib'
    libpth=/usr/local/lib /lib/../lib /usr/lib/../lib /lib /usr/lib
    libs=-lnsl -ldb -ldl -lm -lcrypt -lutil -lc
    perllibs=-lnsl -ldl -lm -lcrypt -lutil -lc
    libc=/lib/libc-2.10.1.so, so=so, useshrplib=false, libperl=libperl.a
    gnulibc_version='2.10.1'
  Dynamic Linking:
    dlsrc=dl_dlopen.xs, dlext=so, d_dlsymun=undef, ccdlflags='-Wl,-E'
    cccdlflags='-fPIC', lddlflags='-shared -O2 -L/usr/local/lib -fstack-protector'


Characteristics of this binary (from libperl): 
  Compile-time options: PERL_DONT_CREATE_GVSV PERL_MALLOC_WRAP
                        PERL_PRESERVE_IVUV USE_LARGE_FILES USE_PERLIO
                        USE_PERL_ATOF
  Built under linux
  Compiled at May 27 2011 14:04:17
  %ENV:
    PERL5LIB=":/opt/perl-5.14.0/.cpanplus/5.14.0/build/Catalyst-Devel-1.33/blib/lib:/opt/perl-5.14.0/.cpanplus/5.14.0/build/Catalyst-Devel-1.33/blib/arch"
    PERL5_CPANPLUS_IS_RUNNING="21773"
    PERL5_CPANPLUS_IS_VERSION="0.9105"
    PERL_EXTUTILS_AUTOINSTALL="--defaultdeps"
    PERL_MM_USE_DEFAULT="1"
  @INC:
    /opt/perl-5.14.0/.cpanplus/5.14.0/build/Catalyst-Devel-1.33/blib/lib
    /opt/perl-5.14.0/.cpanplus/5.14.0/build/Catalyst-Devel-1.33/blib/arch
    /opt/perl-5.14.0/lib/site_perl/5.14.0/i686-linux
    /opt/perl-5.14.0/lib/site_perl/5.14.0
    /opt/perl-5.14.0/lib/5.14.0/i686-linux
    /opt/perl-5.14.0/lib/5.14.0
    .