Test-CleanNamespaces v0.24 Perl 5 v5.36.0 x86_64-linux
- Status
- Pass
- From
- Michele Beltrame
- Dist
-
Test-CleanNamespaces v0.24
- Platform
- Perl 5 v5.36.0 x86_64-linux
- Date
- 2022-06-17 14:28:47
- ID
- cc879c3e-ee49-11ec-be4d-c4823bc324d3
This distribution has been tested as part of the CPAN Testers
project, supporting the Perl programming language. See
http://wiki.cpantesters.org/ for more information or email
questions to cpan-testers-discuss@perl.org
--
Dear Karen Etheridge,
This is a computer-generated report for Test-CleanNamespaces-0.24
on perl 5.36.0, created by CPAN-Reporter-1.2018.
Thank you for uploading your work to CPAN. Congratulations!
All tests were successful.
Sections of this report:
* Tester comments
* Program output
* Prerequisites
* Environment and other context
------------------------------
TESTER COMMENTS
------------------------------
Additional comments from tester:
none provided
------------------------------
PROGRAM OUTPUT
------------------------------
Output from '/usr/bin/make test':
PERL_DL_NONLAZY=1 "/usr/local/perlbrew/perl5/perls/perl-5.36.0/bin/perl" "-MExtUtils::Command::MM" "-MTest::Harness" "-e" "undef *Test::Harness::Switches; test_harness(0, 'blib/lib', 'blib/arch')" t/*.t
#
# Versions for all modules listed in MYMETA.json (including optional ones):
#
# === Configure Requires ===
#
# Module Want Have
# ------------------------ -------- --------
# CPAN::Meta::Requirements 2.120620 2.140
# ExtUtils::MakeMaker any 7.64
# Module::Metadata any 1.000037
#
# === Build Requires ===
#
# Module Want Have
# ------------------- ---- ----
# ExtUtils::MakeMaker any 7.64
#
# === Test Requires ===
#
# Module Want Have
# --------------------- ----- --------
# ExtUtils::MakeMaker any 7.64
# File::Spec any 3.84
# File::Spec::Functions any 3.84
# File::pushd any 1.016
# Scalar::Util any 1.62
# Sub::Exporter any 0.988
# Test::Deep any 1.130
# Test::More 0.96 1.302190
# Test::Needs any 0.002009
# Test::Tester any 1.302190
# Test::Warnings 0.009 0.031
# constant any 1.33
# if any 0.0610
# lib any 0.65
# namespace::clean any 0.27
# overload any 1.35
# parent any 0.238
#
# === Test Recommends ===
#
# Module Want Have
# ---------- -------- --------
# CPAN::Meta 2.120900 2.150010
#
# === Test Suggests ===
#
# Module Want Have
# --------------------------- -------- --------
# Class::MOP::Class any missing
# Moo any 2.005004
# Moo::Role any 2.005004
# Moose any missing
# Moose::Exporter any missing
# Moose::Role any missing
# MooseX::Role::Parameterized any missing
# Mouse any missing
# Mouse::Role any missing
# Role::Tiny 1.003000 2.002004
# metaclass any missing
#
# === Runtime Requires ===
#
# Module Want Have
# --------------- -------- --------
# Exporter 5.57 5.77
# File::Find any 1.40
# File::Spec any 3.84
# Module::Runtime any 0.016
# Package::Stash 0.14 0.40
# Role::Tiny 1.003000 2.002004
# Sub::Identify any 0.14
# Test::Builder any 1.302190
# strict any 1.12
# warnings any 1.58
#
# === Runtime Recommends ===
#
# Module Want Have
# ------------------ ---- ----
# Package::Stash::XS any 0.30
#
# === Runtime Suggests ===
#
# Module Want Have
# ---------- ---- --------
# Role::Tiny any 2.002004
#
# === Other Modules ===
#
# Module Have
# --------------- -------
# Encode 3.17
# File::Temp 0.2311
# JSON::PP 4.07
# Module::Runtime 0.016
# Pod::Coverage missing
# Sub::Name 0.26
# YAML missing
# autodie 2.34
#
t/00-report-prereqs.t ......... ok
t/basic.t ..................... ok
t/class_mop.t ................. skipped: skipping for regular installs, due to possible circular dependency issues
t/clean-namespaces.t .......... ok
t/find_modules.t .............. ok
t/moo.t ....................... ok
t/moose-parameterized-role.t .. skipped: skipping for regular installs, due to possible circular dependency issues
t/moose.t ..................... skipped: skipping for regular installs, due to possible circular dependency issues
t/mouse.t ..................... skipped: Need Mouse
t/overload.t .................. ok
t/role_tiny.t ................. ok
t/self.t ...................... ok
t/zzz-check-breaks.t .......... ok
All tests successful.
Files=13, Tests=134, 2 wallclock secs ( 0.04 usr 0.03 sys + 1.21 cusr 0.15 csys = 1.43 CPU)
Result: PASS
------------------------------
PREREQUISITES
------------------------------
Prerequisite modules loaded:
requires:
Module Need Have
------------------------ -------- --------
Exporter 5.57 5.77
File::Find 0 1.40
File::Spec 0 3.84
Module::Runtime 0 0.016
Package::Stash 0.14 0.40
perl 5.006 5.036000
Role::Tiny 1.003000 2.002004
strict 0 1.12
Sub::Identify 0 0.14
Test::Builder 0 1.302190
warnings 0 1.58
build_requires:
Module Need Have
------------------------ -------- --------
constant 0 1.33
ExtUtils::MakeMaker 0 7.64
File::pushd 0 1.016
File::Spec 0 3.84
File::Spec::Functions 0 3.84
if 0 0.0610
lib 0 0.65
namespace::clean 0 0.27
overload 0 1.35
parent 0 0.238
Scalar::Util 0 1.62
Sub::Exporter 0 0.988
Test::Deep 0 1.130
Test::More 0.96 1.302190
Test::Needs 0 0.002009
Test::Tester 0 1.302190
Test::Warnings 0.009 0.031
configure_requires:
Module Need Have
------------------------ -------- --------
CPAN::Meta::Requirements 2.120620 2.140
ExtUtils::MakeMaker 0 7.64
Module::Metadata 0 1.000037
perl 5.006 5.036000
opt_requires:
Module Need Have
------------------------ -------- --------
Package::Stash::XS 0 0.30
opt_build_requires:
Module Need Have
------------------------ -------- --------
CPAN::Meta 2.120900 2.150010
------------------------------
ENVIRONMENT AND OTHER CONTEXT
------------------------------
Environment variables:
LANG = it_IT.UTF-8
NONINTERACTIVE_TESTING = 1
PATH = /usr/local/perlbrew/perl5/bin:/usr/local/perlbrew/perl5/perls/perl-5.36.0/bin:/usr/local/sbin:/usr/local/bin:/usr/sbin:/usr/bin:/sbin:/bin:/opt/bin
PERL5LIB =
PERL5OPT =
PERL5_CPANPLUS_IS_RUNNING = 460
PERL5_CPAN_IS_RUNNING = 460
PERLBREW_BASHRC_VERSION = 0.67
PERLBREW_HOME = /root/.perlbrew
PERLBREW_MANPATH = /usr/local/perlbrew/perl5/perls/perl-5.36.0/man
PERLBREW_PATH = /usr/local/perlbrew/perl5/bin:/usr/local/perlbrew/perl5/perls/perl-5.36.0/bin
PERLBREW_PERL = perl-5.36.0
PERLBREW_ROOT = /usr/local/perlbrew/perl5
PERLBREW_VERSION = 0.92
PERL_MM_USE_DEFAULT = 1
PERL_USE_UNSAFE_INC = 1
SHELL = /bin/bash
TERM = xterm-256color
Perl special variables (and OS-specific diagnostics, for MSWin32):
$^X = /usr/local/perlbrew/perl5/perls/perl-5.36.0/bin/perl
$UID/$EUID = 0 / 0
$GID = 0 0 1 2 3 4 6 10 11 26 27
$EGID = 0 0 1 2 3 4 6 10 11 26 27
Perl module toolchain versions installed:
Module Have
------------------- --------
CPAN 2.34
CPAN::Meta 2.150010
Cwd 3.84
ExtUtils::CBuilder 0.280236
ExtUtils::Command 7.64
ExtUtils::Install 2.20
ExtUtils::MakeMaker 7.64
ExtUtils::Manifest 1.73
ExtUtils::ParseXS 3.45
File::Spec 3.84
JSON 4.06
JSON::PP 4.07
Module::Build 0.4231
Module::Signature n/a
Parse::CPAN::Meta 2.150010
Test::Harness 3.44
Test::More 1.302190
YAML n/a
YAML::Syck n/a
version 0.9929
--
Summary of my perl5 (revision 5 version 36 subversion 0) configuration:
Platform:
osname=linux
osvers=5.15.10-x86_64-linode151
archname=x86_64-linux
uname='linux pallino 5.15.10-x86_64-linode151 #1 smp tue dec 21 13:37:22 est 2021 x86_64 amd epyc 7601 32-core processor authenticamd gnulinux '
config_args='-de -Dprefix=/usr/local/perlbrew/perl5/perls/perl-5.36.0 -Aeval:scriptdir=/usr/local/perlbrew/perl5/perls/perl-5.36.0/bin'
hint=recommended
useposix=true
d_sigaction=define
useithreads=undef
usemultiplicity=undef
use64bitint=define
use64bitall=define
uselongdouble=undef
usemymalloc=n
default_inc_excludes_dot=define
Compiler:
cc='cc'
ccflags ='-fwrapv -fno-strict-aliasing -pipe -fstack-protector-strong -I/usr/local/include -D_LARGEFILE_SOURCE -D_FILE_OFFSET_BITS=64'
optimize='-O2'
cppflags='-fwrapv -fno-strict-aliasing -pipe -fstack-protector-strong -I/usr/local/include'
ccversion=''
gccversion='11.3.0'
gccosandvers=''
intsize=4
longsize=8
ptrsize=8
doublesize=8
byteorder=12345678
doublekind=3
d_longlong=define
longlongsize=8
d_longdbl=define
longdblsize=16
longdblkind=3
ivtype='long'
ivsize=8
nvtype='double'
nvsize=8
Off_t='off_t'
lseeksize=8
alignbytes=8
prototype=define
Linker and Libraries:
ld='cc'
ldflags =' -fstack-protector-strong -L/usr/local/lib'
libpth=/usr/local/lib /usr/lib /lib64 /usr/lib64 /lib /usr/local/lib64
libs=-lpthread -lnsl -lgdbm -ldb -ldl -lm -lcrypt -lutil -lc -lgdbm_compat
perllibs=-lpthread -lnsl -ldl -lm -lcrypt -lutil -lc
libc=/lib/../lib64/libc.so.6
so=so
useshrplib=false
libperl=libperl.a
gnulibc_version='2.34'
Dynamic Linking:
dlsrc=dl_dlopen.xs
dlext=so
d_dlsymun=undef
ccdlflags='-Wl,-E'
cccdlflags='-fPIC'
lddlflags='-shared -O2 -L/usr/local/lib -fstack-protector-strong'
Characteristics of this binary (from libperl):
Compile-time options:
HAS_TIMES
PERLIO_LAYERS
PERL_COPY_ON_WRITE
PERL_DONT_CREATE_GVSV
PERL_MALLOC_WRAP
PERL_OP_PARENT
PERL_PRESERVE_IVUV
USE_64_BIT_ALL
USE_64_BIT_INT
USE_LARGE_FILES
USE_LOCALE
USE_LOCALE_COLLATE
USE_LOCALE_CTYPE
USE_LOCALE_NUMERIC
USE_LOCALE_TIME
USE_PERLIO
USE_PERL_ATOF
Built under linux
Compiled at Jun 14 2022 09:41:42
%ENV:
PERL5LIB=""
PERL5OPT=""
PERL5_CPANPLUS_IS_RUNNING="460"
PERL5_CPAN_IS_RUNNING="460"
PERLBREW_BASHRC_VERSION="0.67"
PERLBREW_HOME="/root/.perlbrew"
PERLBREW_MANPATH="/usr/local/perlbrew/perl5/perls/perl-5.36.0/man"
PERLBREW_PATH="/usr/local/perlbrew/perl5/bin:/usr/local/perlbrew/perl5/perls/perl-5.36.0/bin"
PERLBREW_PERL="perl-5.36.0"
PERLBREW_ROOT="/usr/local/perlbrew/perl5"
PERLBREW_VERSION="0.92"
PERL_MM_USE_DEFAULT="1"
PERL_USE_UNSAFE_INC="1"
@INC:
/usr/local/perlbrew/perl5/perls/perl-5.36.0/lib/site_perl/5.36.0/x86_64-linux
/usr/local/perlbrew/perl5/perls/perl-5.36.0/lib/site_perl/5.36.0
/usr/local/perlbrew/perl5/perls/perl-5.36.0/lib/5.36.0/x86_64-linux
/usr/local/perlbrew/perl5/perls/perl-5.36.0/lib/5.36.0
.