Form-Processor v1.162360 Perl 5 v5.41.4 x86_64-linux
- Status
- Pass
- From
- Andreas J. König (ANDK)
- Dist
-
Form-Processor v1.162360
- Platform
- Perl 5 v5.41.4 x86_64-linux
- Date
- 2024-09-24 05:06:46
- ID
- cc7f47ba-7a32-11ef-a775-53d975847d3d
This distribution has been tested as part of the CPAN Testers
project, supporting the Perl programming language. See
http://wiki.cpantesters.org/ for more information or email
questions to cpan-testers-discuss@perl.org
--
Dear Bill Moseley,
This is a computer-generated report for Form-Processor-1.162360
on perl 5.41.4, created by CPAN-Reporter-1.2020.
Thank you for uploading your work to CPAN. Congratulations!
All tests were successful.
Sections of this report:
* Tester comments
* Program output
* Prerequisites
* Environment and other context
------------------------------
TESTER COMMENTS
------------------------------
Additional comments from tester:
this report is from an automated smoke testing program
and was not reviewed by a human for accuracy
------------------------------
PROGRAM OUTPUT
------------------------------
Output from '/usr/bin/make test':
Skip blib/lib/auto/share/dist/Form-Processor/README (unchanged)
Skip blib/lib/auto/share/dist/Form-Processor/passwords.txt (unchanged)
PERL_DL_NONLAZY=1 "/tmp/basesmoker-reloperl-uQX6/bin/perl" "-MExtUtils::Command::MM" "-MTest::Harness" "-e" "undef *Test::Harness::Switches; test_harness(0, 'blib/lib', 'blib/arch')" t/*.t
t/10-Field-Boolean.t .......... ok
t/10-Field-Checkbox.t ......... ok
t/10-Field-CIDR_List.t ........ ok
t/10-Field-Date_yyyy_mm_dd.t .. ok
Possible precedence problem between ! and string eq at /home/sand/src/perl/repoperls/installed-perls/host/k93focal/v5.41.4/b254/lib/site_perl/5.41.4/Date/Manip/Date.pm line 2695.
Possible precedence problem between ! and string eq at /home/sand/src/perl/repoperls/installed-perls/host/k93focal/v5.41.4/b254/lib/site_perl/5.41.4/Date/Manip/Delta.pm line 1117.
t/10-Field-DateTime.t ......... ok
t/10-Field-DateTimeDMYHM.t .... ok
t/10-Field-DateTimeDMYHM2.t ... ok
Possible precedence problem between ! and string eq at /home/sand/src/perl/repoperls/installed-perls/host/k93focal/v5.41.4/b254/lib/site_perl/5.41.4/Date/Manip/Date.pm line 2695.
Possible precedence problem between ! and string eq at /home/sand/src/perl/repoperls/installed-perls/host/k93focal/v5.41.4/b254/lib/site_perl/5.41.4/Date/Manip/Delta.pm line 1117.
t/10-Field-DateTimeManip.t .... ok
t/10-Field-Email.t ............ ok
t/10-Field-FutureDate.t ....... skipped: t/10-Field-FutureDate.t: This Field test not implemented yet
t/10-Field-Hidden.t ........... ok
t/10-Field-Hour.t ............. ok
t/10-Field-HtmlArea.t ......... ok
t/10-Field-Integer.t .......... ok
t/10-Field-IntRange.t ......... ok
t/10-Field-MD5_Password.t ..... ok
t/10-Field-Minute.t ........... ok
t/10-Field-Money.t ............ ok
t/10-Field-Month.t ............ ok
t/10-Field-MonthDay.t ......... ok
t/10-Field-MonthName.t ........ ok
t/10-Field-Multiple.t ......... ok
t/10-Field-OneToTen.t ......... ok
t/10-Field-Password.t ......... ok
t/10-Field-Phone.t ............ ok
t/10-Field-PosInteger.t ....... ok
t/10-Field-Readonly.t ......... ok
t/10-Field-Second.t ........... ok
t/10-Field-Select.t ........... ok
t/10-Field-Template.t ......... ok
t/10-Field-Text.t ............. ok
t/10-Field-TextArea.t ......... ok
t/10-Field-TxtPassword.t ...... ok
t/10-Field-Upload.t ........... ok
t/10-Field-URL.t .............. ok
t/10-Field-Username.t ......... ok
t/10-Field-USPhone.t .......... ok
t/10-Field-USZipcode.t ........ ok
t/10-Field-Weekday.t .......... ok
t/10-Field-WeekdayStr.t ....... ok
t/10-Field-Year.t ............. ok
t/20form.t .................... ok
All tests successful.
Files=42, Tests=318, 5 wallclock secs ( 0.12 usr 0.05 sys + 4.35 cusr 0.67 csys = 5.19 CPU)
Result: PASS
------------------------------
PREREQUISITES
------------------------------
Prerequisite modules loaded:
requires:
Module Need Have
---------------------------------- ----- --------
base 0 2.27
Carp 0 1.54
Crypt::ScryptKDF 0.009 0.010
Data::Dumper 0 2.190
Data::Password::Entropy 0 0.08
Data::UUID 0 1.227
DateTime 0 1.65
DateTime::Format::DateManip 0 0.04
Digest::MD5 0 2.58_01
Email::Valid 0 1.204
Encode 0 3.21
File::ShareDir 0 1.118
File::Temp 0 0.2311
HTML::Tidy 0 1.60
Locale::Maketext 0 1.33
Net::CIDR 0 0.21
Rose::Object 0 0.860
Rose::Object::MakeMethods::Generic 0 0.859
Scalar::Util 0 1.66
strict 0 1.13
Template::Parser 0 3.100
UNIVERSAL::require 0 0.19
warnings 0 1.70
build_requires:
Module Need Have
---------------------------------- ----- --------
Date::Manip 0 6.95
ExtUtils::MakeMaker 0 7.70
Test::More 0 1.302204
configure_requires:
Module Need Have
---------------------------------- ----- --------
ExtUtils::MakeMaker 0 7.70
File::ShareDir::Install 0.06 0.14
------------------------------
ENVIRONMENT AND OTHER CONTEXT
------------------------------
Environment variables:
AUTOMATED_TESTING = 1
LANG = en_US.UTF-8
PATH = /home/sand/bin:/usr/local/bin:/usr/local/sbin:/usr/sbin:/usr/bin:/sbin:/bin:/usr/games:/usr/local/games:/snap/bin:/usr/local/perl/bin:/usr/X11/bin
PERL = /tmp/basesmoker-reloperl-uQX6/bin/perl
PERL5LIB = /tmp/loop_over_bdir-2226185-4jWQzj/Net-OpenVPN-DDNS-0.1-0/blib/arch:/tmp/loop_over_bdir-2226185-4jWQzj/Net-OpenVPN-DDNS-0.1-0/blib/lib
PERL5OPT =
PERL5_CPANPLUS_IS_RUNNING = 2226194
PERL5_CPAN_IS_RUNNING = 2226194
PERL_CANARY_STABILITY_NOPROMPT = 1
PERL_MM_USE_DEFAULT = 1
PERL_USE_UNSAFE_INC = 1
SHELL = /usr/bin/zsh
TERM = screen
Perl special variables (and OS-specific diagnostics, for MSWin32):
$^X = /tmp/basesmoker-reloperl-uQX6/bin/perl
$UID/$EUID = 1005 / 1005
$GID = 1005 1005
$EGID = 1005 1005
Perl module toolchain versions installed:
Module Have
------------------- --------
CPAN 2.37
CPAN::Meta 2.150010
Cwd 3.92
ExtUtils::CBuilder 0.280240
ExtUtils::Command 7.70
ExtUtils::Install 2.22
ExtUtils::MakeMaker 7.70
ExtUtils::Manifest 1.75
ExtUtils::ParseXS 3.54
File::Spec 3.93
JSON 4.10
JSON::PP 4.16
Module::Build 0.4234
Module::Signature 0.89
Parse::CPAN::Meta 2.150010
Test2 1.302204
Test::Harness 3.50
Test::More 1.302204
YAML 1.31
YAML::Syck 1.34
version 0.9933
--
Summary of my perl5 (revision 5 version 41 subversion 4) configuration:
Commit id: 87deea969a7552a96b077acb5708d74c65099c51
Platform:
osname=linux
osvers=5.4.0-193-generic
archname=x86_64-linux
uname='linux k93focal 5.4.0-193-generic #213-ubuntu smp fri aug 2 19:14:16 utc 2024 x86_64 x86_64 x86_64 gnulinux '
config_args='-Dprefix=/home/sand/src/perl/repoperls/installed-perls/host/k93focal/v5.41.4/b254 -Dmyhostname=k93focal -Dinstallusrbinperl=n -Uversiononly -Dusedevel -des -Ui_db -Dlibswanted=cl pthread socket inet nsl gdbm dbm malloc dl ld sun m crypt sec util c cposix posix ucb BSD gdbm_compat -Uuseithreads -Uuselongdouble -DEBUGGING=both'
hint=recommended
useposix=true
d_sigaction=define
useithreads=undef
usemultiplicity=undef
use64bitint=define
use64bitall=define
uselongdouble=undef
usemymalloc=n
default_inc_excludes_dot=define
Compiler:
cc='cc'
ccflags ='-fwrapv -DDEBUGGING -fno-strict-aliasing -pipe -fstack-protector-strong -I/usr/local/include -D_LARGEFILE_SOURCE -D_FILE_OFFSET_BITS=64'
optimize='-O2 -g'
cppflags='-fwrapv -DDEBUGGING -fno-strict-aliasing -pipe -fstack-protector-strong -I/usr/local/include'
ccversion=''
gccversion='9.4.0'
gccosandvers=''
intsize=4
longsize=8
ptrsize=8
doublesize=8
byteorder=12345678
doublekind=3
d_longlong=define
longlongsize=8
d_longdbl=define
longdblsize=16
longdblkind=3
ivtype='long'
ivsize=8
nvtype='double'
nvsize=8
Off_t='off_t'
lseeksize=8
alignbytes=8
prototype=define
Linker and Libraries:
ld='cc'
ldflags =' -fstack-protector-strong -L/usr/local/lib'
libpth=/usr/local/lib /usr/lib/x86_64-linux-gnu /usr/lib /usr/lib64
libs=-lpthread -lnsl -ldl -lm -lcrypt -lutil -lc
perllibs=-lpthread -lnsl -ldl -lm -lcrypt -lutil -lc
libc=libc-2.31.so
so=so
useshrplib=false
libperl=libperl.a
gnulibc_version='2.31'
Dynamic Linking:
dlsrc=dl_dlopen.xs
dlext=so
d_dlsymun=undef
ccdlflags='-Wl,-E'
cccdlflags='-fPIC'
lddlflags='-shared -O2 -g -L/usr/local/lib -fstack-protector-strong'
Characteristics of this binary (from libperl):
Compile-time options:
DEBUGGING
HAS_LONG_DOUBLE
HAS_STRTOLD
HAS_TIMES
PERLIO_LAYERS
PERL_COPY_ON_WRITE
PERL_DONT_CREATE_GVSV
PERL_HASH_FUNC_SIPHASH13
PERL_HASH_USE_SBOX32
PERL_MALLOC_WRAP
PERL_OP_PARENT
PERL_PRESERVE_IVUV
PERL_USE_DEVEL
PERL_USE_SAFE_PUTENV
USE_64_BIT_ALL
USE_64_BIT_INT
USE_LARGE_FILES
USE_LOCALE
USE_LOCALE_COLLATE
USE_LOCALE_CTYPE
USE_LOCALE_NUMERIC
USE_LOCALE_TIME
USE_PERLIO
USE_PERL_ATOF
Built under linux
Compiled at Sep 21 2024 20:03:08
%ENV:
PERL="/tmp/basesmoker-reloperl-uQX6/bin/perl"
PERL5LIB="/tmp/loop_over_bdir-2226185-4jWQzj/Net-OpenVPN-DDNS-0.1-0/blib/arch:/tmp/loop_over_bdir-2226185-4jWQzj/Net-OpenVPN-DDNS-0.1-0/blib/lib"
PERL5OPT=""
PERL5_CPANPLUS_IS_RUNNING="2226194"
PERL5_CPAN_IS_RUNNING="2226194"
PERL_CANARY_STABILITY_NOPROMPT="1"
PERL_MM_USE_DEFAULT="1"
PERL_USE_UNSAFE_INC="1"
@INC:
/tmp/loop_over_bdir-2226185-4jWQzj/Net-OpenVPN-DDNS-0.1-0/blib/arch
/tmp/loop_over_bdir-2226185-4jWQzj/Net-OpenVPN-DDNS-0.1-0/blib/lib
/home/sand/src/perl/repoperls/installed-perls/host/k93focal/v5.41.4/b254/lib/site_perl/5.41.4/x86_64-linux
/home/sand/src/perl/repoperls/installed-perls/host/k93focal/v5.41.4/b254/lib/site_perl/5.41.4
/home/sand/src/perl/repoperls/installed-perls/host/k93focal/v5.41.4/b254/lib/5.41.4/x86_64-linux
/home/sand/src/perl/repoperls/installed-perls/host/k93focal/v5.41.4/b254/lib/5.41.4
.