Report for EV-Cron-0.123600

Back
From: metabase:user:0d96120c-29e2-11e5-b049-ede3035d37de
Subject: PASS EV-Cron-0.123600 v5.23.1 GNU/Linux
Date: 2015-07-25T21:55:00Z

This distribution has been tested as part of the CPAN Testers
project, supporting the Perl programming language.  See
http://wiki.cpantesters.org/ for more information or email
questions to cpan-testers-discuss@perl.org


--
Dear Loic TROCHET,

This is a computer-generated report for EV-Cron-0.123600
on perl 5.23.1, created by CPAN-Reporter-1.2014.

Thank you for uploading your work to CPAN.  Congratulations!
All tests were successful.

Sections of this report:

    * Tester comments
    * Program output
    * Prerequisites
    * Environment and other context

------------------------------
TESTER COMMENTS
------------------------------

Additional comments from tester:

this report is from an automated smoke testing program
and was not reviewed by a human for accuracy

------------------------------
PROGRAM OUTPUT
------------------------------

Output from '/usr/bin/make test':

PERL_DL_NONLAZY=1 "/data/perl5/perlbrew/perls/perl-5.23.1/bin/perl5.23.1" "-MExtUtils::Command::MM" "-MTest::Harness" "-e" "undef *Test::Harness::Switches; test_harness(0, 'blib/lib', 'blib/arch')" t/*.t
t/00-compile.t ................ ok
# 
# 
# Generated by Dist::Zilla::Plugin::ReportVersions::Tiny v1.08
# perl: 5.023001 (wanted 5.010) on linux from /data/perl5/perlbrew/perls/perl-5.23.1/bin/perl5.23.1
# 
# DateTime                                      => 1.20       (want any version)
# DateTime::Event::Cron                         => 0.08       (want any version)
# EV                                            => 4.21       (want any version)
# ExtUtils::MakeMaker                           => 7.0401     (want 6.30)   
# File::Find                                    => 1.29       (want any version)
# File::Temp                                    => 0.2304     (want any version)
# Params::Validate                              => 1.21       (want any version)
# Pod::Coverage::TrustPod                       => module not found. (want any version)
# Test::More                                    => 1.001014   (want 0.88)   
# Test::Pod                                     => 1.51       (want 1.41)   
# Test::Pod::Coverage                           => 1.10       (want 1.08)   
# feature                                       => 1.42       (want any version)
# strict                                        => 1.09       (want any version)
# version                                       => 0.9909     (want 0.9901) 
# warnings                                      => 1.33       (want any version)
# 
# Thanks for using my code.  I hope it works for you.
# If not, please try and include this output in the bug report.
# That will help me reproduce the issue and solve your problem.
# 
t/000-report-versions-tiny.t .. ok
t/01_api.t .................... ok
t/02_basic.t .................. ok
t/release-pod-coverage.t ...... skipped: these tests are for release candidate testing
t/release-pod-syntax.t ........ skipped: these tests are for release candidate testing
All tests successful.
Files=6, Tests=7, 18 wallclock secs ( 0.02 usr  0.01 sys +  0.50 cusr  0.03 csys =  0.56 CPU)
Result: PASS

------------------------------
PREREQUISITES
------------------------------

Prerequisite modules loaded:

requires:

    Module                Need Have    
    --------------------- ---- --------
    DateTime              0    1.20    
    DateTime::Event::Cron 0    0.08    
    EV                    0    4.21    
    feature               0    1.42    
    Params::Validate      0    1.21    
    strict                0    1.09    
    warnings              0    1.33    

build_requires:

    Module                Need Have    
    --------------------- ---- --------
    File::Find            0    1.29    
    File::Temp            0    0.2304  
    Test::More            0.88 1.001014

configure_requires:

    Module                Need Have    
    --------------------- ---- --------
    ExtUtils::MakeMaker   6.30 7.04_01 


------------------------------
ENVIRONMENT AND OTHER CONTEXT
------------------------------

Environment variables:

    AUTOMATED_TESTING = 1
    LANG = en_US.UTF-8
    NONINTERACTIVE_TESTING = 1
    PATH = /home/perltest/sysperl/bin:/home/perltest/perl5/perlbrew/bin:/home/perltest/perl5/perlbrew/perls/perl-5.23.1/bin:/home/perltest/perltest/bin:/home/perltest/perltest/bin:/home/perltest/perltest/bin:/home/perltest/perl5/perlbrew/bin:/home/perltest/perl5/perlbrew/perls/perl-5.23.1/bin:/usr/local/sbin:/usr/local/bin:/usr/sbin:/usr/bin:/sbin:/bin:/usr/games:/usr/local/games:/home/perltest/perltest/bin
    PERL5LIB = /home/perltest/.cpan/build/DateTime-Event-Cron-0.08-DhkMbg/blib/arch:/home/perltest/.cpan/build/DateTime-Event-Cron-0.08-DhkMbg/blib/lib:/home/perltest/.cpan/build/DateTime-Set-0.3400-oU_HUS/blib/arch:/home/perltest/.cpan/build/DateTime-Set-0.3400-oU_HUS/blib/lib:/home/perltest/.cpan/build/Set-Infinite-0.65-55hwDT/blib/arch:/home/perltest/.cpan/build/Set-Infinite-0.65-55hwDT/blib/lib:/home/perltest/.cpan/build/Set-Crontab-1.03-sD7f9U/blib/arch:/home/perltest/.cpan/build/Set-Crontab-1.03-sD7f9U/blib/lib:/home/perltest/sysperl/lib/perl5
    PERL5OPT = 
    PERL5_CPANPLUS_IS_RUNNING = 6251
    PERL5_CPAN_IS_RUNNING = 6251
    PERL5_CPAN_IS_RUNNING_IN_RECURSION = 17119,6251
    PERLBREW_BASHRC_VERSION = 0.73
    PERLBREW_HOME = /home/perltest/.perlbrew
    PERLBREW_LIB = 
    PERLBREW_MANPATH = /home/perltest/perl5/perlbrew/perls/perl-5.23.1/man
    PERLBREW_PATH = /home/perltest/perl5/perlbrew/bin:/home/perltest/perl5/perlbrew/perls/perl-5.23.1/bin
    PERLBREW_PERL = perl-5.23.1
    PERLBREW_ROOT = /home/perltest/perl5/perlbrew
    PERLBREW_VERSION = 0.73
    PERL_CR_SMOKER_CURRENT = EV-Cron-0.123600
    PERL_EXTUTILS_AUTOINSTALL = --defaultdeps
    PERL_LOCAL_LIB_ROOT = /home/perltest/sysperl:
    PERL_MB_OPT = --install_base "//home/perltest/sysperl"
    PERL_MM_OPT = INSTALL_BASE=/home/perltest/sysperl
    PERL_MM_USE_DEFAULT = 1
    SHELL = /bin/bash
    TERM = screen

Perl special variables (and OS-specific diagnostics, for MSWin32):

    $^X = /data/perl5/perlbrew/perls/perl-5.23.1/bin/perl5.23.1
    $UID/$EUID = 2000 / 2000
    $GID = 2000 2000
    $EGID = 2000 2000

Perl module toolchain versions installed:

    Module              Have    
    ------------------- --------
    CPAN                2.11    
    CPAN::Meta          2.150005
    Cwd                 3.56    
    ExtUtils::CBuilder  0.280223
    ExtUtils::Command   1.20    
    ExtUtils::Install   2.04    
    ExtUtils::MakeMaker 7.04_01 
    ExtUtils::Manifest  1.70    
    ExtUtils::ParseXS   3.28    
    File::Spec          3.56    
    JSON                2.90    
    JSON::PP            2.27300 
    Module::Build       0.4214  
    Module::Signature   n/a     
    Parse::CPAN::Meta   1.4417  
    Test::Harness       3.35    
    Test::More          1.001014
    YAML                1.15    
    YAML::Syck          n/a     
    version             0.9909  


--

Summary of my perl5 (revision 5 version 23 subversion 1) configuration:
   
  Platform:
    osname=linux, osvers=3.19.0-18-generic, archname=x86_64-linux
    uname='linux perltest.antelope.net 3.19.0-18-generic #18-ubuntu smp tue may 19 18:31:35 utc 2015 x86_64 x86_64 x86_64 gnulinux '
    config_args='-de -Dprefix=/home/perltest/perl5/perlbrew/perls/perl-5.23.1 -Dusedevel -Aeval:scriptdir=/home/perltest/perl5/perlbrew/perls/perl-5.23.1/bin'
    hint=recommended, useposix=true, d_sigaction=define
    useithreads=undef, usemultiplicity=undef
    use64bitint=define, use64bitall=define, uselongdouble=undef
    usemymalloc=n, bincompat5005=undef
  Compiler:
    cc='cc', ccflags ='-fwrapv -fno-strict-aliasing -pipe -fstack-protector-strong -I/usr/local/include -D_LARGEFILE_SOURCE -D_FILE_OFFSET_BITS=64',
    optimize='-O2',
    cppflags='-fwrapv -fno-strict-aliasing -pipe -fstack-protector-strong -I/usr/local/include'
    ccversion='', gccversion='4.9.2', gccosandvers=''
    intsize=4, longsize=8, ptrsize=8, doublesize=8, byteorder=12345678, doublekind=3
    d_longlong=define, longlongsize=8, d_longdbl=define, longdblsize=16, longdblkind=3
    ivtype='long', ivsize=8, nvtype='double', nvsize=8, Off_t='off_t', lseeksize=8
    alignbytes=8, prototype=define
  Linker and Libraries:
    ld='cc', ldflags =' -fstack-protector-strong -L/usr/local/lib'
    libpth=/usr/local/lib /usr/lib/gcc/x86_64-linux-gnu/4.9/include-fixed /usr/include/x86_64-linux-gnu /usr/lib /lib/x86_64-linux-gnu /lib/../lib /usr/lib/x86_64-linux-gnu /usr/lib/../lib /lib
    libs=-lpthread -lnsl -ldb -ldl -lm -lcrypt -lutil -lc
    perllibs=-lpthread -lnsl -ldl -lm -lcrypt -lutil -lc
    libc=libc-2.21.so, so=so, useshrplib=false, libperl=libperl.a
    gnulibc_version='2.21'
  Dynamic Linking:
    dlsrc=dl_dlopen.xs, dlext=so, d_dlsymun=undef, ccdlflags='-Wl,-E'
    cccdlflags='-fPIC', lddlflags='-shared -O2 -L/usr/local/lib -fstack-protector-strong'


Characteristics of this binary (from libperl): 
  Compile-time options: HAS_TIMES PERLIO_LAYERS PERL_COPY_ON_WRITE
                        PERL_DONT_CREATE_GVSV
                        PERL_HASH_FUNC_ONE_AT_A_TIME_HARD PERL_MALLOC_WRAP
                        PERL_PRESERVE_IVUV PERL_USE_DEVEL USE_64_BIT_ALL
                        USE_64_BIT_INT USE_LARGE_FILES USE_LOCALE
                        USE_LOCALE_COLLATE USE_LOCALE_CTYPE
                        USE_LOCALE_NUMERIC USE_LOCALE_TIME USE_PERLIO
                        USE_PERL_ATOF
  Locally applied patches:
	Devel::PatchPerl 1.38
  Built under linux
  Compiled at Jul 24 2015 17:49:38
  %ENV:
    PERL5LIB="/home/perltest/.cpan/build/DateTime-Event-Cron-0.08-DhkMbg/blib/arch:/home/perltest/.cpan/build/DateTime-Event-Cron-0.08-DhkMbg/blib/lib:/home/perltest/.cpan/build/DateTime-Set-0.3400-oU_HUS/blib/arch:/home/perltest/.cpan/build/DateTime-Set-0.3400-oU_HUS/blib/lib:/home/perltest/.cpan/build/Set-Infinite-0.65-55hwDT/blib/arch:/home/perltest/.cpan/build/Set-Infinite-0.65-55hwDT/blib/lib:/home/perltest/.cpan/build/Set-Crontab-1.03-sD7f9U/blib/arch:/home/perltest/.cpan/build/Set-Crontab-1.03-sD7f9U/blib/lib:/home/perltest/sysperl/lib/perl5"
    PERL5OPT=""
    PERL5_CPANPLUS_IS_RUNNING="6251"
    PERL5_CPAN_IS_RUNNING="6251"
    PERL5_CPAN_IS_RUNNING_IN_RECURSION="17119,6251"
    PERLBREW_BASHRC_VERSION="0.73"
    PERLBREW_HOME="/home/perltest/.perlbrew"
    PERLBREW_LIB=""
    PERLBREW_MANPATH="/home/perltest/perl5/perlbrew/perls/perl-5.23.1/man"
    PERLBREW_PATH="/home/perltest/perl5/perlbrew/bin:/home/perltest/perl5/perlbrew/perls/perl-5.23.1/bin"
    PERLBREW_PERL="perl-5.23.1"
    PERLBREW_ROOT="/home/perltest/perl5/perlbrew"
    PERLBREW_VERSION="0.73"
    PERL_CR_SMOKER_CURRENT="EV-Cron-0.123600"
    PERL_EXTUTILS_AUTOINSTALL="--defaultdeps"
    PERL_LOCAL_LIB_ROOT="/home/perltest/sysperl:"
    PERL_MB_OPT="--install_base "//home/perltest/sysperl""
    PERL_MM_OPT="INSTALL_BASE=/home/perltest/sysperl"
    PERL_MM_USE_DEFAULT="1"
  @INC:
    /home/perltest/.cpan/build/DateTime-Event-Cron-0.08-DhkMbg/blib/arch
    /home/perltest/.cpan/build/DateTime-Event-Cron-0.08-DhkMbg/blib/lib
    /home/perltest/.cpan/build/DateTime-Set-0.3400-oU_HUS/blib/arch
    /home/perltest/.cpan/build/DateTime-Set-0.3400-oU_HUS/blib/lib
    /home/perltest/.cpan/build/Set-Infinite-0.65-55hwDT/blib/arch
    /home/perltest/.cpan/build/Set-Infinite-0.65-55hwDT/blib/lib
    /home/perltest/.cpan/build/Set-Crontab-1.03-sD7f9U/blib/arch
    /home/perltest/.cpan/build/Set-Crontab-1.03-sD7f9U/blib/lib
    /home/perltest/sysperl/lib/perl5/x86_64-linux
    /home/perltest/sysperl/lib/perl5
    /home/perltest/perl5/perlbrew/perls/perl-5.23.1/lib/site_perl/5.23.1/x86_64-linux
    /home/perltest/perl5/perlbrew/perls/perl-5.23.1/lib/site_perl/5.23.1
    /home/perltest/perl5/perlbrew/perls/perl-5.23.1/lib/5.23.1/x86_64-linux
    /home/perltest/perl5/perlbrew/perls/perl-5.23.1/lib/5.23.1
    .