Back
From: metabase:user:b53c7f44-4c0e-11e4-9ced-a04ade49192c
Subject: PASS XML-TreePP-0.43 v5.21.8 GNU/Linux
Date: 2015-02-19T09:50:55Z
This distribution has been tested as part of the CPAN Testers
project, supporting the Perl programming language. See
http://wiki.cpantesters.org/ for more information or email
questions to cpan-testers-discuss@perl.org
--
Dear Yusuke Kawasaki,
This is a computer-generated report for XML-TreePP-0.43
on perl 5.21.8, created by CPAN-Reporter-1.2011.
Thank you for uploading your work to CPAN. Congratulations!
All tests were successful.
Sections of this report:
* Tester comments
* Program output
* Prerequisites
* Environment and other context
------------------------------
TESTER COMMENTS
------------------------------
Additional comments from tester:
this report is from an automated smoke testing program
and was not reviewed by a human for accuracy
------------------------------
PROGRAM OUTPUT
------------------------------
Output from '/usr/bin/make test':
PERL_DL_NONLAZY=1 "/opt/perl492-32-O0-5.21.8/bin/perl" "-MExtUtils::Command::MM" "-MTest::Harness" "-e" "undef *Test::Harness::Switches; test_harness(0, 'blib/lib', 'blib/arch')" t/*.t
t/00_pod.t .................... ok
t/01_parse.t .................. ok
t/02_write.t .................. ok
t/03_parsefile.t .............. ok
t/04_escape.t ................. ok
t/05_empty.t .................. ok
t/06_cdata.t .................. ok
t/07_attr_prefix.t ............ ok
t/08_force_array.t ............ ok
t/09_http-lite.t .............. skipped: define $MORE_TESTS to test HTTP::Lite.
t/10_http-lwp.t ............... skipped: define $MORE_TESTS to test LWP::UserAgent.
t/11_escape_cdata.t ........... ok
t/12_escape_charref.t ......... ok
t/13_encoding_en.t ............ ok
t/14_encoding_zh.t ............ ok
t/15_encoding_ja.t ............ ok
t/16_encoding_ko.t ............ ok
t/17_output_encoding.t ........ ok
t/18_escape_amp.t ............. ok
t/19_multi_text.t ............. ok
t/20_http-lite-cached.t ....... skipped: define $MORE_TESTS to test this.
t/21_http-lwp-cached.t ........ skipped: define $MORE_TESTS to test this.
t/22_http-lite-headers.t ...... skipped: define $MORE_TESTS to test this.
t/23_http-lwp-headers.t ....... skipped: define $MORE_TESTS to test this.
t/24_ignore_error.t ........... ok
t/25_text_node_key.t .......... ok
t/26_attr_prefix_null.t ....... ok
t/27_http-lite-force.t ........ skipped: define $MORE_TESTS to test this.
t/28_http-lwp-force.t ......... skipped: define $MORE_TESTS to test this.
t/29_http-lwp-withcache.t ..... skipped: LWP::UserAgent::WithCache is not loaded.
t/30_first_out.t .............. ok
t/31_tie_ixhash.t ............. ok
t/32_base_class.t ............. ok
t/33_indent.t ................. ok
t/34_utf8_flag.t .............. ok
t/35_force_hash.t ............. ok
t/36_elem_class.t ............. ok
t/37_undef.t .................. ok
t/38_cdata_cdsect.t ........... ok
t/39_writefile.t .............. ok
t/40_writefile_jcode.t ........ skipped: Jcode is not loaded.
t/41_writefile_encode.t ....... ok
t/42_cdata_comment.t .......... ok
t/43_encoding_quote.t ......... ok
t/44_utf8_bom.t ............... ok
t/45_attr_space.t ............. ok
t/46_xml_deref.t .............. ok
t/47_xml_deref_utf8.t ......... ok
t/48_blobref.t ................ ok
t/49_invalid_encoding.t ....... ok
t/50_invalid_tree.t ........... ok
t/51_RT_42441.t ............... ok
t/52_require_xml_decl.t ....... ok
t/53_empty_text_node.t ........ ok
t/54_empty_element_tag_end.t .. ok
All tests successful.
Files=55, Tests=1093, 25 wallclock secs ( 1.68 usr 0.20 sys + 18.80 cusr 1.55 csys = 22.23 CPU)
Result: PASS
------------------------------
PREREQUISITES
------------------------------
Prerequisite modules loaded:
requires:
Module Need Have
------------------- ----- --------
LWP 5.811 6.13
Test::More 0 1.001014
build_requires:
Module Need Have
------------------- ----- --------
ExtUtils::MakeMaker 0 7.04
configure_requires:
Module Need Have
------------------- ----- --------
ExtUtils::MakeMaker 0 7.04
------------------------------
ENVIRONMENT AND OTHER CONTEXT
------------------------------
Environment variables:
AUTOMATED_TESTING = 1
LANG = en_US.utf8
NONINTERACTIVE_TESTING = 1
PATH = /usr/lib/qt-3.3/bin:/usr/kerberos/sbin:/usr/kerberos/bin:/usr/lib/ccache:/usr/local/sbin:/usr/sbin:/sbin:/usr/local/bin:/usr/bin:/bin:/usr/lib/firebird/bin:/opt/real/RealPlayer:/root/bin:/usr/lib/firebird/bin:/opt/real/RealPlayer
PERL5LIB =
PERL5OPT =
PERL5_CPANPLUS_IS_RUNNING = 1542
PERL5_CPAN_IS_RUNNING = 1542
PERL_EXTUTiLS_AUTOINSTALL = 1
PERL_MM_USE_DEFAULT = 1
SHELL = /bin/bash
TERM = xterm
Perl special variables (and OS-specific diagnostics, for MSWin32):
$^X = /opt/perl492-32-O0-5.21.8/bin/perl
$UID/$EUID = 0 / 0
$GID = 0 0 1 2 3 4 6 10
$EGID = 0 0 1 2 3 4 6 10
Perl module toolchain versions installed:
Module Have
------------------- --------
CPAN 2.05
CPAN::Meta 2.143240
Cwd 3.47
ExtUtils::CBuilder 0.280220
ExtUtils::Command 1.20
ExtUtils::Install 2.04
ExtUtils::MakeMaker 7.04
ExtUtils::Manifest 1.70
ExtUtils::ParseXS 3.24
File::Spec 3.47
JSON 2.90
JSON::PP 2.27300
Module::Build 0.4211
Module::Signature 0.73
Parse::CPAN::Meta 1.4414
Test::Harness 3.35
Test::More 1.001014
YAML 1.14
YAML::Syck 1.29
version 0.9912
--
Summary of my perl5 (revision 5 version 21 subversion 8) configuration:
Platform:
osname=linux, osvers=2.6.32.63, archname=i686-linux-thread-multi-64int-ld
uname='linux localhost.localdomain 2.6.32.63 #2 smp fri jan 30 10:45:01 pst 2015 i686 i686 i386 gnulinux '
config_args='-Dcc=/opt/492/bin/gcc -Dprefix=/opt/perl492-32-O0-5.21.8 -DDEBUGGING'
hint=recommended, useposix=true, d_sigaction=define
useithreads=define, usemultiplicity=define
use64bitint=define, use64bitall=undef, uselongdouble=define
usemymalloc=y, bincompat5005=undef
Compiler:
cc='/opt/492/bin/gcc', ccflags ='-D_REENTRANT -D_GNU_SOURCE -fwrapv -DDEBUGGING -fno-strict-aliasing -pipe -fstack-protector-strong -I/usr/local/include -D_LARGEFILE_SOURCE -D_FILE_OFFSET_BITS=64 -D_FORTIFY_SOURCE=2',
optimize='-O0 -g',
cppflags='-D_REENTRANT -D_GNU_SOURCE -fwrapv -DDEBUGGING -fno-strict-aliasing -pipe -fstack-protector-strong -I/usr/local/include'
ccversion='', gccversion='4.9.2', gccosandvers=''
intsize=4, longsize=4, ptrsize=4, doublesize=8, byteorder=12345678, doublekind=3
d_longlong=define, longlongsize=8, d_longdbl=define, longdblsize=12, longdblkind=3
ivtype='long long', ivsize=8, nvtype='long double', nvsize=12, Off_t='off_t', lseeksize=8
alignbytes=4, prototype=define
Linker and Libraries:
ld='/opt/492/bin/gcc', ldflags =' -fstack-protector-strong -L/usr/local/lib'
libpth=/usr/local/lib /opt/492/lib /opt/492/lib/gcc/i686-pc-linux-gnu/4.9.2/include-fixed /usr/lib /lib
libs=-lpthread -lnsl -lgdbm -ldb -ldl -lm -lcrypt -lutil -lc
perllibs=-lpthread -lnsl -ldl -lm -lcrypt -lutil -lc
libc=libc-2.8.so, so=so, useshrplib=true, libperl=libperl.so
gnulibc_version='2.8'
Dynamic Linking:
dlsrc=dl_dlopen.xs, dlext=so, d_dlsymun=undef, ccdlflags='-Wl,-E -Wl,-rpath,/opt/perl492-32-O0-5.21.8/lib/5.21.8/i686-linux-thread-multi-64int-ld/CORE'
cccdlflags='-fPIC', lddlflags='-shared -O0 -g -L/usr/local/lib -fstack-protector-strong'
Characteristics of this binary (from libperl):
Compile-time options: DEBUGGING HAS_TIMES MULTIPLICITY MYMALLOC
PERLIO_LAYERS PERL_DONT_CREATE_GVSV
PERL_HASH_FUNC_ONE_AT_A_TIME_HARD
PERL_IMPLICIT_CONTEXT PERL_MALLOC_WRAP
PERL_NEW_COPY_ON_WRITE PERL_PRESERVE_IVUV
PERL_TRACK_MEMPOOL USE_64_BIT_INT USE_FAST_STDIO
USE_ITHREADS USE_LARGE_FILES USE_LOCALE
USE_LOCALE_COLLATE USE_LOCALE_CTYPE
USE_LOCALE_NUMERIC USE_LOCALE_TIME USE_LONG_DOUBLE
USE_PERLIO USE_PERL_ATOF USE_REENTRANT_API
Built under linux
Compiled at Feb 13 2015 20:10:30
%ENV:
PERL5LIB=""
PERL5OPT=""
PERL5_CPANPLUS_IS_RUNNING="1542"
PERL5_CPAN_IS_RUNNING="1542"
PERL_EXTUTiLS_AUTOINSTALL="1"
PERL_MM_USE_DEFAULT="1"
@INC:
/opt/perl492-32-O0-5.21.8/lib/site_perl/5.21.8/i686-linux-thread-multi-64int-ld
/opt/perl492-32-O0-5.21.8/lib/site_perl/5.21.8
/opt/perl492-32-O0-5.21.8/lib/5.21.8/i686-linux-thread-multi-64int-ld
/opt/perl492-32-O0-5.21.8/lib/5.21.8
.