POE-Component-SmokeBox-Dists v1.10 Perl 5 v5.32.1 i386-openbsd
- Status
- Pass
- From
- Alceu Rodrigues de Freitas Junior
- Dist
-
POE-Component-SmokeBox-Dists v1.10
- Platform
- Perl 5 v5.32.1 i386-openbsd
- Date
- 2022-05-12 03:22:48
- ID
- cc380bb0-d1a2-11ec-b737-db65ffa5fe2c
This distribution has been tested as part of the CPAN Testers
project, supporting the Perl programming language. See
http://wiki.cpantesters.org/ for more information or email
questions to cpan-testers-discuss@perl.org
--
Dear Chris Williams,
This is a computer-generated report for POE-Component-SmokeBox-Dists-1.10
on perl 5.32.1, created by CPAN-Reporter-1.2018.
Thank you for uploading your work to CPAN. Congratulations!
All tests were successful.
Sections of this report:
* Tester comments
* Program output
* Prerequisites
* Environment and other context
------------------------------
TESTER COMMENTS
------------------------------
Additional comments from tester:
this report is from an automated smoke testing program
and was not reviewed by a human for accuracy
------------------------------
PROGRAM OUTPUT
------------------------------
Output from '/usr/bin/make test':
PERL_DL_NONLAZY=1 "/usr/bin/perl" "-MExtUtils::Command::MM" "-MTest::Harness" "-e" "undef *Test::Harness::Switches; test_harness(0, 'blib/lib', 'blib/arch')" t/*.t
t/00-compile.t ........... ok
# SmokeBox directory is in '/home/goku/.cpan/build/POE-Component-SmokeBox-Dists-1.10-0/t/dZF36wpsBe'
t/01_smokebox_dir.t ...... ok
t/02_check_fetch.t ....... ok
# Running an author search, this can take a while ...
# B/BI/BINGOS/AAAA-Crypt-DH-0.06.tar.gz
# B/BI/BINGOS/Acme-Comment-1.04.tar.gz
# B/BI/BINGOS/Acme-CPAN-Testers-FAIL-0.02.tar.gz
# B/BI/BINGOS/Acme-CPAN-Testers-NA-0.06.tar.gz
# B/BI/BINGOS/Acme-CPAN-Testers-PASS-0.02.tar.gz
# B/BI/BINGOS/Acme-CPAN-Testers-PreReqNotIndexed-0.02.tar.gz
# B/BI/BINGOS/Acme-CPAN-Testers-UNKNOWN-0.06.tar.gz
# B/BI/BINGOS/Acme-CPANAuthors-DualLife-0.50.tar.gz
# B/BI/BINGOS/Acme-CPANAuthors-POE-0.86.tar.gz
# B/BI/BINGOS/Acme-CPANAuthors-ToBeLike-0.52.tar.gz
# B/BI/BINGOS/ACME-CPANPLUS-Module-With-Core-PreReq-0.06.tar.gz
# B/BI/BINGOS/Acme-CPANPLUS-Module-With-Failing-Configure-Requires-0.02.tar.gz
# B/BI/BINGOS/Acme-CPANPLUS-PreReq-Text-Tabs-0.04.tar.gz
# B/BI/BINGOS/Acme-Daily-Fail-1.18.tar.gz
# B/BI/BINGOS/Acme-MetaSyntactic-legobatman-0.04.tar.gz
# B/BI/BINGOS/Acme-MetaSyntactic-legocityundercover-0.02.tar.gz
# B/BI/BINGOS/Acme-MetaSyntactic-legodcsupervillains-0.02.tar.gz
# B/BI/BINGOS/Acme-MetaSyntactic-legoharrypotter-0.02.tar.gz
# B/BI/BINGOS/Acme-MetaSyntactic-legoindianajones-0.02.tar.gz
# B/BI/BINGOS/Acme-MetaSyntactic-legojurassicworld-0.04.tar.gz
# B/BI/BINGOS/Acme-MetaSyntactic-legolotr-0.02.tar.gz
# B/BI/BINGOS/Acme-MetaSyntactic-legomarvelsavengers-0.02.tar.gz
# B/BI/BINGOS/Acme-MetaSyntactic-legomarvelsuperheroes-0.04.tar.gz
# B/BI/BINGOS/Acme-MetaSyntactic-legomovievideogame-0.02.tar.gz
# B/BI/BINGOS/Acme-MetaSyntactic-legopiratesofthecaribbean-0.02.tar.gz
# B/BI/BINGOS/Acme-MetaSyntactic-legostarwarstheforceawakens-0.02.tar.gz
# B/BI/BINGOS/Acme-MetaSyntactic-legothehobbit-0.02.tar.gz
# B/BI/BINGOS/Acme-MetaSyntactic-legotheincredibles-0.02.tar.gz
# B/BI/BINGOS/Acme-MetaSyntactic-legoworlds-0.02.tar.gz
# B/BI/BINGOS/Acme-POE-Acronym-Generator-1.20.tar.gz
# B/BI/BINGOS/Acme-POE-Knee-1.12.tar.gz
# B/BI/BINGOS/Acme-Vuvuzela-0.04.tar.gz
# B/BI/BINGOS/Acme-Working-Out-Dependencies-From-META-files-Will-Be-Wrong-At-Some-Point-Like-This-Module-For-Instance-9.99.tar.gz
# B/BI/BINGOS/App-CPANIDX-0.40.tar.gz
# B/BI/BINGOS/App-CPANIDX-HTTP-Server-0.08.tar.gz
# B/BI/BINGOS/metabase-relayd-0.42.tar.gz
# B/BI/BINGOS/App-Metabase-Relayd-Plugin-Dumper-0.04.tar.gz
# B/BI/BINGOS/App-Metabase-Relayd-Plugin-IRC-0.14.tar.gz
# B/BI/BINGOS/smokeinabox-0.24.tar.gz
# B/BI/BINGOS/minismokebox-0.68.tar.gz
# B/BI/BINGOS/App-SmokeBox-Mini-Plugin-IRC-0.12.tar.gz
# B/BI/BINGOS/App-SmokeBox-Mini-Plugin-Stats-0.10.tar.gz
# B/BI/BINGOS/App-SmokeBox-PerlVersion-0.16.tar.gz
# B/BI/BINGOS/smokebrew-1.00.tar.gz
# B/BI/BINGOS/App-SmokeBrew-Plugin-BINGOS-0.16.tar.gz
# B/BI/BINGOS/Archive-Extract-0.88.tar.gz
# B/BI/BINGOS/Archive-Tar-2.40.tar.gz
# B/BI/BINGOS/Config-Auto-0.44.tar.gz
# B/BI/BINGOS/CPANPLUS-YACSmoke-1.08.tar.gz
# B/BI/BINGOS/CPAN-Mirror-Server-HTTP-0.04.tar.gz
# B/BI/BINGOS/CPAN-Perl-Releases-5.20220420.tar.gz
# B/BI/BINGOS/CPAN-Recent-Uploads-0.16.tar.gz
# B/BI/BINGOS/CPANPLUS-0.9914.tar.gz
# B/BI/BINGOS/CPANPLUS-Config-BaseEnv-0.06.tar.gz
# B/BI/BINGOS/CPANPLUS-Dist-Build-0.90.tar.gz
# B/BI/BINGOS/CPANPLUS-Dist-GitHook-0.02.tar.gz
# B/BI/BINGOS/CPANPLUS-Internals-Source-CPANIDX-0.04.tar.gz
# B/BI/BINGOS/CPANPLUS-Internals-Source-CPANMetaDB-0.06.tar.gz
# B/BI/BINGOS/CPANPLUS-Internals-Source-MetaCPAN-0.10.tar.gz
# B/BI/BINGOS/CPANPLUS-Test-Dummy-HasScript-0.0006.tar.gz
# B/BI/BINGOS/CPANPLUS-Test-Dummy-UsesScript-0.0004.tar.gz
# B/BI/BINGOS/crap-0.08.tar.gz
# B/BI/BINGOS/DBIx-Simple-OO-0.03.tar.gz
# B/BI/BINGOS/Devel-PatchPerl-2.08.tar.gz
# B/BI/BINGOS/Devel-Trace-Cwd-0.02.tar.gz
# B/BI/BINGOS/Dist-Zilla-Plugin-AssertOS-0.08.tar.gz
# B/BI/BINGOS/Dist-Zilla-Plugin-FakeFaker-0.04.tar.gz
# B/BI/BINGOS/Dist-Zilla-Plugin-GithubMeta-0.58.tar.gz
# B/BI/BINGOS/Dist-Zilla-Plugin-Meta-Dynamic-Config-0.04.tar.gz
# B/BI/BINGOS/Dist-Zilla-Plugin-NoAutomatedTesting-0.08.tar.gz
# B/BI/BINGOS/Dist-Zilla-PluginBundle-BINGOS-0.20.tar.gz
# B/BI/BINGOS/Dist-Zooky-0.24.tar.gz
# B/BI/BINGOS/POE-Component-Server-DNS-0.32.tar.gz
# B/BI/BINGOS/Env-Sanctify-1.12.tar.gz
# B/BI/BINGOS/Env-Sanctify-Moosified-1.06.tar.gz
# B/BI/BINGOS/ExtUtils-MakeMaker-7.64.tar.gz
# B/BI/BINGOS/ExtUtils-Install-2.20.tar.gz
# B/BI/BINGOS/File-Fetch-1.04.tar.gz
# B/BI/BINGOS/HTML-Declare-2.6.tar.gz
# B/BI/BINGOS/IPC-Cmd-1.04.tar.gz
# B/BI/BINGOS/Lexical-select-0.10.tar.gz
# B/BI/BINGOS/Log-Message-0.08.tar.gz
# B/BI/BINGOS/Log-Message-Simple-0.10.tar.gz
# B/BI/BINGOS/Module-CoreList-5.20220420.tar.gz
# B/BI/BINGOS/Module-CoreList-DBSchema-0.08.tar.gz
# B/BI/BINGOS/Module-CoreList-5.20180120.tar.gz
# B/BI/BINGOS/Module-Install-AssertOS-0.12.tar.gz
# B/BI/BINGOS/Module-Install-AutoLicense-0.10.tar.gz
# B/BI/BINGOS/Module-Install-AutomatedTester-0.04.tar.gz
# B/BI/BINGOS/Module-Install-CheckLib-0.14.tar.gz
# B/BI/BINGOS/Module-Install-GithubMeta-0.30.tar.gz
# B/BI/BINGOS/Module-Install-NoAutomatedTesting-0.08.tar.gz
# B/BI/BINGOS/Module-Install-ReadmeFromPod-0.30.tar.gz
# B/BI/BINGOS/Module-Load-0.36.tar.gz
# B/BI/BINGOS/Module-Load-Conditional-0.74.tar.gz
# B/BI/BINGOS/Module-Loaded-0.08.tar.gz
# B/BI/BINGOS/MouseX-POE-0.216.tar.gz
# B/BI/BINGOS/Net-IP-Minimal-0.06.tar.gz
# B/BI/BINGOS/Object-Accessor-0.48.tar.gz
# B/BI/BINGOS/Package-Constants-0.06.tar.gz
# B/BI/BINGOS/Params-Check-0.38.tar.gz
# B/BI/BINGOS/Parse-IASLog-1.14.tar.gz
# B/BI/BINGOS/Parse-IRC-1.22.tar.gz
# B/BI/BINGOS/POE-1.370.tar.gz
# B/BI/BINGOS/POE-API-Peek-2.20.tar.gz
# B/BI/BINGOS/POE-Component-AI-MegaHAL-1.20.tar.gz
# B/BI/BINGOS/POE-Component-Captcha-reCAPTCHA-0.04.tar.gz
# B/BI/BINGOS/POE-Component-Client-DNS-Recursive-1.12.tar.gz
# B/BI/BINGOS/POE-Component-Client-DNSBL-1.08.tar.gz
# B/BI/BINGOS/POE-Component-Client-FTP-0.24.tar.gz
# B/BI/BINGOS/POE-Component-Client-Ident-1.16.tar.gz
# B/BI/BINGOS/POE-Component-Client-NNTP-2.22.tar.gz
# B/BI/BINGOS/POE-Component-Client-NNTP-Tail-0.04.tar.gz
# B/BI/BINGOS/POE-Component-Client-NRPE-0.20.tar.gz
# B/BI/BINGOS/POE-Component-Client-NSCA-0.18.tar.gz
# B/BI/BINGOS/POE-Component-Client-NTP-0.14.tar.gz
# B/BI/BINGOS/POE-Component-Client-Pastebot-1.18.tar.gz
# B/BI/BINGOS/POE-Component-Client-RADIUS-1.04.tar.gz
# B/BI/BINGOS/POE-Component-Client-SOCKS-1.02.tar.gz
# B/BI/BINGOS/POE-Component-Client-Whois-1.38.tar.gz
# B/BI/BINGOS/POE-Component-CPAN-Mirror-Multiplexer-0.04.tar.gz
# B/BI/BINGOS/POE-Component-CPAN-Reporter-0.08.tar.gz
# B/BI/BINGOS/POE-Component-CPAN-YACSmoke-1.38.tar.gz
# B/BI/BINGOS/POE-Component-CPANIDX-0.12.tar.gz
# B/BI/BINGOS/POE-Component-CPANPLUS-YACSmoke-1.64.tar.gz
# B/BI/BINGOS/POE-Component-Curl-Multi-0.22.tar.gz
# B/BI/BINGOS/POE-Component-DHCP-Monitor-1.04.tar.gz
# B/BI/BINGOS/POE-Component-FastCGI-0.20.tar.gz
# B/BI/BINGOS/POE-Component-Github-0.08.tar.gz
# B/BI/BINGOS/POE-Component-IRC-6.93.tar.gz
# B/BI/BINGOS/POE-Component-IRC-Plugin-Bollocks-1.02.tar.gz
# B/BI/BINGOS/POE-Component-IRC-Plugin-CoreList-1.06.tar.gz
# B/BI/BINGOS/POE-Component-IRC-Plugin-POE-Knee-1.12.tar.gz
# B/BI/BINGOS/POE-Component-IRC-Plugin-QueryDNS-1.04.tar.gz
# B/BI/BINGOS/POE-Component-IRC-Plugin-QueryDNSBL-1.04.tar.gz
# B/BI/BINGOS/POE-Component-IRC-Plugin-Role-0.10.tar.gz
# B/BI/BINGOS/POE-Component-IRC-Plugin-RSS-Headlines-1.10.tar.gz
# B/BI/BINGOS/POE-Component-IRC-Plugin-URI-Find-1.10.tar.gz
# B/BI/BINGOS/POE-Component-IRC-Service-0.998.tar.gz
# B/BI/BINGOS/POE-Component-Metabase-Client-Submit-0.14.tar.gz
# B/BI/BINGOS/POE-Component-Metabase-Relay-Server-0.38.tar.gz
# B/BI/BINGOS/POE-Component-MetaCPAN-Recent-1.04.tar.gz
# B/BI/BINGOS/POE-Component-Pluggable-1.28.tar.gz
# B/BI/BINGOS/POE-Component-Proxy-SOCKS-1.04.tar.gz
# B/BI/BINGOS/POE-Component-Server-Chargen-1.16.tar.gz
# B/BI/BINGOS/POE-Component-Server-Daytime-1.16.tar.gz
# B/BI/BINGOS/POE-Component-Server-Discard-1.16.tar.gz
# B/BI/BINGOS/POE-Component-Server-Echo-1.66.tar.gz
# B/BI/BINGOS/POE-Component-Server-Ident-1.18.tar.gz
# B/BI/BINGOS/POE-Component-Server-Inet-0.06.tar.gz
# B/BI/BINGOS/POE-Component-Server-IRC-1.62.tar.gz
# B/BI/BINGOS/POE-Component-Server-IRC-1.40.tar.gz
# B/BI/BINGOS/POE-Component-Server-NNTP-1.06.tar.gz
# B/BI/BINGOS/POE-Component-Server-NRPE-0.18.tar.gz
# B/BI/BINGOS/POE-Component-Server-NSCA-0.12.tar.gz
# B/BI/BINGOS/POE-Component-Server-POP3-0.12.tar.gz
# B/BI/BINGOS/POE-Component-Server-Qotd-1.16.tar.gz
# B/BI/BINGOS/POE-Component-Server-RADIUS-1.08.tar.gz
# B/BI/BINGOS/POE-Component-Server-SimpleContent-1.16.tar.gz
# B/BI/BINGOS/POE-Component-Server-SimpleHTTP-2.28.tar.gz
# B/BI/BINGOS/POE-Component-Server-SimpleHTTP-PreFork-2.10.tar.gz
# B/BI/BINGOS/POE-Component-Server-SimpleSMTP-1.52.tar.gz
# B/BI/BINGOS/POE-Component-Server-Syslog-1.22.tar.gz
# B/BI/BINGOS/POE-Component-Server-Time-1.16.tar.gz
# B/BI/BINGOS/POE-Component-SmokeBox-0.54.tar.gz
# B/BI/BINGOS/POE-Component-SmokeBox-Dists-1.10.tar.gz
# B/BI/BINGOS/POE-Component-SmokeBox-Recent-1.54.tar.gz
# B/BI/BINGOS/POE-Component-SmokeBox-Recent-HTTP-1.54.tar.gz
# B/BI/BINGOS/POE-Component-SmokeBox-Uploads-CPAN-Mini-1.02.tar.gz
# B/BI/BINGOS/POE-Component-SmokeBox-Uploads-NNTP-1.02.tar.gz
# B/BI/BINGOS/POE-Component-SmokeBox-Uploads-RSS-1.04.tar.gz
# B/BI/BINGOS/POE-Component-TLSify-0.08.tar.gz
# B/BI/BINGOS/POE-Component-WakeOnLAN-1.04.tar.gz
# B/BI/BINGOS/POE-Component-Win32-ChangeNotify-1.24.tar.gz
# B/BI/BINGOS/POE-Component-Win32-EventLog-1.26.tar.gz
# B/BI/BINGOS/POE-Component-Win32-Service-1.26.tar.gz
# B/BI/BINGOS/POE-Component-WWW-Shorten-1.22.tar.gz
# B/BI/BINGOS/POE-Filter-Bzip2-1.60.tar.gz
# B/BI/BINGOS/POE-Filter-CSV-1.18.tar.gz
# B/BI/BINGOS/POE-Filter-CSV_XS-1.18.tar.gz
# B/BI/BINGOS/POE-Filter-DNS-TCP-0.06.tar.gz
# B/BI/BINGOS/POE-Filter-Finger-0.08.tar.gz
# B/BI/BINGOS/POE-Filter-HTTP-Parser-1.08.tar.gz
# B/BI/BINGOS/POE-Filter-IASLog-1.10.tar.gz
# B/BI/BINGOS/POE-Filter-IRCD-2.44.tar.gz
# B/BI/BINGOS/POE-Filter-KennySpeak-1.02.tar.gz
# B/BI/BINGOS/POE-Filter-LOLCAT-1.10.tar.gz
# B/BI/BINGOS/POE-Filter-LZF-1.72.tar.gz
# B/BI/BINGOS/POE-Filter-LZO-1.72.tar.gz
# B/BI/BINGOS/POE-Filter-LZW-1.74.tar.gz
# B/BI/BINGOS/POE-Filter-ParseWords-1.08.tar.gz
# B/BI/BINGOS/POE-Filter-Redis-0.02.tar.gz
# B/BI/BINGOS/POE-Filter-ThruPut-1.00.tar.gz
# B/BI/BINGOS/POE-Filter-Zlib-2.04.tar.gz
# B/BI/BINGOS/POE-Loop-AnyEvent-0.004.tar.gz
# B/BI/BINGOS/POE-Loop-IO_Async-0.004.tar.gz
# B/BI/BINGOS/POE-Wheel-Run-Win32-0.20.tar.gz
# B/BI/BINGOS/shit-0.02.tar.gz
# B/BI/BINGOS/SMS-Send-DeviceGsm-1.08.tar.gz
# B/BI/BINGOS/Sort-Naturally-1.03.tar.gz
# B/BI/BINGOS/String-Perl-Warnings-1.16.tar.gz
# B/BI/BINGOS/Task-BeLike-BINGOS-1.06.tar.gz
# B/BI/BINGOS/Task-BINGOS-Bootstrap-0.04.tar.gz
# B/BI/BINGOS/Task-CPAN-SmokeBox-0.04.tar.gz
# B/BI/BINGOS/Task-CPANPLUS-Metabase-1.16.tar.gz
# B/BI/BINGOS/Task-Module-Install-BINGOS-1.04.tar.gz
# B/BI/BINGOS/Task-POE-Filter-Compression-1.04.tar.gz
# B/BI/BINGOS/Task-POE-IRC-1.14.tar.gz
# B/BI/BINGOS/Task-POE-Simple-TCPIP-Services-1.10.tar.gz
# B/BI/BINGOS/Term-UI-0.50.tar.gz
# B/BI/BINGOS/Test-App-CPANIDX-Database-0.06.tar.gz
# B/BI/BINGOS/Test-POE-Client-TCP-1.26.tar.gz
# B/BI/BINGOS/Test-POE-Server-TCP-1.20.tar.gz
# B/BI/BINGOS/Test-Reporter-Transport-Socket-1.02.tar.gz
# B/BI/BINGOS/unless-0.06.tar.gz
# B/BI/BINGOS/Win32-ADRecurse-0.04.tar.gz
# B/BI/BINGOS/Win32-ADSIEnumerations-0.02.tar.gz
# B/BI/BINGOS/Win32-MailboxGUID-0.02.tar.gz
# B/BI/BINGOS/Win32-NameTranslate-0.06.tar.gz
t/03_author.t ............ ok
# Running an distro search, this can take a while ...
# B/BI/BINGOS/POE-Component-IRC-6.93.tar.gz
# M/MS/MSERGEANT/POE-Component-IRC-Object-0.02.tar.gz
# Z/ZO/ZOFFIX/POE-Component-IRC-PluginBundle-Toys-1.001002.tar.gz
# Z/ZO/ZOFFIX/POE-Component-IRC-PluginBundle-WebDevelopment-2.001003.tar.gz
# Z/ZO/ZOFFIX/POE-Component-IRC-Plugin-BaseWrap-1.001001.tar.gz
# P/PL/PLU/POE-Component-IRC-Plugin-Blowfish-0.01.tar.gz
# B/BI/BINGOS/POE-Component-IRC-Plugin-Bollocks-1.02.tar.gz
# B/BI/BINGOS/POE-Component-IRC-Plugin-CoreList-1.06.tar.gz
# Z/ZO/ZOFFIX/POE-Component-IRC-Plugin-CPAN-Info-1.001002.tar.gz
# C/CU/CURTIS/POE-Component-IRC-Plugin-Donuts-0.07.tar.gz
# H/HI/HINRIK/POE-Component-IRC-Plugin-Eval-0.07.tar.gz
# Z/ZO/ZOFFIX/POE-Component-IRC-Plugin-FTP-EasyUpload-0.002.tar.gz
# Z/ZO/ZOFFIX/POE-Component-IRC-Plugin-Google-Calculator-0.04.tar.gz
# H/HI/HINRIK/POE-Component-IRC-Plugin-Hailo-0.18.tar.gz
# M/MG/MGV/POE-Component-IRC-Plugin-Hello-0.001004.tar.gz
# H/HI/HINRIK/POE-Component-IRC-Plugin-ImageMirror-0.15.tar.gz
# M/MG/MGV/POE-Component-IRC-Plugin-Infobot-0.001003.tar.gz
# A/AP/APOCAL/POE-Component-IRC-Plugin-Karma-0.003.tar.gz
# M/MG/MGV/POE-Component-IRC-Plugin-Logger-Irssi-0.001002.tar.gz
# H/HI/HINRIK/POE-Component-IRC-Plugin-MegaHAL-0.46.tar.gz
# H/HI/HINRIK/POE-Component-IRC-Plugin-MultiProxy-0.01.tar.gz
# Z/ZO/ZOFFIX/POE-Component-IRC-Plugin-OutputToPastebin-0.002.tar.gz
# B/BI/BINGOS/POE-Component-IRC-Plugin-POE-Knee-1.12.tar.gz
# B/BI/BINGOS/POE-Component-IRC-Plugin-QueryDNS-1.04.tar.gz
# B/BI/BINGOS/POE-Component-IRC-Plugin-QueryDNSBL-1.04.tar.gz
# B/BI/BINGOS/POE-Component-IRC-Plugin-Role-0.10.tar.gz
# B/BI/BINGOS/POE-Component-IRC-Plugin-RSS-Headlines-1.10.tar.gz
# H/HI/HINRIK/POE-Component-IRC-Plugin-RTorrentStatus-0.17.tar.gz
# M/MG/MGV/POE-Component-IRC-Plugin-Seen-0.001002.tar.gz
# T/TB/TBR/POE-Component-IRC-Plugin-Trac-RSS-0.11.tar.gz
# Z/ZO/ZOFFIX/POE-Component-IRC-Plugin-Unicode-UCD-0.004.tar.gz
# B/BI/BINGOS/POE-Component-IRC-Plugin-URI-Find-1.10.tar.gz
# S/SI/SIRMXE/POE-Component-IRC-Plugin-WubWubWub-0.1.tar.gz
# Z/ZO/ZOFFIX/POE-Component-IRC-Plugin-WWW-CPANRatings-RSS-0.0106.tar.gz
# Z/ZO/ZOFFIX/POE-Component-IRC-Plugin-WWW-Google-Time-0.0102.tar.gz
# C/CU/CURTIS/POE-Component-IRC-Plugin-WWW-KrispyKreme-HotLight-0.06.tar.gz
# Z/ZO/ZOFFIX/POE-Component-IRC-Plugin-WWW-OhNoRobotCom-Search-0.002.tar.gz
# C/CU/CURTIS/POE-Component-IRC-Plugin-WWW-Reddit-TIL-0.09.tar.gz
# C/CU/CURTIS/POE-Component-IRC-Plugin-WWW-Vim-Tips-0.14.tar.gz
# C/CU/CURTIS/POE-Component-IRC-Plugin-WWW-Weather-US-0.04.tar.gz
# Z/ZO/ZOFFIX/POE-Component-IRC-Plugin-WWW-XKCD-AsText-0.003.tar.gz
# B/BI/BINGOS/POE-Component-IRC-Service-0.998.tar.gz
t/04_distro.t ............ ok
# Running a phalanx search, this can take a while ...
# D/DA/DANKOGAI/Encode-3.17.tar.gz
# T/TM/TMTM/Class-DBI-v3.0.17.tar.gz
# T/TO/TODDR/Digest-MD5-2.58.tar.gz
# I/IL/ILYAZ/modules/Term-ReadLine-Perl-1.0303.tar.gz
# R/RH/RHANDOM/Net-Server-2.010.tar.gz
# H/HA/HAARG/Test-NoWarnings-1.06.tar.gz
# T/TO/TOMHUGHES/IO-Zlib-1.11.tar.gz
# B/BI/BINGOS/POE-1.370.tar.gz
# T/TO/TODDR/IPC-Run-20200505.0.tar.gz
# T/TI/TIMLEGGE/XML-Generator-1.09.tar.gz
# O/OA/OALDERS/URI-5.10.tar.gz
# A/AT/ATOOMIC/TimeDate-2.33.tar.gz
# D/DS/DSKOLL/IO-stringy-2.111.tar.gz
# J/JM/JMCNAMARA/Spreadsheet-WriteExcel-2.40.tar.gz
# O/OA/OALDERS/WWW-Mechanize-2.07.tar.gz
# R/RC/RCLAMP/Pod-Coverage-0.23.tar.gz
# D/DR/DROLSKY/HTML-Mason-1.59.tar.gz
# M/MA/MARKF/Test-Builder-Tester-1.01.tar.gz
# G/GA/GAAS/IO-String-1.08.tar.gz
# P/PH/PHRED/SOAP-Lite-1.27.tar.gz
# X/XS/XSAWYERX/PathTools-3.75.tar.gz
# R/RU/RURBAN/Net-Ping-2.74.tar.gz
# G/GA/GAAS/GAAS/Unicode-String-2.10.tar.gz
# D/DP/DPARIS/Crypt-DES-2.07.tar.gz
# J/JM/JMCNAMARA/OLE-Storage_Lite-0.20.tar.gz
# T/TJ/TJMATHER/XML-DOM-1.46.tar.gz
# S/SB/SBECK/Date-Manip-6.86.tar.gz
# R/RJ/RJBS/MIME-Lite-3.033.tar.gz
# G/GA/GAAS/Digest-SHA1-2.13.tar.gz
# G/GB/GBARR/Authen-SASL-2.16.tar.gz
# N/NA/NANIS/Crypt-SSLeay-0.72.tar.gz
# P/PE/PERIGRIN/XML-NamespaceSupport-1.12.tar.gz
# B/BI/BINGOS/CPANPLUS-0.9914.tar.gz
# T/TO/TODDR/IO-1.50.tar.gz
# M/MS/MSHELOR/Digest-SHA-6.02.tar.gz
# M/MJ/MJEVANS/DBD-ODBC-1.61.tar.gz
# P/PE/PETDANCE/HTML-Tagset-3.20.tar.gz
# A/AN/ANDK/Devel-Symdump-2.18.tar.gz
# N/NE/NEILB/Pod-Escapes-1.07.tar.gz
# S/SH/SHLOMIF/XML-LibXML-2.0207.tar.gz
# S/ST/STBEY/Date-Calc-6.4.tar.gz
# C/CH/CHRISN/Net-SSLeay-1.92.tar.gz
# M/MA/MARSCHAP/perl-ldap-0.68.tar.gz
# S/SU/SULLR/IO-Socket-SSL-2.074.tar.gz
# L/LE/LEONT/Module-Build-0.4231.tar.gz
# I/IN/INGY/Spiffy-0.46.tar.gz
# N/NI/NIKIP/Authen-PAM-0.16.tar.gz
# S/SA/SAMTREGAR/HTML-Template-2.97.tar.gz
# K/KH/KHW/Pod-Simple-3.43.tar.gz
# J/JV/JV/Getopt-Long-2.52.tar.gz
# E/ET/ETHER/Test-Pod-1.52.tar.gz
# T/TI/TIMB/DBI-1.643.tar.gz
# M/MN/MNOONING/PlRPC/PlRPC-0.2020.tar.gz
# D/DA/DAGOLDEN/Test-Reporter-1.62.tar.gz
# D/DA/DAGOLDEN/Sub-Uplevel-0.2800.tar.gz
# B/BI/BINGOS/ExtUtils-MakeMaker-7.64.tar.gz
# E/EX/EXODIST/Test-Exception-0.43.tar.gz
# J/JS/JSTOWE/TermReadKey-2.38.tar.gz
# D/DW/DWHEELER/App-Info-0.57.tar.gz
# B/BI/BINGOS/Archive-Tar-2.40.tar.gz
# Z/ZA/ZARQUON/DBD-Oracle-1.83.tar.gz
# T/TI/TIMLEGGE/Convert-ASN1-0.33.tar.gz
# D/DR/DROLSKY/Params-Validate-1.30.tar.gz
# T/TI/TINITA/YAML-1.30.tar.gz
# P/PH/PHRED/Apache-DBI-1.12.tar.gz
# L/LE/LEONT/Test-Harness-3.44.tar.gz
# E/EX/EXODIST/Test-Simple-1.302190.tar.gz
# O/OA/OALDERS/HTML-Parser-3.78.tar.gz
# D/DV/DVEEDEN/DBD-mysql-4.050.tar.gz
# M/MA/MAREKR/Pod-Parser-1.63.tar.gz
# H/HA/HARDAKER/SNMP-5.0404.tar.gz
# G/GA/GAAS/MD5-2.03.tar.gz
# M/MP/MPIOTR/Text-Iconv-1.7.tar.gz
# M/ME/MEWP/DBD-Sybase-1.19.tar.gz
# M/MA/MARKOV/MailTools-2.21.tar.gz
# A/AT/ATOOMIC/Time-HiRes-1.9764.tar.gz
# R/RJ/RJBS/Mail-Audit-2.228.tar.gz
# F/FR/FREW/IO-All-0.87.tar.gz
# E/ET/ETHER/Carp-Clan-6.08.tar.gz
# N/NE/NEILB/Mail-Sendmail-0.80.tar.gz
# L/LI/LICHTKIND/Chart-v2.401.1.tar.gz
# H/HD/HDIAS/File-Scan-1.43.tar.gz
# R/RO/ROCKETDB/DBD-DB2-1.89.tar.gz
# M/ML/MLEHMANN/Convert-UUlib-1.8.tar.gz
# O/OA/OALDERS/libwww-perl-6.65.tar.gz
# I/IS/ISHIGAKI/DBD-SQLite-1.70.tar.gz
# T/TB/TBONE/Net-FTP-Common-7.0.d.tar.gz
# S/SH/SHAY/Apache-Test-1.43.tar.gz
# J/JM/JMCNAMARA/Spreadsheet-WriteExcelXML-0.15.tar.gz
# N/NW/NWCLARK/Storable-3.25.tar.gz
# N/NL/NLNETLABS/Net-DNS-1.33.tar.gz
# J/JO/JOSEPHW/XML-Writer-0.900.tar.gz
# C/CH/CHORNY/Apache-Session-1.94.tar.gz
# W/WS/WSNYDER/Verilog-Perl-3.478.tar.gz
# C/CO/COOK/Device-SerialPort-1.04.tar.gz
# N/NW/NWCLARK/Compress-Zlib-Perl-0.02.tar.gz
# P/PH/PHRED/Archive-Zip-1.68.tar.gz
# T/TO/TODDR/Net-Daemon-0.49.tar.gz
# C/CA/CAPOEIRAB/MIME-Base64-3.16.tar.gz
# J/JT/JTBRAUN/Parse-RecDescent-1.967015.tar.gz
# C/CH/CHAMAS/Apache-ASP-2.63.tar.gz
# L/LD/LDS/Crypt-CBC-3.04.tar.gz
# C/CA/CAVAC/Mail-ClamAV-0.30.tar.gz
# S/SH/SHLOMIF/Config-IniFiles-3.000003.tar.gz
# E/ET/ETJ/Event-1.28.tar.gz
# R/RJ/RJRAY/Image-Size-3.300.tar.gz
# T/TU/TURNSTEP/DBD-Pg-3.15.1.tar.gz
# R/RU/RUZ/GDGraph-1.54.tar.gz
# T/TO/TODDR/Template-Toolkit-3.100.tar.gz
# R/RB/RBO/Excel-Template-0.34.tar.gz
# E/ET/ETHER/File-Temp-0.2311.tar.gz
# S/SC/SCHWIGON/Net-SSH-Perl-2.14.tar.gz
# E/EE/EESTABROO/IMAP-Admin-1.6.8.tar.gz
# I/IL/ILYAZ/modules/Math-Pari-2.030523.tar.gz
# D/DT/DTOWN/Net-SNMP-v6.0.1.tar.gz
# D/DS/DSKOLL/MIME-tools-5.509.tar.gz
# M/MH/MHARNISCH/Unix-Syslog-1.1.tar.gz
# N/NW/NWCLARK/Data-Dumper-2.183.tar.gz
# T/TO/TODDR/XML-Parser-2.46.tar.gz
# D/DO/DOUGW/Convert-TNEF-0.18.tar.gz
# G/GR/GRANTM/XML-SAX-1.02.tar.gz
# I/IN/INGY/Inline-0.86.tar.gz
# R/RU/RURBAN/GD-2.76.tar.gz
# K/KM/KMACLEOD/libxml-perl-0.08.tar.gz
# N/NE/NEILB/AppConfig-1.71.tar.gz
# M/MG/MGRABNAR/File-Tail-1.3.tar.gz
# J/JR/JROGERS/Net-Telnet-3.05.tar.gz
# S/ST/STBEY/Bit-Vector-7.4.tar.gz
# G/GR/GRANTM/XML-Simple-2.25.tar.gz
# S/SH/SHAY/libnet-3.13.tar.gz
# N/NE/NEILB/Test-Pod-Coverage-1.10.tar.gz
# D/DO/DOUGW/Spreadsheet-ParseExcel-0.65.tar.gz
# A/AR/ARODLAND/Digest-HMAC-1.04.tar.gz
# M/MV/MVERB/GDTextUtil-0.86.tar.gz
# D/DR/DROLSKY/DateTime-1.58.tar.gz
# P/PM/PMQS/BerkeleyDB-0.64.tar.gz
# J/JM/JMERELO/MP3-Info-1.26.tar.gz
# J/JA/JACOBY/Expect-1.35.tar.gz
# A/AN/ANDK/CPAN-2.34.tar.gz
# 139
t/05_phalanx.t ........... ok
# Running a random search, this can take a while ...
# M/MU/MUDLER/Deeme-Backend-Mango-0.02.tar.gz
# R/RC/RCLAMP/Devel-LexAlias-0.05.tar.gz
# I/IN/INGY/TestML-Script-0.01.tar.gz
# Z/ZA/ZAKAME/MojoX-Renderer-WriteExcel-1.11.tar.gz
# M/MM/MMORGAN/POE-Filter-HTTPD-Chunked-0.9.tar.gz
# T/TB/TBONE/HTML-Seamstress-6.112830.tar.gz
# V/VA/VANAMBURG/VANAMBURG-SEMPROG-SimpleGraph-0.010.tar.gz
# K/KO/KOST/Net-Nessus-XMLRPC-0.30.tar.gz
# M/MA/MADWOLF/OpenCA-Configuration-1.5.3.tar.gz
# J/JB/JBD/Pistachio-0.10.tar.gz
# D/DF/DFARRELL/Perl-Builtins-0.04.tar.gz
# J/JJ/JJATRIA/Log-Any-Plugin-Format-0.02.tar.gz
# C/CG/CGILMORE/Apache-ProxyRewrite-0.17.tar.gz
# P/PR/PRAVUS/Catalyst-Plugin-Environment-0.02.tar.gz
# D/DM/DMAC/Date-Components-0.2.1.tar.gz
# D/DA/DANBERR/Config-Record-1.1.2.tar.gz
# D/DE/DERF/App-Slackeria-0.12.tar.gz
# P/PE/PERLANCAR/App-ShellCompleter-CpanUpload-0.05.tar.gz
# G/GO/GOMOR/Net-Frame-Layer-LLTD-1.01.tar.gz
# J/JQ/JQUELIN/Games-Risk-ExtraMaps-Imaginary-3.113460.tar.gz
# T/TO/TOBYINK/Sub-MultiMethod-0.902.tar.gz
# P/PA/PAJAS/Graph-ChuLiuEdmonds-0.06.tar.gz
# P/PE/PERLANCAR/LWP-UserAgent-Plugin-Delay-0.001.tar.gz
# E/EC/ECALDER/POE-Component-Enc-Mp3-1.2.tar.gz
# M/MO/MOZNION/Test-UsedModules-0.03.tar.gz
# T/TO/TOMORROW/App-Caoliu-1.0.tar.gz
# G/GA/GARU/Net-TinyERP-0.09.tar.gz
# A/AT/ATHREEF/App-lsnic-0.005.tar.gz
# P/PE/PERLANCAR/Perinci-Sub-DepChecker-0.125.tar.gz
# N/NM/NMUELLER/Test-Glade-1.tar.gz
# M/MM/MMACHADO/Geo-Weather-1.41.tar.gz
# P/PE/PERLANCAR/Module-Features-Set-0.003.tar.gz
# V/VE/VEROLOM/UTM5-URFAClient-0.54.tar.gz
# J/JH/JHI/Statistics-Shannon-0.05.tar.gz
# M/MS/MSERGEANT/Apache-MimeXML-0.08.tar.gz
# S/SP/SPUDSOUP/Test-DBIC-Versioned-0.02.tar.gz
# I/IN/INGY/Perl-Maker-0.01.tar.gz
# R/RR/RRWO/Catalyst-Plugin-Statsd-v0.7.2.tar.gz
# D/DA/DAVIDP/Weblogic-UserAdmin-1.03.tar.gz
# F/FA/FALCONE/RT-Extension-DateTAI64-0.01.tar.gz
# J/JK/JKUTEJ/Universe-Galaxy-0.03.tar.gz
# N/NE/NETSENSEI/Datahub-Factory-1.75.tar.gz
# R/RE/RETOH/CMS/CMS-MediaWiki-0.8014.tar.gz
# S/SO/SONGMU/Script-Ichigeki-0.04.tar.gz
# L/LI/LIKEHIKE/CGI-OptimalQuery-0.19.tar.gz
# A/AV/AVENJ/Convert-Z85-1.001001.tar.gz
# P/PE/PERLANCAR/App-sshwrap-hostcolor-0.009.tar.gz
# H/HI/HINRIK/IRC-Utils-0.12.tar.gz
# V/VI/VIPUL/Crypt-TripleDES-0.24.tar.gz
# J/JH/JHTHORSEN/JSON-Validator-2.19.tar.gz
# S/SI/SIMONW/Python-Serialise-Marshal-0.02.tar.gz
# K/KJ/KJZ/WWW-Mixpanel-0.07.tar.gz
# P/PE/PERLANCAR/Array-AllUtils-0.002.tar.gz
# B/BO/BOKUTIN/Catalyst-Helper-InitScript-FreeBSD-0.01.tar.gz
# G/GR/GRYPHON/Lingua-ManagementSpeak-1.04.tar.gz
# P/PE/PERLANCAR/Data-Clean-ForJSON-0.395.tar.gz
# P/PE/PERLANCAR/Acme-CPANModules-COLOR-0.004.tar.gz
# H/HI/HIDE/Catalyst-Controller-RequestToken-0.07.tar.gz
# M/MP/MPERRY/Task-BeLike-MPERRY-0.01.tar.gz
# C/CH/CHOROBA/Acme-Array-MaxSize-0.03.tar.gz
# A/AG/AGORMAN/Catalyst-Controller-DirectoryDispatch-1.03.tar.gz
# B/BL/BLUEFEET/Config-Registry-0.04.tar.gz
# P/PL/PLICEASE/Env-ShellWords-0.02.tar.gz
# F/FR/FREW/Config-Station-0.002001.tar.gz
# D/DA/DANKOGAI/Acme-Takahashi-Method-0.01.tar.gz
# P/PE/PERLANCAR/Carp-Always-DieOnly-0.020.tar.gz
# K/KE/KENTNL/GraphViz2-Abstract-Node-0.002000.tar.gz
# D/DA/DAGOLDEN/UNIVERSAL-new-0.001.tar.gz
# H/HO/HOLLY/App-CLI-Plugin-Parallel-ForkManager-1.1.tar.gz
# K/KU/KUDARASP/Asmens-Kodas-0.02.tar.gz
# S/SI/SILASMONK/CGI-Application-Plugin-AJAXUpload-v0.0.3.tar.gz
# P/PH/PHOENIXL/extensible_report_generator_1.13.zip
# N/NI/NITO/Net-SugarCRM-3.320000.tar.gz
# A/AJ/AJNN/Neo4j-Driver-0.28.tar.gz
# C/CF/CFABER/IMDB-JSON-0.05.tar.gz
# C/CH/CHIBA/Plack-Middleware-RefererCheck-0.03.tar.gz
# D/DA/DAGOLDEN/UUID-URandom-0.001.tar.gz
# J/JK/JKEENAN/Tie-Filehandle-Preempt-Stdin-0.02.tar.gz
# G/GE/GEOTIGER/CGI-Getopt-0.13.tar.gz
# D/DM/DMUEY/cPanel-RESTivus-0.01.tar.gz
# B/BE/BEROV/Mojolicious-Plugin-Obrazi-0.15.tar.gz
# T/TO/TOKUHIROM/Scalar-DDie-v0.0.2.tar.gz
# Z/ZM/ZMUGHAL/Renard-Incunabula-Document-0.005.tar.gz
# C/CH/CHA/HTML-Laundry-0.0107.tar.gz
# M/MO/MOHACSI/Net-Traceroute6-0.03.tar.gz
# C/CJ/CJCOLLIER/Lingua-HPSG/Lingua-HPSG-0.03.tar.gz
# J/JM/JMHOGLUND/Log-Agent-Driver-Apache-0.002.tar.gz
# K/KE/KENTNL/Gentoo-MetaEbuild-Spec-MiniSpec-0.1.1.tar.gz
# F/FE/FERREIRA/Module-Spec-0.9.0.tar.gz
# P/PE/PERLANCAR/Sah-Schemas-YouTube-0.003.tar.gz
# D/DB/DBOOK/Mojolicious-Plugin-SetUserGroup-1.000.tar.gz
# G/GE/GETTY/Alien-gettext-0.001.tar.gz
# S/SY/SYMKAT/WebService-VaultPress-Partner-0.05.tar.gz
# N/NK/NKH/Directory-Scratch-Structured-0.04.tar.gz
# P/PE/PERLANCAR/Bencher-Scenarios-DateTimeFormatISO8601Format-0.001.tar.gz
# T/TB/TBONE/Date-Horoscope-2.2.tar.gz
# A/AV/AVULLO/AVLTree-0.1.7.tar.gz
# B/BR/BRICAS/Games-NES-ROM-0.08.tar.gz
# R/RE/REHSACK/File-Find-Rule-LibMagic-0.02.tar.gz
# N/NW/NWCLARK/Data-Dumper-2.183.tar.gz
# 100
t/06_random.t ............ ok
t/author-pod-coverage.t .. skipped: these tests are for testing by the author
t/author-pod-syntax.t .... skipped: these tests are for testing by the author
All tests successful.
Files=9, Tests=19, 55 wallclock secs ( 0.08 usr 0.06 sys + 49.03 cusr 2.54 csys = 51.71 CPU)
Result: PASS
------------------------------
PREREQUISITES
------------------------------
Prerequisite modules loaded:
requires:
Module Need Have
------------------- ----- --------
CPAN::DistnameInfo 0.06 0.12
File::Fetch 0 0.56
File::Path 0 2.16
File::Spec 0 3.78
IO::Zlib 0 1.11
perl 5.006 5.032001
POE 1.004 1.368
Sort::Versions 1.5 1.62
URI 0 5.09
build_requires:
Module Need Have
------------------- ----- --------
File::Spec 0 3.78
IO::Handle 0 1.42
IPC::Open3 0 1.21
Test::More 0.47 1.302190
configure_requires:
Module Need Have
------------------- ----- --------
ExtUtils::MakeMaker 0 7.64
------------------------------
ENVIRONMENT AND OTHER CONTEXT
------------------------------
Environment variables:
AUTOMATED_TESTING = 1
NONINTERACTIVE_TESTING = 1
PATH = /home/goku/perl5/bin:/usr/bin:/bin:/usr/sbin:/sbin:/usr/X11R6/bin:/usr/local/bin:/usr/local/sbin
PERL5LIB = /home/goku/perl5/lib/perl5
PERL5OPT =
PERL5_CPANPLUS_IS_RUNNING = 9413
PERL5_CPAN_IS_RUNNING = 9413
PERL_EXTUTILS_AUTOINSTALL = 1
PERL_LOCAL_LIB_ROOT = /home/goku/perl5
PERL_MB_OPT = --install_base "/home/goku/perl5"
PERL_MM_OPT = INSTALL_BASE=/home/goku/perl5
PERL_MM_USE_DEFAULT = 1
PERL_USE_UNSAFE_INC = 1
SHELL = /bin/ksh
TERM = xterm-256color
Perl special variables (and OS-specific diagnostics, for MSWin32):
$^X = /usr/bin/perl
$UID/$EUID = 1001 / 1001
$GID = 1002 1002 1001
$EGID = 1002 1002 1001
Perl module toolchain versions installed:
Module Have
------------------- --------
CPAN 2.34
CPAN::Meta 2.150010
Cwd 3.78
ExtUtils::CBuilder 0.280236
ExtUtils::Command 7.64
ExtUtils::Install 2.14
ExtUtils::MakeMaker 7.64
ExtUtils::Manifest 1.72
ExtUtils::ParseXS 3.40
File::Spec 3.78
JSON 4.05
JSON::PP 4.04
Module::Build 0.4231
Module::Signature n/a
Parse::CPAN::Meta 2.150010
Test::Harness 3.44
Test::More 1.302190
YAML 1.30
YAML::Syck 1.34
version 0.9924
--
Summary of my perl5 (revision 5 version 32 subversion 1) configuration:
Platform:
osname=openbsd
osvers=7.0
archname=i386-openbsd
uname='openbsd'
config_args='-dse -Dopenbsd_distribution=defined -Dmksymlinks'
hint=recommended
useposix=true
d_sigaction=define
useithreads=undef
usemultiplicity=undef
use64bitint=undef
use64bitall=undef
uselongdouble=undef
usemymalloc=n
default_inc_excludes_dot=define
bincompat5005=undef
Compiler:
cc='cc'
ccflags ='-DNO_LOCALE_NUMERIC -DNO_LOCALE_COLLATE -fno-strict-aliasing -fno-delete-null-pointer-checks -pipe -fstack-protector-strong -I/usr/local/include'
optimize='-O2'
cppflags='-DBIG_TIME -DNO_LOCALE_NUMERIC -DNO_LOCALE_COLLATE -fno-strict-aliasing -fno-delete-null-pointer-checks -pipe -fstack-protector-strong -I/usr/local/include'
ccversion=''
gccversion='OpenBSD Clang 11.1.0'
gccosandvers=''
intsize=4
longsize=4
ptrsize=4
doublesize=8
byteorder=1234
doublekind=3
d_longlong=define
longlongsize=8
d_longdbl=define
longdblsize=12
longdblkind=3
ivtype='long'
ivsize=4
nvtype='double'
nvsize=8
Off_t='off_t'
lseeksize=8
alignbytes=4
prototype=define
Linker and Libraries:
ld='cc'
ldflags ='-Wl,-E -fstack-protector-strong -L/usr/local/lib'
libpth=/usr/lib /usr/local/lib
libs=-lm -lc
perllibs=-lm -lc
libc=/usr/lib/libc.so.96.1
so=so
useshrplib=true
libperl=libperl.so.22.0
gnulibc_version=''
Dynamic Linking:
dlsrc=dl_dlopen.xs
dlext=so
d_dlsymun=undef
ccdlflags='-Wl,-R/usr/libdata/perl5/i386-openbsd/CORE'
cccdlflags='-DPIC -fpic '
lddlflags='-shared -fpic -fstack-protector-strong -L/usr/local/lib'
Characteristics of this binary (from libperl):
Compile-time options:
HAS_TIMES
PERLIO_LAYERS
PERL_COPY_ON_WRITE
PERL_DONT_CREATE_GVSV
PERL_MALLOC_WRAP
PERL_OP_PARENT
PERL_PRESERVE_IVUV
USE_LARGE_FILES
USE_LOCALE
USE_LOCALE_CTYPE
USE_LOCALE_TIME
USE_PERLIO
USE_PERL_ATOF
Built under openbsd
%ENV:
PERL5LIB="/home/goku/perl5/lib/perl5"
PERL5OPT=""
PERL5_CPANPLUS_IS_RUNNING="9413"
PERL5_CPAN_IS_RUNNING="9413"
PERL_EXTUTILS_AUTOINSTALL="1"
PERL_LOCAL_LIB_ROOT="/home/goku/perl5"
PERL_MB_OPT="--install_base "/home/goku/perl5""
PERL_MM_OPT="INSTALL_BASE=/home/goku/perl5"
PERL_MM_USE_DEFAULT="1"
PERL_USE_UNSAFE_INC="1"
@INC:
/home/goku/perl5/lib/perl5/i386-openbsd
/home/goku/perl5/lib/perl5
/usr/local/libdata/perl5/site_perl/i386-openbsd
/usr/local/libdata/perl5/site_perl
/usr/libdata/perl5/i386-openbsd
/usr/libdata/perl5
.