Report for Perl-Dist-1.16

Back
From: metabase:user:314402c4-2aae-11df-837a-5e0a49663a4f
Subject: PASS Perl-Dist-1.16 v5.24.0 GNU/Linux
Date: 2017-02-04T03:27:03Z

This distribution has been tested as part of the CPAN Testers
project, supporting the Perl programming language.  See
http://wiki.cpantesters.org/ for more information or email
questions to cpan-testers-discuss@perl.org


--
Dear Adam Kennedy,

This is a computer-generated report for Perl-Dist-1.16
on perl 5.24.0, created by CPAN-Reporter-1.2018.

Thank you for uploading your work to CPAN.  Congratulations!
All tests were successful.

Sections of this report:

    * Tester comments
    * Program output
    * Prerequisites
    * Environment and other context

------------------------------
TESTER COMMENTS
------------------------------

Additional comments from tester:

none provided

------------------------------
PROGRAM OUTPUT
------------------------------

Output from '/usr/bin/make test':

PERL_DL_NONLAZY=1 "/opt/perl-5.24.0/bin/perl5.24.0" "-MExtUtils::Command::MM" "-MTest::Harness" "-e" "undef *Test::Harness::Switches; test_harness(0, 'inc', 'blib/lib', 'blib/arch')" t/*.t
t/01_compile.t ............ ok
t/03_inno_file.t .......... ok
t/04_inno_icon.t .......... ok
t/05_inno_registry.t ...... ok
t/06_inno_script.t ........ skipped: Not on Win32
t/07_inno_system.t ........ ok
t/08_inno_distribution.t .. ok
t/09_asset_file.t ......... ok
t/10_asset_module.t ....... ok
t/11_machine.t ............ ok
t/12_util_toolchain.t ..... ok
t/13_dist_new.t ........... skipped: Not on Win32
t/14_vanilla_new.t ........ skipped: Not on Win32
t/15_vanilla_run.t ........ skipped: Not on Win32
t/16_perl_588.t ........... skipped: Not on Win32
t/17_perl_589.t ........... skipped: Not on Win32
t/18_perl_5100.t .......... skipped: Not on Win32
t/19_portable.t ........... skipped: Not on Win32
t/97_meta.t ............... skipped: Author tests not required for installation
t/98_pod.t ................ skipped: Author tests not required for installation
t/99_pmv.t ................ skipped: Author tests not required for installation
All tests successful.
Files=21, Tests=139, 27 wallclock secs ( 0.13 usr  0.03 sys + 16.99 cusr  2.00 csys = 19.15 CPU)
Result: PASS

------------------------------
PREREQUISITES
------------------------------

Prerequisite modules loaded:

requires:

    Module                    Need   Have      
    ------------------------- ------ ----------
    Archive::Tar              1.42   2.24      
    Archive::Zip              1.26   1.59      
    CPAN                      1.9301 2.14      
    ExtUtils::MakeMaker       6.42   7.24      
    File::Copy::Recursive     0.38   0.38      
    File::Find::Rule          0.30   0.34      
    File::HomeDir             0.82   1.00      
    File::Path                2.07   2.12      
    File::PathList            1.04   1.04      
    File::pushd               1.00   1.014     
    File::Remove              1.42   1.57      
    File::ShareDir            1.00   1.102     
    File::Spec                3.29   3.62      
    File::Temp                0.21   0.2304    
    HTTP::Status              5.817  6.11      
    IO::Capture               0.05   0.05      
    IPC::Run3                 0.042  0.048     
    LWP::Online               1.07   1.08      
    LWP::UserAgent            5.823  6.16      
    LWP::UserAgent::WithCache 0.06   0.12      
    Module::CoreList          2.17   5.20170120
    Object::Tiny              1.06   1.08      
    PAR::Dist                 0.42   0.49      
    Params::Util              0.35   1.07      
    Portable::Dist            0.02   1.06      
    Probe::Perl               0.01   0.03      
    Process                   0.25   0.30      
    Process::Delegatable      0.25   0.30      
    Process::Storable         0.25   0.30      
    Storable                  2.17   2.56      
    Template                  2.20   2.26      
    Test::LongString          0.11   0.17      
    Test::More                0.86   1.302075  
    Test::Script              1.03   1.14      
    URI::file                 1.37   4.21      
    YAML::Tiny                1.36   1.70      

build_requires:

    Module                    Need   Have      
    ------------------------- ------ ----------
    ExtUtils::MakeMaker       0      7.24      

configure_requires:

    Module                    Need   Have      
    ------------------------- ------ ----------
    ExtUtils::MakeMaker       6.42   7.24      


------------------------------
ENVIRONMENT AND OTHER CONTEXT
------------------------------

Environment variables:

    LANG = de_DE.utf8
    LANGUAGE = de_DE.utf8
    LC_ALL = de_DE.utf8
    PATH = /usr/local/bin:/usr/bin:/bin:/usr/local/sbin:/usr/sbin:/sbin:/home/cpansand/bin/linux-gnu:/home/cpansand/bin/sh:/home/cpansand/bin:/usr/games:/home/cpansand/devel:/home/eserte/src/srezic-misc/scripts
    PERL5LIB = 
    PERL5OPT = 
    PERL5_CPANPLUS_IS_RUNNING = 8542
    PERL5_CPAN_IS_RUNNING = 8542
    PERL5_CPAN_IS_RUNNING_IN_RECURSION = 17212,8542
    PERLDOC = -MPod::Perldoc::ToTextOverstrike
    PERL_BATCH = yes
    PERL_CANARY_STABILITY_NOPROMPT = 1
    PERL_CPAN_REPORTER_CONFIG = /var/tmp/cpansmoker-1001/2017020400/cpanreporter_000_config.ini
    PERL_EXTUTILS_AUTOINSTALL = --defaultdeps
    SHELL = /bin/zsh
    TERM = screen
    TMPDIR = /var/tmp/cpansmoker-1001/2017020400

Perl special variables (and OS-specific diagnostics, for MSWin32):

    $^X = /opt/perl-5.24.0/bin/perl5.24.0
    $UID/$EUID = 1001 / 1001
    $GID = 1001 1001
    $EGID = 1001 1001

Perl module toolchain versions installed:

    Module              Have    
    ------------------- --------
    CPAN                2.14    
    CPAN::Meta          2.150010
    Cwd                 3.62    
    ExtUtils::CBuilder  0.280224
    ExtUtils::Command   7.24    
    ExtUtils::Install   2.04    
    ExtUtils::MakeMaker 7.24    
    ExtUtils::Manifest  1.70    
    ExtUtils::ParseXS   3.30    
    File::Spec          3.62    
    JSON                2.90    
    JSON::PP            2.27400 
    Module::Build       0.4220  
    Module::Signature   0.81    
    Parse::CPAN::Meta   2.150010
    Test::Harness       3.36    
    Test::More          1.302075
    YAML                1.21    
    YAML::Syck          1.29    
    version             0.9917  


--

Summary of my perl5 (revision 5 version 24 subversion 0) configuration:
   
  Platform:
    osname=linux, osvers=3.10.0-042stab120.6, archname=x86_64-linux
    uname='linux h1980015.stratoserver.net 3.10.0-042stab120.6 #1 smp thu oct 27 16:59:03 msk 2016 x86_64 x86_64 x86_64 gnulinux '
    config_args='-ds -e -Dprefix=/opt/perl-5.24.0 -Dcf_email=srezic@cpan.org'
    hint=recommended, useposix=true, d_sigaction=define
    useithreads=undef, usemultiplicity=undef
    use64bitint=define, use64bitall=define, uselongdouble=undef
    usemymalloc=n, bincompat5005=undef
  Compiler:
    cc='cc', ccflags ='-fwrapv -fno-strict-aliasing -pipe -fstack-protector-strong -I/usr/local/include -D_LARGEFILE_SOURCE -D_FILE_OFFSET_BITS=64 -D_FORTIFY_SOURCE=2',
    optimize='-O2',
    cppflags='-fwrapv -fno-strict-aliasing -pipe -fstack-protector-strong -I/usr/local/include'
    ccversion='', gccversion='4.8.5 20150623 (Red Hat 4.8.5-11)', gccosandvers=''
    intsize=4, longsize=8, ptrsize=8, doublesize=8, byteorder=12345678, doublekind=3
    d_longlong=define, longlongsize=8, d_longdbl=define, longdblsize=16, longdblkind=3
    ivtype='long', ivsize=8, nvtype='double', nvsize=8, Off_t='off_t', lseeksize=8
    alignbytes=8, prototype=define
  Linker and Libraries:
    ld='cc', ldflags =' -fstack-protector-strong -L/usr/local/lib'
    libpth=/usr/local/lib /usr/lib /lib/../lib64 /usr/lib/../lib64 /lib /lib64 /usr/lib64 /usr/local/lib64
    libs=-lpthread -lnsl -lgdbm -ldb -ldl -lm -lcrypt -lutil -lc -lgdbm_compat
    perllibs=-lpthread -lnsl -ldl -lm -lcrypt -lutil -lc
    libc=libc-2.17.so, so=so, useshrplib=false, libperl=libperl.a
    gnulibc_version='2.17'
  Dynamic Linking:
    dlsrc=dl_dlopen.xs, dlext=so, d_dlsymun=undef, ccdlflags='-Wl,-E'
    cccdlflags='-fPIC', lddlflags='-shared -O2 -L/usr/local/lib -fstack-protector-strong'


Characteristics of this binary (from libperl): 
  Compile-time options: HAS_TIMES PERLIO_LAYERS PERL_COPY_ON_WRITE
                        PERL_DONT_CREATE_GVSV
                        PERL_HASH_FUNC_ONE_AT_A_TIME_HARD PERL_MALLOC_WRAP
                        PERL_PRESERVE_IVUV USE_64_BIT_ALL USE_64_BIT_INT
                        USE_LARGE_FILES USE_LOCALE USE_LOCALE_COLLATE
                        USE_LOCALE_CTYPE USE_LOCALE_NUMERIC USE_LOCALE_TIME
                        USE_PERLIO USE_PERL_ATOF
  Built under linux
  Compiled at Jan 22 2017 10:44:09
  %ENV:
    PERL5LIB=""
    PERL5OPT=""
    PERL5_CPANPLUS_IS_RUNNING="8542"
    PERL5_CPAN_IS_RUNNING="8542"
    PERL5_CPAN_IS_RUNNING_IN_RECURSION="17212,8542"
    PERLDOC="-MPod::Perldoc::ToTextOverstrike"
    PERL_BATCH="yes"
    PERL_CANARY_STABILITY_NOPROMPT="1"
    PERL_CPAN_REPORTER_CONFIG="/var/tmp/cpansmoker-1001/2017020400/cpanreporter_000_config.ini"
    PERL_EXTUTILS_AUTOINSTALL="--defaultdeps"
  @INC:
    /opt/perl-5.24.0/lib/site_perl/5.24.0/x86_64-linux
    /opt/perl-5.24.0/lib/site_perl/5.24.0
    /opt/perl-5.24.0/lib/5.24.0/x86_64-linux
    /opt/perl-5.24.0/lib/5.24.0
    .