Report for MozRepl-0.06

Back
From: metabase:user:de0c1687-6c17-1014-803a-aa7147b9bd01
Subject: PASS MozRepl-0.06 v5.12.3 GNU/Linux
Date: 2013-01-27T09:13:21Z

This distribution has been tested as part of the CPAN Testers
project, supporting the Perl programming language.  See
http://wiki.cpantesters.org/ for more information or email
questions to cpan-testers-discuss@perl.org


--
Dear Toru Yamaguchi,

This is a computer-generated report for MozRepl-0.06
on perl 5.12.3, created by CPAN-Reporter-1.2009.

Thank you for uploading your work to CPAN.  Congratulations!
All tests were successful.

Sections of this report:

    * Tester comments
    * Program output
    * Prerequisites
    * Environment and other context

------------------------------
TESTER COMMENTS
------------------------------

Additional comments from tester:

this report is from an automated smoke testing program
and was not reviewed by a human for accuracy

------------------------------
PROGRAM OUTPUT
------------------------------

Output from '/usr/bin/make test':

/opt/perl/bin/perl "-Iinc" Makefile.PL --config= --installdeps=Data::JavaScript::Anon,0,Module::Pluggable::Fast,0,Template::Provider::FromDATA,0,Text::SimpleTable,0,UNIVERSAL::require,0
PERL_DL_NONLAZY=1 /opt/perl/bin/perl "-MExtUtils::Command::MM" "-e" "test_harness(0, 'inc', 'blib/lib', 'blib/arch')" t/00-load.t t/10-plugin-repl-enter.t t/11-plugin-repl-search.t t/12-plugin-repl-inspect.t t/13-plugin-repl-load.t t/14-plugin-repl-rename.t t/15-plugin-repl-print.t t/16-plugin-repl-home.t t/17-plugin-repl-back.t t/18-plugin-repl-util-help_url_for.t t/19-plugin-repl-util-doc_for.t t/20-plugin-json.t t/pod-coverage.t t/pod.t
# Testing MozRepl 0.06
t/00-load.t ........................... ok
[DEBUG] MozRepl logging enabled
[DEBUG] 
---- Client arguments ----
.----------------------+------------------------------------------.
| client_arg_name      | client_arg_value                         |
+----------------------+------------------------------------------+
| host                 | localhost                                |
| port                 | 4242                                     |
| timeout              | 10                                       |
| extra_client_args    | {}                                       |
'----------------------+------------------------------------------'
t/10-plugin-repl-enter.t .............. ok
[DEBUG] MozRepl logging enabled
[DEBUG] 
---- Client arguments ----
.----------------------+------------------------------------------.
| client_arg_name      | client_arg_value                         |
+----------------------+------------------------------------------+
| host                 | localhost                                |
| port                 | 4242                                     |
| timeout              | 10                                       |
| extra_client_args    | {}                                       |
'----------------------+------------------------------------------'
t/11-plugin-repl-search.t ............. ok
[DEBUG] MozRepl logging enabled
[DEBUG] 
---- Client arguments ----
.----------------------+------------------------------------------.
| client_arg_name      | client_arg_value                         |
+----------------------+------------------------------------------+
| host                 | localhost                                |
| port                 | 4242                                     |
| timeout              | 10                                       |
| extra_client_args    | {}                                       |
'----------------------+------------------------------------------'
t/12-plugin-repl-inspect.t ............ ok
[DEBUG] MozRepl logging enabled
[DEBUG] 
---- Client arguments ----
.----------------------+------------------------------------------.
| client_arg_name      | client_arg_value                         |
+----------------------+------------------------------------------+
| host                 | localhost                                |
| port                 | 4242                                     |
| timeout              | 10                                       |
| extra_client_args    | {}                                       |
'----------------------+------------------------------------------'
t/13-plugin-repl-load.t ............... ok
[DEBUG] MozRepl logging enabled
[DEBUG] 
---- Client arguments ----
.----------------------+------------------------------------------.
| client_arg_name      | client_arg_value                         |
+----------------------+------------------------------------------+
| host                 | localhost                                |
| port                 | 4242                                     |
| timeout              | 10                                       |
| extra_client_args    | {}                                       |
'----------------------+------------------------------------------'
t/14-plugin-repl-rename.t ............. ok
[DEBUG] MozRepl logging enabled
[DEBUG] 
---- Client arguments ----
.----------------------+------------------------------------------.
| client_arg_name      | client_arg_value                         |
+----------------------+------------------------------------------+
| host                 | localhost                                |
| port                 | 4242                                     |
| timeout              | 10                                       |
| extra_client_args    | {}                                       |
'----------------------+------------------------------------------'
t/15-plugin-repl-print.t .............. ok
[DEBUG] MozRepl logging enabled
[DEBUG] 
---- Client arguments ----
.----------------------+------------------------------------------.
| client_arg_name      | client_arg_value                         |
+----------------------+------------------------------------------+
| host                 | localhost                                |
| port                 | 4242                                     |
| timeout              | 10                                       |
| extra_client_args    | {}                                       |
'----------------------+------------------------------------------'
t/16-plugin-repl-home.t ............... ok
[DEBUG] MozRepl logging enabled
[DEBUG] 
---- Client arguments ----
.----------------------+------------------------------------------.
| client_arg_name      | client_arg_value                         |
+----------------------+------------------------------------------+
| host                 | localhost                                |
| port                 | 4242                                     |
| timeout              | 10                                       |
| extra_client_args    | {}                                       |
'----------------------+------------------------------------------'
t/17-plugin-repl-back.t ............... ok
[DEBUG] MozRepl logging enabled
[DEBUG] 
---- Client arguments ----
.----------------------+------------------------------------------.
| client_arg_name      | client_arg_value                         |
+----------------------+------------------------------------------+
| host                 | localhost                                |
| port                 | 4242                                     |
| timeout              | 10                                       |
| extra_client_args    | {}                                       |
'----------------------+------------------------------------------'
t/18-plugin-repl-util-help_url_for.t .. ok
[DEBUG] MozRepl logging enabled
[DEBUG] 
---- Client arguments ----
.----------------------+------------------------------------------.
| client_arg_name      | client_arg_value                         |
+----------------------+------------------------------------------+
| host                 | localhost                                |
| port                 | 4242                                     |
| timeout              | 10                                       |
| extra_client_args    | {}                                       |
'----------------------+------------------------------------------'
t/19-plugin-repl-util-doc_for.t ....... ok
[DEBUG] MozRepl logging enabled
[DEBUG] 
---- Client arguments ----
.----------------------+------------------------------------------.
| client_arg_name      | client_arg_value                         |
+----------------------+------------------------------------------+
| host                 | localhost                                |
| port                 | 4242                                     |
| timeout              | 10                                       |
| extra_client_args    | {}                                       |
'----------------------+------------------------------------------'
t/20-plugin-json.t .................... ok
t/pod-coverage.t ...................... ok
t/pod.t ............................... ok
All tests successful.
Files=14, Tests=74,  1 wallclock secs ( 0.12 usr  0.03 sys +  0.99 cusr  0.27 csys =  1.41 CPU)
Result: PASS

------------------------------
PREREQUISITES
------------------------------

Prerequisite modules loaded:

requires:

    Module                       Need Have
    ---------------------------- ---- ----
    Carp::Clan                   0    6.04
    Class::Accessor::Fast        0    0.34
    Class::Data::Inheritable     0    0.08
    Data::Dump                   0    1.19
    Data::JavaScript::Anon       0    1.03
    File::Spec                   0    3.33
    Module::Pluggable::Fast      0    0.19
    Net::Telnet                  0    3.03
    Template                     0    2.22
    Template::Provider::FromDATA 0    0.13
    Text::SimpleTable            0    2.03
    UNIVERSAL::require           0    0.13
    URI                          0    1.58

build_requires:

    Module                       Need Have
    ---------------------------- ---- ----
    ExtUtils::MakeMaker          0    6.62


------------------------------
ENVIRONMENT AND OTHER CONTEXT
------------------------------

Environment variables:

    AUTOMATED_TESTING = 1
    LANG = en_US.UTF-8
    LC_ALL = C
    PATH = /home/mmusgrove/bin:/home/mmusgrove/bin:/opt/perl/bin:/usr/pgsql-9.1/bin:/usr/pgsql-9.1/bin:/opt/perl/bin:/home/mmusgrove/bin:/home/mmusgrove/bin:/opt/perl/bin:/usr/pgsql-9.1/bin:/usr/lib64/qt-3.3/bin:/usr/pgsql-9.1/bin:/usr/pgsql-9.1/bin:/usr/lib64/qt-3.3/bin:/usr/pgsql-9.1/bin:/opt/perl/bin:/usr/local/bin:/bin:/usr/bin:/usr/local/sbin:/usr/sbin:/sbin
    PERL5LIB = /home/mmusgrove/.local/share/.cpan/build/Data-JavaScript-Anon-1.03-my9bcZ/blib/arch:/home/mmusgrove/.local/share/.cpan/build/Data-JavaScript-Anon-1.03-my9bcZ/blib/lib:/home/mmusgrove/.local/share/.cpan/build/Class-Default-1.51-Nx1a1H/blib/arch:/home/mmusgrove/.local/share/.cpan/build/Class-Default-1.51-Nx1a1H/blib/lib:/home/mmusgrove/.local/share/.cpan/build/Text-SimpleTable-2.03-LAbzRl/blib/arch:/home/mmusgrove/.local/share/.cpan/build/Text-SimpleTable-2.03-LAbzRl/blib/lib:/home/mmusgrove/.local/share/.cpan/build/Template-Provider-FromDATA-0.13-G2TM8I/blib/arch:/home/mmusgrove/.local/share/.cpan/build/Template-Provider-FromDATA-0.13-G2TM8I/blib/lib:/home/mmusgrove/.local/share/.cpan/build/UNIVERSAL-require-0.13-woTGgN/blib/arch:/home/mmusgrove/.local/share/.cpan/build/UNIVERSAL-require-0.13-woTGgN/blib/lib:/home/mmusgrove/.local/share/.cpan/build/Module-Pluggable-Fast-0.19-DBVVTB/blib/arch:/home/mmusgrove/.local/share/.cpan/build/Module-Pluggable-Fast-0.19-DBVVTB/blib/lib:/home/mmusgrove/.local/share/.cpan/build/Object-Import-1.004-BpYieE/blib/arch:/home/mmusgrove/.local/share/.cpan/build/Object-Import-1.004-BpYieE/blib/lib:/home/mmusgrove/.local/share/.cpan/build/Shell-Command-0.06-YzycrE/blib/arch:/home/mmusgrove/.local/share/.cpan/build/Shell-Command-0.06-YzycrE/blib/lib:/home/mmusgrove/.local/share/.cpan/build/WWW-Mechanize-1.72-emD5jK/blib/arch:/home/mmusgrove/.local/share/.cpan/build/WWW-Mechanize-1.72-emD5jK/blib/lib:/home/mmusgrove/.local/share/.cpan/build/HTML-Form-6.03-vf0VvJ/blib/arch:/home/mmusgrove/.local/share/.cpan/build/HTML-Form-6.03-vf0VvJ/blib/lib:/opt/nms/lib/perl
    PERL5OPT = 
    PERL5_CPANPLUS_IS_RUNNING = 26811
    PERL5_CPAN_IS_RUNNING = 26811
    PERL5_CPAN_IS_RUNNING_IN_RECURSION = 32563,26811
    PERLLIB = /opt/nms/lib/perl
    PERL_CR_SMOKER_CURRENT = WWW-Mechanize-Firefox-0.70
    PERL_EXTUTILS_AUTOINSTALL = --defaultdeps
    PERL_MM_USE_DEFAULT = 1
    SHELL = /bin/bash
    TERM = xterm-256color

Perl special variables (and OS-specific diagnostics, for MSWin32):

    $^X = /opt/perl/bin/perl
    $UID/$EUID = 500 / 500
    $GID = 500 10 100 500
    $EGID = 500 10 100 500

Perl module toolchain versions installed:

    Module              Have    
    ------------------- --------
    CPAN                1.9800  
    CPAN::Meta          2.112150
    Cwd                 3.33    
    ExtUtils::CBuilder  0.280202
    ExtUtils::Command   1.16    
    ExtUtils::Install   1.55    
    ExtUtils::MakeMaker 6.62    
    ExtUtils::Manifest  1.58    
    ExtUtils::ParseXS   2.2206  
    File::Spec          3.33    
    JSON                2.50    
    JSON::PP            2.27104 
    Module::Build       0.40    
    Module::Signature   n/a     
    Parse::CPAN::Meta   1.4401  
    Test::Harness       3.22    
    Test::More          0.96    
    YAML                0.72    
    YAML::Syck          n/a     
    version             0.88    


--

Summary of my perl5 (revision 5 version 12 subversion 3) configuration:
   
  Platform:
    osname=linux, osvers=2.6.18-164.9.1.el5, archname=x86_64-linux-thread-multi
    uname='linux nmsdev3.efjdfw.local 2.6.18-164.9.1.el5 #1 smp tue dec 15 20:57:57 est 2009 x86_64 x86_64 x86_64 gnulinux '
    config_args='-Dusethreads -Duselargefiles -Dprefix=/opt/perl -Accflags=-fPIC -de'
    hint=previous, useposix=true, d_sigaction=define
    useithreads=define, usemultiplicity=define
    useperlio=define, d_sfio=undef, uselargefiles=define, usesocks=undef
    use64bitint=define, use64bitall=define, uselongdouble=undef
    usemymalloc=n, bincompat5005=undef
  Compiler:
    cc='cc', ccflags ='-D_REENTRANT -D_GNU_SOURCE -fno-strict-aliasing -pipe -fstack-protector -I/usr/local/include -D_LARGEFILE_SOURCE -D_FILE_OFFSET_BITS=64 -fPIC',
    optimize='-O2',
    cppflags='-D_REENTRANT -D_GNU_SOURCE -fno-strict-aliasing -pipe -fstack-protector -I/usr/local/include -D_REENTRANT -D_GNU_SOURCE -fno-strict-aliasing -pipe -fstack-protector -I/usr/local/include -D_LARGEFILE_SOURCE -D_FILE_OFFSET_BITS=64 -fPIC'
    ccversion='', gccversion='4.1.2 20080704 (Red Hat 4.1.2-46)', gccosandvers=''
    intsize=4, longsize=8, ptrsize=8, doublesize=8, byteorder=12345678
    d_longlong=define, longlongsize=8, d_longdbl=define, longdblsize=16
    ivtype='long', ivsize=8, nvtype='double', nvsize=8, Off_t='off_t', lseeksize=8
    alignbytes=8, prototype=define
  Linker and Libraries:
    ld='cc', ldflags =' -fstack-protector -L/usr/local/lib'
    libpth=/usr/local/lib /lib /usr/lib /lib64 /usr/lib64 /usr/local/lib64
    libs=-lnsl -ldb -ldl -lm -lcrypt -lutil -lpthread -lc
    perllibs=-lnsl -ldl -lm -lcrypt -lutil -lpthread -lc
    libc=/lib/libc-2.5.so, so=so, useshrplib=false, libperl=libperl.a
    gnulibc_version='2.5'
  Dynamic Linking:
    dlsrc=dl_dlopen.xs, dlext=so, d_dlsymun=undef, ccdlflags='-Wl,-E'
    cccdlflags='-fPIC', lddlflags='-shared -O2 -L/usr/local/lib -fstack-protector'


Characteristics of this binary (from libperl): 
  Compile-time options: MULTIPLICITY PERL_DONT_CREATE_GVSV
                        PERL_IMPLICIT_CONTEXT PERL_MALLOC_WRAP USE_64_BIT_ALL
                        USE_64_BIT_INT USE_ITHREADS USE_LARGE_FILES
                        USE_PERLIO USE_PERL_ATOF USE_REENTRANT_API
  Built under linux
  Compiled at Jan 24 2011 19:21:05
  %ENV:
    PERL5LIB="/home/mmusgrove/.local/share/.cpan/build/Data-JavaScript-Anon-1.03-my9bcZ/blib/arch:/home/mmusgrove/.local/share/.cpan/build/Data-JavaScript-Anon-1.03-my9bcZ/blib/lib:/home/mmusgrove/.local/share/.cpan/build/Class-Default-1.51-Nx1a1H/blib/arch:/home/mmusgrove/.local/share/.cpan/build/Class-Default-1.51-Nx1a1H/blib/lib:/home/mmusgrove/.local/share/.cpan/build/Text-SimpleTable-2.03-LAbzRl/blib/arch:/home/mmusgrove/.local/share/.cpan/build/Text-SimpleTable-2.03-LAbzRl/blib/lib:/home/mmusgrove/.local/share/.cpan/build/Template-Provider-FromDATA-0.13-G2TM8I/blib/arch:/home/mmusgrove/.local/share/.cpan/build/Template-Provider-FromDATA-0.13-G2TM8I/blib/lib:/home/mmusgrove/.local/share/.cpan/build/UNIVERSAL-require-0.13-woTGgN/blib/arch:/home/mmusgrove/.local/share/.cpan/build/UNIVERSAL-require-0.13-woTGgN/blib/lib:/home/mmusgrove/.local/share/.cpan/build/Module-Pluggable-Fast-0.19-DBVVTB/blib/arch:/home/mmusgrove/.local/share/.cpan/build/Module-Pluggable-Fast-0.19-DBVVTB/blib/lib:/home/mmusgrove/.local/share/.cpan/build/Object-Import-1.004-BpYieE/blib/arch:/home/mmusgrove/.local/share/.cpan/build/Object-Import-1.004-BpYieE/blib/lib:/home/mmusgrove/.local/share/.cpan/build/Shell-Command-0.06-YzycrE/blib/arch:/home/mmusgrove/.local/share/.cpan/build/Shell-Command-0.06-YzycrE/blib/lib:/home/mmusgrove/.local/share/.cpan/build/WWW-Mechanize-1.72-emD5jK/blib/arch:/home/mmusgrove/.local/share/.cpan/build/WWW-Mechanize-1.72-emD5jK/blib/lib:/home/mmusgrove/.local/share/.cpan/build/HTML-Form-6.03-vf0VvJ/blib/arch:/home/mmusgrove/.local/share/.cpan/build/HTML-Form-6.03-vf0VvJ/blib/lib:/opt/nms/lib/perl"
    PERL5OPT=""
    PERL5_CPANPLUS_IS_RUNNING="26811"
    PERL5_CPAN_IS_RUNNING="26811"
    PERL5_CPAN_IS_RUNNING_IN_RECURSION="32563,26811"
    PERLLIB="/opt/nms/lib/perl"
    PERL_CR_SMOKER_CURRENT="WWW-Mechanize-Firefox-0.70"
    PERL_EXTUTILS_AUTOINSTALL="--defaultdeps"
    PERL_MM_USE_DEFAULT="1"
  @INC:
    /home/mmusgrove/.local/share/.cpan/build/Data-JavaScript-Anon-1.03-my9bcZ/blib/arch
    /home/mmusgrove/.local/share/.cpan/build/Data-JavaScript-Anon-1.03-my9bcZ/blib/lib
    /home/mmusgrove/.local/share/.cpan/build/Class-Default-1.51-Nx1a1H/blib/arch
    /home/mmusgrove/.local/share/.cpan/build/Class-Default-1.51-Nx1a1H/blib/lib
    /home/mmusgrove/.local/share/.cpan/build/Text-SimpleTable-2.03-LAbzRl/blib/arch
    /home/mmusgrove/.local/share/.cpan/build/Text-SimpleTable-2.03-LAbzRl/blib/lib
    /home/mmusgrove/.local/share/.cpan/build/Template-Provider-FromDATA-0.13-G2TM8I/blib/arch
    /home/mmusgrove/.local/share/.cpan/build/Template-Provider-FromDATA-0.13-G2TM8I/blib/lib
    /home/mmusgrove/.local/share/.cpan/build/UNIVERSAL-require-0.13-woTGgN/blib/arch
    /home/mmusgrove/.local/share/.cpan/build/UNIVERSAL-require-0.13-woTGgN/blib/lib
    /home/mmusgrove/.local/share/.cpan/build/Module-Pluggable-Fast-0.19-DBVVTB/blib/arch
    /home/mmusgrove/.local/share/.cpan/build/Module-Pluggable-Fast-0.19-DBVVTB/blib/lib
    /home/mmusgrove/.local/share/.cpan/build/Object-Import-1.004-BpYieE/blib/arch
    /home/mmusgrove/.local/share/.cpan/build/Object-Import-1.004-BpYieE/blib/lib
    /home/mmusgrove/.local/share/.cpan/build/Shell-Command-0.06-YzycrE/blib/arch
    /home/mmusgrove/.local/share/.cpan/build/Shell-Command-0.06-YzycrE/blib/lib
    /home/mmusgrove/.local/share/.cpan/build/WWW-Mechanize-1.72-emD5jK/blib/arch
    /home/mmusgrove/.local/share/.cpan/build/WWW-Mechanize-1.72-emD5jK/blib/lib
    /home/mmusgrove/.local/share/.cpan/build/HTML-Form-6.03-vf0VvJ/blib/arch
    /home/mmusgrove/.local/share/.cpan/build/HTML-Form-6.03-vf0VvJ/blib/lib
    /opt/nms/lib/perl
    /opt/perl/lib/site_perl/5.12.3/x86_64-linux-thread-multi
    /opt/perl/lib/site_perl/5.12.3
    /opt/perl/lib/5.12.3/x86_64-linux-thread-multi
    /opt/perl/lib/5.12.3
    /opt/perl/lib/site_perl
    .