Back
From: metabase:user:314402c4-2aae-11df-837a-5e0a49663a4f
Subject: PASS Catalyst-Plugin-Devel-ModuleVersions-0.100330 v5.15.9 FreeBSD
Date: 2012-04-08T20:52:46Z
This distribution has been tested as part of the CPAN Testers
project, supporting the Perl programming language. See
http://wiki.cpantesters.org/ for more information or email
questions to cpan-testers-discuss@perl.org
--
Dear Andreas Marienborg,
This is a computer-generated report for Catalyst-Plugin-Devel-ModuleVersions-0.100330
on perl 5.15.9, created by CPAN-Reporter-1.2005.
Thank you for uploading your work to CPAN. Congratulations!
All tests were successful.
Sections of this report:
* Tester comments
* Program output
* Prerequisites
* Environment and other context
------------------------------
TESTER COMMENTS
------------------------------
Additional comments from tester:
none provided
------------------------------
PROGRAM OUTPUT
------------------------------
Output from '/usr/bin/make test':
PERL_DL_NONLAZY=1 /usr/home/cpansand/var/ctps/5159/install/perl-d005e6a6a9ca86c3b2f1eaa7b931b085cf8a205b/bin/perl "-MExtUtils::Command::MM" "-e" "test_harness(0, 'blib/lib', 'blib/arch')" t/*.t t/author/*.t
t/00-load.t ............... ok
t/author/pod-coverage.t ... ok
t/author/pod.t ............ ok
[debug] Debug messages enabled
[debug] Statistics enabled
[debug] Loaded plugins:
.----------------------------------------------------------------------------.
| Catalyst::Plugin::Devel::ModuleVersions 0.100330 |
'----------------------------------------------------------------------------'
[debug] Loaded dispatcher "Catalyst::Dispatcher"
[debug] Loaded engine "Catalyst::Engine"
[debug] Found home "/var/tmp/CPAN-build/Catalyst-Plugin-Devel-ModuleVersions-0.100330-m5CseJ/t/lib/TestApp"
[debug] Loaded components:
.-----------------------------------------------------------------+----------.
| Class | Type |
+-----------------------------------------------------------------+----------+
| TestApp::Controller::Root | instance |
'-----------------------------------------------------------------+----------'
[debug] Loaded Private actions:
.----------------------+--------------------------------------+--------------.
| Private | Class | Method |
+----------------------+--------------------------------------+--------------+
| /main | TestApp::Controller::Root | main |
'----------------------+--------------------------------------+--------------'
[debug] Loaded Path actions:
.-------------------------------------+--------------------------------------.
| Path | Private |
+-------------------------------------+--------------------------------------+
| /... | /main |
'-------------------------------------+--------------------------------------'
[info] Application powered by Catalyst 5.90011
[info] *** Request 1 (1.000/s) [29872] [Sun Apr 8 22:48:43 2012] ***
[debug] Path is "/"
[debug] "GET" request for "/" from "127.0.0.1"
[error] Caught exception in TestApp::Controller::Root->main "forced debug at /var/tmp/CPAN-build/Catalyst-Plugin-Devel-ModuleVersions-0.100330-m5CseJ/t/lib/TestApp/Controller/Root.pm line 11."
[debug] Response Code: 500; Content-Type: text/html; charset=utf-8; Content-Length: 21394
[info] Request took 0.032730s (30.553/s)
.------------------------------------------------------------+-----------.
| Action | Time |
+------------------------------------------------------------+-----------+
| /main | 0.000160s |
'------------------------------------------------------------+-----------'
t/live-test.t ............. ok
t/release-pod-coverage.t .. skipped: these tests are for release candidate testing
t/release-pod-syntax.t .... skipped: these tests are for release candidate testing
All tests successful.
Files=6, Tests=6, 3 wallclock secs ( 0.04 usr 0.02 sys + 1.48 cusr 0.18 csys = 1.73 CPU)
Result: PASS
------------------------------
PREREQUISITES
------------------------------
Prerequisite modules loaded:
requires:
Module Need Have
------------------------------ ---- ----------
base 0 2.18
Catalyst 0 5.90011
Catalyst::Test 0 0
FindBin 0 1.51
Getopt::Long 0 2.38
mro 0 1.09
MRO::Compat 0 0.11
ok 0 0.02
Pod::Usage 0 1.51
Test::MockObject 0 1.20120301
Test::More 0 0.98
Test::WWW::Mechanize::Catalyst 0 0.57
! TestApp 0 n/a
build_requires:
Module Need Have
------------------------------ ---- ----------
ExtUtils::MakeMaker 0 6.63_02
------------------------------
ENVIRONMENT AND OTHER CONTEXT
------------------------------
Environment variables:
DBIC_NO_WARN_BAD_PERL = 1
PATH = /usr/local/bin:/usr/X11R6/bin:/usr/X11/bin:/usr/perl5.8.0/bin:/usr/bin:/bin:/usr/local/sbin:/usr/sbin:/sbin:/usr/local/pilot/bin:/home/cpansand/bin/freebsd8.0:/home/cpansand/bin/sh:/home/cpansand/bin:/usr/X386/bin:/usr/games:/home/cpansand/devel:/usr/home/e/eserte/src/perl/CPAN-Testers-ParallelSmoker/utils
PERL5LIB =
PERL5OPT =
PERL5_CPANPLUS_IS_RUNNING = 23071
PERL5_CPAN_IS_RUNNING = 23071
PERL5_CPAN_IS_RUNNING_IN_RECURSION = 46255,23071
PERL_BATCH = yes
PERL_CPAN_REPORTER_DIR = /home/cpansand/var/ctps/5159/config/perl-d005e6a6a9ca86c3b2f1eaa7b931b085cf8a205b/cpanreporter
PERL_EXTUTILS_AUTOINSTALL = --defaultdeps
PERL_HTML_DISPLAY_CLASS = HTML::Display::Mozilla
PERL_PARALLEL_SMOKER = yes
SHELL = /usr/local/bin/zsh
TERM = xterm
TMPDIR = /var/tmp/cpansmoker-1023
Perl special variables (and OS-specific diagnostics, for MSWin32):
$^X = /usr/home/cpansand/var/ctps/5159/install/perl-d005e6a6a9ca86c3b2f1eaa7b931b085cf8a205b/bin/perl
$UID/$EUID = 1023 / 1023
$GID = 1023 1023
$EGID = 1023 1023
Perl module toolchain versions installed:
Module Have
------------------- --------
CPAN 1.9800
CPAN::Meta 2.120630
Cwd 3.39_02
ExtUtils::CBuilder 0.280206
ExtUtils::Command 1.17
ExtUtils::Install 1.58
ExtUtils::MakeMaker 6.63_02
ExtUtils::Manifest 1.61
ExtUtils::ParseXS 3.16
File::Spec 3.39_02
JSON 2.53
JSON::PP 2.27200
Module::Build 0.39_01
Module::Signature 0.68
Parse::CPAN::Meta 1.4402
Test::Harness 3.23
Test::More 0.98
YAML 0.80
YAML::Syck 1.20
version 0.96
--
Summary of my perl5 (revision 5 version 15 subversion 9) configuration:
Commit id: d005e6a6a9ca86c3b2f1eaa7b931b085cf8a205b
Platform:
osname=freebsd, osvers=8.0-release-p4, archname=i386-freebsd
uname='freebsd biokovo.herceg.de 8.0-release-p4 freebsd 8.0-release-p4 #0: mon jul 12 20:22:27 utc 2010 root@i386-builder.daemonology.net:usrobjusrsrcsysgeneric i386 '
config_args='-ds -e -Uversiononly -Dinstallusrbinperl=n -Dusedevel -Dprefix=/home/e/eserte/var/ctps/5159/install/perl-d005e6a6a9ca86c3b2f1eaa7b931b085cf8a205b'
hint=recommended, useposix=true, d_sigaction=define
useithreads=undef, usemultiplicity=undef
useperlio=define, d_sfio=undef, uselargefiles=define, usesocks=undef
use64bitint=undef, use64bitall=undef, uselongdouble=undef
usemymalloc=n, bincompat5005=undef
Compiler:
cc='cc', ccflags ='-DHAS_FPSETMASK -DHAS_FLOATINGPOINT_H -fno-strict-aliasing -pipe -fstack-protector -I/usr/local/include',
optimize='-O',
cppflags='-DHAS_FPSETMASK -DHAS_FLOATINGPOINT_H -fno-strict-aliasing -pipe -fstack-protector -I/usr/local/include'
ccversion='', gccversion='4.2.1 20070719 [FreeBSD]', gccosandvers=''
intsize=4, longsize=4, ptrsize=4, doublesize=8, byteorder=1234
d_longlong=define, longlongsize=8, d_longdbl=define, longdblsize=12
ivtype='long', ivsize=4, nvtype='double', nvsize=8, Off_t='off_t', lseeksize=8
alignbytes=4, prototype=define
Linker and Libraries:
ld='cc', ldflags ='-Wl,-E -fstack-protector -L/usr/local/lib'
libpth=/usr/lib /usr/local/lib
libs=-lgdbm -lm -lcrypt -lutil -lc
perllibs=-lm -lcrypt -lutil -lc
libc=, so=so, useshrplib=false, libperl=libperl.a
gnulibc_version=''
Dynamic Linking:
dlsrc=dl_dlopen.xs, dlext=so, d_dlsymun=undef, ccdlflags=' '
cccdlflags='-DPIC -fPIC', lddlflags='-shared -L/usr/local/lib -fstack-protector'
Characteristics of this binary (from libperl):
Compile-time options: HAS_TIMES PERLIO_LAYERS PERL_DONT_CREATE_GVSV
PERL_MALLOC_WRAP PERL_PRESERVE_IVUV PERL_USE_DEVEL
USE_LARGE_FILES USE_LOCALE USE_LOCALE_COLLATE
USE_LOCALE_CTYPE USE_LOCALE_NUMERIC USE_PERLIO
USE_PERL_ATOF
Built under freebsd
Compiled at Apr 6 2012 12:37:04
%ENV:
PERL5LIB=""
PERL5OPT=""
PERL5_CPANPLUS_IS_RUNNING="23071"
PERL5_CPAN_IS_RUNNING="23071"
PERL5_CPAN_IS_RUNNING_IN_RECURSION="46255,23071"
PERL_BATCH="yes"
PERL_CPAN_REPORTER_DIR="/home/cpansand/var/ctps/5159/config/perl-d005e6a6a9ca86c3b2f1eaa7b931b085cf8a205b/cpanreporter"
PERL_EXTUTILS_AUTOINSTALL="--defaultdeps"
PERL_HTML_DISPLAY_CLASS="HTML::Display::Mozilla"
PERL_PARALLEL_SMOKER="yes"
@INC:
/home/e/eserte/var/ctps/5159/install/perl-d005e6a6a9ca86c3b2f1eaa7b931b085cf8a205b/lib/site_perl/5.15.9/i386-freebsd
/home/e/eserte/var/ctps/5159/install/perl-d005e6a6a9ca86c3b2f1eaa7b931b085cf8a205b/lib/site_perl/5.15.9
/home/e/eserte/var/ctps/5159/install/perl-d005e6a6a9ca86c3b2f1eaa7b931b085cf8a205b/lib/5.15.9/i386-freebsd
/home/e/eserte/var/ctps/5159/install/perl-d005e6a6a9ca86c3b2f1eaa7b931b085cf8a205b/lib/5.15.9
.