Back
From: metabase:user:320bfe00-2aae-11df-837a-5e0a49663a4f
Subject: PASS Mojolicious-Plugin-AssetPack-Backcompat-1.24 v5.22.1 GNU/Linux
Date: 2017-05-28T22:41:31Z
This distribution has been tested as part of the CPAN Testers
project, supporting the Perl programming language. See
http://wiki.cpantesters.org/ for more information or email
questions to cpan-testers-discuss@perl.org
--
Dear Jan Henning Thorsen,
This is a computer-generated report for Mojolicious-Plugin-AssetPack-Backcompat-1.24
on perl 5.22.1, created by CPAN-Reporter-1.2018.
Thank you for uploading your work to CPAN. Congratulations!
All tests were successful.
Sections of this report:
* Tester comments
* Program output
* Prerequisites
* Environment and other context
------------------------------
TESTER COMMENTS
------------------------------
Additional comments from tester:
this report is from an automated smoke testing program
and was not reviewed by a human for accuracy
------------------------------
PROGRAM OUTPUT
------------------------------
Output from '/usr/bin/make test':
PERL_DL_NONLAZY=1 "/home/sand/src/perl/repoperls/installed-perls/host/k93msid/v5.22.1/89ad/bin/perl" "-MExtUtils::Command::MM" "-MTest::Harness" "-e" "undef *Test::Harness::Switches; test_harness(0, 'blib/lib', 'blib/arch')" t/*.t
t/00-basic.t ................... ok
t/16-empty-js-file.t ........... skipped: ASSETPACK_RUN_TESTS=1
t/20-fail-to-download-asset.t .. skipped: ASSETPACK_RUN_TESTS=1
t/back-compat-min.t ............ skipped: ASSETPACK_RUN_TESTS=1
t/chdir.t ...................... ok
t/coffee.t ..................... skipped: ASSETPACK_RUN_TESTS=1
t/compass.t .................... skipped: ASSETPACK_RUN_TESTS=1
t/css-no-cache.t ............... skipped: ASSETPACK_RUN_TESTS=1
t/css.t ........................ skipped: ASSETPACK_RUN_TESTS=1
t/custom-domain.t .............. skipped: ASSETPACK_RUN_TESTS=1
t/custom-preprocessor.t ........ skipped: ASSETPACK_RUN_TESTS=1
t/dynamic-assets.t ............. skipped: ASSETPACK_RUN_TESTS=1
t/embedded-app.t ............... skipped: ASSETPACK_RUN_TESTS=1
t/example-expand-src-url.t ..... skipped: TEST_ONLINE=1 required
t/example-fetch.t .............. skipped: TEST_ONLINE=1 required
t/fetch.t ...................... skipped: ASSETPACK_RUN_TESTS=1
t/from-data-section.t .......... skipped: ASSETPACK_RUN_TESTS=1
t/get-wildcard.t ............... skipped: ASSETPACK_RUN_TESTS=1
t/get.t ........................ skipped: ASSETPACK_RUN_TESTS=1
t/inline.t ..................... skipped: ASSETPACK_RUN_TESTS=1
t/issue-33-tag-helper.t ........ skipped: ASSETPACK_RUN_TESTS=1
t/js.t ......................... skipped: ASSETPACK_RUN_TESTS=1
t/jsx.t ........................ skipped: ASSETPACK_RUN_TESTS=1
t/less.t ....................... skipped: ASSETPACK_RUN_TESTS=1
t/missing.t .................... skipped: Require t/bin/coffee to make failing test
t/online-double-packed.t ....... skipped: TEST_ONLINE=1 required
t/online-google-font.t ......... skipped: TEST_ONLINE=1 required
t/online-jquery.t .............. skipped: TEST_ONLINE=1 required
t/plugin-with-assets.t ......... skipped: ASSETPACK_RUN_TESTS=1
t/purge.t ...................... skipped: ASSETPACK_RUN_TESTS=1
t/sass.t ....................... skipped: ASSETPACK_RUN_TESTS=1
Use of uninitialized value $file in unlink at t/scss-no-cache.t line 20.
t/scss-no-cache.t .............. skipped: ASSETPACK_RUN_TESTS=1
t/scss.t ....................... skipped: ASSETPACK_RUN_TESTS=1
t/source-paths.t ............... skipped: ASSETPACK_RUN_TESTS=1
t/sprites.t .................... skipped: ASSETPACK_RUN_TESTS=1
t/twice.t ...................... skipped: ASSETPACK_RUN_TESTS=1
t/undefined.t .................. skipped: ASSETPACK_RUN_TESTS=1
All tests successful.
Files=37, Tests=50, 32 wallclock secs ( 0.10 usr 0.16 sys + 9.87 cusr 2.04 csys = 12.17 CPU)
Result: PASS
------------------------------
PREREQUISITES
------------------------------
Prerequisite modules loaded:
requires:
Module Need Have
------------------------------ ---- --------
CSS::Minifier::XS 0.09 0.09
JavaScript::Minifier::XS 0.11 0.11
Mojolicious::Plugin::AssetPack 0.20 1.41
build_requires:
Module Need Have
------------------------------ ---- --------
Test::More 0.88 1.302085
configure_requires:
Module Need Have
------------------------------ ---- --------
ExtUtils::MakeMaker 0 7.24
------------------------------
ENVIRONMENT AND OTHER CONTEXT
------------------------------
Environment variables:
AUTOMATED_TESTING = 1
LANG = en_US.UTF-8
PATH = /home/sand/bin:/usr/local/bin:/usr/bin:/bin:/usr/games:/usr/local/perl/bin:/usr/X11/bin:/sbin:/usr/sbin
PERL5LIB =
PERL5OPT =
PERL5_CPANPLUS_IS_RUNNING = 4154
PERL5_CPAN_IS_RUNNING = 4154
PERL_CANARY_STABILITY_NOPROMPT = 1
PERL_MM_USE_DEFAULT = 1
PERL_USE_UNSAFE_INC = 1
SHELL = /usr/bin/zsh
TERM = screen
Perl special variables (and OS-specific diagnostics, for MSWin32):
$^X = /home/sand/src/perl/repoperls/installed-perls/host/k93msid/v5.22.1/89ad/bin/perl
$UID/$EUID = 1005 / 1005
$GID = 1005 1005
$EGID = 1005 1005
Perl module toolchain versions installed:
Module Have
------------------- --------
CPAN 2.18
CPAN::Meta 2.150010
Cwd 3.62
ExtUtils::CBuilder 0.280224
ExtUtils::Command 1.20
ExtUtils::Install 2.04
ExtUtils::MakeMaker 7.24
ExtUtils::Manifest 1.70
ExtUtils::ParseXS 3.28
File::Spec 3.62
JSON 2.92
JSON::PP 2.92
Module::Build 0.42_23
Module::Signature 0.81
Parse::CPAN::Meta 1.4422
Test::Harness 3.39
Test::More 1.302085
YAML 1.23
YAML::Syck 1.29
version 0.9918
--
Summary of my perl5 (revision 5 version 22 subversion 1) configuration:
Derived from: 0ab152a1d10861997fe3e1b985cc92f142f4cec7
Platform:
osname=linux, osvers=4.9.0-2-amd64, archname=x86_64-linux
uname='linux k93msid 4.9.0-2-amd64 #1 smp debian 4.9.18-1 (2017-03-30) x86_64 gnulinux '
config_args='-Dprefix=/home/sand/src/perl/repoperls/installed-perls/host/k93msid/v5.22.1/89ad -Dmyhostname=k93msid -Dinstallusrbinperl=n -Uversiononly -Dusedevel -des -Ui_db -Dlibswanted=cl pthread socket inet nsl gdbm dbm malloc dl ld sun m crypt sec util c cposix posix ucb BSD gdbm_compat -Uuseithreads -Uuselongdouble -DDEBUGGING=-g'
hint=recommended, useposix=true, d_sigaction=define
useithreads=undef, usemultiplicity=undef
use64bitint=define, use64bitall=define, uselongdouble=undef
usemymalloc=n, bincompat5005=undef
Compiler:
cc='cc', ccflags ='-fwrapv -fno-strict-aliasing -pipe -fstack-protector-strong -I/usr/local/include -D_LARGEFILE_SOURCE -D_FILE_OFFSET_BITS=64',
optimize='-O2 -g',
cppflags='-fwrapv -fno-strict-aliasing -pipe -fstack-protector-strong -I/usr/local/include'
ccversion='', gccversion='6.3.0 20170406', gccosandvers=''
intsize=4, longsize=8, ptrsize=8, doublesize=8, byteorder=12345678, doublekind=3
d_longlong=define, longlongsize=8, d_longdbl=define, longdblsize=16, longdblkind=3
ivtype='long', ivsize=8, nvtype='double', nvsize=8, Off_t='off_t', lseeksize=8
alignbytes=8, prototype=define
Linker and Libraries:
ld='cc', ldflags =' -fstack-protector-strong -L/usr/local/lib'
libpth=/usr/local/lib /usr/lib/gcc/x86_64-linux-gnu/6/include-fixed /usr/include/x86_64-linux-gnu /usr/lib /lib/x86_64-linux-gnu /lib/../lib /usr/lib/x86_64-linux-gnu /usr/lib/../lib /lib
libs=-lpthread -lnsl -ldl -lm -lcrypt -lutil -lc
perllibs=-lpthread -lnsl -ldl -lm -lcrypt -lutil -lc
libc=libc-2.24.so, so=so, useshrplib=false, libperl=libperl.a
gnulibc_version='2.24'
Dynamic Linking:
dlsrc=dl_dlopen.xs, dlext=so, d_dlsymun=undef, ccdlflags='-Wl,-E'
cccdlflags='-fPIC', lddlflags='-shared -O2 -g -L/usr/local/lib -fstack-protector-strong'
Characteristics of this binary (from libperl):
Compile-time options: HAS_TIMES PERLIO_LAYERS PERL_DONT_CREATE_GVSV
PERL_HASH_FUNC_ONE_AT_A_TIME_HARD PERL_MALLOC_WRAP
PERL_NEW_COPY_ON_WRITE PERL_PRESERVE_IVUV
PERL_USE_DEVEL USE_64_BIT_ALL USE_64_BIT_INT
USE_LARGE_FILES USE_LOCALE USE_LOCALE_COLLATE
USE_LOCALE_CTYPE USE_LOCALE_NUMERIC USE_LOCALE_TIME
USE_PERLIO USE_PERL_ATOF
Locally applied patches:
uncommitted-changes
Built under linux
Compiled at Apr 17 2017 04:06:22
%ENV:
PERL5LIB=""
PERL5OPT=""
PERL5_CPANPLUS_IS_RUNNING="4154"
PERL5_CPAN_IS_RUNNING="4154"
PERL_CANARY_STABILITY_NOPROMPT="1"
PERL_MM_USE_DEFAULT="1"
PERL_USE_UNSAFE_INC="1"
@INC:
/home/sand/src/perl/repoperls/installed-perls/host/k93msid/v5.22.1/89ad/lib/site_perl/5.22.1/x86_64-linux
/home/sand/src/perl/repoperls/installed-perls/host/k93msid/v5.22.1/89ad/lib/site_perl/5.22.1
/home/sand/src/perl/repoperls/installed-perls/host/k93msid/v5.22.1/89ad/lib/5.22.1/x86_64-linux
/home/sand/src/perl/repoperls/installed-perls/host/k93msid/v5.22.1/89ad/lib/5.22.1
.