Report for Module-Build-Deprecated-0.4210

Back
From: metabase:user:321d61a6-6bfc-1014-9c60-a7b345c363fd
Subject: PASS Module-Build-Deprecated-0.4210 v5.16.3 
Date: 2014-12-11T16:38:50Z

This distribution has been tested as part of the CPAN Testers
project, supporting the Perl programming language.  See
http://wiki.cpantesters.org/ for more information or email
questions to cpan-testers-discuss@perl.org


--
Dear Leon Timmermans,

This is a computer-generated report for Module-Build-Deprecated-0.4210
on perl 5.16.3, created by CPAN-Reporter-1.2011.

Thank you for uploading your work to CPAN.  Congratulations!
All tests were successful.

Sections of this report:

    * Tester comments
    * Program output
    * Prerequisites
    * Environment and other context

------------------------------
TESTER COMMENTS
------------------------------

Additional comments from tester:

none provided

------------------------------
PROGRAM OUTPUT
------------------------------

Output from 'C:\Perl64\bin\perl.exe ./Build test':

Set up gcc environment - gcc.exe (rubenvb-4.5.4) 4.5.4
Set up gcc environment - gcc.exe (rubenvb-4.5.4) 4.5.4
Set up gcc environment - gcc.exe (rubenvb-4.5.4) 4.5.4
t/00-compile.t ............ ok
t/release-pod-coverage.t .. skipped: these tests are for release candidate testing
t/release-pod-syntax.t .... skipped: these tests are for release candidate testing
All tests successful.
Files=3, Tests=4,  1 wallclock secs ( 0.02 usr +  0.01 sys =  0.03 CPU)
Result: PASS

------------------------------
PREREQUISITES
------------------------------

Prerequisite modules loaded:

requires:

    Module           Need   Have    
    ---------------- ------ --------
    base             0      2.18    
    CPAN::Meta::YAML 0.002  0.012   
    Module::Metadata 0      1.000024
    parent           0      0.228   
    perl             5.006  5.016003
    strict           0      1.07    
    version          0.87   0.9909  
    warnings         0      1.13    

build_requires:

    Module           Need   Have    
    ---------------- ------ --------
    File::Spec       0      3.47    
    IO::Handle       0      1.33    
    IPC::Open3       0      1.12    
    Module::Build    0.3601 0.4210  
    perl             5.006  5.016003
    Test::More       0      1.001009

configure_requires:

    Module           Need   Have    
    ---------------- ------ --------
    Module::Build    0.3601 0.4210  


------------------------------
ENVIRONMENT AND OTHER CONTEXT
------------------------------

Environment variables:

    COMSPEC = C:\Windows\system32\cmd.exe
    NUMBER_OF_PROCESSORS = 4
    PATH = C:\ProgramData\Oracle\Java\javapath;C:\Ruby200-x64\bin;C:\pik\;C:\Perl64\site\bin;C:\Perl64\bin;C:\Windows\system32;C:\Windows;C:\Windows\System32\Wbem;C:\Windows\System32\WindowsPowerShell\v1.0\;C:\Pythons\Python34;C:\Pythons\Python34\Scripts;C:\Pythons\Python26;C:\Pythons\Python26\Scripts;C:\Program Files\Perforce;C:\Program Files (x86)\Microsoft SDKs\TypeScript\1.0\;C:\apache-maven-3.1.1\bin;C:\Program Files (x86)\Nmap;C:\Program Files\Perforce\Server; C:\Perl64\site\lib\auto\MinGW\bin;C:\Program Files\sourceforge\ipmiutil;C:\Program Files\sourceforge\ipmiutil;C:\Program Files\Dell\SysMgt\rac5;C:\Program Files (x86)\EMC\Navisphere CLI;C:\Program Files (x86)\Common Files\Roxio Shared\DLLShared\;C:\Program Files (x86)\Common Files\Roxio Shared\OEM\DLLShared\;C:\Program Files (x86)\Common Files\Roxio Shared\OEM\DLLShared\;C:\Program Files (x86)\Common Files\Roxio Shared\OEM\12.0\DLLShared\;C:\Program Files (x86)\Roxio\OEM\AudioCore\;C:\Windows\System32\WindowsPowerShell\v1.0\;C:\Go\bin;C:\Program Files (x86)\Intel\OpenCL SDK\2.0\bin\x86;C:\Program Files (x86)\Intel\OpenCL SDK\2.0\bin\x64;C:\Program Files (x86)\QuickTime\QTSystem\;C:\Program Files\Perforce\Server; C:\Perl64\site\lib\auto\MinGW\bin;C:\Program Files (x86)\Nmap
    PERL5LIB = C:\Perl64\cpan\build\IO-Socket-SSL-2.007-PshNxd/blib/arch;C:\Perl64\cpan\build\IO-Socket-SSL-2.007-PshNxd/blib/lib
    PERL5OPT = 
    PERL5_CPANPLUS_IS_RUNNING = 5712
    PERL5_CPAN_IS_RUNNING = 5712
    PROCESSOR_IDENTIFIER = Intel64 Family 6 Model 42 Stepping 7, GenuineIntel
    TEMP = C:\Users\mikeh\AppData\Local\Temp

Perl special variables (and OS-specific diagnostics, for MSWin32):

    $^X = C:\Perl64\bin\perl.exe
    $UID/$EUID = 0 / 0
    $GID = 0
    $EGID = 0
    Win32::GetOSName = Win7
    Win32::GetOSVersion = Service Pack 1, 6, 1, 7601, 2, 1, 0, 256, 1
    Win32::FsType = NTFS
    Win32::IsAdminUser = 1

Perl module toolchain versions installed:

    Module              Have    
    ------------------- --------
    CPAN                2.05    
    CPAN::Meta          2.143240
    Cwd                 3.47    
    ExtUtils::CBuilder  0.280220
    ExtUtils::Command   1.18    
    ExtUtils::Install   2.04    
    ExtUtils::MakeMaker 7.04    
    ExtUtils::Manifest  1.69    
    ExtUtils::ParseXS   3.24    
    File::Spec          3.47    
    JSON                2.90    
    JSON::PP            2.27300 
    Module::Build       0.4210  
    Module::Signature   n/a     
    Parse::CPAN::Meta   1.4414  
    Test::Harness       3.34    
    Test::More          1.001009
    YAML                1.13    
    YAML::Syck          1.22    
    version             0.9909  


--

Summary of my perl5 (revision 5 version 16 subversion 3) configuration:
   
  Platform:
    osname=MSWin32, osvers=5.2, archname=MSWin32-x64-multi-thread
    uname=''
    config_args='undef'
    hint=recommended, useposix=true, d_sigaction=undef
    useithreads=define, usemultiplicity=define
    useperlio=define, d_sfio=undef, uselargefiles=define, usesocks=undef
    use64bitint=define, use64bitall=undef, uselongdouble=undef
    usemymalloc=n, bincompat5005=undef
  Compiler:
    cc='C:\Perl64\site\bin\gcc.exe', ccflags ='-DNDEBUG -DWIN32 -D_CONSOLE -DNO_STRICT -DWIN64 -DCONSERVATIVE -DPERL_TEXTMODE_SCRIPTS -DUSE_SITECUSTOMIZE -DPERL_IMPLICIT_CONTEXT -DPERL_IMPLICIT_SYS -DUSE_PERLIO -DHASATTRIBUTE -fno-strict-aliasing -mms-bitfields',
    optimize='-O2',
    cppflags='-DWIN32'
    ccversion='', gccversion='gcc.exe (rubenvb-4.5.4) 4.5.4', gccosandvers=''
    intsize=4, longsize=4, ptrsize=8, doublesize=8, byteorder=12345678
    d_longlong=undef, longlongsize=8, d_longdbl=define, longdblsize=8
    ivtype='__int64', ivsize=8, nvtype='double', nvsize=8, Off_t='__int64', lseeksize=8
    alignbytes=8, prototype=define
  Linker and Libraries:
    ld='C:\Perl64\site\bin\g++.exe', ldflags ='-L"C:\Perl64\lib\CORE"'
    libpth=\lib
    libs=-lkernel32 -luser32 -lgdi32 -lwinspool -lcomdlg32 -ladvapi32 -lshell32 -lole32 -loleaut32 -lnetapi32 -luuid -lws2_32 -lmpr -lwinmm -lversion -lodbc32 -lodbccp32 -lcomctl32 -lmsvcrt
    perllibs=-lkernel32 -luser32 -lgdi32 -lwinspool -lcomdlg32 -ladvapi32 -lshell32 -lole32 -loleaut32 -lnetapi32 -luuid -lws2_32 -lmpr -lwinmm -lversion -lodbc32 -lodbccp32 -lcomctl32 -lmsvcrt
    libc=msvcrt.lib, so=dll, useshrplib=true, libperl=perl516.lib
    gnulibc_version=''
  Dynamic Linking:
    dlsrc=dl_win32.xs, dlext=dll, d_dlsymun=undef, ccdlflags=' '
    cccdlflags=' ', lddlflags='-mdll -L"C:\Perl64\lib\CORE"'


Characteristics of this binary (from libperl): 
  Compile-time options: HAS_TIMES HAVE_INTERP_INTERN MULTIPLICITY
                        PERLIO_LAYERS PERL_DONT_CREATE_GVSV
                        PERL_IMPLICIT_CONTEXT PERL_IMPLICIT_SYS
                        PERL_MALLOC_WRAP PERL_PRESERVE_IVUV PL_OP_SLAB_ALLOC
                        USE_64_BIT_INT USE_ITHREADS USE_LARGE_FILES
                        USE_LOCALE USE_LOCALE_COLLATE USE_LOCALE_CTYPE
                        USE_LOCALE_NUMERIC USE_PERLIO USE_PERL_ATOF
                        USE_SITECUSTOMIZE
  Locally applied patches:
	ActivePerl Build 1604 [298023]
  Built under MSWin32
  Compiled at Apr 14 2014 15:29:45
  %ENV:
    PERL5LIB="C:\Perl64\cpan\build\IO-Socket-SSL-2.007-PshNxd/blib/arch;C:\Perl64\cpan\build\IO-Socket-SSL-2.007-PshNxd/blib/lib"
    PERL5_CPANPLUS_IS_RUNNING="5712"
    PERL5_CPAN_IS_RUNNING="5712"
  @INC:
    C:\Perl64\cpan\build\IO-Socket-SSL-2.007-PshNxd/blib/arch
    C:\Perl64\cpan\build\IO-Socket-SSL-2.007-PshNxd/blib/lib
    C:/Perl64/site/lib
    C:/Perl64/lib
    .