Asm-Preproc v1.03 Perl 5 v5.18.4 x86_64-linux

Status
Pass
From
Oleg Pronin (SYBER)
Dist
Asm-Preproc v1.03
Platform
Perl 5 v5.18.4 x86_64-linux
Date
2019-08-05 18:49:46
ID
cb7b55a0-b7b1-11e9-be8b-e27e2958ff60
This distribution has been tested as part of the CPAN Testers
project, supporting the Perl programming language.  See
http://wiki.cpantesters.org/ for more information or email
questions to cpan-testers-discuss@perl.org


--
Dear Paulo Custodio,

This is a computer-generated report for Asm-Preproc-1.03
on perl 5.18.4, created by CPAN-Reporter-1.2018.

Thank you for uploading your work to CPAN.  Congratulations!
All tests were successful.

Sections of this report:

    * Tester comments
    * Program output
    * Prerequisites
    * Environment and other context

------------------------------
TESTER COMMENTS
------------------------------

Additional comments from tester:

this report is from an automated smoke testing program
and was not reviewed by a human for accuracy

------------------------------
PROGRAM OUTPUT
------------------------------

Output from '/usr/bin/make test':

PERL_DL_NONLAZY=1 "/home/syber/perl5/perlbrew/perls/5.18.4/bin/perl" "-MExtUtils::Command::MM" "-MTest::Harness" "-e" "undef *Test::Harness::Switches; test_harness(0, 'blib/lib', 'blib/arch')" t/*.t
# Testing Asm::Preproc 1.03, Perl 5.018004, /home/syber/perl5/perlbrew/perls/5.18.4/bin/perl
t/00-load.t .......... ok
t/Lexer.t ............ ok
t/Line.t ............. ok
t/manifest.t ......... skipped: Author tests not required unless RELEASE_TESTING
t/pod-coverage.t ..... ok
t/pod.t .............. ok
t/Preproc-eol.t ...... ok
t/Preproc-include.t .. ok
t/Preproc-input.t .... ok
t/Preproc-line.t ..... ok
t/Preproc-stream.t ... ok
t/Token-error.t ...... ok
t/Token-new.t ........ ok
All tests successful.
Files=13, Tests=673,  1 wallclock secs ( 0.07 usr  0.01 sys +  0.92 cusr  0.10 csys =  1.10 CPU)
Result: PASS

------------------------------
PREREQUISITES
------------------------------

Prerequisite modules loaded:

requires:

    Module                      Need     Have    
    --------------------------- -------- --------
    Class::Accessor             0.51     0.51    
    Data::Dump                  1.23     1.23    
    File::Slurp                 9999.26  9999.27 
    Iterator::Simple::Lookahead 0.09     0.09    
    perl                        5.01     5.018004
    Test::More                  1.302162 1.302164
    Text::Template              1.55     1.56    

build_requires:

    Module                      Need     Have    
    --------------------------- -------- --------
    ExtUtils::MakeMaker         0        7.37_03 

configure_requires:

    Module                      Need     Have    
    --------------------------- -------- --------
    ExtUtils::MakeMaker         0        7.37_03 


------------------------------
ENVIRONMENT AND OTHER CONTEXT
------------------------------

Environment variables:

    AUTOMATED_TESTING = 1
    LC_COLLATE = ru_RU.utf8
    LC_CTYPE = ru_RU.utf8
    PATH = /home/syber/perl5/perlbrew/bin:/home/syber/perl5/perlbrew/perls/5.18.4/bin:/usr/local/bin:/usr/bin:/bin:/usr/local/games:/usr/games
    PERL5LIB = 
    PERL5OPT = 
    PERL5_CPANPLUS_IS_RUNNING = 6214
    PERL5_CPAN_IS_RUNNING = 6214
    PERL5_CPAN_IS_RUNNING_IN_RECURSION = 24915,6214
    PERLBREW_HOME = /home/syber/.perlbrew
    PERLBREW_MANPATH = /home/syber/perl5/perlbrew/perls/5.18.4/man
    PERLBREW_PATH = /home/syber/perl5/perlbrew/bin:/home/syber/perl5/perlbrew/perls/5.18.4/bin
    PERLBREW_PERL = 5.18.4
    PERLBREW_ROOT = /home/syber/perl5/perlbrew
    PERLBREW_SHELLRC_VERSION = 0.86
    PERLBREW_VERSION = 0.86
    PERL_CR_SMOKER_CURRENT = CPU-Z80-Disassembler-0.07
    PERL_EXTUTILS_AUTOINSTALL = --defaultdeps
    PERL_MM_USE_DEFAULT = 1
    PERL_USE_UNSAFE_INC = 1
    SHELL = /bin/bash
    TERM = screen

Perl special variables (and OS-specific diagnostics, for MSWin32):

    $^X = /home/syber/perl5/perlbrew/perls/5.18.4/bin/perl
    $UID/$EUID = 1003 / 1003
    $GID = 1003 11 1003
    $EGID = 1003 11 1003

Perl module toolchain versions installed:

    Module              Have    
    ------------------- --------
    CPAN                2.27    
    CPAN::Meta          2.150010
    Cwd                 3.75    
    ExtUtils::CBuilder  0.280231
    ExtUtils::Command   7.37_03 
    ExtUtils::Install   2.06    
    ExtUtils::MakeMaker 7.37_03 
    ExtUtils::Manifest  1.70    
    ExtUtils::ParseXS   3.35    
    File::Spec          3.75    
    JSON                4.02    
    JSON::PP            4.04    
    Module::Build       0.42_30 
    Module::Signature   0.83    
    Parse::CPAN::Meta   2.150010
    Test::Harness       3.42    
    Test::More          1.302164
    YAML                1.29    
    YAML::Syck          1.31    
    version             0.9924  


--

Summary of my perl5 (revision 5 version 18 subversion 4) configuration:
   
  Platform:
    osname=linux, osvers=4.9.0-8-amd64, archname=x86_64-linux
    uname='linux dexter.crazypanda.ru 4.9.0-8-amd64 #1 smp debian 4.9.110-3+deb9u6 (2018-10-08) x86_64 gnulinux '
    config_args='-de -Dprefix=/home/syber/perl5/perlbrew/perls/5.18.4 -Aeval:scriptdir=/home/syber/perl5/perlbrew/perls/5.18.4/bin'
    hint=recommended, useposix=true, d_sigaction=define
    useithreads=undef, usemultiplicity=undef
    useperlio=define, d_sfio=undef, uselargefiles=define, usesocks=undef
    use64bitint=define, use64bitall=define, uselongdouble=undef
    usemymalloc=n, bincompat5005=undef
  Compiler:
    cc='cc', ccflags ='-fwrapv -fno-strict-aliasing -pipe -fstack-protector -I/usr/local/include -D_LARGEFILE_SOURCE -D_FILE_OFFSET_BITS=64',
    optimize='-O2',
    cppflags='-fwrapv -fno-strict-aliasing -pipe -fstack-protector -I/usr/local/include'
    ccversion='', gccversion='6.3.0 20170516', gccosandvers=''
    intsize=4, longsize=8, ptrsize=8, doublesize=8, byteorder=12345678
    d_longlong=define, longlongsize=8, d_longdbl=define, longdblsize=16
    ivtype='long', ivsize=8, nvtype='double', nvsize=8, Off_t='off_t', lseeksize=8
    alignbytes=8, prototype=define
  Linker and Libraries:
    ld='cc', ldflags =' -fstack-protector -L/usr/local/lib'
    libpth=/usr/local/lib /lib/x86_64-linux-gnu /lib/../lib /usr/lib/x86_64-linux-gnu /usr/lib/../lib /lib /usr/lib
    libs=-lnsl -ldl -lm -lcrypt -lutil -lc
    perllibs=-lnsl -ldl -lm -lcrypt -lutil -lc
    libc=libc-2.24.so, so=so, useshrplib=false, libperl=libperl.a
    gnulibc_version='2.24'
  Dynamic Linking:
    dlsrc=dl_dlopen.xs, dlext=so, d_dlsymun=undef, ccdlflags='-Wl,-E'
    cccdlflags='-fPIC', lddlflags='-shared -O2 -L/usr/local/lib -fstack-protector'


Characteristics of this binary (from libperl): 
  Compile-time options: HAS_TIMES PERLIO_LAYERS PERL_DONT_CREATE_GVSV
                        PERL_HASH_FUNC_ONE_AT_A_TIME_HARD PERL_MALLOC_WRAP
                        PERL_PRESERVE_IVUV PERL_SAWAMPERSAND USE_64_BIT_ALL
                        USE_64_BIT_INT USE_LARGE_FILES USE_LOCALE
                        USE_LOCALE_COLLATE USE_LOCALE_CTYPE
                        USE_LOCALE_NUMERIC USE_PERLIO USE_PERL_ATOF
  Locally applied patches:
	Devel::PatchPerl 1.64
  Built under linux
  Compiled at Aug  5 2019 14:02:29
  %ENV:
    PERL5LIB=""
    PERL5OPT=""
    PERL5_CPANPLUS_IS_RUNNING="6214"
    PERL5_CPAN_IS_RUNNING="6214"
    PERL5_CPAN_IS_RUNNING_IN_RECURSION="24915,6214"
    PERLBREW_HOME="/home/syber/.perlbrew"
    PERLBREW_MANPATH="/home/syber/perl5/perlbrew/perls/5.18.4/man"
    PERLBREW_PATH="/home/syber/perl5/perlbrew/bin:/home/syber/perl5/perlbrew/perls/5.18.4/bin"
    PERLBREW_PERL="5.18.4"
    PERLBREW_ROOT="/home/syber/perl5/perlbrew"
    PERLBREW_SHELLRC_VERSION="0.86"
    PERLBREW_VERSION="0.86"
    PERL_CR_SMOKER_CURRENT="CPU-Z80-Disassembler-0.07"
    PERL_EXTUTILS_AUTOINSTALL="--defaultdeps"
    PERL_MM_USE_DEFAULT="1"
    PERL_USE_UNSAFE_INC="1"
  @INC:
    /home/syber/perl5/perlbrew/perls/5.18.4/lib/site_perl/5.18.4/x86_64-linux
    /home/syber/perl5/perlbrew/perls/5.18.4/lib/site_perl/5.18.4
    /home/syber/perl5/perlbrew/perls/5.18.4/lib/5.18.4/x86_64-linux
    /home/syber/perl5/perlbrew/perls/5.18.4/lib/5.18.4
    .