DataStore-CAS v0.08 Perl 5 v5.18.4 amd64-freebsd

Status
Pass
From
Slaven Rezić
Dist
DataStore-CAS v0.08
Platform
Perl 5 v5.18.4 amd64-freebsd
Date
2023-12-06 10:11:17
ID
cb702a6e-941f-11ee-a7b2-492d6e8775ea
This distribution has been tested as part of the CPAN Testers
project, supporting the Perl programming language.  See
http://wiki.cpantesters.org/ for more information or email
questions to cpan-testers-discuss@perl.org


--
Dear Michael Conrad,

This is a computer-generated report for DataStore-CAS-0.08
on perl 5.18.4, created by CPAN-Reporter-1.2019.

Thank you for uploading your work to CPAN.  Congratulations!
All tests were successful.

Sections of this report:

    * Tester comments
    * Program output
    * Prerequisites
    * Environment and other context

------------------------------
TESTER COMMENTS
------------------------------

Additional comments from tester:

none provided

------------------------------
PROGRAM OUTPUT
------------------------------

Output from '/usr/bin/make test':

PERL_DL_NONLAZY=1 "/usr/perl5.18.4p/bin/perl" "-MExtUtils::Command::MM" "-MTest::Harness" "-e" "undef *Test::Harness::Switches; test_harness(0, 'blib/lib', 'blib/arch')" t/*.t
# Testing on Perl 5.018004, /usr/perl5.18.4p/bin/perl
# DataStore::CAS                            0.08
# DataStore::CAS::File                      0.08
# DataStore::CAS::VirtualHandle             0.08
# DataStore::CAS::FileCreatorHandle         0.08
# DataStore::CAS::Virtual                   0.08
# DataStore::CAS::Simple                    0.08
t/00-load.t ................ ok
t/05-cas-fileobj.t ......... ok
t/06-cas-handleobj.t ....... ok
t/10-store-virtual.t ....... ok
t/11-store-simple.t ........ ok
t/12-virtual-filehandle.t .. skipped: Apply these tests to the splitting CAS module's handle object once written
t/20-catalyst-simplecas.t .. ok
t/author-pod-coverage.t .... skipped: these tests are for testing by the author
t/author-pod-syntax.t ...... skipped: these tests are for testing by the author
All tests successful.
Files=9, Tests=44,  1 wallclock secs ( 0.03 usr  0.02 sys +  0.39 cusr  0.41 csys =  0.86 CPU)
Result: PASS

------------------------------
PREREQUISITES
------------------------------

Prerequisite modules loaded:

requires:

    Module                Need   Have    
    --------------------- ------ --------
    Carp                  0      1.50    
    Digest                1.16   1.19    
    File::Spec            3.33   3.75    
    File::Spec::Functions 0      3.75    
    File::Temp            0.22   0.2311  
    Moo                   v1.0.8 2.005005
    Moo::Role             0      2.005005
    parent                0      0.241   
    perl                  5.008  5.018004
    Scalar::Util          0      1.63    
    strict                0      1.07    
    Symbol                0      1.07    
    Try::Tiny             0      0.31    
    warnings              0      1.18    

build_requires:

    Module                Need   Have    
    --------------------- ------ --------
    Data::Dumper          0      2.183   
    Digest::SHA           0      6.04    
    ExtUtils::MakeMaker   0      7.70    
    File::Path            0      2.18    
    File::stat            0      1.07    
    IO::File              0      1.51    
    Test::More            1      1.302198

configure_requires:

    Module                Need   Have    
    --------------------- ------ --------
    ExtUtils::MakeMaker   0      7.70    


------------------------------
ENVIRONMENT AND OTHER CONTEXT
------------------------------

Environment variables:

    LC_ALL = de_DE.ISO8859-1
    PATH = /usr/local/bin:/usr/bin:/bin:/usr/local/sbin:/usr/sbin:/sbin:/home/cpansand/bin/freebsd10.3:/home/cpansand/bin/sh:/home/cpansand/bin:/usr/games:/home/cpansand/devel:/home/eserte/src/srezic-misc/scripts
    PERL5LIB = /home/cpansand/.cpan/build/2023120609/Net-DNS-1.41-0/blib/arch:/home/cpansand/.cpan/build/2023120609/Net-DNS-1.41-0/blib/lib
    PERL5OPT = 
    PERL5_CPANPLUS_IS_RUNNING = 99980
    PERL5_CPAN_IS_RUNNING = 99980
    PERL5_CPAN_IS_RUNNING_IN_RECURSION = 1117,99980
    PERLDOC = -MPod::Perldoc::ToTextOverstrike
    PERL_BATCH = yes
    PERL_CANARY_STABILITY_NOPROMPT = 1
    PERL_CPAN_REPORTER_CONFIG = /var/tmp/cpansmoker-1023/2023120519/cpanreporter_000_config.ini
    PERL_EXTUTILS_AUTOINSTALL = --defaultdeps
    PERL_USE_UNSAFE_INC = 1
    SHELL = /usr/local/bin/zsh
    TERM = screen
    TMPDIR = /var/tmp/cpansmoker-1023/2023120519

Perl special variables (and OS-specific diagnostics, for MSWin32):

    $^X = /usr/perl5.18.4p/bin/perl
    $UID/$EUID = 1023 / 1023
    $GID = 1023 1023
    $EGID = 1023 1023

Perl module toolchain versions installed:

    Module              Have    
    ------------------- --------
    CPAN                2.34    
    CPAN::Meta          2.150010
    Cwd                 3.75    
    ExtUtils::CBuilder  0.280236
    ExtUtils::Command   7.70    
    ExtUtils::Install   2.22    
    ExtUtils::MakeMaker 7.70    
    ExtUtils::Manifest  1.75    
    ExtUtils::ParseXS   3.51    
    File::Spec          3.75    
    JSON                4.10    
    JSON::PP            4.16    
    Module::Build       0.4234  
    Module::Signature   0.87    
    Parse::CPAN::Meta   2.150010
    Test2               1.302198
    Test::Harness       3.47    
    Test::More          1.302198
    YAML                1.30    
    YAML::Syck          1.34    
    version             0.9930  


--

Summary of my perl5 (revision 5 version 18 subversion 4) configuration:
   
  Platform:
    osname=freebsd, osvers=10.1-release, archname=amd64-freebsd
    uname='freebsd cvrsnica-freebsd-101.herceg.de 10.1-release freebsd 10.1-release #0 r274401: tue nov 11 21:02:49 utc 2014 root@releng1.nyi.freebsd.org:usrobjusrsrcsysgeneric amd64 '
    config_args='-ds -e -Dprefix=/usr/perl5.18.4p'
    hint=recommended, useposix=true, d_sigaction=define
    useithreads=undef, usemultiplicity=undef
    useperlio=define, d_sfio=undef, uselargefiles=define, usesocks=undef
    use64bitint=define, use64bitall=define, uselongdouble=undef
    usemymalloc=n, bincompat5005=undef
  Compiler:
    cc='cc', ccflags ='-DHAS_FPSETMASK -DHAS_FLOATINGPOINT_H -fno-strict-aliasing -pipe -fstack-protector -I/usr/local/include',
    optimize='-O',
    cppflags='-DHAS_FPSETMASK -DHAS_FLOATINGPOINT_H -fno-strict-aliasing -pipe -fstack-protector -I/usr/local/include'
    ccversion='', gccversion='4.2.1 Compatible FreeBSD Clang 3.4.1 (tags/RELEASE_34/dot1-final 208032)', gccosandvers=''
    intsize=4, longsize=8, ptrsize=8, doublesize=8, byteorder=12345678
    d_longlong=define, longlongsize=8, d_longdbl=define, longdblsize=16
    ivtype='long', ivsize=8, nvtype='double', nvsize=8, Off_t='off_t', lseeksize=8
    alignbytes=8, prototype=define
  Linker and Libraries:
    ld='cc', ldflags ='-pthread -Wl,-E  -fstack-protector -L/usr/local/lib'
    libpth=/usr/lib /usr/local/lib
    libs=-lgdbm -lm -lcrypt -lutil -lc
    perllibs=-lm -lcrypt -lutil -lc
    libc=, so=so, useshrplib=false, libperl=libperl.a
    gnulibc_version=''
  Dynamic Linking:
    dlsrc=dl_dlopen.xs, dlext=so, d_dlsymun=undef, ccdlflags=' '
    cccdlflags='-DPIC -fPIC', lddlflags='-shared  -L/usr/local/lib -fstack-protector'


Characteristics of this binary (from libperl): 
  Compile-time options: HAS_TIMES PERLIO_LAYERS PERL_DONT_CREATE_GVSV
                        PERL_HASH_FUNC_ONE_AT_A_TIME_HARD PERL_MALLOC_WRAP
                        PERL_PRESERVE_IVUV PERL_SAWAMPERSAND USE_64_BIT_ALL
                        USE_64_BIT_INT USE_LARGE_FILES USE_LOCALE
                        USE_LOCALE_COLLATE USE_LOCALE_CTYPE
                        USE_LOCALE_NUMERIC USE_PERLIO USE_PERL_ATOF
  Built under freebsd
  Compiled at Apr  4 2015 13:03:15
  %ENV:
    PERL5LIB="/home/cpansand/.cpan/build/2023120609/Net-DNS-1.41-0/blib/arch:/home/cpansand/.cpan/build/2023120609/Net-DNS-1.41-0/blib/lib"
    PERL5OPT=""
    PERL5_CPANPLUS_IS_RUNNING="99980"
    PERL5_CPAN_IS_RUNNING="99980"
    PERL5_CPAN_IS_RUNNING_IN_RECURSION="1117,99980"
    PERLDOC="-MPod::Perldoc::ToTextOverstrike"
    PERL_BATCH="yes"
    PERL_CANARY_STABILITY_NOPROMPT="1"
    PERL_CPAN_REPORTER_CONFIG="/var/tmp/cpansmoker-1023/2023120519/cpanreporter_000_config.ini"
    PERL_EXTUTILS_AUTOINSTALL="--defaultdeps"
    PERL_USE_UNSAFE_INC="1"
  @INC:
    /home/cpansand/.cpan/build/2023120609/Net-DNS-1.41-0/blib/arch
    /home/cpansand/.cpan/build/2023120609/Net-DNS-1.41-0/blib/lib
    /usr/perl5.18.4p/lib/site_perl/5.18.4/amd64-freebsd
    /usr/perl5.18.4p/lib/site_perl/5.18.4
    /usr/perl5.18.4p/lib/5.18.4/amd64-freebsd
    /usr/perl5.18.4p/lib/5.18.4
    .