XML-FeedPP v0.95 Perl 5 v5.24.3 x86_64-linux
        
            - Status
- Pass
- From
- Slaven Rezić (SREZIC)
- Dist
- 
                XML-FeedPP v0.95
            
- Platform
- Perl 5 v5.24.3 x86_64-linux
- Date
- 2019-04-12 23:50:47
- ID
- cb5ed18e-5d7d-11e9-9b0f-8e6b1f24ea8f
This distribution has been tested as part of the CPAN Testers
project, supporting the Perl programming language.  See
http://wiki.cpantesters.org/ for more information or email
questions to cpan-testers-discuss@perl.org
--
Dear Mark Overmeer,
This is a computer-generated report for XML-FeedPP-0.95
on perl 5.24.3, created by CPAN-Reporter-1.2018.
Thank you for uploading your work to CPAN.  Congratulations!
All tests were successful.
Sections of this report:
    * Tester comments
    * Program output
    * Prerequisites
    * Environment and other context
------------------------------
TESTER COMMENTS
------------------------------
Additional comments from tester:
none provided
------------------------------
PROGRAM OUTPUT
------------------------------
Output from 'make test':
PERL_DL_NONLAZY=1 "/opt/perl-5.24.3/bin/perl" "-MExtUtils::Command::MM" "-MTest::Harness" "-e" "undef *Test::Harness::Switches; test_harness(0, 'blib/lib', 'blib/arch')" t/*.t
t/01_new.t .............. ok
t/02_rss.t .............. ok
t/03_rdf.t .............. ok
t/04_atom.t ............. ok
t/05_round.t ............ ok
t/06_xmlns.t ............ ok
t/07_encoding.t ......... ok
t/08_datetime.t ......... ok
t/09_setget.t ........... ok
t/10_image.t ............ ok
t/11_media.t ............ ok
t/12_sort_item.t ........ ok
t/13_remove_item.t ...... ok
t/14_clear_item.t ....... ok
t/15_clone_item.t ....... ok
t/16_invalid_pubdate.t .. ok
t/17_multi_category.t ... ok
t/18_image_atom.t ....... ok
t/19_invalid_w3cdtf.t ... ok
t/20_limit_item.t ....... ok
t/21_negative_item.t .... ok
t/22_init_elements.t .... ok
t/23_match_item.t ....... ok
t/24_get_epoch.t ........ ok
t/25_sort_timezone.t .... ok
t/26_atom10_parse.t ..... ok
t/27_atom03_parse.t ..... ok
t/28_atom10_write.t ..... ok
t/29_rfc2822.t .......... ok
t/30_invalid_rdfseq.t ... ok
t/31_two_digit_date.t ... ok
t/32_two_titles.t ....... ok
t/33_guid.t ............. ok
t/34_category_type.t .... ok
t/35_no_xml_decl.t ...... ok
t/36_get_multiple.t ..... ok
t/39_load_type.t ........ ok
t/40_xml_deref.t ........ ok
t/41_utf8_flag.t ........ ok
t/42_indent.t ........... ok
t/43_indent_atom.t ...... ok
t/44_cdata.t ............ ok
t/45_cdata_multi.t ...... ok
t/46_atom_xhtml.t ....... ok
All tests successful.
Files=44, Tests=1398,  3 wallclock secs ( 0.10 usr  0.16 sys +  1.97 cusr  0.56 csys =  2.79 CPU)
Result: PASS
------------------------------
PREREQUISITES
------------------------------
Prerequisite modules loaded:
requires:
    Module              Need Have    
    ------------------- ---- --------
    Test::More          0    1.302106
    XML::TreePP         0.39 0.43    
build_requires:
    Module              Need Have    
    ------------------- ---- --------
    ExtUtils::MakeMaker 0    7.10_02 
configure_requires:
    Module              Need Have    
    ------------------- ---- --------
    ExtUtils::MakeMaker 0    7.10_02 
------------------------------
ENVIRONMENT AND OTHER CONTEXT
------------------------------
Environment variables:
    LANG = en_US.UTF-8
    LC_ALL = de_DE.UTF-8
    PATH = /usr/local/bin:/usr/bin:/bin:/usr/local/sbin:/usr/sbin:/sbin:/home/cpansand/bin/linux-gnu:/home/cpansand/bin/sh:/home/cpansand/bin:/usr/games:/home/cpansand/devel:/home/eserte/src/srezic-misc/scripts
    PERL5LIB = /home/cpansand/.cpan/build/2019041221/XML-TreePP-0.43-BjlXEb/blib/arch:/home/cpansand/.cpan/build/2019041221/XML-TreePP-0.43-BjlXEb/blib/lib:/home/cpansand/.cpan/build/2019041221/Jcode-2.07-a3PUPV/blib/arch:/home/cpansand/.cpan/build/2019041221/Jcode-2.07-a3PUPV/blib/lib
    PERL5OPT = 
    PERL5_CPANPLUS_IS_RUNNING = 6793
    PERL5_CPAN_IS_RUNNING = 6793
    PERL5_CPAN_IS_RUNNING_IN_RECURSION = 2858,6793
    PERLDOC = -MPod::Perldoc::ToTextOverstrike
    PERL_BATCH = yes
    PERL_CANARY_STABILITY_NOPROMPT = 1
    PERL_CPAN_REPORTER_CONFIG = /var/tmp/cpansmoker-1023/2019041221/cpanreporter_000_config.ini
    PERL_EXTUTILS_AUTOINSTALL = --defaultdeps
    SHELL = /bin/zsh
    TERM = screen
    TMPDIR = /var/tmp/cpansmoker-1023/2019041221
Perl special variables (and OS-specific diagnostics, for MSWin32):
    $^X = /opt/perl-5.24.3/bin/perl
    $UID/$EUID = 1023 / 1023
    $GID = 1023 1023
    $EGID = 1023 1023
Perl module toolchain versions installed:
    Module              Have      
    ------------------- ----------
    CPAN                2.11_01   
    CPAN::Meta          2.150005  
    Cwd                 3.63_01   
    ExtUtils::CBuilder  0.280225  
    ExtUtils::Command   7.10_02   
    ExtUtils::Install   2.04      
    ExtUtils::MakeMaker 7.10_02   
    ExtUtils::Manifest  1.70      
    ExtUtils::ParseXS   3.31      
    File::Spec          3.63_01   
    JSON                2.94      
    JSON::PP            2.27300_01
    Module::Build       0.4224    
    Module::Signature   n/a       
    Parse::CPAN::Meta   1.4417_001
    Test::Harness       3.36_01   
    Test::More          1.302106  
    YAML                1.23      
    YAML::Syck          1.30      
    version             0.9916    
--
Summary of my perl5 (revision 5 version 24 subversion 3) configuration:
   
  Platform:
    osname=linux, osvers=2.6.32-696.3.1.el6.x86_64, archname=x86_64-linux
    uname='linux centos6 2.6.32-696.3.1.el6.x86_64 #1 smp tue may 30 19:52:55 utc 2017 x86_64 x86_64 x86_64 gnulinux '
    config_args='-ds -e -Dprefix=/opt/perl-5.24.3 -Dcf_email=srezic@cpan.org'
    hint=recommended, useposix=true, d_sigaction=define
    useithreads=undef, usemultiplicity=undef
    use64bitint=define, use64bitall=define, uselongdouble=undef
    usemymalloc=n, bincompat5005=undef
  Compiler:
    cc='cc', ccflags ='-fwrapv -fno-strict-aliasing -pipe -fstack-protector -I/usr/local/include -D_LARGEFILE_SOURCE -D_FILE_OFFSET_BITS=64 -D_FORTIFY_SOURCE=2',
    optimize='-O2',
    cppflags='-fwrapv -fno-strict-aliasing -pipe -fstack-protector -I/usr/local/include'
    ccversion='', gccversion='4.4.7 20120313 (Red Hat 4.4.7-18)', gccosandvers=''
    intsize=4, longsize=8, ptrsize=8, doublesize=8, byteorder=12345678, doublekind=3
    d_longlong=define, longlongsize=8, d_longdbl=define, longdblsize=16, longdblkind=3
    ivtype='long', ivsize=8, nvtype='double', nvsize=8, Off_t='off_t', lseeksize=8
    alignbytes=8, prototype=define
  Linker and Libraries:
    ld='cc', ldflags =' -fstack-protector -L/usr/local/lib'
    libpth=/usr/local/lib /usr/lib /lib/../lib64 /usr/lib/../lib64 /lib /lib64 /usr/lib64 /usr/local/lib64
    libs=-lpthread -lnsl -lgdbm -ldb -ldl -lm -lcrypt -lutil -lc
    perllibs=-lpthread -lnsl -ldl -lm -lcrypt -lutil -lc
    libc=libc-2.12.so, so=so, useshrplib=false, libperl=libperl.a
    gnulibc_version='2.12'
  Dynamic Linking:
    dlsrc=dl_dlopen.xs, dlext=so, d_dlsymun=undef, ccdlflags='-Wl,-E'
    cccdlflags='-fPIC', lddlflags='-shared -O2 -L/usr/local/lib -fstack-protector'
Characteristics of this binary (from libperl): 
  Compile-time options: HAS_TIMES PERLIO_LAYERS PERL_COPY_ON_WRITE
                        PERL_DONT_CREATE_GVSV
                        PERL_HASH_FUNC_ONE_AT_A_TIME_HARD PERL_MALLOC_WRAP
                        PERL_PRESERVE_IVUV USE_64_BIT_ALL USE_64_BIT_INT
                        USE_LARGE_FILES USE_LOCALE USE_LOCALE_COLLATE
                        USE_LOCALE_CTYPE USE_LOCALE_NUMERIC USE_LOCALE_TIME
                        USE_PERLIO USE_PERL_ATOF
  Built under linux
  Compiled at Oct 30 2017 18:30:08
  %ENV:
    PERL5LIB="/home/cpansand/.cpan/build/2019041221/XML-TreePP-0.43-BjlXEb/blib/arch:/home/cpansand/.cpan/build/2019041221/XML-TreePP-0.43-BjlXEb/blib/lib:/home/cpansand/.cpan/build/2019041221/Jcode-2.07-a3PUPV/blib/arch:/home/cpansand/.cpan/build/2019041221/Jcode-2.07-a3PUPV/blib/lib"
    PERL5OPT=""
    PERL5_CPANPLUS_IS_RUNNING="6793"
    PERL5_CPAN_IS_RUNNING="6793"
    PERL5_CPAN_IS_RUNNING_IN_RECURSION="2858,6793"
    PERLDOC="-MPod::Perldoc::ToTextOverstrike"
    PERL_BATCH="yes"
    PERL_CANARY_STABILITY_NOPROMPT="1"
    PERL_CPAN_REPORTER_CONFIG="/var/tmp/cpansmoker-1023/2019041221/cpanreporter_000_config.ini"
    PERL_EXTUTILS_AUTOINSTALL="--defaultdeps"
  @INC:
    /home/cpansand/.cpan/build/2019041221/XML-TreePP-0.43-BjlXEb/blib/arch
    /home/cpansand/.cpan/build/2019041221/XML-TreePP-0.43-BjlXEb/blib/lib
    /home/cpansand/.cpan/build/2019041221/Jcode-2.07-a3PUPV/blib/arch
    /home/cpansand/.cpan/build/2019041221/Jcode-2.07-a3PUPV/blib/lib
    /opt/perl-5.24.3/lib/site_perl/5.24.3/x86_64-linux
    /opt/perl-5.24.3/lib/site_perl/5.24.3
    /opt/perl-5.24.3/lib/5.24.3/x86_64-linux
    /opt/perl-5.24.3/lib/5.24.3
    .