Report for Test-Pod-LinkCheck-0.008

Back
From: metabase:user:30ae4450-2aae-11df-837a-5e0a49663a4f
Subject: PASS Test-Pod-LinkCheck-0.008 v5.10.1 
Date: 2015-04-02T20:22:44Z

This distribution has been tested as part of the CPAN Testers
project, supporting the Perl programming language.  See
http://wiki.cpantesters.org/ for more information or email
questions to cpan-testers-discuss@perl.org


--
Dear Apocalypse,

This is a computer-generated report for Test-Pod-LinkCheck-0.008
on perl 5.10.1, created by CPAN-Reporter-1.2011.

Thank you for uploading your work to CPAN.  Congratulations!
All tests were successful.

Sections of this report:

    * Tester comments
    * Program output
    * Prerequisites
    * Environment and other context

------------------------------
TESTER COMMENTS
------------------------------

Additional comments from tester:

this report is from an automated smoke testing program
and was not reviewed by a human for accuracy

------------------------------
PROGRAM OUTPUT
------------------------------

Output from 'C:\strawberry\perl\bin\perl.exe ./Build test':

t/00-compile.t ................ ok
# 
You should load Test::Tester before Test::Builder (or anything that loads Test::Builder) at C:\strawberry\perl\vendor\lib/Test/Tester.pm line 9.
# 
# Generated by Dist::Zilla::Plugin::ReportVersions::Tiny v1.10
# perl: 5.010001 (wanted 5.006) on MSWin32 from C:\strawberry\perl\bin\perl.exe
# 
# App::PodLinkCheck::ParseLinks                 => 12         (want 4)      
# App::PodLinkCheck::ParseSections              => 12         (want any version)
# Capture::Tiny                                 => 0.21       (want any version)
# Exporter                                      => 5.67       (want any version)
# ExtUtils::MakeMaker                           => 6.64       (want any version)
# File::Spec                                    => 3.40       (want any version)
# File::Temp                                    => 0.22       (want any version)
# IO::Handle                                    => 1.28       (want any version)
# IPC::Open3                                    => 1.04       (want any version)
# Module::Build::Tiny                           => 0.039      (want 0.039)  
# Moose                                         => 2.0604     (want 1.01)   
# Moose::Util::TypeConstraints                  => 2.0604     (want 1.01)   
# Pod::Find                                     => 1.35       (want any version)
# Test::Builder                                 => 0.98       (want 0.94)   
# Test::More                                    => 0.98       (want 0.88)   
# Test::Pod                                     => 1.46       (want 1.44)   
# Test::Tester                                  => 0.107      (want any version)
# parent                                        => 0.225      (want any version)
# strict                                        => 1.04       (want any version)
# warnings                                      => 1.06       (want any version)
# 
# Thanks for using my code.  I hope it works for you.
# If not, please try and include this output in the bug report.
# That will help me reproduce the issue and solve your problem.
# 
t/000-report-versions-tiny.t .. ok
t/apocalypse.t ................ skipped: Test::Apocalypse required for validating the distribution
t/cpan_backend.t .............. ok
t/functions.t ................. ok
t/simple.t .................... ok
All tests successful.

Test Summary Report
-------------------
t/cpan_backend.t            (Wstat: 0 Tests: 24 Failed: 0)
  TODO passed:   3-4, 9-12, 21-24
Files=6, Tests=130,  7 wallclock secs ( 0.05 usr +  0.09 sys =  0.14 CPU)
Result: PASS

------------------------------
PREREQUISITES
------------------------------

Prerequisite modules loaded:

requires:

    Module                           Need  Have    
    -------------------------------- ----- --------
    App::PodLinkCheck::ParseLinks    4     12      
    App::PodLinkCheck::ParseSections 0     12      
    Capture::Tiny                    0     0.21    
    Exporter                         0     5.67    
    File::Spec                       0     3.40    
    Moose                            1.01  2.0604  
    Moose::Util::TypeConstraints     1.01  2.0604  
    parent                           0     0.225   
    perl                             5.006 5.010001
    Pod::Find                        0     1.35    
    strict                           0     1.04    
    Test::Builder                    0.94  0.98    
    Test::Pod                        1.44  1.46    
    warnings                         0     1.06    

build_requires:

    Module                           Need  Have    
    -------------------------------- ----- --------
    File::Spec                       0     3.40    
    File::Temp                       0     0.22    
    IO::Handle                       0     1.28    
    IPC::Open3                       0     1.04    
    perl                             5.006 5.010001
    Test::More                       0.88  0.98    
    Test::Tester                     0     0.107   

configure_requires:

    Module                           Need  Have    
    -------------------------------- ----- --------
    ExtUtils::MakeMaker              0     6.64    
    Module::Build::Tiny              0.039 0.039   
    perl                             5.006 5.010001


------------------------------
ENVIRONMENT AND OTHER CONTEXT
------------------------------

Environment variables:

    AUTOMATED_TESTING = 1
    COMSPEC = C:\WINDOWS\system32\cmd.exe
    NUMBER_OF_PROCESSORS = 1
    PATH = C:\Program Files\Far Manager\;C:\WINDOWS\system32;C:\WINDOWS;C:\WINDOWS\System32\Wbem;C:\strawberry\c\bin;C:\strawberry\perl\site\bin;C:\strawberry\perl\bin
    PERL5LIB = C:\strawberry\cpan\build\Module-Build-Tiny-0.039-0lA0NJ/blib/arch;C:\strawberry\cpan\build\Module-Build-Tiny-0.039-0lA0NJ/blib/lib;C:\strawberry\cpan\build\ExtUtils-InstallPaths-0.011-M2C1K6/blib/arch;C:\strawberry\cpan\build\ExtUtils-InstallPaths-0.011-M2C1K6/blib/lib;C:\strawberry\cpan\build\ExtUtils-Helpers-0.022-TvvT3F/blib/arch;C:\strawberry\cpan\build\ExtUtils-Helpers-0.022-TvvT3F/blib/lib;C:\strawberry\cpan\build\Test-Harness-3.35-w_e0IH/blib/arch;C:\strawberry\cpan\build\Test-Harness-3.35-w_e0IH/blib/lib
    PERL5OPT = 
    PERL5_CPANPLUS_IS_RUNNING = 44824
    PERL5_CPAN_IS_RUNNING = 44824
    PERL5_CPAN_IS_RUNNING_IN_RECURSION = 17856,44824
    PERL_CR_SMOKER_CURRENT = Test-Pod-LinkCheck-0.008
    PERL_EXTUTILS_AUTOINSTALL = --defaultdeps
    PERL_JSON_BACKEND = JSON::XS
    PERL_MM_USE_DEFAULT = 1
    PERL_YAML_BACKEND = YAML
    PROCESSOR_IDENTIFIER = x86 Family 16 Model 5 Stepping 3, AuthenticAMD
    TEMP = C:\DOCUME~1\c\LOCALS~1\Temp
    TERM = dumb

Perl special variables (and OS-specific diagnostics, for MSWin32):

    $^X = C:\strawberry\perl\bin\perl.exe
    $UID/$EUID = 0 / 0
    $GID = 0
    $EGID = 0
    Win32::GetOSName = WinXP/.Net
    Win32::GetOSVersion = Service Pack 3, 5, 1, 2600, 2, 3, 0, 256, 1
    Win32::FsType = NTFS
    Win32::IsAdminUser = 1

Perl module toolchain versions installed:

    Module              Have    
    ------------------- --------
    CPAN                1.9800  
    CPAN::Meta          2.120921
    Cwd                 3.40    
    ExtUtils::CBuilder  0.280202
    ExtUtils::Command   1.17    
    ExtUtils::Install   1.54    
    ExtUtils::MakeMaker 6.64    
    ExtUtils::Manifest  1.60    
    ExtUtils::ParseXS   3.18    
    File::Spec          3.40    
    JSON                2.53    
    JSON::PP            2.27200 
    Module::Build       0.4003  
    Module::Signature   0.66    
    Parse::CPAN::Meta   1.4404  
    Test::Harness       3.35    
    Test::More          0.98    
    YAML                0.84    
    YAML::Syck          1.22    
    version             0.9901  


--

Summary of my perl5 (revision 5 version 10 subversion 1) configuration:
   
  Platform:
    osname=MSWin32, osvers=5.1, archname=MSWin32-x86-multi-thread
    uname='Win32 strawberryperl 5.10.1.5 #1 Sun May 15 09:44:53 2011 i386'
    config_args='undef'
    hint=recommended, useposix=true, d_sigaction=undef
    useithreads=define, usemultiplicity=define
    useperlio=define, d_sfio=undef, uselargefiles=define, usesocks=undef
    use64bitint=undef, use64bitall=undef, uselongdouble=undef
    usemymalloc=n, bincompat5005=undef
  Compiler:
    cc='gcc', ccflags =' -s -O2 -DWIN32 -DHAVE_DES_FCRYPT  -DUSE_SITECUSTOMIZE -DPERL_IMPLICIT_CONTEXT -DPERL_IMPLICIT_SYS -fno-strict-aliasing -DPERL_MSVCRT_READFIX',
    optimize='-s -O2',
    cppflags='-DWIN32'
    ccversion='', gccversion='3.4.5', gccosandvers=''
    intsize=4, longsize=4, ptrsize=4, doublesize=8, byteorder=1234
    d_longlong=undef, longlongsize=8, d_longdbl=define, longdblsize=12
    ivtype='long', ivsize=4, nvtype='double', nvsize=8, Off_t='long long', lseeksize=8
    alignbytes=8, prototype=define
  Linker and Libraries:
    ld='g++', ldflags ='-s -L"C:\strawberry\perl\lib\CORE" -L"C:\strawberry\c\lib"'
    libpth=C:\strawberry\c\lib
    libs= -lmoldname -lkernel32 -luser32 -lgdi32 -lwinspool -lcomdlg32 -ladvapi32 -lshell32 -lole32 -loleaut32 -lnetapi32 -luuid -lws2_32 -lmpr -lwinmm -lversion -lodbc32 -lodbccp32
    perllibs= -lmoldname -lkernel32 -luser32 -lgdi32 -lwinspool -lcomdlg32 -ladvapi32 -lshell32 -lole32 -loleaut32 -lnetapi32 -luuid -lws2_32 -lmpr -lwinmm -lversion -lodbc32 -lodbccp32
    libc=, so=dll, useshrplib=true, libperl=libperl510.a
    gnulibc_version=''
  Dynamic Linking:
    dlsrc=dl_win32.xs, dlext=dll, d_dlsymun=undef, ccdlflags=' '
    cccdlflags=' ', lddlflags='-mdll -s -L"C:\strawberry\perl\lib\CORE" -L"C:\strawberry\c\lib"'


Characteristics of this binary (from libperl): 
  Compile-time options: MULTIPLICITY PERL_DONT_CREATE_GVSV
                        PERL_IMPLICIT_CONTEXT PERL_IMPLICIT_SYS
                        PERL_MALLOC_WRAP PL_OP_SLAB_ALLOC USE_ITHREADS
                        USE_LARGE_FILES USE_PERLIO USE_SITECUSTOMIZE
  Built under MSWin32
  Compiled at May 15 2011 09:50:23
  %ENV:
    PERL5LIB="C:\strawberry\cpan\build\Module-Build-Tiny-0.039-0lA0NJ/blib/arch;C:\strawberry\cpan\build\Module-Build-Tiny-0.039-0lA0NJ/blib/lib;C:\strawberry\cpan\build\ExtUtils-InstallPaths-0.011-M2C1K6/blib/arch;C:\strawberry\cpan\build\ExtUtils-InstallPaths-0.011-M2C1K6/blib/lib;C:\strawberry\cpan\build\ExtUtils-Helpers-0.022-TvvT3F/blib/arch;C:\strawberry\cpan\build\ExtUtils-Helpers-0.022-TvvT3F/blib/lib;C:\strawberry\cpan\build\Test-Harness-3.35-w_e0IH/blib/arch;C:\strawberry\cpan\build\Test-Harness-3.35-w_e0IH/blib/lib"
    PERL5_CPANPLUS_IS_RUNNING="44824"
    PERL5_CPAN_IS_RUNNING="44824"
    PERL5_CPAN_IS_RUNNING_IN_RECURSION="17856,44824"
    PERL_CR_SMOKER_CURRENT="Test-Pod-LinkCheck-0.008"
    PERL_EXTUTILS_AUTOINSTALL="--defaultdeps"
    PERL_JSON_BACKEND="JSON::XS"
    PERL_MM_USE_DEFAULT="1"
    PERL_YAML_BACKEND="YAML"
  @INC:
    C:\strawberry\cpan\build\Module-Build-Tiny-0.039-0lA0NJ/blib/arch
    C:\strawberry\cpan\build\Module-Build-Tiny-0.039-0lA0NJ/blib/lib
    C:\strawberry\cpan\build\ExtUtils-InstallPaths-0.011-M2C1K6/blib/arch
    C:\strawberry\cpan\build\ExtUtils-InstallPaths-0.011-M2C1K6/blib/lib
    C:\strawberry\cpan\build\ExtUtils-Helpers-0.022-TvvT3F/blib/arch
    C:\strawberry\cpan\build\ExtUtils-Helpers-0.022-TvvT3F/blib/lib
    C:\strawberry\cpan\build\Test-Harness-3.35-w_e0IH/blib/arch
    C:\strawberry\cpan\build\Test-Harness-3.35-w_e0IH/blib/lib
    C:/strawberry/perl/lib
    C:/strawberry/perl/site/lib
    C:\strawberry\perl\vendor\lib
    .