Dist-Zilla-Plugin-CheckChangesHasContent v0.011 Perl 5 v5.26.1 x86_64-linux-thread-multi
- Status
- Pass
- From
- E. Choroba
- Dist
-
Dist-Zilla-Plugin-CheckChangesHasContent v0.011
- Platform
- Perl 5 v5.26.1 x86_64-linux-thread-multi
- Date
- 2019-11-03 00:06:33
- ID
- cb49ef94-fdcd-11e9-a8d7-94346c06bc9c
This distribution has been tested as part of the CPAN Testers
project, supporting the Perl programming language. See
http://wiki.cpantesters.org/ for more information or email
questions to cpan-testers-discuss@perl.org
--
Dear David Golden,
This is a computer-generated report for Dist-Zilla-Plugin-CheckChangesHasContent-0.011
on perl 5.26.1, created by CPAN-Reporter-1.2018.
Thank you for uploading your work to CPAN. Congratulations!
All tests were successful.
Sections of this report:
* Tester comments
* Program output
* Prerequisites
* Environment and other context
------------------------------
TESTER COMMENTS
------------------------------
Additional comments from tester:
none provided
------------------------------
PROGRAM OUTPUT
------------------------------
Output from '/usr/bin/make test':
PERL_DL_NONLAZY=1 "/usr/bin/perl" "-MExtUtils::Command::MM" "-MTest::Harness" "-e" "undef *Test::Harness::Switches; test_harness(0, 'blib/lib', 'blib/arch')" t/*.t
#
# Versions for all modules listed in MYMETA.json (including optional ones):
#
# === Configure Requires ===
#
# Module Want Have
# ------------------- ---- ----
# ExtUtils::MakeMaker 6.17 7.24
#
# === Build Requires ===
#
# Module Want Have
# ------------------- ---- ----
# ExtUtils::MakeMaker any 7.24
#
# === Test Requires ===
#
# Module Want Have
# ------------------- ---- --------
# Capture::Tiny any 0.48
# Cwd any 3.67
# Dist::Zilla::Tester any 6.012
# ExtUtils::MakeMaker any 7.24
# File::Spec any 3.67
# Path::Tiny any 0.108
# Test::Fatal any 0.014
# Test::Harness any 3.38
# Test::More 0.88 1.302164
#
# === Test Recommends ===
#
# Module Want Have
# ---------- -------- --------
# CPAN::Meta 2.120900 2.150010
#
# === Runtime Requires ===
#
# Module Want Have
# -------------------------------- -------- --------
# Data::Section 0.200002 0.200007
# Dist::Zilla 6 6.012
# Dist::Zilla::File::InMemory any 6.012
# Dist::Zilla::Role::BeforeRelease any 6.012
# Dist::Zilla::Role::FileGatherer any 6.012
# Dist::Zilla::Role::FileMunger any 6.012
# Dist::Zilla::Role::TextTemplate any 6.012
# List::Util any 1.46_02
# Moose 2 2.2011
# Moose::Util::TypeConstraints any 2.2011
# Sub::Exporter::ForMethods any 0.100052
# autodie 2.00 2.29
# namespace::autoclean 0.28 0.29
# strict any 1.11
# warnings any 1.37
#
t/00-report-prereqs.t ....... ok
t/checkhascontent.t ......... ok
t/test_changeshascontent.t .. ok
All tests successful.
Files=3, Tests=40, 4 wallclock secs ( 0.03 usr 0.01 sys + 2.76 cusr 0.27 csys = 3.07 CPU)
Result: PASS
------------------------------
PREREQUISITES
------------------------------
Prerequisite modules loaded:
requires:
Module Need Have
-------------------------------- -------- --------
autodie 2.00 2.29
Data::Section 0.200002 0.200007
Dist::Zilla 6 6.012
Dist::Zilla::File::InMemory 0 6.012
Dist::Zilla::Role::BeforeRelease 0 6.012
Dist::Zilla::Role::FileGatherer 0 6.012
Dist::Zilla::Role::FileMunger 0 6.012
Dist::Zilla::Role::TextTemplate 0 6.012
List::Util 0 1.46_02
Moose 2 2.2011
Moose::Util::TypeConstraints 0 2.2011
namespace::autoclean 0.28 0.29
perl 5.006 5.026001
strict 0 1.11
Sub::Exporter::ForMethods 0 0.100052
warnings 0 1.37
build_requires:
Module Need Have
-------------------------------- -------- --------
Capture::Tiny 0 0.48
Cwd 0 3.67
Dist::Zilla::Tester 0 6.012
ExtUtils::MakeMaker 0 7.24
File::Spec 0 3.67
Path::Tiny 0 0.108
Test::Fatal 0 0.014
Test::Harness 0 3.38
Test::More 0.88 1.302164
configure_requires:
Module Need Have
-------------------------------- -------- --------
ExtUtils::MakeMaker 6.17 7.24
perl 5.006 5.026001
opt_build_requires:
Module Need Have
-------------------------------- -------- --------
CPAN::Meta 2.120900 2.150010
------------------------------
ENVIRONMENT AND OTHER CONTEXT
------------------------------
Environment variables:
LANG = en_US.UTF-8
NONINTERACTIVE_TESTING = 1
PATH = /home/choroba/perl5/bin:/home/choroba/bin:/bin:/sbin:/usr/bin:/usr/local/bin:/usr/games:/usr/X11R6/bin:/opt/gnome/bin:.
PERL5LIB = /home/choroba/perl5/lib/perl5/x86_64-linux-thread-multi:/home/choroba/perl5/lib/perl5
PERL5OPT =
PERL5_CPANPLUS_IS_RUNNING = 14748
PERL5_CPAN_IS_RUNNING = 14748
PERL_LOCAL_LIB_ROOT = /home/choroba/perl5
PERL_MB_OPT = --install_base /home/choroba/perl5
PERL_MM_OPT = INSTALL_BASE=/home/choroba/perl5
PERL_MM_USE_DEFAULT = 1
PERL_USE_UNSAFE_INC = 1
SHELL = /bin/bash
TERM = xterm
Perl special variables (and OS-specific diagnostics, for MSWin32):
$^X = /usr/bin/perl
$UID/$EUID = 1000 / 1000
$GID = 100 100
$EGID = 100 100
Perl module toolchain versions installed:
Module Have
------------------- ----------
CPAN 2.18
CPAN::Meta 2.150010
Cwd 3.67
ExtUtils::CBuilder 0.280225
ExtUtils::Command 7.24
ExtUtils::Install 2.04
ExtUtils::MakeMaker 7.24
ExtUtils::Manifest 1.70
ExtUtils::ParseXS 3.34
File::Spec 3.67
JSON 4.02
JSON::PP 2.27400_02
Module::Build 0.4229
Module::Signature n/a
Parse::CPAN::Meta 2.150010
Test::Harness 3.38
Test::More 1.302164
YAML 1.29
YAML::Syck n/a
version 0.9917
--
Summary of my perl5 (revision 5 version 26 subversion 1) configuration:
Platform:
osname=linux
osvers=4.12.14-lp151.24-default
archname=x86_64-linux-thread-multi
uname='reproducible'
config_args='-ds -e -Dprefix=/usr -Dvendorprefix=/usr -Dinstallusrbinperl -Dusethreads -Di_db -Di_dbm -Di_ndbm -Di_gdbm -Dd_dbm_open -Duseshrplib=true -Doptimize=-fmessage-length=0 -grecord-gcc-switches -O2 -Wall -D_FORTIFY_SOURCE=2 -fstack-protector-strong -funwind-tables -fasynchronous-unwind-tables -fstack-clash-protection -g -Wall -pipe -Accflags=-DPERL_USE_SAFE_PUTENV -Dotherlibdirs=/usr/lib/perl5/site_perl -Dinc_version_list=none'
hint=recommended
useposix=true
d_sigaction=define
useithreads=define
usemultiplicity=define
use64bitint=define
use64bitall=define
uselongdouble=undef
usemymalloc=n
default_inc_excludes_dot=define
bincompat5005=undef
Compiler:
cc='cc'
ccflags ='-D_REENTRANT -D_GNU_SOURCE -DPERL_USE_SAFE_PUTENV -fwrapv -fno-strict-aliasing -pipe -fstack-protector-strong -D_LARGEFILE_SOURCE -D_FILE_OFFSET_BITS=64'
optimize='-fmessage-length=0 -grecord-gcc-switches -O2 -Wall -D_FORTIFY_SOURCE=2 -fstack-protector-strong -funwind-tables -fasynchronous-unwind-tables -fstack-clash-protection -g -Wall -pipe'
cppflags='-D_REENTRANT -D_GNU_SOURCE -DPERL_USE_SAFE_PUTENV -fwrapv -fno-strict-aliasing -pipe -fstack-protector-strong'
ccversion=''
gccversion='7.4.0'
gccosandvers=''
intsize=4
longsize=8
ptrsize=8
doublesize=8
byteorder=12345678
doublekind=3
d_longlong=define
longlongsize=8
d_longdbl=define
longdblsize=16
longdblkind=3
ivtype='long'
ivsize=8
nvtype='double'
nvsize=8
Off_t='off_t'
lseeksize=8
alignbytes=8
prototype=define
Linker and Libraries:
ld='cc'
ldflags =' -L/usr/local/lib64 -fstack-protector-strong'
libpth=/usr/local/lib /usr/lib64/gcc/x86_64-suse-linux/7/include-fixed /usr/lib64/gcc/x86_64-suse-linux/7/../../../../x86_64-suse-linux/lib /usr/lib /lib/../lib64 /usr/lib/../lib64 /lib /lib64 /usr/lib64 /usr/local/lib64
libs=-lm -ldl -lcrypt -lpthread
perllibs=-lm -ldl -lcrypt -lpthread
libc=/lib64/libc-2.26.so
so=so
useshrplib=true
libperl=libperl.so
gnulibc_version='2.26'
Dynamic Linking:
dlsrc=dl_dlopen.xs
dlext=so
d_dlsymun=undef
ccdlflags='-Wl,-E -Wl,-rpath,/usr/lib/perl5/5.26.1/x86_64-linux-thread-multi/CORE'
cccdlflags='-fPIC'
lddlflags='-shared -L/usr/local/lib64 -fstack-protector-strong'
Characteristics of this binary (from libperl):
Compile-time options:
HAS_TIMES
MULTIPLICITY
PERLIO_LAYERS
PERL_COPY_ON_WRITE
PERL_DONT_CREATE_GVSV
PERL_IMPLICIT_CONTEXT
PERL_MALLOC_WRAP
PERL_OP_PARENT
PERL_PRESERVE_IVUV
PERL_USE_SAFE_PUTENV
USE_64_BIT_ALL
USE_64_BIT_INT
USE_ITHREADS
USE_LARGE_FILES
USE_LOCALE
USE_LOCALE_COLLATE
USE_LOCALE_CTYPE
USE_LOCALE_NUMERIC
USE_LOCALE_TIME
USE_PERLIO
USE_PERL_ATOF
USE_REENTRANT_API
Built under linux
Compiled at Nov 21 2018 12:00:00
%ENV:
PERL5LIB="/home/choroba/perl5/lib/perl5/x86_64-linux-thread-multi:/home/choroba/perl5/lib/perl5"
PERL5OPT=""
PERL5_CPANPLUS_IS_RUNNING="14748"
PERL5_CPAN_IS_RUNNING="14748"
PERL_LOCAL_LIB_ROOT="/home/choroba/perl5"
PERL_MB_OPT="--install_base /home/choroba/perl5"
PERL_MM_OPT="INSTALL_BASE=/home/choroba/perl5"
PERL_MM_USE_DEFAULT="1"
PERL_USE_UNSAFE_INC="1"
@INC:
/home/choroba/perl5/lib/perl5/x86_64-linux-thread-multi
/home/choroba/perl5/lib/perl5/x86_64-linux-thread-multi
/home/choroba/perl5/lib/perl5
/usr/lib/perl5/site_perl/5.26.1/x86_64-linux-thread-multi
/usr/lib/perl5/site_perl/5.26.1
/usr/lib/perl5/vendor_perl/5.26.1/x86_64-linux-thread-multi
/usr/lib/perl5/vendor_perl/5.26.1
/usr/lib/perl5/5.26.1/x86_64-linux-thread-multi
/usr/lib/perl5/5.26.1
/usr/lib/perl5/site_perl
.