Back
From: metabase:user:320bfe00-2aae-11df-837a-5e0a49663a4f
Subject: PASS Net-Hadoop-Oozie-0.111 v5.22.0 GNU/Linux
Date: 2017-08-03T12:53:49Z
This distribution has been tested as part of the CPAN Testers
project, supporting the Perl programming language. See
http://wiki.cpantesters.org/ for more information or email
questions to cpan-testers-discuss@perl.org
--
Dear Philippe Bruhat (BooK),
This is a computer-generated report for Net-Hadoop-Oozie-0.111
on perl 5.22.0, created by CPAN-Reporter-1.2018.
Thank you for uploading your work to CPAN. Congratulations!
All tests were successful.
Sections of this report:
* Tester comments
* Program output
* Prerequisites
* Environment and other context
------------------------------
TESTER COMMENTS
------------------------------
Additional comments from tester:
this report is from an automated smoke testing program
and was not reviewed by a human for accuracy
------------------------------
PROGRAM OUTPUT
------------------------------
Output from '/usr/bin/make test':
PERL_DL_NONLAZY=1 "/home/sand/src/perl/repoperls/installed-perls/host/k93msid/v5.22.0/276a/bin/perl" "-MExtUtils::Command::MM" "-MTest::Harness" "-e" "undef *Test::Harness::Switches; test_harness(0, 'blib/lib', 'blib/arch')" t/*.t
t/00-compile.t .................... ok
#
# Versions for all modules listed in MYMETA.json (including optional ones):
#
# === Configure Requires ===
#
# Module Want Have
# ------------------- ---- ----
# ExtUtils::MakeMaker any 7.30
#
# === Build Requires ===
#
# Module Want Have
# ------------------- ---- ----
# ExtUtils::MakeMaker any 7.30
#
# === Test Requires ===
#
# Module Want Have
# ------------------- ---- --------
# ExtUtils::MakeMaker any 7.30
# File::Spec any 3.62
# IO::Handle any 1.35
# IPC::Open3 any 1.18
# Test::More any 1.302090
# blib 1.01 1.06
#
# === Test Recommends ===
#
# Module Want Have
# ---------- -------- --------
# CPAN::Meta 2.120900 2.150010
#
# === Runtime Requires ===
#
# Module Want Have
# -------------------------------- ---- ----------
# CHI any 0.60
# Carp any 1.38
# Clone any 0.39
# Constant::FromGlobal any 0.09
# Data::Dumper any 2.161
# Date::Format any 2.24
# Date::Parse any 2.30
# Exporter any 5.72
# Hash::Flatten any 1.19
# JSON::XS any 3.03
# LWP::Authen::Negotiate any missing
# LWP::UserAgent any 6.26
# Moo any 2.003002
# Moo::Role any 2.003002
# Net::Hadoop::YARN any 0.202
# Net::Hadoop::YARN::Roles::Common any 0.202
# Ref::Util any 0.203
# Regexp::Common any 2017060201
# Scalar::Util any 1.48
# URI any 1.71
# XML::Simple any 2.24
# XML::Twig any 3.52
# constant any 1.33
# parent any 0.232
# strict any 1.09
# warnings any 1.32
#
#
# *** WARNING WARNING WARNING WARNING WARNING WARNING WARNING WARNING ***
#
# The following REQUIRED prerequisites were not satisfied:
#
# LWP::Authen::Negotiate is not installed (any version required)
#
t/00-report-prereqs.t ............. ok
t/01-api.t ........................ ok
t/02-schedule-test-coordinator.t .. ok
t/03-job-information.t ............ ok
t/04-suspend.t .................... ok
t/05-standalone-wf.t .............. ok
t/06-rerun.t ...................... ok
t/07-kill.t ....................... ok
t/08-sla.t ........................ ok
t/09-judge.t ...................... ok
t/author-pod-syntax.t ............. skipped: these tests are for testing by the author
t/release-distmeta.t .............. skipped: these tests are for release candidate testing
All tests successful.
Files=13, Tests=26, 15 wallclock secs ( 0.04 usr 0.07 sys + 4.56 cusr 0.75 csys = 5.42 CPU)
Result: PASS
------------------------------
PREREQUISITES
------------------------------
Prerequisite modules loaded:
requires:
Module Need Have
-------------------------------- ----- ----------
Carp 0 1.38
CHI 0 0.60
Clone 0 0.39
constant 0 1.33
Constant::FromGlobal 0 0.09
Data::Dumper 0 2.161
Date::Format 0 2.24
Date::Parse 0 2.30
Exporter 0 5.72
Hash::Flatten 0 1.19
JSON::XS 0 3.03
! LWP::Authen::Negotiate 0 n/a
LWP::UserAgent 0 6.26
Moo 0 2.003002
Moo::Role 0 2.003002
Net::Hadoop::YARN 0 0.202
Net::Hadoop::YARN::Roles::Common 0 0.202
parent 0 0.232
perl 5.010 5.022000
Ref::Util 0 0.203
Regexp::Common 0 2017060201
Scalar::Util 0 1.48
strict 0 1.09
URI 0 1.71
warnings 0 1.32
XML::Simple 0 2.24
XML::Twig 0 3.52
build_requires:
Module Need Have
-------------------------------- ----- ----------
blib 1.01 1.06
ExtUtils::MakeMaker 0 7.30
File::Spec 0 3.62
IO::Handle 0 1.35
IPC::Open3 0 1.18
Test::More 0 1.302090
configure_requires:
Module Need Have
-------------------------------- ----- ----------
ExtUtils::MakeMaker 0 7.30
------------------------------
ENVIRONMENT AND OTHER CONTEXT
------------------------------
Environment variables:
AUTOMATED_TESTING = 1
LANG = en_US.UTF-8
PATH = /home/sand/bin:/usr/local/bin:/usr/bin:/bin:/usr/games:/usr/local/perl/bin:/usr/X11/bin:/sbin:/usr/sbin
PERL5LIB =
PERL5OPT =
PERL5_CPANPLUS_IS_RUNNING = 2959
PERL5_CPAN_IS_RUNNING = 2959
PERL_CANARY_STABILITY_NOPROMPT = 1
PERL_MM_USE_DEFAULT = 1
PERL_USE_UNSAFE_INC = 1
SHELL = /usr/bin/zsh
TERM = screen
Perl special variables (and OS-specific diagnostics, for MSWin32):
$^X = /home/sand/src/perl/repoperls/installed-perls/host/k93msid/v5.22.0/276a/bin/perl
$UID/$EUID = 1005 / 1005
$GID = 1005 1005
$EGID = 1005 1005
Perl module toolchain versions installed:
Module Have
------------------- --------
CPAN 2.18
CPAN::Meta 2.150010
Cwd 3.62
ExtUtils::CBuilder 0.280226
ExtUtils::Command 7.30
ExtUtils::Install 2.06
ExtUtils::MakeMaker 7.30
ExtUtils::Manifest 1.70
ExtUtils::ParseXS 3.28
File::Spec 3.62
JSON 2.94
JSON::PP 2.94
Module::Build 0.4224
Module::Signature 0.81
Parse::CPAN::Meta 2.150010
Test::Harness 3.39
Test::More 1.302090
YAML 1.23
YAML::Syck 1.30
version 0.9918
--
Summary of my perl5 (revision 5 version 22 subversion 0) configuration:
Derived from: 70f63a4c7dba89e8e48b44de7978faae4319e693
Platform:
osname=linux, osvers=4.9.0-2-amd64, archname=x86_64-linux-thread-multi
uname='linux k93msid 4.9.0-2-amd64 #1 smp debian 4.9.18-1 (2017-03-30) x86_64 gnulinux '
config_args='-Dprefix=/home/sand/src/perl/repoperls/installed-perls/host/k93msid/v5.22.0/276a -Dmyhostname=k93msid -Dinstallusrbinperl=n -Uversiononly -Dusedevel -des -Ui_db -Dlibswanted=cl pthread socket inet nsl gdbm dbm malloc dl ld sun m crypt sec util c cposix posix ucb BSD gdbm_compat -Duseithreads -Uuselongdouble -DDEBUGGING=both'
hint=recommended, useposix=true, d_sigaction=define
useithreads=define, usemultiplicity=define
use64bitint=define, use64bitall=define, uselongdouble=undef
usemymalloc=n, bincompat5005=undef
Compiler:
cc='cc', ccflags ='-D_REENTRANT -D_GNU_SOURCE -fwrapv -DDEBUGGING -fno-strict-aliasing -pipe -fstack-protector-strong -I/usr/local/include -D_LARGEFILE_SOURCE -D_FILE_OFFSET_BITS=64',
optimize='-O2 -g',
cppflags='-D_REENTRANT -D_GNU_SOURCE -fwrapv -DDEBUGGING -fno-strict-aliasing -pipe -fstack-protector-strong -I/usr/local/include'
ccversion='', gccversion='6.3.0 20170406', gccosandvers=''
intsize=4, longsize=8, ptrsize=8, doublesize=8, byteorder=12345678, doublekind=3
d_longlong=define, longlongsize=8, d_longdbl=define, longdblsize=16, longdblkind=3
ivtype='long', ivsize=8, nvtype='double', nvsize=8, Off_t='off_t', lseeksize=8
alignbytes=8, prototype=define
Linker and Libraries:
ld='cc', ldflags =' -fstack-protector-strong -L/usr/local/lib'
libpth=/usr/local/lib /usr/lib/gcc/x86_64-linux-gnu/6/include-fixed /usr/include/x86_64-linux-gnu /usr/lib /lib/x86_64-linux-gnu /lib/../lib /usr/lib/x86_64-linux-gnu /usr/lib/../lib /lib
libs=-lpthread -lnsl -ldl -lm -lcrypt -lutil -lc
perllibs=-lpthread -lnsl -ldl -lm -lcrypt -lutil -lc
libc=libc-2.24.so, so=so, useshrplib=false, libperl=libperl.a
gnulibc_version='2.24'
Dynamic Linking:
dlsrc=dl_dlopen.xs, dlext=so, d_dlsymun=undef, ccdlflags='-Wl,-E'
cccdlflags='-fPIC', lddlflags='-shared -O2 -g -L/usr/local/lib -fstack-protector-strong'
Characteristics of this binary (from libperl):
Compile-time options: DEBUGGING HAS_TIMES MULTIPLICITY PERLIO_LAYERS
PERL_DONT_CREATE_GVSV
PERL_HASH_FUNC_ONE_AT_A_TIME_HARD
PERL_IMPLICIT_CONTEXT PERL_MALLOC_WRAP
PERL_NEW_COPY_ON_WRITE PERL_PRESERVE_IVUV
PERL_TRACK_MEMPOOL PERL_USE_DEVEL USE_64_BIT_ALL
USE_64_BIT_INT USE_ITHREADS USE_LARGE_FILES
USE_LOCALE USE_LOCALE_COLLATE USE_LOCALE_CTYPE
USE_LOCALE_NUMERIC USE_LOCALE_TIME USE_PERLIO
USE_PERL_ATOF USE_REENTRANT_API
Locally applied patches:
uncommitted-changes
Built under linux
Compiled at Jul 2 2017 18:56:41
%ENV:
PERL5LIB=""
PERL5OPT=""
PERL5_CPANPLUS_IS_RUNNING="2959"
PERL5_CPAN_IS_RUNNING="2959"
PERL_CANARY_STABILITY_NOPROMPT="1"
PERL_MM_USE_DEFAULT="1"
PERL_USE_UNSAFE_INC="1"
@INC:
/home/sand/src/perl/repoperls/installed-perls/host/k93msid/v5.22.0/276a/lib/site_perl/5.22.0/x86_64-linux-thread-multi
/home/sand/src/perl/repoperls/installed-perls/host/k93msid/v5.22.0/276a/lib/site_perl/5.22.0
/home/sand/src/perl/repoperls/installed-perls/host/k93msid/v5.22.0/276a/lib/5.22.0/x86_64-linux-thread-multi
/home/sand/src/perl/repoperls/installed-perls/host/k93msid/v5.22.0/276a/lib/5.22.0
.