Report for Catalyst-Devel-1.36

Back
From: metabase:user:316470a4-2aae-11df-837a-5e0a49663a4f
Subject: PASS Catalyst-Devel-1.36 v5.14.2 Mac OS X
Date: 2012-04-06T23:32:37Z

This distribution has been tested as part of the CPAN Testers
project, supporting the Perl programming language.  See
http://wiki.cpantesters.org/ for more information or email
questions to cpan-testers-discuss@perl.org


--
Dear Tomas Doran,

This is a computer-generated report for Catalyst-Devel-1.36
on perl 5.14.2, created by CPAN-Reporter-1.2003.

Thank you for uploading your work to CPAN.  Congratulations!
All tests were successful.

Sections of this report:

    * Tester comments
    * Program output
    * Prerequisites
    * Environment and other context

------------------------------
TESTER COMMENTS
------------------------------

Additional comments from tester:

none provided

------------------------------
PROGRAM OUTPUT
------------------------------

Output from '/usr/bin/make test':

PERL_DL_NONLAZY=1 /usr/local/bin/perl "-MExtUtils::Command::MM" "-e" "test_harness(0, 'inc', 'blib/lib', 'blib/arch')" t/01use.t t/back_compat.t t/generated_app.t t/get_sharedir_file.t t/optional_http-server-restart.t t/render_file_contents.t t/render_share_dir_file.t
t/01use.t ......................... ok
t/back_compat.t ................... ok
# Generated app is in /var/folders/zb/_t6g74x117qb5yq9tpqd259r0000gq/T/Bf7qmS3w5Y
# Installed app is in /var/folders/zb/_t6g74x117qb5yq9tpqd259r0000gq/T/WpHiXBbcz7
t/generated_app.t ................. ok
t/get_sharedir_file.t ............. ok
t/optional_http-server-restart.t .. skipped: set TEST_HTTP to enable this test
t/render_file_contents.t .......... ok
t/render_share_dir_file.t ......... ok
All tests successful.
Files=7, Tests=91, 11 wallclock secs ( 0.06 usr  0.02 sys + 10.13 cusr  1.12 csys = 11.33 CPU)
Result: PASS

------------------------------
PREREQUISITES
------------------------------

Prerequisite modules loaded:

requires:

    Module                                 Need    Have   
    -------------------------------------- ------- -------
    Catalyst                               5.90001 5.90010
    Catalyst::Action::RenderView           0.10    0.16   
    Catalyst::Plugin::ConfigLoader         0.30    0.30   
    Catalyst::Plugin::Static::Simple       0.28    0.29   
    Config::General                        2.42    2.50   
    ExtUtils::MakeMaker                    6.11    6.62   
    File::ChangeNotify                     0.07    0.21   
    File::Copy::Recursive                  0       0.38   
    File::ShareDir                         0       1.03   
    Module::Install                        1.02    1.04   
    Moose                                  0       2.0402 
    MooseX::Daemonize                      0       0.13   
    MooseX::Emulate::Class::Accessor::Fast 0       0.00903
    namespace::autoclean                   0       0.13   
    namespace::clean                       0       0.21   
    Path::Class                            0.09    0.24   
    Starman                                0       0.2014 
    Template                               2.14    2.22   
    Test::Fatal                            0.003   0.008  
    Test::More                             0.94    0.98   

build_requires:

    Module                                 Need    Have   
    -------------------------------------- ------- -------
    ExtUtils::MakeMaker                    6.42    6.62   
    Test::Fatal                            0.003   0.008  
    Test::More                             0.94    0.98   

configure_requires:

    Module                                 Need    Have   
    -------------------------------------- ------- -------
    ExtUtils::MakeMaker                    6.42    6.62   


------------------------------
ENVIRONMENT AND OTHER CONTEXT
------------------------------

Environment variables:

    LANG = en_US.UTF-8
    PATH = /Users/david/perl5/perlbrew/bin:/usr/local/bin:/usr/local/sbin:/usr/local/pgsql/bin:/usr/bin:/bin:/usr/sbin:/sbin:/usr/local/bin:/usr/X11/bin:/Developer/Tools:/Users/david/bin:/usr/local/mysql:/usr/local/instantclient_10_2
    PATH_WITHOUT_PERLBREW = /usr/local/bin:/usr/local/sbin:/usr/local/pgsql/bin:/usr/bin:/bin:/usr/sbin:/sbin:/usr/local/bin:/usr/X11/bin:/Developer/Tools:/Users/david/bin:/usr/local/mysql:/usr/local/instantclient_10_2
    PERL5LIB = 
    PERL5OPT = 
    PERL5_CPANPLUS_IS_RUNNING = 61393
    PERL5_CPAN_IS_RUNNING = 61393
    PERLBREW_BASHRC_VERSION = 0.33
    PERLBREW_HOME = /Users/david/.perlbrew
    PERLBREW_PATH = /Users/david/perl5/perlbrew/bin
    PERLBREW_ROOT = /Users/david/perl5/perlbrew
    SHELL = /bin/zsh
    TERM = xterm-256color
    TMPDIR = /var/folders/zb/_t6g74x117qb5yq9tpqd259r0000gq/T/

Perl special variables (and OS-specific diagnostics, for MSWin32):

    $^X = /usr/local/bin/perl
    $UID/$EUID = 503 / 503
    $GID = 20 20 404 402 401 12 33 61 79 80 81 98 100 204
    $EGID = 20 20 404 402 401 12 33 61 79 80 81 98 100 204

Perl module toolchain versions installed:

    Module              Have    
    ------------------- --------
    CPAN                1.9800  
    CPAN::Meta          2.120351
    Cwd                 3.36    
    ExtUtils::CBuilder  0.280203
    ExtUtils::Command   1.17    
    ExtUtils::Install   1.56    
    ExtUtils::MakeMaker 6.62    
    ExtUtils::Manifest  1.60    
    ExtUtils::ParseXS   3.15    
    File::Spec          3.33    
    JSON                2.53    
    JSON::PP            2.27200 
    Module::Build       0.3800  
    Module::Signature   n/a     
    Parse::CPAN::Meta   1.4402  
    Test::Harness       3.23    
    Test::More          0.98    
    YAML                0.77    
    YAML::Syck          n/a     
    version             0.95    


--

Summary of my perl5 (revision 5 version 14 subversion 2) configuration:
   
  Platform:
    osname=darwin, osvers=11.2.0, archname=darwin-thread-multi-2level
    uname='darwin air.dwheeler.iovation.com 11.2.0 darwin kernel version 11.2.0: tue aug 9 20:54:00 pdt 2011; root:xnu-1699.24.8~1release_x86_64 x86_64 '
    config_args='-des -Duseshrplib -Dusemultiplicity -Duseithreads -Dinc_version_list=none -Dperladmin=david@kineticode.com -Dcf_email=david@kineticode.com'
    hint=recommended, useposix=true, d_sigaction=define
    useithreads=define, usemultiplicity=define
    useperlio=define, d_sfio=undef, uselargefiles=define, usesocks=undef
    use64bitint=define, use64bitall=define, uselongdouble=undef
    usemymalloc=n, bincompat5005=undef
  Compiler:
    cc='cc', ccflags ='-fno-common -DPERL_DARWIN -fno-strict-aliasing -pipe -fstack-protector -I/usr/local/include',
    optimize='-O3',
    cppflags='-fno-common -DPERL_DARWIN -fno-strict-aliasing -pipe -fstack-protector -I/usr/local/include'
    ccversion='', gccversion='4.2.1 (Based on Apple Inc. build 5658) (LLVM build 2336.1.00)', gccosandvers=''
    intsize=4, longsize=8, ptrsize=8, doublesize=8, byteorder=12345678
    d_longlong=define, longlongsize=8, d_longdbl=define, longdblsize=16
    ivtype='long', ivsize=8, nvtype='double', nvsize=8, Off_t='off_t', lseeksize=8
    alignbytes=8, prototype=define
  Linker and Libraries:
    ld='env MACOSX_DEPLOYMENT_TARGET=10.3 cc', ldflags =' -fstack-protector -L/usr/local/lib'
    libpth=/usr/local/lib /usr/lib
    libs=-ldbm -ldl -lm -lutil -lc
    perllibs=-ldl -lm -lutil -lc
    libc=, so=dylib, useshrplib=true, libperl=libperl.dylib
    gnulibc_version=''
  Dynamic Linking:
    dlsrc=dl_dlopen.xs, dlext=bundle, d_dlsymun=undef, ccdlflags=' '
    cccdlflags=' ', lddlflags=' -bundle -undefined dynamic_lookup -L/usr/local/lib -fstack-protector'


Characteristics of this binary (from libperl): 
  Compile-time options: MULTIPLICITY PERL_DONT_CREATE_GVSV
                        PERL_IMPLICIT_CONTEXT PERL_MALLOC_WRAP
                        PERL_PRESERVE_IVUV USE_64_BIT_ALL USE_64_BIT_INT
                        USE_ITHREADS USE_LARGE_FILES USE_PERLIO USE_PERL_ATOF
                        USE_REENTRANT_API
  Built under darwin
  Compiled at Nov 15 2011 12:52:59
  %ENV:
    PERL5LIB=""
    PERL5OPT=""
    PERL5_CPANPLUS_IS_RUNNING="61393"
    PERL5_CPAN_IS_RUNNING="61393"
    PERLBREW_BASHRC_VERSION="0.33"
    PERLBREW_HOME="/Users/david/.perlbrew"
    PERLBREW_PATH="/Users/david/perl5/perlbrew/bin"
    PERLBREW_ROOT="/Users/david/perl5/perlbrew"
  @INC:
    /usr/local/lib/perl5/site_perl/5.14.2/darwin-thread-multi-2level
    /usr/local/lib/perl5/site_perl/5.14.2
    /usr/local/lib/perl5/5.14.2/darwin-thread-multi-2level
    /usr/local/lib/perl5/5.14.2
    .